{"text_format":"1","workbook":"xlsx","n_sheets":12,"sheets":["Person","Homework","Equipment","Behaviour","Assessment","Progress and effort","Development","Front Sheet","Report","Code","Grade table","EM"],"not_rendered":{"charts":0,"images":0,"macros":1,"external_links":0,"defined_names":36,"comments":1,"pivot_tables":0},"unopened":[],"bounds":{"document_bytes":16777216,"sheet_cells":100000,"rows_first":2000,"rows_last":500,"rows_between":2000,"halvings":0,"cell_chars":16384,"cell_head_chars":4096},"cells_cut":0,"cells_raw":0,"read":"whole","date_system":"1900"}

{"sheet":"Person","index":0,"n_rows":285,"n_cols":17,"rows_kept":285,"cut":false,"hidden":false,"merged":[[0,5,0,6],[246,0,283,0],[4,2,94,2],[98,2,144,2],[198,2,242,2],[246,2,283,2],[1,0,1,4],[0,1,0,4],[4,0,94,0],[98,0,144,0],[198,0,242,0],[148,0,194,0],[148,2,194,2]]}
[{"$f":"Homework!A1","v":2},"..NAME… comment on the actual person and her attitude… class contributions.  Have Mathematics… don’t comment on hard working etc.",null,null,null,"\"&VLOOKUP(1,L258:AO258,A1,FALSE)&\""]
["Person/Attitude",null,null,null,null,null,null,1,2,3,4,5]
[null,null,null,null,null,null,null,{"$f":"F96","v":74},{"$f":"F146","v":3},{"$f":"F196","v":2},{"$f":"F244","v":2},{"$f":"F285","v":2}]
[null,null,null,10]
[1,null,"Outstanding",{"$f":"D4+1","v":11},"a",1,"a",1,null,{"$f":"IF(OR(LEFT(E5,1)=\" \",RIGHT(E5,1)=\" \",),1,\" \")","v":" "},{"$f":"IF(OR(LEFT(G5,1)=\" \",RIGHT(G5,1)=\" \",),1,\" \")","v":" "}]
[null,null,null,{"$f":"IF(E6=\"\",\"\",D5+1)","v":12},"a",1,"a",1,null,{"$f":"IF(OR(LEFT(E6,1)=\" \",RIGHT(E6,1)=\" \",),1,\" \")","v":" "},{"$f":"IF(OR(LEFT(G6,1)=\" \",RIGHT(G6,1)=\" \",),1,\" \")","v":" "}]
[null,null,null,{"$f":"IF(E7=\"\",\"\",D6+1)","v":13},"a",1,"a",1,null," "," "]
[null,null,null,14,"a",1,"a",1,null," "," ",1,"Mathematics",null,null,null,"History"]
[null,null,null,15,"a",1,"a",1,null," "," ",1,"Mathematics",null,null,null,"History"]
[null,null,null,16,"a",1,"a",1,null," "," ",1,"Mathematics",null,null,null,"History"]
[null,null,null,17,"a",1,"a",1,null," "," ",1,"Mathematics",null,null,null,"History"]
[null,null,null,18,"a",1,"a",1,null," "," "]
[null,null,null,19,"a",1,"a",1,null," "," "]
[null,null,null,20,"a",1,"a",1,null," "," "]
[null,null,null,21,"a",1,"a",1,null," "," ",1,"Mathematical",null,null,null,"History"]
[null,null,null,22,"a",1,"a",1,null," "," ",1,"Mathematics",null,null,null,"History"]
[null,null,null,23,"a",1,"a",1,null," "," ",1,"Mathematical",null,null,null,"historical"]
[null,null,null,24,"a",1,"a",1,null," "," "]
[null,null,null,25,"a",1,"a",1,null," "," "]
[null,null,null,26,"a",1,"a",1,null," "," "]
[null,null,null,27,"a",1,"a",1,null," "," ",1,"Mathematics",null,null,null,"History"]
[null,null,null,28,"a",1,"a",1,null," "," "]
[null,null,null,29,"a",1,"a",1,null," "," "]
[null,null,null,30,"a",1,"a",1,null," "," "]
[null,null,null,31,"a",1,"a",1,null," "," "]
[null,null,null,32,"a",1,"a",1,null," "," "]
[null,null,null,33,"a",1,"a",1,null," "," "]
[null,null,null,34,"a",1,"a",1,null," "," "]
[null,null,null,35,"a",1,"a",1,null," "," "]
[null,null,null,36,"a",1,"a",1,null," "," ",1,"solving problems",null,null,null,"historical enquires"]
[null,null,null,37,"a",1,"a",1,null," "," "]
[null,null,null,38,"a",1,"a",1,null," "," ",1,"Mathematics",null,null,null,"History"]
[null,null,null,39,"a",1,"a",1,null," "," "]
[null,null,null,40,"a",1,"a",1,null," "," "]
[null,null,null,41,"a",1,"a",1,null," "," "]
[null,null,null,42,"a",1,"a",1,null," "," "]
[null,null,null,43,"a",1,"a",1,null," "," "]
[null,null,null,44,"a",1,"a",1,null," "," ",1,"Mathematics",null,null,null,"History"]
[null,null,null,45,"a",1,"a",1,null," "," "]
[null,null,null,46,"a",1,"a",1,null," "," ",1,"Mathematics",null,null,null,"History"]
[null,null,null,47,"a",1,"a",1,null," "," "]
[null,null,null,48,"a",1,"a",1,null," "," "]
[null,null,null,49,"a",1,"a",1,null," "," "]
[null,null,null,50,"a",1,"a",1,null," "," "]
[null,null,null,51,"a",1,"a",1,null," "," "]
[null,null,null,52,"aa",1,"a",1,null," "," "]
[null,null,null,53,"a",1,"a",1,null," "," ",1,"Mathematics",null,null,null,"History"]
[null,null,null,54,"a",1,"a",1,null," "," ",1,"Mathematics",null,null,null,"History"]
[null,null,null,55,"a",1,"a",1,null," "," "]
[null,null,null,56,"a",1,"a",1,null," "," ",1,"Mathematics",null,null,null,"History"]
[null,null,null,57,"a",1,"a",1,null," "," ",1,"Mathematics",null,null,null,"History"]
[null,null,null,58,"a",1,"a",1,null," "," "]
[null,null,null,59,"a",1,"a",1,null," "," "]
[null,null,null,60,"a",1,"a",1,null," "," ",1,"Mathematics",null,null,null,"History"]
[null,null,null,61,"a",1,"a",1,null," "," ",1,"Mathematics",null,null,null,"History"]
[null,null,null,62,"a",1,"a",1,null," "," ",1,"Mathematics",null,null,null,"History"]
[null,null,null,63,"a",1,"a",1,null," "," "]
[null,null,null,64,"a",1,"a",1,null," "," "]
[null,null,null,65,"a",1,"a",1,null," "," ",1,"Mathematics",null,null,null,"History"]
[null,null,null,66,"a",1,"a",1,null," "," ",1,"Mathematics",null,null,null,"History"]
[null,null,null,67,"a",1,"a",1,null," "," "]
[null,null,null,68,"a",1,"a",1,null," "," ",1,"Mathematics",null,null,null,"History"]
[null,null,null,69,"a",1,"a",1,null," "," ",72,"Mathematical problem",null,null,null,"historical enquiry"]
[null,null,null,70,"a",1,"a",1,null," "," ",1,"Mathematical",null,null,null,"History"]
[null,null,null,71,"a",1,"a",1,null," "," ",1,"Mathematics",null,null,null,"History"]
[null,null,null,72,"a",1,"a",1,null," "," ",1,"Mathematical",null,null,null,"historical"]
[null,null,null,73,"a",1,"a",1,null," "," ",1,"Mathematical",null,null,null,"historical"]
[null,null,null,74,"a",1,"a",1,null," "," ",1,"Mathematics",null,null,null,"History"]
[null,null,null,75,"a",1,"a",1,null," "," ",1,"Mathematics",null,null,null,"History"]
[null,null,null,76,"a",1,"a",1,null,{"$f":"IF(OR(LEFT(E70,1)=\" \",RIGHT(E70,1)=\" \",),1,\" \")","v":" "},{"$f":"IF(OR(LEFT(G70,1)=\" \",RIGHT(G70,1)=\" \",),1,\" \")","v":" "}]
[null,null,null,{"$f":"IF(E71=\"\",\"\",D70+1)","v":77},"a",1,"a",1,null," "," "]
[null,null,null,78,"a",1,"a",1,null," "," "]
[null,null,null,79,"a",1,"a",1,null," "," ",1,"Mathematics",null,null,null,"History"]
[null,null,null,80,"a",1,"a",1,null," "," ",1,"Mathematics",null,null,null,"History"]
[null,null,null,81,"a",1,"a",1,null," "," ",1,"Mathematics",null,null,null,"History"]
[null,null,null,82,"a",1,"a",1,null," "," ",1,"Mathematics",null,null,null,"History"]
[null,null,null,83,"a",1,"a",1,null," "," "]
[null,null,null,84,"a",1,"a",1,null," "," "]
[null,null,null,"",null,null,null,null,null," "," "]
[null,null,null,"",null,null,null,null,null," "," "]
[null,null,null,"",null,null,null,null,null," "," "]
[null,null,null,"",null,null,null,null,null," "," "]
[null,null,null,"",null,null,null,null,null," "," "]
[null,null,null,"",null,null,null,null,null," "," "]
[null,null,null,"",null,null,null,null,null," "," "]
[null,null,null,"",null,null,null,null,null," "," "]
[null,null,null,"",null,null,null,null,null," "," "]
[null,null,null,"",null,null,null,null,null," "," "]
[null,null,null,{"$f":"IF(E89=\"\",\"\",D88+1)","v":""},null,null,null,null,null," "," "]
[null,null,null,"",null,null,null,null,null," "," "]
[null,null,null,"",null,null,null,null,null," "," "]
[null,null,null,"",null,null,null,null,null," "," "]
[null,null,null,"",null,null,null,null,null," "," "]
[null,null,null,"",null,null,null,null,null," "," "]
[null,null,null,"",null,null,null,null,null," "," "]
[null,null,null,{"$f":"COUNT(D5:D95)","v":74},null,{"$f":"COUNT(F5:F95)","v":74},null,{"$f":"COUNT(H5:H95)","v":74},null," "," "]
[null,null,null,null,null,null,null,null,null," "," "]
[null,null,null,100,null,null,null,null,null," "," "]
[2,null,"Pleasant pupil, quiet in class",{"$f":"D98+1","v":101},"a ",1,"a ",1,null,1,1]
[null,null,null,{"$f":"IF(E100=\"\",\"\",D99+1)","v":102},"a",1,"a a",1,null," "," "]
[null,null,null,{"$f":"IF(E101=\"\",\"\",D100+1)","v":103},"a",1,"a",1,null," "," "]
[null,null,null,"",null,null,null,null,null," "," "]
[null,null,null,"",null,null,null,null,null," "," ",1,"Mathematics",null,null,null,"History"]
[null,null,null,"",null,null,null,null,null," "," ",1,"Mathematics",null,null,null,"History"]
[null,null,null,"",null,null,null,null,null," "," "]
[null,null,null,"",null,null,null,null,null," "," "]
[null,null,null,"",null,null,null,null,null," "," "]
[null,null,null,"",null,null,null,null,null," "," "]
[null,null,null,"",null,null,null,null,null," "," "]
[null,null,null,"",null,null,null,null,null," "," ",1,"solutions to problems",null,null,null,"interpretations to historical events"]
[null,null,null,"",null,null,null,null,null," "," "]
[null,null,null,"",null,null,null,null,null," "," "]
[null,null,null,"",null,null,null,null,null," "," ",1,"Mathematical",null,null,null,"History"]
[null,null,null,"",null,null,null,null,null," "," ",1,"Mathematical",null,null,null,"History"]
[null,null,null,"",null,null,null,null,null," "," "]
[null,null,null,"",null,null,null,null,null," "," ",1,"Mathematical",null,null,null,"History"]
[null,null,null,"",null,null,null,null,null," "," "]
[null,null,null,"",null,null,null,null,null," "," "]
[null,null,null,"",null,null,null,null,null," "," "]
[null,null,null,"",null,null,null,null,null," "," "]
[null,null,null,"",null,null,null,null,null," "," "]
[null,null,null,"",null,null,null,null,null," "," "]
[null,null,null,"",null,null,null,null,null," "," "]
[null,null,null,"",null,null,null,null,null," "," "]
[null,null,null,"",null,null,null,null,null," "," "]
[null,null,null,"",null,null,null,null,null," "," "]
[null,null,null,"",null,null,null,null,null," "," "]
[null,null,null,"",null,null,null,null,null," "," "]
[null,null,null,"",null,null,null,null,null," "," "]
[null,null,null,"",null,null,null,null,null," "," "]
[null,null,null,"",null,null,null,null,null," "," "]
[null,null,null,"",null,null,null,null,null," "," "]
[null,null,null,"",null,null,null,null,null," "," "]
[null,null,null,"",null,null,null,null,null,{"$f":"IF(OR(LEFT(E134,1)=\" \",RIGHT(E134,1)=\" \",),1,\" \")","v":" "},{"$f":"IF(OR(LEFT(G134,1)=\" \",RIGHT(G134,1)=\" \",),1,\" \")","v":" "}]
[null,null,null,"",null,null,null,null,null," "," "]
[null,null,null,"",null,null,null,null,null," "," "]
[null,null,null,"",null,null,null,null,null," "," "]
[null,null,null,"",null,null,null,null,null," "," "]
[null,null,null,"",null,null,null,null,null," "," "]
[null,null,null,"",null,null,null,null,null," "," "]
[null,null,null,"",null,null,null,null,null," "," "]
[null,null,null,"",null,null,null,null,null," "," "]
[null,null,null,"",null,null,null,null,null," "," "]
[null,null,null,"",null,null,null,null,null," "," "]
[null,null,null,"",null,null,null,null,null," "," "]
[null,null,null,{"$f":"COUNT(D99:D145)","v":3},null,{"$f":"COUNT(F99:F145)","v":3},null,3,null," "," "]
[null,null,null,null,null,null,null,null,null," "," "]
[null,null,null,1000,null,null,null,null,null," "," "]
[3,null,"Lacks confidence ",{"$f":"D148+1","v":1001},"a",1,"a",1,null," "," ",1,"Mathematical ability",null,null,null,"ability in History"]
[null,null,null,{"$f":"IF(E150=\"\",\"\",D149+1)","v":1002},"a",1,"a",1,null," "," ",1,"Mathematical ability",null,null,null,"ability in History"]
[null,null,null,{"$f":"IF(E151=\"\",\"\",D150+1)","v":""},null,null,null,null,null," "," "]
[null,null,null,"",null,null,null,null,null," "," "]
[null,null,null,"",null,null,null,null,null," "," "]
[null,null,null,"",null,null,null,null,null," "," "]
[null,null,null,"",null,null,null,null,null," "," "]
[null,null,null,"",null,null,null,null,null," "," "]
[null,null,null,"",null,null,null,null,null," "," ",1,"Mathematics",null,null,null,"History lessons"]
[null,null,null,"",null,null,null,null,null," "," ",1,"Mathematical",null,null,null,"History"]
[null,null,null,"",null,null,null,null,null," "," ",1014,"solving problems",null,null,null,"looking at evidence"]
[null,null,null,"",null,null,null,null,null," "," ",1,"Mathematical ability",null,null,null,"ability in History"]
[null,null,null,"",null,null,null,null,null," "," ",1,"Mathematical",null,null,null,"historical"]
[null,null,null,"",null,null,null,null,null," "," ",1,"Mathematical problem",null,null,null,"source"]
[null,null,null,"",null,null,null,null,null," "," ",1,"Mathematical",null,null,null,"History"]
[null,null,null,"",null,null,null,null,null," "," ",1,"Mathematics",null,null,null,"History"]
[null,null,null,"",null,null,null,null,null," "," ",1,"Mathematics",null,null,null,"History"]
[null,null,null,"",null,null,null,null,null," "," ",1,"Mathematical ability",null,null,null,"ability in History"]
[null,null,null,"",null,null,null,null,null," "," ",1,"Mathematical ability",null,null,null,"ability in History"]
[null,null,null,"",null,null,null,null,null," "," "]
[null,null,null,"",null,null,null,null,null," "," "]
[null,null,null,"",null,null,null,null,null," "," "]
[null,null,null,"",null,null,null,null,null," "," "]
[null,null,null,"",null,null,null,null,null," "," "]
[null,null,null,"",null,null,null,null,null," "," "]
[null,null,null,"",null,null,null,null,null," "," "]
[null,null,null,"",null,null,null,null,null," "," "]
[null,null,null,"",null,null,null,null,null," "," "]
[null,null,null,"",null,null,null,null,null," "," "]
[null,null,null,"",null,null,null,null,null," "," "]
[null,null,null,"",null,null,null,null,null," "," "]
[null,null,null,"",null,null,null,null,null," "," "]
[null,null,null,"",null,null,null,null,null," "," "]
[null,null,null,"",null,null,null,null,null," "," "]
[null,null,null,"",null,null,null,null,null," "," "]
[null,null,null,"",null,null,null,null,null," "," "]
[null,null,null,"",null,null,null,null,null," "," "]
[null,null,null,"",null,null,null,null,null," "," "]
[null,null,null,"",null,null,null,null,null," "," "]
[null,null,null,"",null,null,null,null,null," "," "]
[null,null,null,"",null,null,null,null,null," "," "]
[null,null,null,"",null,null,null,null,null," "," "]
[null,null,null,"",null,null,null,null,null," "," "]
[null,null,null,"",null,null,null,null,null," "," "]
[null,null,null,"",null,null,null,null,null," "," "]
[null,null,null,"",null,null,null,null,null," "," "]
[null,null,null,"",null,null,null,null,null," "," "]
[null,null,null,{"$f":"COUNT(D149:D195)","v":2},null,{"$f":"COUNT(F149:F195)","v":2},null,2,null," "," "]
[null,null,null,null,null,null,null,null,null," "," "]
[null,null,null,10000,null,null,null,null,null,{"$f":"IF(OR(LEFT(E198,1)=\" \",RIGHT(E198,1)=\" \",),1,\" \")","v":" "},{"$f":"IF(OR(LEFT(G198,1)=\" \",RIGHT(G198,1)=\" \",),1,\" \")","v":" "}]
[4,null,"On occasions, poor attitude to learning ",{"$f":"D198+1","v":10001},"a ",1,"a ",1,null,1,1]
[null,null,null,{"$f":"IF(E200=\"\",\"\",D199+1)","v":10002},"a ",1,"a ",1,null,1,1]
[null,null,null,{"$f":"IF(E201=\"\",\"\",D200+1)","v":""},null,null,null,null,null," "," ",1,"Mathematical",null,null,null,"History"]
[null,null,null,"",null,null,null,null,null," "," ",1,"Mathematics",null,null,null,"History"]
[null,null,null,"",null,null,null,null,null," "," ",1,"Mathematics",null,null,null,"History"]
[null,null,null,"",null,null,null,null,null," "," "]
[null,null,null,"",null,null,null,null,null," "," ",1,"Mathematical",null,null,null,"History"]
[null,null,null,"",null,null,null,null,null," "," "]
[null,null,null,"",null,null,null,null,null," "," "]
[null,null,null,"",null,null,null,null,null," "," "]
[null,null,null,"",null,null,null,null,null," "," "]
[null,null,null,"",null,null,null,null,null," "," "]
[null,null,null,"",null,null,null,null,null," "," "]
[null,null,null,"",null,null,null,null,null," "," ",1,"Mathematics",null,null,null,"History"]
[null,null,null,"",null,null,null,null,null," "," ",1,"Mathematics",null,null,null,"History"]
[null,null,null,"",null,null,null,null,null," "," "]
[null,null,null,"",null,null,null,null,null," "," "]
[null,null,null,"",null,null,null,null,null," "," "]
[null,null,null,"",null,null,null,null,null," "," "]
[null,null,null,"",null,null,null,null,null," "," "]
[null,null,null,"",null,null,null,null,null," "," "]
[null,null,null,"",null,null,null,null,null," "," "]
[null,null,null,"",null,null,null,null,null," "," "]
[null,null,null,"",null,null,null,null,null," "," "]
[null,null,null,"",null,null,null,null,null," "," "]
[null,null,null,"",null,null,null,null,null," "," "]
[null,null,null,"",null,null,null,null,null," "," "]
[null,null,null,"",null,null,null,null,null," "," "]
[null,null,null,"",null,null,null,null,null," "," "]
[null,null,null,"",null,null,null,null,null," "," "]
[null,null,null,"",null,null,null,null,null," "," "]
[null,null,null,"",null,null,null,null,null," "," "]
[null,null,null,"",null,null,null,null,null," "," "]
[null,null,null,"",null,null,null,null,null," "," "]
[null,null,null,"",null,null,null,null,null," "," "]
[null,null,null,"",null,null,null,null,null," "," "]
[null,null,null,"",null,null,null,null,null," "," "]
[null,null,null,"",null,null,null,null,null," "," "]
[null,null,null,"",null,null,null,null,null," "," "]
[null,null,null,"",null,null,null,null,null," "," "]
[null,null,null,"",null,null,null,null,null," "," "]
[null,null,null,"",null,null,null,null,null," "," "]
[null,null,null,"",null,null,null,null,null," "," "]
[null,null,null,"",null,null,null,null,null," "," "]
[null,null,null,"",null,null,null,null,null," "," "]
[null,null,null,{"$f":"COUNT(D199:D243)","v":2},null,{"$f":"COUNT(F199:F243)","v":2},null,2,null," "," "]
[null,null,null,null,null,null,null,null,null,{"$f":"IF(OR(LEFT(E245,1)=\" \",RIGHT(E245,1)=\" \",),1,\" \")","v":" "},{"$f":"IF(OR(LEFT(G245,1)=\" \",RIGHT(G245,1)=\" \",),1,\" \")","v":" "}]
[null,null,null,100000,null,null,null,null,null," "," "]
[5,null,"Poor attitude to learning",{"$f":"D246+1","v":100001},"a ",1,"a ",1,null,1,1]
[null,null,null,{"$f":"IF(E248=\"\",\"\",D247+1)","v":100002},"a ",1,"a ",1,null,1,1,1,"Mathematics",null,null,null,"History"]
[null,null,null,{"$f":"IF(E249=\"\",\"\",D248+1)","v":""},null,null,null,null,null," "," ",1,"Mathematics",null,null,null,"History"]
[null,null,null,"",null,null,null,null,null," "," ",1,"Mathematics",null,null,null,"History"]
[null,null,null,"",null,null,null,null,null," "," ",1,"Mathematics",null,null,null,"History"]
[null,null,null,"",null,null,null,null,null," "," ",1,"Mathematics",null,null,null,"History"]
[null,null,null,"",null,null,null,null,null," "," ",1,"Mathematics",null,null,null,"History"]
[null,null,null,"",null,null,null,null,null,{"$f":"IF(OR(LEFT(E249,1)=\" \",RIGHT(E249,1)=\" \",),1,\" \")","v":" "},{"$f":"IF(OR(LEFT(G249,1)=\" \",RIGHT(G249,1)=\" \",),1,\" \")","v":" "},1,"Mathematics",null,null,null,"History"]
[null,null,null,"",null,null,null,null,null," "," ",1,"Mathematics",null,null,null,"History"]
[null,null,null,"",null,null,null,null,null," "," ",1,"Mathematics",null,null,null,"History"]
[null,null,null,"",null,null,null,null,null," "," ",1,"Mathematics",null,null,null,"History"]
[null,null,null,"",null,null,null,null,null," "," "]
[null,null,null,"",null,null,null,null,null," "," ",1,"Mathematical",null,null,null,"History"]
[null,null,null,"",null,null,null,null,null," "," ",1,"Mathematical",null,null,null,"History"]
[null,null,null,"",null,null,null,null,null," "," ",1,"Mathematical",null,null,null,"History"]
[null,null,null,"",null,null,null,null,null," "," ",1,"Mathematical",null,null,null,"History"]
[null,null,null,"",null,null,null,null,null," "," "]
[null,null,null,"",null,null,null,null,null," "," "]
[null,null,null,"",null,null,null,null,null," "," "]
[null,null,null,"",null,null,null,null,null," "," "]
[null,null,null,"",null,null,null,null,null," "," "]
[null,null,null,"",null,null,null,null,null,{"$f":"IF(OR(LEFT(E268,1)=\" \",RIGHT(E268,1)=\" \",),1,\" \")","v":" "},{"$f":"IF(OR(LEFT(G268,1)=\" \",RIGHT(G268,1)=\" \",),1,\" \")","v":" "}]
[null,null,null,"",null,null,null,null,null," "," "]
[null,null,null,"",null,null,null,null,null," "," "]
[null,null,null,"",null,null,null,null,null," "," "]
[null,null,null,"",null,null,null,null,null," "," "]
[null,null,null,"",null,null,null,null,null," "," "]
[null,null,null,"",null,null,null,null,null," "," "]
[null,null,null,{"$f":"IF(E275=\"\",\"\",D274+1)","v":""},null,null,null,null,null," "," "]
[null,null,null,"",null,null,null,null,null," "," "]
[null,null,null,"",null,null,null,null,null," "," "]
[null,null,null,"",null,null,null,null,null," "," "]
[null,null,null,"",null,null,null,null,null," "," "]
[null,null,null,"",null,null,null,null,null," "," "]
[null,null,null,{"$f":"IF(E279=\"\",\"\",D280+1)","v":""},null,null,null,null,null," "," "]
[null,null,null,{"$f":"IF(E282=\"\",\"\",#REF!+1)","v":""},null,null,null,null,null," "," "]
[null,null,null,{"$f":"IF(E283=\"\",\"\",D282+1)","v":""},null,null,null,null,null," "," "]
[null,null,null,{"$f":"IF(E284=\"\",\"\",D283+1)","v":""}]
[null,null,null,{"$f":"COUNT(D247:D284)","v":2},null,{"$f":"COUNT(F247:F284)","v":2},null,2]

{"sheet":"Homework","index":1,"n_rows":264,"n_cols":12,"rows_kept":264,"cut":false,"hidden":false,"merged":[[95,0,139,0],[95,2,139,2],[143,0,187,0],[143,2,187,2],[0,1,0,5],[1,0,1,5],[4,0,41,0],[4,2,41,2],[45,0,91,0],[45,2,91,2]]}
[{"$f":"'Front Sheet'!S5","v":2},"Name (remember to put 's in th box incase the name has an s at the end) comment on quality of homework (try to avoid she in the sentence) Avoid ACHIEVE……use standard and quality",null,null,null,null,null,null,{"$f":"C5","v":"High quality"},{"$f":"C46","v":"Improve quality"},{"$f":"C96","v":"Sometimes hands in"},{"$f":"C144","v":"None submitted"}]
["HOMEWORK",null,null,null,null,null,null,null,1,2,3,4]
[null,{"$f":"IF(LEFT(F3,1)=\" \",1,\"\")","v":""},null,null,null,"REMOVE ORGANISED Keep standard and quality",null,null,{"$f":"G43","v":2},{"$f":"G93","v":2},{"$f":"G141","v":2},{"$f":"G189","v":2}]
[null,"",null,10]
[1,"","High quality",{"$f":"IF(F5=\"\",\"\",D4+1)","v":11},{"$f":"\"'s \"","v":"'s "},"b",1,"b",1,null,{"$f":"IF(OR(LEFT(F5,1)=\" \",RIGHT(F5,1)=\" \",),1,\" \")","v":" "},{"$f":"IF(OR(LEFT(H5,1)=\" \",RIGHT(H5,1)=\" \",),1,\" \")","v":" "}]
[null,"",null,12,{"$f":"\"'s \"","v":"'s "},"b",1,"b",1,null,{"$f":"IF(OR(LEFT(F6,1)=\" \",RIGHT(F6,1)=\" \",),1,\" \")","v":" "},{"$f":"IF(OR(LEFT(H6,1)=\" \",RIGHT(H6,1)=\" \",),1,\" \")","v":" "}]
[null,"",null,"",null,null,null,null,null,null," "," "]
[null,"",null,"",null,null,null,null,null,null," "," "]
[null,"",null,"",null,null,null,null,null,null," "," "]
[null,"",null,"",null,null,null,null,null,null," "," "]
[null,"",null,"",null,null,null,null,null,null," "," "]
[null,"",null,"",null,null,null,null,null,null," "," "]
[null,"",null,"",null,null,null,null,null,null," "," "]
[null,"",null,"",null,null,null,null,null,null," "," "]
[null,"",null,"",null,null,null,null,null,null," "," "]
[null,"",null,"",null,null,null,null,null,null," "," "]
[null,"",null,"",{"$f":"\"'s \"","v":"'s "},null,null,null,null,null," "," "]
[null,"",null,"","'s ",null,null,null,null,null," "," "]
[null,"",null,"","'s ",null,null,null,null,null," "," "]
[null,"",null,"","'s ",null,null,null,null,null," "," "]
[null,"",null,"","'s ",null,null,null,null,null," "," "]
[null,"",null,"","'s ",null,null,null,null,null," "," "]
[null,"",null,"",null,null,null,null,null,null," "," "]
[null,"",null,"",null,null,null,null,null,null," "," "]
[null,"",null,"",null,null,null,null,null,null," "," "]
[null,"",null,"",null,null,null,null,null,null," "," "]
[null,"",null,"",null,null,null,null,null,null," "," "]
[null,"",null,"",null,null,null,null,null,null," "," "]
[null,"",null,"",null,null,null,null,null,null," "," "]
[null,"",null,"",null,null,null,null,null,null," "," "]
[null,"",null,"",null,null,null,null,null,null," "," "]
[null,"",null,"",null,null,null,null,null,null," "," "]
[null,"",null,"",null,null,null,null,null,null," "," "]
[null,"",null,"",null,null,null,null,null,null," "," "]
[null,{"$f":"IF(LEFT(F35,1)=\" \",1,\"\")","v":""},null,"",null,null,null,null,null,null," "," "]
[null,"",null,"",null,null,null,null,null,null," "," "]
[null,"",null,"",null,null,null,null,null,null," "," "]
[null,"",null,"",null,null,null,null,null,null," "," "]
[null,"",null,"",null,null,null,null,null,null," "," "]
[null,"",null,"",null,null,null,null,null,null," "," "]
[null,"",null,"",null,null,null,null,null,null," "," "]
[null,"",null,"",null,null,null,null,null,null," "," "]
[null,"",null,{"$f":"COUNT(D5:D42)","v":2},null,null,{"$f":"COUNT(G5:G42)","v":2},null,2,null," "," "]
[null,"",null,null,null,null,null,null,null,null," "," "]
[null,"",null,100,null,null,null,null,null,null," "," "]
[2,"","Improve quality",{"$f":"D45+1","v":101},null,"b",1,"b",1,null," "," "]
[null,{"$f":"IF(LEFT(F47,1)=\" \",1,\"\")","v":""},null,{"$f":"IF(F47=\"\",\"\",D46+1)","v":102},{"$f":"\"'s \"","v":"'s "},"b",1,"b",1,null," "," "]
[null,"",null,{"$f":"IF(F48=\"\",\"\",D47+1)","v":""},{"$f":"\"'s \"","v":"'s "},null,null,null,null,null," "," "]
[null,"",null,"",null,null,null,null,null,null," "," "]
[null,"",null,"",{"$f":"\"'s \"","v":"'s "},null,null,null,null,null," "," "]
[null,"",null,"",{"$f":"\"'s \"","v":"'s "},null,null,null,null,null," "," "]
[null,"",null,"",null,null,null,null,null,null," "," "]
[null,"",null,"",null,null,null,null,null,null," "," "]
[null,"",null,"",{"$f":"\"'s \"","v":"'s "},null,null,null,null,null," "," "]
[null,"",null,"",{"$f":"\"'s \"","v":"'s "},null,null,null,null,null," "," "]
[null,"",null,"",null,null,null,null,null,null," "," "]
[null,"",null,"",{"$f":"\"'s \"","v":"'s "},null,null,null,null,null," "," "]
[null,"",null,"",{"$f":"\"'s \"","v":"'s "},null,null,null,null,null," "," "]
[null,"",null,"",null,null,null,null,null,null," "," "]
[null,"",null,"",null,null,null,null,null,null," "," "]
[null,"",null,"",{"$f":"\"'s \"","v":"'s "},null,null,null,null,null," "," "]
[null,"",null,"",{"$f":"\"'s \"","v":"'s "},null,null,null,null,null," "," "]
[null,"",null,"",null,null,null,null,null,null," "," "]
[null,"",null,"",null,null,null,null,null,null," "," "]
[null,"",null,"",null,null,null,null,null,null," "," "]
[null,"",null,{"$f":"IF(F65=\"\",\"\",D65+1)","v":""},null,null,null,null,null,null," "," "]
[null,"",null,"",null,null,null,null,null,null," "," "]
[null,"",null,"",null,null,null,null,null,null," "," "]
[null,"",null,"",null,null,null,null,null,null," "," "]
[null,"",null,{"$f":"IF(F70=\"\",\"\",D69+1)","v":""},null,null,null,null,null,null,{"$f":"IF(OR(LEFT(F70,1)=\" \",RIGHT(F70,1)=\" \",),1,\" \")","v":" "},{"$f":"IF(OR(LEFT(H70,1)=\" \",RIGHT(H70,1)=\" \",),1,\" \")","v":" "}]
[null,"",null,"",null,null,null,null,null,null," "," "]
[null,"",null,"",null,null,null,null,null,null," "," "]
[null,"",null,"",null,null,null,null,null,null," "," "]
[null,"",null,"",null,null,null,null,null,null," "," "]
[null,"",null,"",null,null,null,null,null,null," "," "]
[null,"",null,"",null,null,null,null,null,null," "," "]
[null,"",null,"",null,null,null,null,null,null," "," "]
[null,"",null,"",null,null,null,null,null,null," "," "]
[null,"",null,"",null,null,null,null,null,null," "," "]
[null,"",null,"",null,null,null,null,null,null," "," "]
[null,"",null,"",null,null,null,null,null,null," "," "]
[null,"",null,"",null,null,null,null,null,null," "," "]
[null,"",null,"",null,null,null,null,null,null," "," "]
[null,"",null,"",null,null,null,null,null,null," "," "]
[null,"",null,"",null,null,null,null,null,null," "," "]
[null,"",null,"",null,null,null,null,null,null," "," "]
[null,"",null,"",null,null,null,null,null,null," "," "]
[null,"",null,"",null,null,null,null,null,null," "," "]
[null,"",null,"",null,null,null,null,null,null," "," "]
[null,"",null,"",null,null,null,null,null,null," "," "]
[null,"",null,"",null,null,null,null,null,null," "," "]
[null,"",null,"",null,null,null,null,null,null," "," "]
[null,"",null,{"$f":"COUNT(D46:D92)","v":2},{"$f":"COUNT(E46:E92)","v":0},null,2,null,2,null," "," "]
[null,"",null,null,null,null,null,null,null,null," "," "]
[null,"",null,1000,null,null,null,null,null,null," "," "]
[3,"","Sometimes hands in",{"$f":"IF(F96=\"\",\"\",D95+1)","v":1001},null,"b",1,"b",1,null," "," "]
[null,"",null,{"$f":"IF(F97=\"\",\"\",D96+1)","v":1002},null,"b",1,"b",1,null," "," "]
[null,"",null,{"$f":"IF(F98=\"\",\"\",D97+1)","v":""},null,null,null,null,null,null," "," "]
[null,"",null,{"$f":"IF(F99=\"\",\"\",D98+1)","v":""},null,null,null,null,null,null," "," "]
[null,"",null,"",null,null,null,null,null,null," "," "]
[null,"",null,"",null,null,null,null,null,null," "," "]
[null,"",null,"",null,null,null,null,null,null," "," "]
[null,"",null,"",null,null,null,null,null,null," "," "]
[null,"",null,"",null,null,null,null,null,null," "," "]
[null,"",null,"",null,null,null,null,null,null," "," "]
[null,"",null,"",null,null,null,null,null,null," "," "]
[null,"",null,"",null,null,null,null,null,null," "," "]
[null,"",null,"",null,null,null,null,null,null," "," "]
[null,"",null,"",null,null,null,null,null,null," "," "]
[null,"",null,"",null,null,null,null,null,null," "," "]
[null,{"$f":"IF(LEFT(F111,1)=\" \",1,\"\")","v":""},null,"",null,null,null,null,null,null," "," "]
[null,"",null,"",null,null,null,null,null,null," "," "]
[null,"",null,"",null,null,null,null,null,null," "," "]
[null,"",null,"",null,null,null,null,null,null," "," "]
[null,"",null,"",null,null,null,null,null,null," "," "]
[null,"",null,"",null,null,null,null,null,null," "," "]
[null,"",null,"",null,null,null,null,null,null," "," "]
[null,"",null,"",null,null,null,null,null,null," "," "]
[null,"",null,"",null,null,null,null,null,null," "," "]
[null,"",null,"",null,null,null,null,null,null," "," "]
[null,"",null,"",null,null,null,null,null,null," "," "]
[null,"",null,"",null,null,null,null,null,null," "," "]
[null,"",null,"",null,null,null,null,null,null," "," "]
[null,"",null,"",null,null,null,null,null,null," "," "]
[null,"",null,"",null,null,null,null,null,null," "," "]
[null,"",null,"",null,null,null,null,null,null," "," "]
[null,"",null,"",null,null,null,null,null,null," "," "]
[null,"",null,"",null,null,null,null,null,null," "," "]
[null,"",null,"",null,null,null,null,null,null," "," "]
[null,"",null,"",null,null,null,null,null,null," "," "]
[null,"",null,"",null,null,null,null,null,null," "," "]
[null,"",null,"",null,null,null,null,null,null," "," "]
[null,"",null,"",null,null,null,null,null,null," "," "]
[null,"",null,"",null,null,null,null,null,null,{"$f":"IF(OR(LEFT(F134,1)=\" \",RIGHT(F134,1)=\" \",),1,\" \")","v":" "},{"$f":"IF(OR(LEFT(H134,1)=\" \",RIGHT(H134,1)=\" \",),1,\" \")","v":" "}]
[null,"",null,"",null,null,null,null,null,null," "," "]
[null,"",null,"",null,null,null,null,null,null," "," "]
[null,"",null,"",null,null,null,null,null,null," "," "]
[null,"",null,"",null,null,null,null,null,null," "," "]
[null,"",null,"",null,null,null,null,null,null," "," "]
[null,"",null,"",null,null,null,null,null,null," "," "]
[null,"",null,{"$f":"COUNT(D96:D140)","v":2},null,null,{"$f":"COUNT(G96:G140)","v":2},null,2,null," "," "]
[null,"",null,null,null,null,null,null,null,null," "," "]
[null,"",null,10000,null,null,null,null,null,null," "," "]
[4,"","None submitted",{"$f":"IF(F144=\"\",\"\",D143+1)","v":10001},null,"c ",1,"c",1,null,1," "]
[null,"",null,{"$f":"IF(F145=\"\",\"\",D144+1)","v":10002},{"$f":"\"'s \"","v":"'s "},"c ",1,"c",1,null,1," "]
[null,"",null,{"$f":"IF(F146=\"\",\"\",D145+1)","v":""},null,null,null,null,null,null," "," "]
[null,"",null,"",null,null,null,null,null,null," "," "]
[null,"",null,"",null,null,null,null,null,null," "," "]
[null,"",null,"",null,null,null,null,null,null," "," "]
[null,"",null,"",null,null,null,null,null,null," "," "]
[null,"",null,"",{"$f":"\"'s \"","v":"'s "},null,null,null,null,null," "," "]
[null,"",null,"",{"$f":"\"'s \"","v":"'s "},null,null,null,null,null," "," "]
[null,"",null,"",{"$f":"\"'s \"","v":"'s "},null,null,null,null,null," "," "]
[null,"",null,"",null,null,null,null,null,null," "," "]
[null,"",null,"",null,null,null,null,null,null," "," "]
[null,"",null,"",null,null,null,null,null,null," "," "]
[null,"",null,"",null,null,null,null,null,null," "," "]
[null,"",null,"",null,null,null,null,null,null," "," "]
[null,"",null,"",null,null,null,null,null,null," "," "]
[null,"",null,"",null,null,null,null,null,null," "," "]
[null,"",null,"",null,null,null,null,null,null," "," "]
[null,"",null,"",null,null,null,null,null,null," "," "]
[null,"",null,"",null,null,null,null,null,null," "," "]
[null,"",null,"",null,null,null,null,null,null," "," "]
[null,"",null,"",null,null,null,null,null,null," "," "]
[null,"",null,"",null,null,null,null,null,null," "," "]
[null,"",null,"",null,null,null,null,null,null," "," "]
[null,"",null,"",null,null,null,null,null,null," "," "]
[null,"",null,"",null,null,null,null,null,null," "," "]
[null,"",null,"",null,null,null,null,null,null," "," "]
[null,"",null,"",null,null,null,null,null,null," "," "]
[null,"",null,"",null,null,null,null,null,null," "," "]
[null,"",null,"",null,null,null,null,null,null," "," "]
[null,"",null,"",null,null,null,null,null,null," "," "]
[null,{"$f":"IF(LEFT(F175,1)=\" \",1,\"\")","v":""},null,{"$f":"IF(F175=\"\",\"\",D174+1)","v":""},null,null,null,null,null,null," "," "]
[null,"",null,"",null,null,null,null,null,null," "," "]
[null,"",null,"",null,null,null,null,null,null," "," "]
[null,"",null,"",null,null,null,null,null,null," "," "]
[null,"",null,"",null,null,null,null,null,null," "," "]
[null,"",null,"",null,null,null,null,null,null," "," "]
[null,"",null,"",null,null,null,null,null,null," "," "]
[null,"",null,"",null,null,null,null,null,null," "," "]
[null,"",null,"",null,null,null,null,null,null," "," "]
[null,"",null,"",null,null,null,null,null,null," "," "]
[null,"",null,"",null,null,null,null,null,null," "," "]
[null,"",null,"",null,null,null,null,null,null," "," "]
[null,"",null,{"$f":"IF(F187=\"\",\"\",D186+1)","v":""},null,null,null,null,null,null," "," "]
[null,"",null,"",null,null,null,null,null,null," "," "]
[null,"",null,{"$f":"COUNT(D144:D188)","v":2},null,null,{"$f":"COUNT(G144:G188)","v":2},null,2,null," "," "]
[null,"",null,null,null,null,null,null,null,null," "," "]
[null,"",null,null,null,null,null,null,null,null," "," "]
[null,"",null,null,null,null,null,null,null,null," "," "]
[null,"",null,null,null,null,null,null,null,null," "," "]
[null,"",null,null,null,null,null,null,null,null," "," "]
[null,"",null,null,null,null,null,null,null,null," "," "]
[null,"",null,null,null,null,null,null,null,null," "," "]
[null,"",null,null,null,null,null,null,null,null," "," "]
[null,"",null,null,null,null,null,null,null,null,{"$f":"IF(OR(LEFT(F198,1)=\" \",RIGHT(F198,1)=\" \",),1,\" \")","v":" "},{"$f":"IF(OR(LEFT(H198,1)=\" \",RIGHT(H198,1)=\" \",),1,\" \")","v":" "}]
[null,"",null,null,null,null,null,null,null,null," "," "]
[null,"",null,null,null,null,null,null,null,null," "," "]
[null,"",null,null,null,null,null,null,null,null," "," "]
[null,"",null,null,null,null,null,null,null,null," "," "]
[null,"",null,null,null,null,null,null,null,null," "," "]
[null,"",null,null,null,null,null,null,null,null," "," "]
[null,"",null,null,null,null,null,null,null,null," "," "]
[null,"",null,null,null,null,null,null,null,null," "," "]
[null,"",null,null,null,null,null,null,null,null," "," "]
[null,"",null,null,null,null,null,null,null,null," "," "]
[null,"",null,null,null,null,null,null,null,null," "," "]
[null,"",null,null,null,null,null,null,null,null," "," "]
[null,"",null,null,null,null,null,null,null,null," "," "]
[null,"",null,null,null,null,null,null,null,null," "," "]
[null,"",null,null,null,null,null,null,null,null," "," "]
[null,"",null,null,null,null,null,null,null,null," "," "]
[null,"",null,null,null,null,null,null,null,null," "," "]
[null,"",null,null,null,null,null,null,null,null," "," "]
[null,"",null,null,null,null,null,null,null,null," "," "]
[null,"",null,null,null,null,null,null,null,null," "," "]
[null,"",null,null,null,null,null,null,null,null," "," "]
[null,"",null,null,null,null,null,null,null,null," "," "]
[null,"",null,null,null,null,null,null,null,null," "," "]
[null,"",null,null,null,null,null,null,null,null," "," "]
[null,"",null,null,null,null,null,null,null,null," "," "]
[null,"",null,null,null,null,null,null,null,null," "," "]
[null,"",null,null,null,null,null,null,null,null," "," "]
[null,"",null,null,null,null,null,null,null,null," "," "]
[null,"",null,null,null,null,null,null,null,null," "," "]
[null,"",null,null,null,null,null,null,null,null," "," "]
[null,"",null,null,null,null,null,null,null,null," "," "]
[null,"",null,null,null,null,null,null,null,null," "," "]
[null,"",null,null,null,null,null,null,null,null," "," "]
[null,"",null,null,null,null,null,null,null,null," "," "]
[null,"",null,null,null,null,null,null,null,null," "," "]
[null,"",null,null,null,null,null,null,null,null," "," "]
[null,"",null,null,null,null,null,null,null,null," "," "]
[null,"",null,null,null,null,null,null,null,null," "," "]
[null,"",null,null,null,null,null,null,null,null," "," "]
[null,"",null,null,null,null,null,null,null,null," "," "]
[null,{"$f":"IF(LEFT(F239,1)=\" \",1,\"\")","v":""},null,null,null,null,null,null,null,null," "," "]
[null,"",null,null,null,null,null,null,null,null," "," "]
[null,"",null,null,null,null,null,null,null,null," "," "]
[null,"",null,null,null,null,null,null,null,null," "," "]
[null,"",null,null,null,null,null,null,null,null," "," "]
[null,"",null,null,null,null,null,null,null,null," "," "]
[null,"",null,null,null,null,null,null,null,null," "," "]
[null,"",null,null,null,null,null,null,null,null," "," "]
[null,null,null,null,null,null,null,null,null,null," "," "]
[null,null,null,null,null,null,null,null,null,null," "," "]
[null,null,null,null,null,null,null,null,null,null," "," "]
[null,null,null,null,null,null,null,null,null,null," "," "]
[null,null,null,null,null,null,null,null,null,null," "," "]
[null,null,null,null,null,null,null,null,null,null," "," "]
[null,null,null,null,null,null,null,null,null,null," "," "]
[null,null,null,null,null,null,null,null,null,null," "," "]
[null,null,null,null,null,null,null,null,null,null," "," "]
[null,null,null,null,null,null,null,null,null,null," "," "]
[null,null,null,null,null,null,null,null,null,null," "," "]
[null,null,null,null,null,null,null,null,null,null," "," "]
[null,null,null,null,null,null,null,null,null,null," "," "]
[null,null,null,null,null,null,null,null,null,null," "," "]
[null,null,null,null,null,null,null,null,null,null," "," "]
[null,null,null,null,null,null,null,null,null,null,{"$f":"IF(OR(LEFT(F262,1)=\" \",RIGHT(F262,1)=\" \",),1,\" \")","v":" "},{"$f":"IF(OR(LEFT(H262,1)=\" \",RIGHT(H262,1)=\" \",),1,\" \")","v":" "}]
[null,null,null,null,null,null,null,null,null,null," "," "]
[null,null,null,null,null,null,null,null,null,null," "," "]

{"sheet":"Equipment","index":2,"n_rows":130,"n_cols":11,"rows_kept":130,"cut":false,"hidden":false,"merged":[[0,1,0,5],[91,2,106,2],[40,3,40,4],[65,3,65,4],[90,3,90,4],[8,2,31,2],[41,2,61,2],[66,2,87,2]]}
[{"$f":"'Front Sheet'!S5","v":2},"start with she…. equipment comment …..use organised and ensure equipment is in there… do not use punctuation…… remember that the sentence will need to to flow with eqipment at the end",null,null,null,null,null,{"$f":"C9","v":"Always equipped "},{"$f":"C42","v":"Missing 1 piece of equipment "},{"$f":"C67","v":"Missing 2 pieces of equipment "},{"$f":"C92","v":"Missing 3 pieces of equipment "}]
[null,null,null,null,null,null,null,1,2,3,4]
[null,null,null,null,null,null,null,{"$f":"F37","v":2},{"$f":"F63","v":2},{"$f":"F89","v":2},{"$f":"F108","v":2}]
[]
[]
[]
[]
[]
[null,null,"Always equipped ",1,"c",1,"c",1,null,{"$f":"IF(OR(LEFT(E9,1)=\" \",RIGHT(E9,1)=\" \",),1,\" \")","v":" "},{"$f":"IF(OR(LEFT(G9,1)=\" \",RIGHT(G9,1)=\" \",),1,\" \")","v":" "}]
[null,null,null,{"$f":"IF(E10=\"\",\"\",D9+1)","v":2},"c",1,"c",1,null,{"$f":"IF(OR(LEFT(E10,1)=\" \",RIGHT(E10,1)=\" \",),1,\" \")","v":" "},{"$f":"IF(OR(LEFT(G10,1)=\" \",RIGHT(G10,1)=\" \",),1,\" \")","v":" "}]
[null,null,null,{"$f":"IF(E11=\"\",\"\",D10+1)","v":""},null,null,null,null,null," "," "]
[null,null,null,"",null,null,null,null,null," "," "]
[null,null,null,"",null,null,null,null,null," "," "]
[null,null,null,"",null,null,null,null,null," "," "]
[null,null,null,"",null,null,null,null,null," "," "]
[null,null,null,"",null,null,null,null,null," "," "]
[null,null,null,"",null,null,null,null,null," "," "]
[null,null,null,"",null,null,null,null,null," "," "]
[null,null,null,"",null,null,null,null,null," "," "]
[null,null,null,"",null,null,null,null,null," "," "]
[null,null,null,null,null,null,null,null,null," "," "]
[null,null,null,null,null,null,null,null,null," "," "]
[null,null,null,null,null,null,null,null,null," "," "]
[null,null,null,null,null,null,null,null,null," "," "]
[null,null,null,null,null,null,null,null,null," "," "]
[null,null,null,null,null,null,null,null,null," "," "]
[null,null,null,null,null,null,null,null,null," "," "]
[null,null,null,null,null,null,null,null,null," "," "]
[null,null,null,{"$f":"IF(E29=\"\",\"\",D20+1)","v":""},null,null,null,null,null," "," "]
[null,null,null,"",null,null,null,null,null," "," "]
[null,null,null,"",null,null,null,null,null," "," "]
[null,null,null,"",null,null,null,null,null," "," "]
[null,null,null,null,null,null,null,null,null," "," "]
[null,null,null,null,null,null,null,null,null," "," "]
[null,null,null,null,null,null,null,null,null," "," "]
[null,null,null,null,null,null,null,null,null," "," "]
[null,null,null,{"$f":"COUNT(D9:D32)","v":2},null,{"$f":"COUNT(F9:F32)","v":2},{"$f":"COUNT(G9:G32)","v":0},2,null," "," "]
[null,null,null,null,null,null,null,null,null," "," "]
[null,null,null,null,null,null,null,null,null," "," "]
[null,null,null,null,null,null,null,null,null," "," "]
[null,null,null,null,null,null,null,null,null," "," "]
[null,null,"Missing 1 piece of equipment ",1,"c",1,"c",1,null," "," "]
[null,null,null,{"$f":"IF(E43=\"\",\"\",D42+1)","v":2},"c",1,"c",1,null," "," "]
[null,null,null,{"$f":"IF(E44=\"\",\"\",D43+1)","v":""},null,null,null,null,null," "," "]
[null,null,null,"",null,null,null,null,null," "," "]
[null,null,null,"",null,null,null,null,null," "," "]
[null,null,null,"",null,null,null,null,null," "," "]
[null,null,null,"",null,null,null,null,null," "," "]
[null,null,null,"",null,null,null,null,null," "," "]
[null,null,null,"",null,null,null,null,null," "," "]
[null,null,null,"",null,null,null,null,null," "," "]
[null,null,null,null,null,null,null,null,null," "," "]
[null,null,null,null,null,null,null,null,null," "," "]
[null,null,null,null,null,null,null,null,null," "," "]
[null,null,null,null,null,null,null,null,null," "," "]
[null,null,null,null,null,null,null,null,null," "," "]
[null,null,null,{"$f":"IF(E57=\"\",\"\",D51+1)","v":""},null,null,null,null,null," "," "]
[null,null,null,"",null,null,null,null,null," "," "]
[null,null,null,"",null,null,null,null,null," "," "]
[null,null,null,"",null,null,null,null,null," "," "]
[null,null,null,"",null,null,null,null,null," "," "]
[null,null,null,"",null,null,null,null,null," "," "]
[null,null,null,{"$f":"COUNT(D42:D62)","v":2},null,{"$f":"COUNT(F42:F62)","v":2},null,{"$f":"COUNT(H42:H62)","v":2},null," "," "]
[null,null,null,null,null,null,null,null,null," "," "]
[null,null,null,null,null,null,null,null,null," "," "]
[null,null,null,null,null,null,null,null,null," "," "]
[null,null,"Missing 2 pieces of equipment ",1,"c",1,"c",1,null," "," "]
[null,null,null,{"$f":"IF(E68=\"\",\"\",D67+1)","v":2},"c",1,"c",1,null," "," "]
[null,null,null,{"$f":"IF(E69=\"\",\"\",D68+1)","v":""},null,null,null,null,null," "," "]
[null,null,null,"",null,null,null,null,null," "," "]
[null,null,null,"",null,null,null,null,null," "," "]
[null,null,null,"",null,null,null,null,null," "," "]
[null,null,null,"",null,null,null,null,null," "," "]
[null,null,null,"",null,null,null,null,null,{"$f":"IF(OR(LEFT(E74,1)=\" \",RIGHT(E74,1)=\" \",),1,\" \")","v":" "},{"$f":"IF(OR(LEFT(G74,1)=\" \",RIGHT(G74,1)=\" \",),1,\" \")","v":" "}]
[null,null,null,"",null,null,null,null,null," "," "]
[null,null,null,null,null,null,null,null,null," "," "]
[null,null,null,null,null,null,null,null,null," "," "]
[null,null,null,null,null,null,null,null,null," "," "]
[null,null,null,null,null,null,null,null,null," "," "]
[null,null,null,null,null,null,null,null,null," "," "]
[null,null,null,null,null,null,null,null,null," "," "]
[null,null,null,{"$f":"IF(E82=\"\",\"\",D75+1)","v":""},null,null,null,null,null," "," "]
[null,null,null,"",null,null,null,null,null," "," "]
[null,null,null,"",null,null,null,null,null," "," "]
[null,null,null,"",null,null,null,null,null," "," "]
[null,null,null,"",null,null,null,null,null," "," "]
[null,null,null,"",null,null,null,null,null," "," "]
[null,null,null,"",null,null,null,null,null," "," "]
[null,null,null,{"$f":"COUNT(D67:D88)","v":2},null,{"$f":"COUNT(F67:F88)","v":2},null,{"$f":"COUNT(H67:H88)","v":2},null," "," "]
[null,null,null,null,null,null,null,null,null," "," "]
[null,null,null,null,null,null,null,null,null," "," "]
[null,null,"Missing 3 pieces of equipment ",1,"c",1,"c",1,null," "," "]
[null,null,null,{"$f":"IF(E93=\"\",\"\",D92+1)","v":2},"c",1,"c",1,null," "," "]
[null,null,null,{"$f":"IF(E94=\"\",\"\",D93+1)","v":""},null,null,null,null,null," "," "]
[null,null,null,"",null,null,null,null,null," "," "]
[null,null,null,"",null,null,null,null,null," "," "]
[null,null,null,"",null,null,null,null,null," "," "]
[null,null,null,"",null,null,null,null,null," "," "]
[null,null,null,"",null,null,null,null,null," "," "]
[null,null,null,"",null,null,null,null,null," "," "]
[null,null,null,"",null,null,null,null,null," "," "]
[null,null,null,"",null,null,null,null,null," "," "]
[null,null,null,"",null,null,null,null,null," "," "]
[null,null,null,"",null,null,null,null,null," "," "]
[null,null,null,"",null,null,null,null,null," "," "]
[null,null,null,"",null,null,null,null,null," "," "]
[null,null,null,"",null,null,null,null,null," "," "]
[null,null,null,{"$f":"COUNT(D92:D107)","v":2},null,{"$f":"COUNT(F92:F107)","v":2},null,{"$f":"COUNT(H92:H107)","v":2},null," "," "]
[null,null,null,null,null,null,null,null,null," "," "]
[null,null,null,null,null,null,null,null,null," "," "]
[null,null,null,null,null,null,null,null,null," "," "]
[null,null,null,null,null,null,null,null,null," "," "]
[null,null,null,null,null,null,null,null,null," "," "]
[null,null,null,null,null,null,null,null,null," "," "]
[null,null,null,null,null,null,null,null,null," "," "]
[null,null,null,null,null,null,null,null,null," "," "]
[null,null,null,null,null,null,null,null,null," "," "]
[null,null,null,null,null,null,null,null,null," "," "]
[null,null,null,null,null,null,null,null,null," "," "]
[null,null,null,null,null,null,null,null,null," "," "]
[null,null,null,null,null,null,null,null,null," "," "]
[null,null,null,null,null,null,null,null,null," "," "]
[null,null,null,null,null,null,null,null,null," "," "]
[null,null,null,null,null,null,null,null,null," "," "]
[null,null,null,null,null,null,null,null,null," "," "]
[null,null,null,null,null,null,null,null,null," "," "]
[null,null,null,null,null,null,null,null,null," "," "]
[null,null,null,null,null,null,null,null,null," "," "]
[null,null,null,null,null,null,null,null,null," "," "]
[null,null,null,null,null,null,null,null,null," "," "]

{"sheet":"Behaviour","index":3,"n_rows":316,"n_cols":28,"rows_kept":316,"cut":false,"hidden":false,"merged":[[0,1,0,4],[1,0,1,4],[51,0,117,0],[51,2,117,2],[121,0,167,0],[121,2,167,2],[4,2,48,2],[2,0,2,4],[3,9,3,10],[171,0,215,0],[171,2,215,2],[219,0,263,0],[219,2,263,2]]}
[{"$f":"Homework!A1","v":2},"..NAME… comment on behaviour   AVIOD disappointing, displays/ displayed…. USE MATHS",null,null,null,null,{"$f":"C5","v":"Outstanding"},{"$f":"C52","v":"Willing to help others"},{"$f":"C122","v":"Distracted by others"},{"$f":"C172","v":"Causes distractions"},{"$f":"C220","v":"Fails to comply with class rules"}]
["Behaviour",null,null,null,null,null,1,1,2,3,4]
["could it be reworded using exhibits?.... Should members say pupils",null,null,null,null,null,{"$f":"F50","v":2},{"$f":"F119","v":2},{"$f":"F169","v":2},{"$f":"F217","v":2},{"$f":"F265","v":2}]
[null,null,null,null,null,null,null,null,null,"Error Checking"]
[null,null,"Outstanding",{"$f":"D4+1","v":1},"d",1,"d",1,null,{"$f":"IF(OR(LEFT(E5,1)=\" \",RIGHT(E5,1)=\" \",),1,\" \")","v":" "},{"$f":"IF(OR(LEFT(G5,1)=\" \",RIGHT(G5,1)=\" \",),1,\" \")","v":" "},1,"Maths",null,null,null,"History"]
[null,null,null,{"$f":"IF(E6=\"\",\"\",D5+1)","v":2},"d",1,"d",1,null,{"$f":"IF(OR(LEFT(E6,1)=\" \",RIGHT(E6,1)=\" \",),1,\" \")","v":" "},{"$f":"IF(OR(LEFT(G6,1)=\" \",RIGHT(G6,1)=\" \",),1,\" \")","v":" "}]
[null,null,null,"",null,null,null,null,null," "," "]
[null,null,null,"",null,null,null,null,null," "," "]
[null,null,null,"",null,null,null,null,null," "," "]
[null,null,null,"",null,null,null,null,null," "," "]
[null,null,null,"",null,null,null,null,null," "," "]
[null,null,null,"",null,null,null,null,null," "," "]
[null,null,null,"",null,null,null,null,null," "," "]
[null,null,null,"",null,null,null,null,null," "," "]
[null,null,null,"",null,null,null,null,null," "," "]
[null,null,null,"",null,null,null,null,null," "," "]
[null,null,null,"",null,null,null,null,null," "," "]
[null,null,null,"",null,null,null,null,null," "," "]
[null,null,null,"",null,null,null,null,null," "," "]
[null,null,null,"",null,null,null,null,null," "," "]
[null,null,null,"",null,null,null,null,null," "," "]
[null,null,null,"",null,null,null,null,null," "," "]
[null,null,null,"",null,null,null,null,null," "," "]
[null,null,null,"",null,null,null,null,null," "," "]
[null,null,null,"",null,null,null,null,null," "," "]
[null,null,null,"",null,null,null,null,null," "," "]
[null,null,null,"",null,null,null,null,null," "," "]
[null,null,null,"",null,null,null,null,null," "," "]
[null,null,null,"",null,null,null,null,null," "," "]
[null,null,null,"",null,null,null,null,null," "," "]
[null,null,null,"",null,null,null,null,null," "," "]
[null,null,null,"",null,null,null,null,null," "," "]
[null,null,null,"",null,null,null,null,null," "," "]
[null,null,null,"",null,null,null,null,null," "," "]
[null,null,null,"",null,null,null,null,null," "," "]
[null,null,null,"",null,null,null,null,null," "," "]
[null,null,null,"",null,null,null,null,null," "," "]
[null,null,null,"",null,null,null,null,null," "," "]
[null,null,null,"",null,null,null,null,null," "," "]
[null,null,null,"",null,null,null,null,null," "," "]
[null,null,null,"",null,null,null,null,null," "," "]
[null,null,null,"",null,null,null,null,null," "," "]
[null,null,null,"",null,null,null,null,null," "," "]
[null,null,null,"",null,null,null,null,null," "," "]
[null,null,null,"",null,null,null,null,null," "," "]
[null,null,null,"",null,null,null,null,null," "," "]
[null,null,null,"",null,null,null,null,null," "," "]
[null,null,null,"",null,null,null,null,null," "," "]
[null,null,null,"",null,null,null,null,null," "," "]
[null,null,null,{"$f":"COUNT(D5:D49)","v":2},null,{"$f":"COUNT(F5:F49)","v":2},null,{"$f":"COUNT(H5:H49)","v":2},null," "," "]
[null,null,null,null,null,null,null,null,null," "," "]
[1,null,"Willing to help others",{"$f":"D51+1","v":1},"d",1,"d",1,null," "," "]
[null,null,null,{"$f":"IF(E53=\"\",\"\",D52+1)","v":2},"d",1,"d",1,null," "," "]
[null,null,null,"",null,null,null,null,null," "," "]
[null,null,null,"",null,null,null,null,null," "," ",1,"calculations",null,null,null,"work"]
[null,null,null,"",null,null,null,null,null," "," ",1,"a calculation",null,null,null,"their work"]
[null,null,null,"",null,null,null,null,null," "," ",1,"method used to solve a problem",null,null,null,"the purpose of the author to solve an enquiry"]
[null,null,null,"",null,null,null,null,null," "," ",1,"to problem solving",null,null,null,"when analysing sources"]
[null,null,null,"",null,null,null,null,null," "," ",1,"problems",null,null,null,"sources"]
[null,null,null,"",null,null,null,null,null," "," ",7,"solutions",null,null,null,"reliability"]
[null,null,null,"",null,null,null,null,null," "," ",9,"problem solving",null,null,null,"source evaluation"]
[null,null,null,"",null,null,null,null,null," "," "]
[null,null,null,"",null,null,null,null,null," "," "]
[null,null,null,"",null,null,null,null,null," "," "]
[null,null,null,"",null,null,null,null,null," "," "]
[null,null,null,"",null,null,null,null,null," "," ",1,"calculations",null,null,null,"work"]
[null,null,null,"",null,null,null,null,null," "," ",1,"a calculation",null,null,null,"their work"]
[null,null,null,"",null,null,null,null,null," "," ",1,"method used to solve a problem",null,null,null,"the purpose of the author to solve an enquiry"]
[null,null,null,"",null,null,null,null,null," "," ",1,"to problem solving",null,null,null,"when analysing sources"]
[null,null,null,"",null,null,null,null,null,{"$f":"IF(OR(LEFT(E70,1)=\" \",RIGHT(E70,1)=\" \",),1,\" \")","v":" "},{"$f":"IF(OR(LEFT(G70,1)=\" \",RIGHT(G70,1)=\" \",),1,\" \")","v":" "},1,"problems",null,null,null,"sources"]
[null,null,null,"",null,null,null,null,null," "," ",18,"solutions",null,null,null,"reliability"]
[null,null,null,"",null,null,null,null,null," "," ",20,"problem solving",null,null,null,"source evaluation"]
[null,null,null,"",null,null,null,null,null," "," "]
[null,null,null,"",null,null,null,null,null," "," "]
[null,null,null,"",null,null,null,null,null," "," "]
[null,null,null,"",null,null,null,null,null," "," "]
[null,null,null,"",null,null,null,null,null," "," ",1,"calculations",null,null,null,"work"]
[null,null,null,"",null,null,null,null,null," "," ",1,"a calculation",null,null,null,"their work"]
[null,null,null,"",null,null,null,null,null," "," ",1,"method used to solve a problem",null,null,null,"the purpose of the author to solve an enquiry"]
[null,null,null,"",null,null,null,null,null," "," ",1,"to problem solving",null,null,null,"when analysing sources"]
[null,null,null,"",null,null,null,null,null," "," ",1,"problems",null,null,null,"sources"]
[null,null,null,"",null,null,null,null,null," "," ",29,"solutions",null,null,null,"reliability"]
[null,null,null,"",null,null,null,null,null," "," ",82,"problem solving",null,null,null,"source evaluation"]
[null,null,null,"",null,null,null,null,null," "," "]
[null,null,null,"",null,null,null,null,null," "," "]
[null,null,null,"",null,null,null,null,null," "," "]
[null,null,null,"",null,null,null,null,null," "," "]
[null,null,null,"",null,null,null,null,null," "," "]
[null,null,null,"",null,null,null,null,null," "," "]
[null,null,null,"",null,null,null,null,null," "," "]
[null,null,null,"",null,null,null,null,null," "," "]
[null,null,null,"",null,null,null,null,null," "," "]
[null,null,null,"",null,null,null,null,null," "," "]
[null,null,null,"",null,null,null,null,null," "," "]
[null,null,null,"",null,null,null,null,null," "," "]
[null,null,null,"",null,null,null,null,null," "," "]
[null,null,null,"",null,null,null,null,null," "," "]
[null,null,null,"",null,null,null,null,null," "," "]
[null,null,null,"",null,null,null,null,null," "," "]
[null,null,null,"",null,null,null,null,null," "," "]
[null,null,null,"",null,null,null,null,null," "," "]
[null,null,null,"",null,null,null,null,null," "," "]
[null,null,null,"",null,null,null,null,null," "," "]
[null,null,null,null,null,null,null,null,null," "," "]
[null,null,null,{"$f":"IF(E105=\"\",\"\",D75+1)","v":""},null,null,null,null,null," "," "]
[null,null,null,"",null,null,null,null,null," "," "]
[null,null,null,"",null,null,null,null,null," "," "]
[null,null,null,{"$f":"IF(E108=\"\",\"\",D107+1)","v":""},null,null,null,null,null," "," "]
[null,null,null,"",null,null,null,null,null," "," "]
[null,null,null,"",null,null,null,null,null," "," "]
[null,null,null,"",null,null,null,null,null," "," "]
[null,null,null,"",null,null,null,null,null," "," "]
[null,null,null,"",null,null,null,null,null," "," "]
[null,null,null,"",null,null,null,null,null," "," "]
[null,null,null,"",null,null,null,null,null," "," "]
[null,null,null,"",null,null,null,null,null," "," "]
[null,null,null,"",null,null,null,null,null," "," "]
[null,null,null,"",null,null,null,null,null," "," "]
[null,null,null,{"$f":"COUNT(D52:D118)","v":2},null,{"$f":"COUNT(F52:F118)","v":2},null,{"$f":"COUNT(H52:H118)","v":2},null," "," "]
[null,null,null,null,null,null,null,null,null," "," "]
[null,null,null,null,null,null,null,null,null," "," "]
[2,null,"Distracted by others",{"$f":"D121+1","v":1},"d",1,"d",1,null," "," ",1,"Maths",null,null,null,"History"]
[null,null,null,{"$f":"IF(E123=\"\",\"\",D122+1)","v":2},"d",1,"d",1,null," "," ",null,null,null,null,null,null,null,null,null,null,null,null,null,null,null,null,"will need to ensure that she avoids distractions if she wishes to achieve her potential."]
[null,null,null,"",null,null,null,null,null," "," ",null,null,null,null,null,null,null,null,null,null,null,null,null,null,null,null," can be distracted in class and lacking in concentration. "]
[null,null,null,"",null,null,null,null,null," "," ",null,null,null,null,null,null,null,null,null,null,null,null,null,null,null,null," can be distracted in class and lacks consistent concentration. "]
[null,null,null,"",null,null,null,null,null," "," ",null,null,null,null,null,null,null,null,null,null,null,null,null,null,null,null,"has had occasions where she has lacked in concentration and been distracted by others in class."]
[null,null,null,"",null,null,null,null,null," "," ",null,null,null,null,null,null,null,null,null,null,null,null,null,null,null,null,"will need to ensure that she avoids distractions if she wishes full he full potential."]
[null,null,null,"",null,null,null,null,null," "," ",null,null,null,null,null,null,null,null,null,null,null,null,null,null,null,null,"must also try and stay focused throughout the lesson to ensure she understands the work set."]
[null,null,null,"",null,null,null,null,null," "," ",null,null,null,null,null,null,null,null,null,null,null,null,null,null,null,null,"does need to focus more on her work in class rather than being distracted by those around her. "]
[null,null,null,"",null,null,null,null,null," "," ",null,null,null,null,null,null,null,null,null,null,null,null,null,null,null,null,"has had occasions where she has become very easily distracted and pulled off task by her closest friends but these are rare. "]
[null,null,null,"",null,null,null,null,null," "," ",null,null,null,null,null,null,null,null,null,null,null,null,null,null,null,null,"does not stay focused on the task in hand and at times distracts others around her"]
[null,null,null,"",null,null,null,null,null," "," ",null,null,null,null,null,null,null,null,null,null,null,null,null,null,null,null,"allows herself to be distracted by others resulting in not completing all work set."]
[null,null,null,"",null,null,null,null,null," "," "]
[null,null,null,"",null,null,null,null,null,{"$f":"IF(OR(LEFT(E134,1)=\" \",RIGHT(E134,1)=\" \",),1,\" \")","v":" "},{"$f":"IF(OR(LEFT(G134,1)=\" \",RIGHT(G134,1)=\" \",),1,\" \")","v":" "}]
[null,null,null,"",null,null,null,null,null," "," "]
[null,null,null,"",null,null,null,null,null," "," "]
[null,null,null,"",null,null,null,null,null," "," "]
[null,null,null,"",null,null,null,null,null," "," "]
[null,null,null,"",null,null,null,null,null," "," "]
[null,null,null,"",null,null,null,null,null," "," "]
[null,null,null,"",null,null,null,null,null," "," "]
[null,null,null,"",null,null,null,null,null," "," "]
[null,null,null,"",null,null,null,null,null," "," "]
[null,null,null,"",null,null,null,null,null," "," "]
[null,null,null,"",null,null,null,null,null," "," "]
[null,null,null,"",null,null,null,null,null," "," "]
[null,null,null,"",null,null,null,null,null," "," "]
[null,null,null,"",null,null,null,null,null," "," "]
[null,null,null,"",null,null,null,null,null," "," "]
[null,null,null,"",null,null,null,null,null," "," "]
[null,null,null,"",null,null,null,null,null," "," "]
[null,null,null,{"$f":"IF(E21=\"\",\"\",D151+1)","v":""},null,null,null,null,null," "," "]
[null,null,null,"",null,null,null,null,null," "," "]
[null,null,null,"",null,null,null,null,null," "," "]
[null,null,null,"",null,null,null,null,null," "," "]
[null,null,null,"",null,null,null,null,null," "," "]
[null,null,null,"",null,null,null,null,null," "," "]
[null,null,null,"",null,null,null,null,null," "," "]
[null,null,null,"",null,null,null,null,null," "," "]
[null,null,null,"",null,null,null,null,null,{"$f":"IF(OR(LEFT(E160,1)=\" \",RIGHT(E160,1)=\" \",),1,\" \")","v":" "},{"$f":"IF(OR(LEFT(G160,1)=\" \",RIGHT(G160,1)=\" \",),1,\" \")","v":" "}]
[null,null,null,"",null,null,null,null,null," "," "]
[null,null,null,"",null,null,null,null,null," "," "]
[null,null,null,"",null,null,null,null,null," "," "]
[null,null,null,"",null,null,null,null,null," "," "]
[null,null,null,"",null,null,null,null,null," "," "]
[null,null,null,"",null,null,null,null,null," "," "]
[null,null,null,"",null,null,null,null,null," "," "]
[null,null,null,"",null,null,null,null,null," "," "]
[null,null,null,{"$f":"COUNT(D122:D168)","v":2},null,{"$f":"COUNT(F122:F168)","v":2},null,2,null," "," "]
[null,null,null,null,null,null,null,null,null," "," "]
[null,null,null,null,null,null,null,null,null," "," "]
[3,null,"Causes distractions",{"$f":"D171+1","v":1},"dd",1,"d",1,null," "," ",1,"Maths",null,null,null,"History"]
[null,null,null,{"$f":"IF(E173=\"\",\"\",D172+1)","v":2},"dd",1,"d",1,null," "," ",null,null,null,null,null,null,null,null,null,null,null,null,null,null,null,null,"has a habit of distracting others in class during independent work."]
[null,null,null,"",null,null,null,null,null," "," ",null,null,null,null,null,null,null,null,null,null,null,null,null,null,null,null,"has a habit of distracting others, preventing herself from completing all class work."]
[null,null,null,"",null,null,null,null,null," "," ",null,null,null,null,null,null,null,null,null,null,null,null,null,null,null,null,"needs to ensure that she is less talkative in class."]
[null,null,null,"",null,null,null,null,null," "," ",null,null,null,null,null,null,null,null,null,null,null,null,null,null,null,null,"has had occasions where she has lacked in concentration and distracted others in class."]
[null,null,null,"",null,null,null,null,null," "," ",null,null,null,null,null,null,null,null,null,null,null,null,null,null,null,null,"does have periods of silly behaviour, which can cause distractions for others in the class."]
[null,null,null,"",null,null,null,null,null," "," ",null,null,null,null,null,null,null,null,null,null,null,null,null,null,null,null,"distracts others in the class resulting in not completing all work set."]
[null,null,null,"",null,null,null,null,null," "," ",null,null,null,null,null,null,null,null,null,null,null,null,null,null,null,null,"distracts others in the class so doesn’t always complete all work set."]
[null,null,null,"",null,null,null,null,null," "," "]
[null,null,null,"",null,null,null,null,null," "," "]
[null,null,null,"",null,null,null,null,null," "," "]
[null,null,null,"",null,null,null,null,null," "," "]
[null,null,null,"",null,null,null,null,null," "," "]
[null,null,null,"",null,null,null,null,null," "," "]
[null,null,null,"",null,null,null,null,null," "," "]
[null,null,null,"",null,null,null,null,null," "," "]
[null,null,null,"",null,null,null,null,null," "," "]
[null,null,null,"",null,null,null,null,null,{"$f":"IF(OR(LEFT(E160,1)=\" \",RIGHT(E160,1)=\" \",),1,\" \")","v":" "},{"$f":"IF(OR(LEFT(G160,1)=\" \",RIGHT(G160,1)=\" \",),1,\" \")","v":" "}]
[null,null,null,"",null,null,null,null,null,{"$f":"IF(OR(LEFT(E189,1)=\" \",RIGHT(E189,1)=\" \",),1,\" \")","v":" "},{"$f":"IF(OR(LEFT(G189,1)=\" \",RIGHT(G189,1)=\" \",),1,\" \")","v":" "}]
[null,null,null,"",null,null,null,null,null," "," "]
[null,null,null,"",null,null,null,null,null," "," "]
[null,null,null,"",null,null,null,null,null," "," "]
[null,null,null,"",null,null,null,null,null," "," "]
[null,null,null,"",null,null,null,null,null," "," "]
[null,null,null,"",null,null,null,null,null," "," "]
[null,null,null,"",null,null,null,null,null," "," "]
[null,null,null,"",null,null,null,null,null,{"$f":"IF(OR(LEFT(E198,1)=\" \",RIGHT(E198,1)=\" \",),1,\" \")","v":" "},{"$f":"IF(OR(LEFT(G198,1)=\" \",RIGHT(G198,1)=\" \",),1,\" \")","v":" "}]
[null,null,null,"",null,null,null,null,null," "," "]
[null,null,null,"",null,null,null,null,null," "," "]
[null,null,null,"",null,null,null,null,null," "," "]
[null,null,null,"",null,null,null,null,null," "," "]
[null,null,null,"",null,null,null,null,null," "," "]
[null,null,null,"",null,null,null,null,null," "," "]
[null,null,null,"",null,null,null,null,null," "," "]
[null,null,null,"",null,null,null,null,null," "," "]
[null,null,null,"",null,null,null,null,null," "," "]
[null,null,null,"",null,null,null,null,null," "," "]
[null,null,null,"",null,null,null,null,null," "," "]
[null,null,null,"",null,null,null,null,null," "," "]
[null,null,null,"",null,null,null,null,null," "," "]
[null,null,null,"",null,null,null,null,null," "," "]
[null,null,null,"",null,null,null,null,null," "," "]
[null,null,null,"",null,null,null,null,null," "," "]
[null,null,null,"",null,null,null,null,null," "," "]
[null,null,null,"",null,null,null,null,null," "," "]
[null,null,null,{"$f":"COUNT(D172:D216)","v":2},null,{"$f":"COUNT(F172:F216)","v":2},null,2,null," "," "]
[null,null,null,null,null,null,null,null,null," "," "]
[null,null,null,null,null,null,null,null,null," "," "]
[4,null,"Fails to comply with class rules",{"$f":"D219+1","v":1},"d",1,"d",1,null," "," ",null,null,null,null,null,null,null,null,null,null,null,null,null,null,null,null,"still struggles to follow the class rules, despite numerous reminders on how to behave."]
[null,null,null,{"$f":"IF(E221=\"\",\"\",D220+1)","v":2},"d",1,"d",1,null," "," ",1,"Maths",null,null,null,"History"]
[null,null,null,"",null,null,null,null,null," "," ",null,null,null,null,null,null,null,null,null,null,null,null,null,null,null,null,"attitude to learning can be immature though. She talks and doesn’t always concentrate on the lesson. "]
[null,null,null,"",null,null,null,null,null," "," ",null,null,null,null,null,null,null,null,null,null,null,null,null,null,null,null,"is frequently distracted in class and can be lazy in lessons"]
[null,null,null,"",null,null,null,null,null," "," "]
[null,null,null,"",null,null,null,null,null," "," "]
[null,null,null,"",null,null,null,null,null," "," "]
[null,null,null,"",null,null,null,null,null," "," "]
[null,null,null,"",null,null,null,null,null," "," "]
[null,null,null,"",null,null,null,null,null," "," "]
[null,null,null,"",null,null,null,null,null," "," "]
[null,null,null,"",null,null,null,null,null," "," "]
[null,null,null,"",null,null,null,null,null," "," "]
[null,null,null,"",null,null,null,null,null," "," "]
[null,null,null,"",null,null,null,null,null," "," "]
[null,null,null,"",null,null,null,null,null," "," "]
[null,null,null,"",null,null,null,null,null," "," "]
[null,null,null,"",null,null,null,null,null," "," "]
[null,null,null,"",null,null,null,null,null," "," "]
[null,null,null,"",null,null,null,null,null," "," "]
[null,null,null,"",null,null,null,null,null," "," "]
[null,null,null,"",null,null,null,null,null," "," "]
[null,null,null,"",null,null,null,null,null," "," "]
[null,null,null,"",null,null,null,null,null," "," "]
[null,null,null,"",null,null,null,null,null," "," "]
[null,null,null,"",null,null,null,null,null," "," "]
[null,null,null,"",null,null,null,null,null," "," "]
[null,null,null,"",null,null,null,null,null," "," "]
[null,null,null,"",null,null,null,null,null," "," "]
[null,null,null,"",null,null,null,null,null," "," "]
[null,null,null,"",null,null,null,null,null," "," "]
[null,null,null,"",null,null,null,null,null," "," "]
[null,null,null,"",null,null,null,null,null," "," "]
[null,null,null,"",null,null,null,null,null," "," "]
[null,null,null,"",null,null,null,null,null," "," "]
[null,null,null,"",null,null,null,null,null," "," "]
[null,null,null,"",null,null,null,null,null," "," "]
[null,null,null,"",null,null,null,null,null," "," "]
[null,null,null,"",null,null,null,null,null," "," "]
[null,null,null,"",null,null,null,null,null," "," "]
[null,null,null,"",null,null,null,null,null," "," "]
[null,null,null,"",null,null,null,null,null," "," "]
[null,null,null,"",null,null,null,null,null,{"$f":"IF(OR(LEFT(E262,1)=\" \",RIGHT(E262,1)=\" \",),1,\" \")","v":" "},{"$f":"IF(OR(LEFT(G262,1)=\" \",RIGHT(G262,1)=\" \",),1,\" \")","v":" "}]
[null,null,null,"",null,null,null,null,null," "," "]
[null,null,null,"",null,null,null,null,null," "," "]
[null,null,null,{"$f":"COUNT(D220:D264)","v":2},null,{"$f":"COUNT(F220:F264)","v":2},null,2,null," "," "]
[null,null,null,null,null,null,null,null,null," "," "]
[null,null,null,null,null,null,null,null,null," "," "]
[null,null,null,null,null,null,null,null,null," "," "]
[null,null,null,null,null,null,null,null,null," "," "]
[null,null,null,null,null,null,null,null,null," "," "]
[null,null,null,null,null,null,null,null,null," "," "]
[null,null,null,null,null,null,null,null,null," "," "]
[null,null,null,null,null,null,null,null,null," "," "]
[null,null,null,null,null,null,null,null,null," "," "]
[null,null,null,null,null,null,null,null,null," "," "]
[null,null,null,null,null,null,null,null,null," "," "]
[null,null,null,null,null,null,null,null,null," "," "]
[null,null,null,null,null,null,null,null,null," "," "]
[null,null,null,null,null,null,null,null,null," "," "]
[null,null,null,null,null,null,null,null,null," "," "]
[null,null,null,null,null,null,null,null,null," "," "]
[null,null,null,null,null,null,null,null,null," "," "]
[null,null,null,null,null,null,null,null,null," "," "]
[null,null,null,null,null,null,null,null,null," "," "]
[null,null,null,null,null,null,null,null,null," "," "]
[null,null,null,null,null,null,null,null,null," "," "]
[null,null,null,null,null,null,null,null,null," "," "]
[null,null,null,null,null,null,null,null,null," "," "]
[null,null,null,null,null,null,null,null,null," "," "]
[null,null,null,null,null,null,null,null,null," "," "]
[null,null,null,null,null,null,null,null,null," "," "]
[null,null,null,null,null,null,null,null,null," "," "]
[null,null,null,null,null,null,null,null,null," "," "]
[null,null,null,null,null,null,null,null,null," "," "]
[null,null,null,null,null,null,null,null,null," "," "]
[null,null,null,null,null,null,null,null,null," "," "]
[null,null,null,null,null,null,null,null,null," "," "]
[null,null,null,null,null,null,null,null,null," "," "]
[null,null,null,null,null,null,null,null,null," "," "]
[null,null,null,null,null,null,null,null,null," "," "]
[null,null,null,null,null,null,null,null,null," "," "]
[null,null,null,null,null,null,null,null,null," "," "]
[null,null,null,null,null,null,null,null,null," "," "]
[null,null,null,null,null,null,null,null,null," "," "]
[null,null,null,null,null,null,null,null,null," "," "]
[null,null,null,null,null,null,null,null,null," "," "]
[null,null,null,null,null,null,null,null,null," "," "]
[null,null,null,null,null,null,null,null,null," "," "]
[null,null,null,null,null,null,null,null,null," "," "]
[null,null,null,null,null,null,null,null,null," "," "]
[null,null,null,null,null,null,null,null,null," "," "]
[null,null,null,null,null,null,null,null,null," "," "]
[null,null,null,null,null,null,null,null,null," "," "]
[null,null,null,null,null,null,null,null,null," "," "]
[null,null,null,null,null,null,null,null,null," "," "]
[null,null,null,null,null,null,null,null,null," "," "]

{"sheet":"Assessment","index":4,"n_rows":99,"n_cols":17,"rows_kept":99,"cut":false,"hidden":false,"merged":[[0,1,0,5],[98,3,98,4],[8,2,43,2],[48,3,48,4],[49,2,69,2],[73,3,73,4],[74,2,95,2]]}
[{"$f":"'Front Sheet'!S5","v":2},"start with she…. equipment comment …..use organised and ensure equipment is in there… do not wuse punctuation…… remember that the sentence will need to to flow with equipment at the end",null,null,null,null,null,null,null,{"$f":"C9","v":"Last assessment"},{"$f":"C50","v":"Average score"},{"$f":"C75","v":"In my opinion"},{"$f":"#REF!","v":{"$error":"#REF!"}}]
[null,null,null,null,null,null,null,null,null,1,2,3,4]
[null,null,null,null,null,null,null,null,null,{"$f":"G45","v":2},{"$f":"G71","v":2},{"$f":"G97","v":0},{"$f":"#REF!","v":{"$error":"#REF!"}}]
[]
[]
[]
[]
[null,null,null,null,null,"LEAVE A SPACE AT THE START",null,null,"LEAVE A SPACE AT THE START"]
[null,null,"Last assessment",1,"e","e",1,"e","e",1,null,null,{"$f":"IF(OR(LEFT(E9,1)=\" \",RIGHT(E9,1)=\" \",),1,\" \")","v":" "},{"$f":"IF(OR(LEFT(F9,1)=\" \",RIGHT(F9,1)=\" \",),1,\" \")","v":" "},null,{"$f":"IF(OR(LEFT(H9,1)=\" \",RIGHT(H9,1)=\" \",),1,\" \")","v":" "},{"$f":"IF(OR(LEFT(I9,1)=\" \",RIGHT(I9,1)=\" \",),1,\" \")","v":" "}]
[null,null,null,{"$f":"IF(E10=\"\",\"\",D9+1)","v":2},"e","e",1,"e","e",1,null,null,{"$f":"IF(OR(LEFT(E10,1)=\" \",RIGHT(E10,1)=\" \",),1,\" \")","v":" "},{"$f":"IF(OR(LEFT(F10,1)=\" \",RIGHT(F10,1)=\" \",),1,\" \")","v":" "},null,{"$f":"IF(OR(LEFT(H10,1)=\" \",RIGHT(H10,1)=\" \",),1,\" \")","v":" "},{"$f":"IF(OR(LEFT(I10,1)=\" \",RIGHT(I10,1)=\" \",),1,\" \")","v":" "}]
[null,null,null,{"$f":"IF(E11=\"\",\"\",D10+1)","v":""},null,null,null,null,null,null,null,null," "," ",null," "," "]
[null,null,null,"",null,null,null,null,null,null,null,null," "," ",null," "," "]
[null,null,null,"",null,null,null,null,null,null,null,null," "," ",null," "," "]
[null,null,null,"",null,null,null,null,null,null,null,null," "," ",null," "," "]
[null,null,null,"",null,null,null,null,null,null,null,null," "," ",null," "," "]
[null,null,null,"",null,null,null,null,null,null,null,null," "," ",null," "," "]
[null,null,null,"",null,null,null,null,null,null,null,null," "," ",null," "," "]
[null,null,null,"",null,null,null,null,null,null,null,null," "," ",null," "," "]
[null,null,null,"",null,null,null,null,null,null,null,null," "," ",null," "," "]
[null,null,null,"",null,null,null,null,null,null,null,null," "," ",null," "," "]
[null,null,null,"",null,null,null,null,null,null,null,null," "," ",null," "," "]
[null,null,null,"",null,null,null,null,null,null,null,null," "," ",null," "," "]
[null,null,null,"",null,null,null,null,null,null,null,null," "," ",null," "," "]
[null,null,null,"",null,null,null,null,null,null,null,null," "," ",null," "," "]
[null,null,null,"",null,null,null,null,null,null,null,null," "," ",null," "," "]
[null,null,null,"",null,null,null,null,null,null,null,null," "," ",null," "," "]
[null,null,null,"",null,null,null,null,null,null,null,null," "," ",null," "," "]
[null,null,null,"",null,null,null,null,null,null,null,null," "," ",null," "," "]
[null,null,null,"",null,null,null,null,null,null,null,null," "," ",null," "," "]
[null,null,null,"",null,null,null,null,null,null,null,null," "," ",null," "," "]
[null,null,null,"",null,null,null,null,null,null,null,null," "," ",null," "," "]
[null,null,null,"",null,null,null,null,null,null,null,null," "," ",null," "," "]
[null,null,null,null,null,null,null,null,null,null,null,null," "," ",null," "," "]
[null,null,null,null,null,null,null,null,null,null,null,null," "," ",null," "," "]
[null,null,null,null,null,null,null,null,null,null,null,null," "," ",null," "," "]
[null,null,null,null,null,null,null,null,null,null,null,null," "," ",null," "," "]
[null,null,null,null,null,null,null,null,null,null,null,null," "," ",null," "," "]
[null,null,null,null,null,null,null,null,null,null,null,null," "," ",null," "," "]
[null,null,null,null,null,null,null,null,null,null,null,null," "," ",null," "," "]
[null,null,null,null,null,null,null,null,null,null,null,null," "," ",null," "," "]
[null,null,null,{"$f":"IF(E41=\"\",\"\",D20+1)","v":""},null,null,null,null,null,null,null,null," "," ",null," "," "]
[null,null,null,"",null,null,null,null,null,null,null,null," "," ",null," "," "]
[null,null,null,"",null,null,null,null,null,null,null,null," "," ",null," "," "]
[null,null,null,"",null,null,null,null,null,null,null,null," "," ",null," "," "]
[null,null,null,{"$f":"COUNT(D9:D44)","v":2},null,null,{"$f":"COUNT(G9:G44)","v":2},{"$f":"COUNT(H9:H44)","v":0},null,{"$f":"COUNT(J9:J44)","v":2},null,null," "," ",null," "," "]
[null,null,null,null,null,null,null,null,null,null,null,null," "," ",null," "," "]
[null,null,null,null,null,null,null,null,null,null,null,null," "," ",null," "," "]
[null,null,null,null,null,null,null,null,null,null,null,null," "," ",null," "," "]
[null,null,null,null,null,null,null,null,null,null,null,null," "," ",null," "," "]
[null,null,"Average score",1,"e","e",1,"e","e",null,null,null," "," ",null," "," "]
[null,null,null,{"$f":"IF(E51=\"\",\"\",D50+1)","v":2},"e","e",1,"e","e",null,null,null," "," ",null," "," "]
[null,null,null,{"$f":"IF(E52=\"\",\"\",D51+1)","v":""},null,null,null,null,null,null,null,null," "," ",null," "," "]
[null,null,null,"",null,null,null,null,null,null,null,null," "," ",null," "," "]
[null,null,null,"",null,null,null,null,null,null,null,null," "," ",null," "," "]
[null,null,null,"",null,null,null,null,null,null,null,null," "," ",null," "," "]
[null,null,null,"",null,null,null,null,null,null,null,null," "," ",null," "," "]
[null,null,null,"",null,null,null,null,null,null,null,null," "," ",null," "," "]
[null,null,null,"",null,null,null,null,null,null,null,null," "," ",null," "," "]
[null,null,null,"",null,null,null,null,null,null,null,null," "," ",null," "," "]
[null,null,null,"",null,null,null,null,null,null,null,null," "," ",null," "," "]
[null,null,null,"",null,null,null,null,null,null,null,null," "," ",null," "," "]
[null,null,null,"",null,null,null,null,null,null,null,null," "," ",null," "," "]
[null,null,null,"",null,null,null,null,null,null,null,null," "," ",null," "," "]
[null,null,null,"",null,null,null,null,null,null,null,null," "," ",null," "," "]
[null,null,null,{"$f":"IF(E65=\"\",\"\",D59+1)","v":""},null,null,null,null,null,null,null,null," "," ",null," "," "]
[null,null,null,{"$f":"IF(E66=\"\",\"\",D65+1)","v":""},null,null,null,null,null,null,null,null," "," ",null," "," "]
[null,null,null,"",null,null,null,null,null,null,null,null," "," ",null," "," "]
[null,null,null,"",null,null,null,null,null,null,null,null," "," ",null," "," "]
[null,null,null,"",null,null,null,null,null,null,null,null," "," ",null," "," "]
[null,null,null,"",null,null,null,null,null,null,null,null," "," ",null," "," "]
[null,null,null,{"$f":"COUNT(D50:D70)","v":2},null,null,{"$f":"COUNT(G50:G70)","v":2},null,null,{"$f":"COUNT(J50:J70)","v":0},null,null," "," ",null," "," "]
[null,null,null,null,null,null,null,null,null,null,null,null," "," ",null," "," "]
[null,null,null,null,null,null,null,null,null,null,null,null," "," ",null," "," "]
[null,null,null,null,null,null,null,null,null,null,null,null,{"$f":"IF(OR(LEFT(E74,1)=\" \",RIGHT(E74,1)=\" \",),1,\" \")","v":" "},{"$f":"IF(OR(LEFT(F74,1)=\" \",RIGHT(F74,1)=\" \",),1,\" \")","v":" "},null,{"$f":"IF(OR(LEFT(H74,1)=\" \",RIGHT(H74,1)=\" \",),1,\" \")","v":" "},{"$f":"IF(OR(LEFT(I74,1)=\" \",RIGHT(I74,1)=\" \",),1,\" \")","v":" "}]
[null,null,"In my opinion",1,"In my opinion she works at",".",null,null,null,null,null,null," "," ",null," "," "]
[null,null,null,{"$f":"IF(E76=\"\",\"\",D75+1)","v":""},null,null,null,null,null,null,null,null," "," ",null," "," "]
[null,null,null,{"$f":"IF(E77=\"\",\"\",D76+1)","v":""},null,null,null,null,null,null,null,null," "," ",null," "," "]
[null,null,null,"",null,null,null,null,null,null,null,null," "," ",null," "," "]
[null,null,null,"",null,null,null,null,null,null,null,null," "," ",null," "," "]
[null,null,null,"",null,null,null,null,null,null,null,null," "," ",null," "," "]
[null,null,null,"",null,null,null,null,null,null,null,null," "," ",null," "," "]
[null,null,null,"",null,null,null,null,null,null,null,null," "," ",null," "," "]
[null,null,null,"",null,null,null,null,null,null,null,null," "," ",null," "," "]
[null,null,null,null,null,null,null,null,null,null,null,null," "," ",null," "," "]
[null,null,null,null,null,null,null,null,null,null,null,null," "," ",null," "," "]
[null,null,null,null,null,null,null,null,null,null,null,null," "," ",null," "," "]
[null,null,null,null,null,null,null,null,null,null,null,null," "," ",null," "," "]
[null,null,null,null,null,null,null,null,null,null,null,null," "," ",null," "," "]
[null,null,null,null,null,null,null,null,null,null,null,null," "," ",null," "," "]
[null,null,null,{"$f":"IF(E90=\"\",\"\",D83+1)","v":""},null,null,null,null,null,null,null,null," "," ",null," "," "]
[null,null,null,"",null,null,null,null,null,null,null,null," "," ",null," "," "]
[null,null,null,"",null,null,null,null,null,null,null,null," "," ",null," "," "]
[null,null,null,"",null,null,null,null,null,null,null,null," "," ",null," "," "]
[null,null,null,"",null,null,null,null,null,null,null,null," "," ",null," "," "]
[null,null,null,"",null,null,null,null,null,null,null,null," "," ",null," "," "]
[null,null,null,"",null,null,null,null,null,null,null,null," "," ",null," "," "]
[null,null,null,{"$f":"COUNT(D75:D96)","v":1},null,null,{"$f":"COUNT(G75:G96)","v":0},null,null,{"$f":"COUNT(J75:J96)","v":0},null,null," "," ",null," "," "]
[null,null,null,null,null,null,null,null,null,null,null,null," "," ",null," "," "]
[null,null,null,null,null,null,null,null,null,null,null,null," "," ",null," "," "]

{"sheet":"Progress and effort","index":5,"n_rows":421,"n_cols":17,"rows_kept":421,"cut":false,"hidden":false,"merged":[[183,0,229,0],[183,2,229,2],[371,0,415,0],[371,2,415,2],[233,0,277,0],[233,2,277,2],[280,0,317,0],[280,2,317,2],[321,0,367,0],[321,2,367,2],[0,2,0,5],[95,0,139,0],[95,2,139,2],[142,0,179,0],[142,2,179,2],[1,0,1,5],[4,0,41,0],[4,2,41,2],[45,0,91,0],[45,2,91,2]]}
[{"$f":"'Front Sheet'!S5","v":2},{"$f":"'Front Sheet'!S5","v":2},"Name ….. Avoid sentences that involve using the name of the person////leave a gap (space) at the start of the sentence. If the sentence starts with jack(s)….  The put \"'s \" in cell E and leave no space at the start of the sentence …..use words achieve, potential, progress, effort....avoid standard",null,null,null,null,"achieve, potential, progress, effort",null,null,null,null,null,"Always gives effort","occasionally gives effort ","never gives enough effort"]
["Progress/effort",null,null,null,null,null,null,null,null,null,null,null,null,1,2,3]
[null,null,null,null,null,"Remove THE WORD STANDARD!!!!!!!!!!",null,null,null,null,null,"Above Target",10,{"$f":"D43","v":2},{"$f":"D93","v":2},{"$f":"D141","v":2}]
[null,null,null,null,null,null,null,null,null,null,null,"On Target",20,{"$f":"D181","v":2},{"$f":"D231","v":2},{"$f":"D279","v":2}]
[1,null,"Above target … 100% effort ever lesson",1,null,"f",1,"f",1,{"$f":"IF(AND(E5=\"'s \",LEFT(F5,1)=\" \"),1,IF(OR(LEFT(F5,1)<>\" \",RIGHT(F5,1)=\" \",),1,\" \"))","v":1},{"$f":"IF(AND(E5=\"'s \",LEFT(H5,1)=\" \"),1,IF(OR(LEFT(H5,1)<>\" \",RIGHT(H5,1)=\" \",),1,\" \"))","v":1},"Below target",30,{"$f":"D319","v":2},{"$f":"D369","v":2},{"$f":"D417","v":2}]
[null,null,null,{"$f":"IF(F6=\"\",\"\",D5+1)","v":2},null,"f",1,"f",1,{"$f":"IF(AND(E6=\"'s \",LEFT(F6,1)=\" \"),1,IF(OR(LEFT(F6,1)<>\" \",RIGHT(F6,1)=\" \",),1,\" \"))","v":1},{"$f":"IF(AND(E6=\"'s \",LEFT(H6,1)=\" \"),1,IF(OR(LEFT(H6,1)<>\" \",RIGHT(H6,1)=\" \",),1,\" \"))","v":1}]
[null,null,null,{"$f":"IF(F7=\"\",\"\",D6+1)","v":""},{"$f":"\"'s \"","v":"'s "},null,null,null,null,1,1]
[null,null,null,"",{"$f":"\"'s \"","v":"'s "},null,null,null,null,1,1]
[null,null,null,"",null,null,null,null,null,1,1]
[null,null,null,"",null,null,null,null,null,1,1]
[null,null,null,"",{"$f":"\"'s \"","v":"'s "},null,null,null,null,1,1]
[null,null,null,"",null,null,null,null,null,1,1,1,"Mathematics",null,null,null,"History"]
[null,null,null,"",null,null,null,null,null,1,1]
[null,null,null,"",null,null,null,null,null,1,1]
[null,null,null,"",null,null,null,null,null,1,1]
[null,null,null,"",null,null,null,null,null,1,1,1,"Mathematics",null,null,null,"History"]
[null,null,null,"",null,null,null,null,null,1,1]
[null,null,null,"",null,null,null,null,null,1,1]
[null,null,null,"",null,null,null,null,null,1,1]
[null,null,null,{"$f":"IF(F20=\"\",\"\",D19+1)","v":""},null,null,null,null,null,1,1]
[null,null,null,"",null,null,null,null,null,1,1]
[null,null,null,"",null,null,null,null,null,1,1]
[null,null,null,"",null,null,null,null,null,1,1]
[null,null,null,"",null,null,null,null,null,1,1]
[null,null,null,"",null,null,null,null,null,1,1]
[null,null,null,"",null,null,null,null,null,1,1]
[null,null,null,"",null,null,null,null,null,1,1]
[null,null,null,"",null,null,null,null,null,1,1]
[null,null,null,"",null,null,null,null,null,1,1]
[null,null,null,"",null,null,null,null,null,1,1]
[null,null,null,"",null,null,null,null,null,1,1]
[null,null,null,"",null,null,null,null,null,1,1]
[null,null,null,"",null,null,null,null,null,1,1]
[null,null,null,"",null,null,null,null,null,1,1]
[null,null,null,"",null,null,null,null,null,1,1]
[null,null,null,"",null,null,null,null,null,1,1]
[null,null,null,"",null,null,null,null,null,1,1]
[null,null,null,"",null,null,null,null,null,1,1]
[null,null,null,"",null,null,null,null,null,1,1]
[null,null,null,"",null,null,null,null,null,1,1]
[null,null,null,"",null,null,null,null,null,1,1]
[null,null,null,"",null,null,null,null,null,1,1]
[null,null,null,{"$f":"COUNT(D5:D42)","v":2},null,null,null,null,null,1,1]
[null,null,null,null,null,null,null,null,null,1,1]
[null,null,null,null,null,null,null,null,null,1,1]
[2,null,"above target very little effort most lessons",{"$f":"D45+1","v":1},null,"f",1,"f",1,1,1]
[null,null,null,{"$f":"IF(F47=\"\",\"\",D46+1)","v":2},null,"f",1,"f",1,1,1]
[null,null,null,"",{"$f":"\"'s \"","v":"'s "},null,null,null,null,1,1]
[null,null,null,"",{"$f":"\"'s \"","v":"'s "},null,null,null,null,1,1]
[null,null,null,"",null,null,null,null,null,1,1]
[null,null,null,"",null,null,null,null,null,1,1]
[null,null,null,"",{"$f":"\"'s \"","v":"'s "},null,null,null,null,1,1]
[null,null,null,"",null,null,null,null,null,1,1,1,"Maths",null,null,null,"History"]
[null,null,null,"",null,null,null,null,null,1,1,1,"Mathematics",null,null,null,"History"]
[null,null,null,"",null,null,null,null,null,1,1]
[null,null,null,"",null,null,null,null,null,1,1]
[null,null,null,"",null,null,null,null,null,1,1,1,"Mathematics",null,null,null,"History"]
[null,null,null,"",null,null,null,null,null,1,1,1,"Maths",null,null,null,"History"]
[null,null,null,"",null,null,null,null,null,1,1]
[null,null,null,"",null,null,null,null,null,1,1]
[null,null,null,"",null,null,null,null,null,1,1]
[null,null,null,"",null,null,null,null,null,1,1]
[null,null,null,"",null,null,null,null,null,1,1]
[null,null,null,"",null,null,null,null,null,1,1]
[null,null,null,"",null,null,null,null,null,1,1]
[null,null,null,"",null,null,null,null,null,1,1]
[null,null,null,"",null,null,null,null,null,1,1]
[null,null,null,{"$f":"IF(F68=\"\",\"\",D67+1)","v":""},null,null,null,null,null,1,1]
[null,null,null,"",null,null,null,null,null,1,1]
[null,null,null,"",null,null,null,null,null,{"$f":"IF(AND(E70=\"'s \",LEFT(F70,1)=\" \"),1,IF(OR(LEFT(F70,1)<>\" \",RIGHT(F70,1)=\" \",),1,\" \"))","v":1},{"$f":"IF(AND(E70=\"'s \",LEFT(H70,1)=\" \"),1,IF(OR(LEFT(H70,1)<>\" \",RIGHT(H70,1)=\" \",),1,\" \"))","v":1}]
[null,null,null,"",null,null,null,null,null,1,1]
[null,null,null,"",null,null,null,null,null,1,1]
[null,null,null,"",null,null,null,null,null,1,1]
[null,null,null,"",null,null,null,null,null,1,1]
[null,null,null,"",null,null,null,null,null,1,1]
[null,null,null,"",null,null,null,null,null,1,1]
[null,null,null,"",null,null,null,null,null,1,1]
[null,null,null,"",null,null,null,null,null,1,1]
[null,null,null,"",null,null,null,null,null,1,1]
[null,null,null,"",null,null,null,null,null,1,1]
[null,null,null,"",null,null,null,null,null,1,1]
[null,null,null,"",null,null,null,null,null,1,1]
[null,null,null,"",null,null,null,null,null,1,1]
[null,null,null,"",null,null,null,null,null,1,1]
[null,null,null,"",null,null,null,null,null,1,1]
[null,null,null,"",null,null,null,null,null,1,1]
[null,null,null,"",null,null,null,null,null,1,1]
[null,null,null,"",null,null,null,null,null,1,1]
[null,null,null,"",null,null,null,null,null,1,1]
[null,null,null,"",null,null,null,null,null,1,1]
[null,null,null,"",null,null,null,null,null,1,1]
[null,null,null,"",null,null,null,null,null,1,1]
[null,null,null,{"$f":"COUNT(D46:D92)","v":2},null,null,null,null,null,1,1]
[null,null,null,null,null,null,null,null,null,1,1]
[null,null,null,null,null,null,null,null,null,1,1]
[3,null,"above target … no effort any time ",{"$f":"D95+1","v":1},null,"f",1,"f",1,1,1]
[null,null,null,{"$f":"IF(F97=\"\",\"\",D96+1)","v":2},null,"f",1,"f",1,1,1]
[null,null,null,"",{"$f":"\"'s \"","v":"'s "},null,null,null,null,1,1]
[null,null,null,"",null,null,null,null,null,1,1]
[null,null,null,"",null,null,null,null,null,1,1]
[null,null,null,"",null,null,null,null,null,1,1]
[null,null,null,"",{"$f":"\"'s \"","v":"'s "},null,null,null,null,1,1,1,"Maths",null,null,null,"History"]
[null,null,null,"",null,null,null,null,null,1,1,1,"Mathematics",null,null,null,"History"]
[null,null,null,"",null,null,null,null,null,1,1]
[null,null,null,"",null,null,null,null,null,1,1]
[null,null,null,"",null,null,null,null,null,1,1]
[null,null,null,"",null,null,null,null,null,1,1,1,"Mathematics",null,null,null,"History"]
[null,null,null,"",null,null,null,null,null,1,1,1,"Maths",null,null,null,"History"]
[null,null,null,"",null,null,null,null,null,1,1]
[null,null,null,"",null,null,null,null,null,1,1]
[null,null,null,"",{"$f":"\"'s \"","v":"'s "},null,null,null,null,1,1]
[null,null,null,"",null,null,null,null,null,1,1]
[null,null,null,"",null,null,null,null,null,1,1]
[null,null,null,"",null,null,null,null,null,1,1]
[null,null,null,"",null,null,null,null,null,1,1]
[null,null,null,"",null,null,null,null,null,1,1]
[null,null,null,"",null,null,null,null,null,1,1]
[null,null,null,"",null,null,null,null,null,1,1]
[null,null,null,"",null,null,null,null,null,1,1]
[null,null,null,"",null,null,null,null,null,1,1]
[null,null,null,"",null,null,null,null,null,1,1]
[null,null,null,"",null,null,null,null,null,1,1]
[null,null,null,"",null,null,null,null,null,1,1]
[null,null,null,"",null,null,null,null,null,1,1]
[null,null,null,"",null,null,null,null,null,1,1]
[null,null,null,"",null,null,null,null,null,1,1]
[null,null,null,"",null,null,null,null,null,1,1]
[null,null,null,"",null,null,null,null,null,1,1]
[null,null,null,"",null,null,null,null,null,1,1]
[null,null,null,"",null,null,null,null,null,1,1]
[null,null,null,"",null,null,null,null,null,1,1]
[null,null,null,"",null,null,null,null,null,1,1]
[null,null,null,"",null,null,null,null,null,1,1]
[null,null,null,"",null,null,null,null,null,{"$f":"IF(AND(E134=\"'s \",LEFT(F134,1)=\" \"),1,IF(OR(LEFT(F134,1)<>\" \",RIGHT(F134,1)=\" \",),1,\" \"))","v":1},{"$f":"IF(AND(E134=\"'s \",LEFT(H134,1)=\" \"),1,IF(OR(LEFT(H134,1)<>\" \",RIGHT(H134,1)=\" \",),1,\" \"))","v":1}]
[null,null,null,"",null,null,null,null,null,1,1]
[null,null,null,"",null,null,null,null,null,1,1]
[null,null,null,"",null,null,null,null,null,1,1]
[null,null,null,"",null,null,null,null,null,1,1]
[null,null,null,"",null,null,null,null,null,1,1]
[null,null,null,"",null,null,null,null,null,1,1]
[null,null,null,{"$f":"COUNT(D96:D140)","v":2},null,null,null,null,null,1,1]
[null,null,null,null,null,null,null,null,null,1,1]
[1,null,"On target … 100% effort ever lesson",{"$f":"D142+1","v":1},null,"f",1,"f",1,1,1]
[null,null,null,{"$f":"IF(F144=\"\",\"\",D143+1)","v":2},null,"f",1,"f",1,1,1]
[null,null,null,"",{"$f":"\"'s \"","v":"'s "},null,null,null,null,1,1]
[null,null,null,"",{"$f":"\"'s \"","v":"'s "},null,null,null,null,1,1]
[null,null,null,"",null,null,null,null,null,1,1]
[null,null,null,"",null,null,null,null,null,1,1]
[null,null,null,"",{"$f":"\"'s \"","v":"'s "},null,null,null,null,1,1]
[null,null,null,"",null,null,null,null,null,1,1,1,"Mathematics",null,null,null,"History"]
[null,null,null,"",null,null,null,null,null,1,1]
[null,null,null,"",null,null,null,null,null,1,1]
[null,null,null,"",null,null,null,null,null,1,1]
[null,null,null,"",null,null,null,null,null,1,1,1,"Mathematics",null,null,null,"History"]
[null,null,null,"",null,null,null,null,null,1,1]
[null,null,null,"",null,null,null,null,null,1,1]
[null,null,null,"",null,null,null,null,null,1,1]
[null,null,null,"",null,null,null,null,null,1,1]
[null,null,null,"",null,null,null,null,null,1,1]
[null,null,null,"",null,null,null,null,null,1,1]
[null,null,null,"",null,null,null,null,null,1,1]
[null,null,null,"",null,null,null,null,null,1,1]
[null,null,null,"",null,null,null,null,null,1,1]
[null,null,null,"",null,null,null,null,null,1,1]
[null,null,null,"",null,null,null,null,null,1,1]
[null,null,null,"",null,null,null,null,null,1,1]
[null,null,null,"",null,null,null,null,null,1,1]
[null,null,null,"",null,null,null,null,null,1,1]
[null,null,null,"",null,null,null,null,null,1,1]
[null,null,null,"",null,null,null,null,null,1,1]
[null,null,null,"",null,null,null,null,null,1,1]
[null,null,null,"",null,null,null,null,null,1,1]
[null,null,null,"",null,null,null,null,null,1,1]
[null,null,null,"",null,null,null,null,null,1,1]
[null,null,null,"",null,null,null,null,null,1,1]
[null,null,null,"",null,null,null,null,null,1,1]
[null,null,null,"",null,null,null,null,null,1,1]
[null,null,null,"",null,null,null,null,null,1,1]
[null,null,null,"",null,null,null,null,null,1,1]
[null,null,null,"",null,null,null,null,null,1,1]
[null,null,null,{"$f":"COUNT(D143:D180)","v":2},null,null,null,null,null,1,1]
[null,null,null,null,null,null,null,null,null,1,1]
[null,null,null,null,null,null,null,null,null,1,1]
[2,null,"on target very little effort most lessons",{"$f":"D183+1","v":1},null,"f",1,"f",1,1,1]
[null,null,null,{"$f":"IF(F185=\"\",\"\",D184+1)","v":2},null,"f",1,"f",1,1,1]
[null,null,null,"",{"$f":"\"'s \"","v":"'s "},null,null,null,null,1,1]
[null,null,null,"",{"$f":"\"'s \"","v":"'s "},null,null,null,null,1,1]
[null,null,null,"",null,null,null,null,null,1,1]
[null,null,null,"",null,null,null,null,null,1,1]
[null,null,null,"",{"$f":"\"'s \"","v":"'s "},null,null,null,null,1,1]
[null,null,null,"",null,null,null,null,null,1,1,1,"Mathematics",null,null,null,"History"]
[null,null,null,"",null,null,null,null,null,1,1]
[null,null,null,"",null,null,null,null,null,1,1]
[null,null,null,"",null,null,null,null,null,1,1]
[null,null,null,"",null,null,null,null,null,1,1,1,"Mathematics",null,null,null,"History"]
[null,null,null,"",null,null,null,null,null,1,1,1,"Maths",null,null,null,"History"]
[null,null,null,"",null,null,null,null,null,1,1]
[null,null,null,"",null,null,null,null,null,{"$f":"IF(AND(E198=\"'s \",LEFT(F198,1)=\" \"),1,IF(OR(LEFT(F198,1)<>\" \",RIGHT(F198,1)=\" \",),1,\" \"))","v":1},{"$f":"IF(AND(E198=\"'s \",LEFT(H198,1)=\" \"),1,IF(OR(LEFT(H198,1)<>\" \",RIGHT(H198,1)=\" \",),1,\" \"))","v":1}]
[null,null,null,"",null,null,null,null,null,1,1]
[null,null,null,"",null,null,null,null,null,1,1]
[null,null,null,"",null,null,null,null,null,1,1]
[null,null,null,"",null,null,null,null,null,1,1]
[null,null,null,"",null,null,null,null,null,1,1]
[null,null,null,"",null,null,null,null,null,1,1]
[null,null,null,"",null,null,null,null,null,1,1]
[null,null,null,"",null,null,null,null,null,1,1]
[null,null,null,"",null,null,null,null,null,1,1]
[null,null,null,"",null,null,null,null,null,1,1]
[null,null,null,"",null,null,null,null,null,1,1]
[null,null,null,"",null,null,null,null,null,1,1]
[null,null,null,"",null,null,null,null,null,1,1]
[null,null,null,"",null,null,null,null,null,1,1]
[null,null,null,"",null,null,null,null,null,1,1]
[null,null,null,"",null,null,null,null,null,1,1]
[null,null,null,"",null,null,null,null,null,1,1]
[null,null,null,"",null,null,null,null,null,1,1]
[null,null,null,"",null,null,null,null,null,1,1]
[null,null,null,"",null,null,null,null,null,1,1]
[null,null,null,"",null,null,null,null,null,1,1]
[null,null,null,"",null,null,null,null,null,1,1]
[null,null,null,"",null,null,null,null,null,1,1]
[null,null,null,"",null,null,null,null,null,1,1]
[null,null,null,"",null,null,null,null,null,1,1]
[null,null,null,"",null,null,null,null,null,1,1]
[null,null,null,"",null,null,null,null,null,1,1]
[null,null,null,"",null,null,null,null,null,1,1]
[null,null,null,"",null,null,null,null,null,1,1]
[null,null,null,"",null,null,null,null,null,1,1]
[null,null,null,"",null,null,null,null,null,1,1]
[null,null,null,"",null,null,null,null,null,1,1]
[null,null,null,{"$f":"COUNT(D184:D230)","v":2},null,null,null,null,null,1,1]
[null,null,null,null,null,null,null,null,null,1,1]
[null,null,null,null,null,null,null,null,null,1,1]
[3,null,"on target … no effort any time ",{"$f":"D233+1","v":1},null,"f",1,"f",1,1,1]
[null,null,null,{"$f":"IF(F235=\"\",\"\",D234+1)","v":2},null,"f",1,"f",1,1,1]
[null,null,null,"",{"$f":"\"'s \"","v":"'s "},null,null,null,null,1,1]
[null,null,null,{"$f":"IF(F237=\"\",\"\",D236+1)","v":""},null,null,null,null,null,1,1]
[null,null,null,"",null,null,null,null,null,1,1]
[null,null,null,"",null,null,null,null,null,1,1]
[null,null,null,"",{"$f":"\"'s \"","v":"'s "},null,null,null,null,1,1,1,"Maths",null,null,null,"History"]
[null,null,null,"",null,null,null,null,null,1,1,1,"Mathematics",null,null,null,"History"]
[null,null,null,"",null,null,null,null,null,1,1]
[null,null,null,"",null,null,null,null,null,1,1]
[null,null,null,"",null,null,null,null,null,1,1]
[null,null,null,"",null,null,null,null,null,1,1,1,"Mathematics",null,null,null,"History"]
[null,null,null,"",null,null,null,null,null,1,1,1,"Maths",null,null,null,"History"]
[null,null,null,"",null,null,null,null,null,1,1]
[null,null,null,"",{"$f":"\"'s \"","v":"'s "},null,null,null,null,1,1]
[null,null,null,"",null,null,null,null,null,1,1]
[null,null,null,"",null,null,null,null,null,1,1]
[null,null,null,"",null,null,null,null,null,1,1]
[null,null,null,"",null,null,null,null,null,1,1]
[null,null,null,"",null,null,null,null,null,1,1]
[null,null,null,"",null,null,null,null,null,1,1]
[null,null,null,"",null,null,null,null,null,1,1]
[null,null,null,"",null,null,null,null,null,1,1]
[null,null,null,"",null,null,null,null,null,1,1]
[null,null,null,"",null,null,null,null,null,1,1]
[null,null,null,"",null,null,null,null,null,1,1]
[null,null,null,"",null,null,null,null,null,1,1]
[null,null,null,"",null,null,null,null,null,1,1]
[null,null,null,"",null,null,null,null,null,{"$f":"IF(AND(E262=\"'s \",LEFT(F262,1)=\" \"),1,IF(OR(LEFT(F262,1)<>\" \",RIGHT(F262,1)=\" \",),1,\" \"))","v":1},{"$f":"IF(AND(E262=\"'s \",LEFT(H262,1)=\" \"),1,IF(OR(LEFT(H262,1)<>\" \",RIGHT(H262,1)=\" \",),1,\" \"))","v":1}]
[null,null,null,"",null,null,null,null,null,1,1]
[null,null,null,"",null,null,null,null,null,1,1]
[null,null,null,"",null,null,null,null,null,1,1]
[null,null,null,"",null,null,null,null,null,1,1]
[null,null,null,"",null,null,null,null,null,1,1]
[null,null,null,"",null,null,null,null,null,1,1]
[null,null,null,"",null,null,null,null,null,1,1]
[null,null,null,"",null,null,null,null,null,1,1]
[null,null,null,"",null,null,null,null,null,1,1]
[null,null,null,"",null,null,null,null,null,1,1]
[null,null,null,"",null,null,null,null,null,1,1]
[null,null,null,"",null,null,null,null,null,1,1]
[null,null,null,"",null,null,null,null,null,1,1]
[null,null,null,"",null,null,null,null,null,1,1]
[null,null,null,"",null,null,null,null,null,1,1]
[null,null,null,"",null,null,null,null,null,1,1]
[null,null,null,{"$f":"COUNT(D234:D278)","v":2},null,null,null,null,null,1,1]
[null,null,null,null,null,null,null,null,null,1,1]
[1,null,"below target … 100% effort ever lesson",{"$f":"D280+1","v":1},null,"f",1,"f",1,1,1]
[null,null,null,{"$f":"IF(F282=\"\",\"\",D281+1)","v":2},null,"f",1,"f",1,1,1]
[null,null,null,"",{"$f":"\"'s \"","v":"'s "},null,null,null,null,1,1]
[null,null,null,"",{"$f":"\"'s \"","v":"'s "},null,null,null,null,1,1]
[null,null,null,"",null,null,null,null,null,1,1]
[null,null,null,"",null,null,null,null,null,1,1]
[null,null,null,"",{"$f":"\"'s \"","v":"'s "},null,null,null,null,1,1]
[null,null,null,"",null,null,null,null,null,1,1,1,"Mathematics",null,null,null,"History"]
[null,null,null,"",null,null,null,null,null,1,1]
[null,null,null,"",null,null,null,null,null,1,1]
[null,null,null,"",null,null,null,null,null,1,1]
[null,null,null,"",null,null,null,null,null,1,1]
[null,null,null,"",null,null,null,null,null,1,1]
[null,null,null,"",null,null,null,null,null,1,1]
[null,null,null,"",null,null,null,null,null,1,1]
[null,null,null,"",null,null,null,null,null,1,1]
[null,null,null,"",null,null,null,null,null,1,1]
[null,null,null,"",null,null,null,null,null,1,1]
[null,null,null,"",null,null,null,null,null,1,1]
[null,null,null,"",null,null,null,null,null,1,1]
[null,null,null,"",null,null,null,null,null,1,1]
[null,null,null,"",null,null,null,null,null,1,1]
[null,null,null,"",null,null,null,null,null,1,1]
[null,null,null,"",null,null,null,null,null,1,1]
[null,null,null,"",null,null,null,null,null,1,1]
[null,null,null,"",null,null,null,null,null,1,1]
[null,null,null,"",null,null,null,null,null,1,1]
[null,null,null,"",null,null,null,null,null,1,1]
[null,null,null,"",null,null,null,null,null,1,1]
[null,null,null,"",null,null,null,null,null,1,1]
[null,null,null,"",null,null,null,null,null,1,1]
[null,null,null,"",null,null,null,null,null,1,1]
[null,null,null,"",null,null,null,null,null,1,1]
[null,null,null,"",null,null,null,null,null,1,1]
[null,null,null,"",null,null,null,null,null,1,1]
[null,null,null,"",null,null,null,null,null,1,1]
[null,null,null,"",null,null,null,null,null,1,1]
[null,null,null,"",null,null,null,null,null,1,1]
[null,null,null,{"$f":"COUNT(D281:D318)","v":2},null,null,null,null,null,1,1]
[null,null,null,null,null,null,null,null,null,1,1]
[null,null,null,null,null,null,null,null,null,1,1]
[2,null,"below target very little effort most lessons",{"$f":"D321+1","v":1},null,"f",1,"f",1,1,1]
[null,null,null,{"$f":"IF(F323=\"\",\"\",D322+1)","v":2},{"$f":"\"'s \"","v":"'s "},"f",1,"f",1,1,1]
[null,null,null,"",{"$f":"\"'s \"","v":"'s "},null,null,null,null,1,1]
[null,null,null,"",null,null,null,null,null,1,1]
[null,null,null,"",null,null,null,null,null,{"$f":"IF(AND(E326=\"'s \",LEFT(F326,1)=\" \"),1,IF(OR(LEFT(F326,1)<>\" \",RIGHT(F326,1)=\" \",),1,\" \"))","v":1},{"$f":"IF(AND(E326=\"'s \",LEFT(H326,1)=\" \"),1,IF(OR(LEFT(H326,1)<>\" \",RIGHT(H326,1)=\" \",),1,\" \"))","v":1}]
[null,null,null,"",{"$f":"\"'s \"","v":"'s "},null,null,null,null,1,1]
[null,null,null,"",null,null,null,null,null,1,1,1,"Mathematics",null,null,null,"History"]
[null,null,null,"",null,null,null,null,null,1,1]
[null,null,null,"",null,null,null,null,null,1,1]
[null,null,null,"",null,null,null,null,null,1,1,1,"Mathematics",null,null,null,"History"]
[null,null,null,"",null,null,null,null,null,1,1,1,"Maths",null,null,null,"History"]
[null,null,null,"",null,null,null,null,null,1,1]
[null,null,null,"",null,null,null,null,null,1,1]
[null,null,null,"",null,null,null,null,null,1,1]
[null,null,null,"",null,null,null,null,null,1,1]
[null,null,null,"",null,null,null,null,null,1,1]
[null,null,null,"",null,null,null,null,null,1,1]
[null,null,null,"",null,null,null,null,null,1,1]
[null,null,null,"",null,null,null,null,null,1,1]
[null,null,null,"",null,null,null,null,null,1,1]
[null,null,null,"",null,null,null,null,null,1,1]
[null,null,null,"",null,null,null,null,null,1,1]
[null,null,null,"",null,null,null,null,null,1,1]
[null,null,null,"",null,null,null,null,null,1,1]
[null,null,null,"",null,null,null,null,null,1,1]
[null,null,null,"",null,null,null,null,null,1,1]
[null,null,null,"",null,null,null,null,null,1,1]
[null,null,null,"",null,null,null,null,null,1,1]
[null,null,null,"",null,null,null,null,null,1,1]
[null,null,null,"",null,null,null,null,null,1,1]
[null,null,null,"",null,null,null,null,null,1,1]
[null,null,null,"",null,null,null,null,null,1,1]
[null,null,null,"",null,null,null,null,null,1,1]
[null,null,null,"",null,null,null,null,null,1,1]
[null,null,null,"",null,null,null,null,null,1,1]
[null,null,null,"",null,null,null,null,null,1,1]
[null,null,null,"",null,null,null,null,null,1,1]
[null,null,null,"",null,null,null,null,null,1,1]
[null,null,null,"",null,null,null,null,null,1,1]
[null,null,null,"",null,null,null,null,null,1,1]
[null,null,null,"",null,null,null,null,null,1,1]
[null,null,null,"",null,null,null,null,null,1,1]
[null,null,null,"",null,null,null,null,null,1,1]
[null,null,null,"",null,null,null,null,null,1,1]
[null,null,null,"",null,null,null,null,null,1,1]
[null,null,null,"",null,null,null,null,null,1,1]
[null,null,null,"",null,null,null,null,null,1,1]
[null,null,null,{"$f":"COUNT(D322:D368)","v":2},null,null,null,null,null,1,1]
[null,null,null,null,null,null,null,null,null,1,1]
[null,null,null,null,null,null,null,null,null,1,1]
[3,null,"below target … no effort any time ",{"$f":"D371+1","v":1},null,"f",1,"f",1,1,1,1,"Maths",null,null,null,"History"]
[null,null,null,{"$f":"IF(F373=\"\",\"\",D372+1)","v":2},{"$f":"\"'s \"","v":"'s "},"f",1,"f",1,1,1]
[null,null,null,{"$f":"IF(F374=\"\",\"\",D373+1)","v":""},null,null,null,null,null,1,1]
[null,null,null,"",null,null,null,null,null,1,1]
[null,null,null,"",null,null,null,null,null,1,1]
[null,null,null,"",{"$f":"\"'s \"","v":"'s "},null,null,null,null,1,1,1,"Maths",null,null,null,"History"]
[null,null,null,"",null,null,null,null,null,1,1]
[null,null,null,"",null,null,null,null,null,1,1,1,"Mathematics",null,null,null,"History"]
[null,null,null,"",null,null,null,null,null,1,1,1,"Maths",null,null,null,"History"]
[null,null,null,"",null,null,null,null,null,1,1]
[null,null,null,"",null,null,null,null,null,1,1]
[null,null,null,"",null,null,null,null,null,1,1]
[null,null,null,"",null,null,null,null,null,1,1]
[null,null,null,"",null,null,null,null,null,1,1]
[null,null,null,"",null,null,null,null,null,1,1]
[null,null,null,"",null,null,null,null,null,1,1]
[null,null,null,"",null,null,null,null,null,1,1]
[null,null,null,"",null,null,null,null,null,1,1]
[null,null,null,"",null,null,null,null,null,{"$f":"IF(AND(E390=\"'s \",LEFT(F390,1)=\" \"),1,IF(OR(LEFT(F390,1)<>\" \",RIGHT(F390,1)=\" \",),1,\" \"))","v":1},{"$f":"IF(AND(E390=\"'s \",LEFT(H390,1)=\" \"),1,IF(OR(LEFT(H390,1)<>\" \",RIGHT(H390,1)=\" \",),1,\" \"))","v":1}]
[null,null,null,"",null,null,null,null,null,1,1]
[null,null,null,"",null,null,null,null,null,1,1]
[null,null,null,"",null,null,null,null,null,1,1]
[null,null,null,"",null,null,null,null,null,1,1]
[null,null,null,"",null,null,null,null,null,1,1]
[null,null,null,"",null,null,null,null,null,1,1]
[null,null,null,"",null,null,null,null,null,1,1]
[null,null,null,"",null,null,null,null,null,1,1]
[null,null,null,"",null,null,null,null,null,1,1]
[null,null,null,"",null,null,null,null,null,1,1]
[null,null,null,"",null,null,null,null,null,1,1]
[null,null,null,"",null,null,null,null,null,1,1]
[null,null,null,"",null,null,null,null,null,1,1]
[null,null,null,"",null,null,null,null,null,1,1]
[null,null,null,"",null,null,null,null,null,1,1]
[null,null,null,"",null,null,null,null,null,1,1]
[null,null,null,"",null,null,null,null,null,1,1]
[null,null,null,"",null,null,null,null,null,1,1]
[null,null,null,"",null,null,null,null,null,1,1]
[null,null,null,"",null,null,null,null,null,1,1]
[null,null,null,"",null,null,null,null,null,1,1]
[null,null,null,"",null,null,null,null,null,1,1]
[null,null,null,"",null,null,null,null,null,1,1]
[null,null,null,"",null,null,null,null,null,1,1]
[null,null,null,"",null,null,null,null,null,1,1]
[null,null,null,"",null,null,null,null,null,1,1]
[null,null,null,{"$f":"COUNT(D372:D416)","v":2},null,null,null,null,null,1,1]
[null,null,null,null,null,null,null,null,null,1,1]
[null,null,null,null,null,null,null,null,null,1,1]
[null,null,null,null,null,null,null,null,null,1,1]
[null,null,null,null,null,null,null,null,null,1,1]

{"sheet":"Development","index":6,"n_rows":344,"n_cols":17,"rows_kept":344,"cut":false,"hidden":false,"merged":[[182,0,294,0],[182,2,294,2],[298,0,342,0],[298,2,342,2],[0,1,0,4],[1,0,1,4],[4,0,76,0],[4,2,76,2],[80,0,178,0],[80,2,178,2]]}
[{"$f":"'Front Sheet'!S5","v":2},"… then the topics will follow in a list …...Just the sentence no name or she at start"]
["Development",null,null,null,null,null,null,1,2,3]
[null,null,null,null,null,null,null,{"$f":"F296","v":2},{"$f":"F180","v":2},{"$f":"F78","v":2}]
[null,null,null,10,null,null,null,null,null,"Error Checking"]
[1,null,"Development sentence + 3 topics",1,"g",1,{"$f":"IF(LEFT(E5,1)=\" \",1,\"\")","v":""},{"$f":"IF(RIGHT(E5,1)=\" \",1,\"\")","v":""},null,{"$f":"IF(OR(LEFT(E5,1)=\" \",RIGHT(E5,1)=\" \",),1,\" \")","v":" "},null,1]
[null,null,null,{"$f":"IF(E6=\"\",\"\",D5+1)","v":2},"g",1,{"$f":"IF(LEFT(E6,1)=\" \",1,\"\")","v":""},{"$f":"IF(RIGHT(E6,1)=\" \",1,\"\")","v":""},null," "]
[null,null,null,"",null,null,"","",null," "]
[null,null,null,"",null,null,"","",null," "]
[null,null,null,"",null,null,"","",null," "]
[null,null,null,"",null,null,"","",null," "]
[null,null,null,"",null,null,"","",null," "]
[null,null,null,"",null,null,"","",null," "]
[null,null,null,"",null,null,"","",null," "]
[null,null,null,"",null,null,"","",null," "]
[null,null,null,"",null,null,"","",null," "]
[null,null,null,"",null,null,"","",null," ",null,1,"Maths",null,null,null,"History"]
[null,null,null,"",null,null,"","",null," "]
[null,null,null,"",null,null,"","",null," "]
[null,null,null,"",null,null,"","",null," "]
[null,null,null,"",null,null,"","",null," "]
[null,null,null,"",null,null,"","",null," "]
[null,null,null,"",null,null,"","",null," "]
[null,null,null,"",null,null,"","",null," "]
[null,null,null,"",null,null,"","",null," "]
[null,null,null,"",null,null,"","",null," "]
[null,null,null,"",null,null,"","",null," "]
[null,null,null,"",null,null,"","",null," "]
[null,null,null,"",null,null,"","",null," "]
[null,null,null,"",null,null,"","",null," "]
[null,null,null,"",null,null,"","",null," "]
[null,null,null,"",null,null,"","",null," "]
[null,null,null,"",null,null,"","",null," "]
[null,null,null,"",null,null,"","",null," "]
[null,null,null,"",null,null,"","",null," "]
[null,null,null,"",null,null,"","",null," "]
[null,null,null,"",null,null,"","",null," "]
[null,null,null,"",null,null,"","",null," "]
[null,null,null,"",null,null,"","",null," "]
[null,null,null,"",null,null,"","",null," "]
[null,null,null,"",null,null,"","",null," "]
[null,null,null,"",null,null,"","",null," "]
[null,null,null,"",null,null,"","",null," "]
[null,null,null,"",null,null,"","",null," "]
[null,null,null,"",null,null,"","",null," "]
[null,null,null,"",null,null,"","",null," "]
[null,null,null,"",null,null,"","",null," "]
[null,null,null,"",null,null,"","",null," "]
[null,null,null,"",null,null,"","",null," "]
[null,null,null,"",null,null,"","",null," "]
[null,null,null,"",null,null,"","",null," "]
[null,null,null,"",null,null,"","",null," "]
[null,null,null,"",null,null,"","",null," "]
[null,null,null,"",null,null,"","",null," "]
[null,null,null,"",null,null,"","",null," "]
[null,null,null,"",null,null,"","",null," "]
[null,null,null,"",null,null,"","",null," "]
[null,null,null,"",null,null,"","",null," "]
[null,null,null,"",null,null,"","",null," "]
[null,null,null,"",null,null,"","",null," "]
[null,null,null,"",null,null,"","",null," "]
[null,null,null,"",null,null,"","",null," "]
[null,null,null,"",null,null,"","",null," "]
[null,null,null,"",null,null,"","",null," "]
[null,null,null,"",null,null,"","",null," "]
[null,null,null,"",null,null,"","",null," "]
[null,null,null,"",null,null,"","",null," "]
[null,null,null,"",null,null,"","",null," "]
[null,null,null,"",null,null,"","",null," "]
[null,null,null,"",null,null,"","",null,{"$f":"IF(OR(LEFT(E69,1)=\" \",RIGHT(E69,1)=\" \",),1,\" \")","v":" "}]
[null,null,null,"",null,null,{"$f":"IF(LEFT(E70,1)=\" \",1,\"\")","v":""},{"$f":"IF(RIGHT(E70,1)=\" \",1,\"\")","v":""},null," "]
[null,null,null,"",null,null,"","",null," "]
[null,null,null,"",null,null,"","",null," "]
[null,null,null,"",null,null,"","",null," "]
[null,null,null,"",null,null,"","",null," "]
[null,null,null,"",null,null,"","",null," "]
[null,null,null,"",null,null,"","",null," "]
[null,null,null,"",null,null,"","",null," "]
[null,null,null,{"$f":"COUNT(D5:D77)","v":2},null,{"$f":"COUNT(F5:F77)","v":2},"","",null," "]
[null,null,null,null,null,null,"","",null," "]
[null,null,null,null,null,null,"","",null," "]
[2,null,"Development sentence + 2 topics",1,"g",1,"","",null,{"$f":"IF(OR(LEFT(E81,1)=\" \",RIGHT(E81,1)=\" \",),1,\" \")","v":" "}]
[null,null,null,{"$f":"IF(E82=\"\",\"\",D81+1)","v":2},"g",1,"","",null,{"$f":"IF(OR(LEFT(E82,1)=\" \",RIGHT(E82,1)=\" \",),1,\" \")","v":" "}]
[null,null,null,"",null,null,"","",null," "]
[null,null,null,"",null,null,"","",null," "]
[null,null,null,"",null,null,"","",null," "]
[null,null,null,"",null,null,"","",null," "]
[null,null,null,"",null,null,"","",null," "]
[null,null,null,"",null,null,"","",null," "]
[null,null,null,"",null,null,"","",null," "]
[null,null,null,"",null,null,"","",null," "]
[null,null,null,"",null,null,"","",null," "]
[null,null,null,"",null,null,"","",null," ",null,1,"Maths",null,null,null,"History"]
[null,null,null,"",null,null,"","",null," "]
[null,null,null,"",null,null,"","",null," "]
[null,null,null,"",null,null,"","",null," "]
[null,null,null,"",null,null,"","",null," "]
[null,null,null,"",null,null,"","",null," "]
[null,null,null,"",null,null,"","",null," "]
[null,null,null,"",null,null,"","",null," "]
[null,null,null,"",null,null,"","",null," "]
[null,null,null,"",null,null,"","",null," "]
[null,null,null,"",null,null,"","",null," "]
[null,null,null,"",null,null,"","",null," "]
[null,null,null,"",null,null,"","",null," "]
[null,null,null,"",null,null,"","",null," "]
[null,null,null,"",null,null,"","",null," "]
[null,null,null,"",null,null,"","",null," "]
[null,null,null,"",null,null,"","",null," "]
[null,null,null,"",null,null,"","",null," "]
[null,null,null,"",null,null,"","",null," "]
[null,null,null,"",null,null,"","",null," "]
[null,null,null,"",null,null,"","",null," "]
[null,null,null,"",null,null,"","",null," "]
[null,null,null,"",null,null,"","",null," "]
[null,null,null,"",null,null,"","",null," "]
[null,null,null,"",null,null,"","",null," "]
[null,null,null,"",null,null,"","",null," "]
[null,null,null,"",null,null,"","",null," "]
[null,null,null,"",null,null,"","",null," "]
[null,null,null,"",null,null,"","",null," "]
[null,null,null,"",null,null,"","",null," "]
[null,null,null,"",null,null,"","",null," "]
[null,null,null,"",null,null,"","",null," "]
[null,null,null,"",null,null,"","",null," "]
[null,null,null,"",null,null,"","",null," "]
[null,null,null,"",null,null,"","",null," "]
[null,null,null,"",null,null,"","",null," "]
[null,null,null,"",null,null,"","",null," "]
[null,null,null,"",null,null,"","",null," "]
[null,null,null,"",null,null,"","",null," "]
[null,null,null,"",null,null,"","",null," "]
[null,null,null,"",null,null,"","",null," "]
[null,null,null,"",null,null,"","",null," "]
[null,null,null,"",null,null,{"$f":"IF(LEFT(E134,1)=\" \",1,\"\")","v":""},{"$f":"IF(RIGHT(E134,1)=\" \",1,\"\")","v":""},null," "]
[null,null,null,"",null,null,"","",null," "]
[null,null,null,"",null,null,"","",null," "]
[null,null,null,"",null,null,"","",null," "]
[null,null,null,"",null,null,"","",null," "]
[null,null,null,"",null,null,"","",null," "]
[null,null,null,"",null,null,"","",null," "]
[null,null,null,"",null,null,"","",null," "]
[null,null,null,"",null,null,"","",null," "]
[null,null,null,"",null,null,"","",null," "]
[null,null,null,"",null,null,"","",null," "]
[null,null,null,"",null,null,"","",null," "]
[null,null,null,"",null,null,"","",null,{"$f":"IF(OR(LEFT(E146,1)=\" \",RIGHT(E146,1)=\" \",),1,\" \")","v":" "}]
[null,null,null,"",null,null,"","",null," "]
[null,null,null,"",null,null,"","",null," "]
[null,null,null,"",null,null,"","",null," "]
[null,null,null,"",null,null,"","",null," "]
[null,null,null,"",null,null,"","",null," "]
[null,null,null,"",null,null,"","",null," "]
[null,null,null,"",null,null,"","",null," "]
[null,null,null,"",null,null,"","",null," "]
[null,null,null,"",null,null,"","",null," "]
[null,null,null,null,null,null,"","",null," "]
[null,null,null,null,null,null,"","",null," "]
[null,null,null,null,null,null,"","",null," "]
[null,null,null,null,null,null,"","",null," "]
[null,null,null,null,null,null,"","",null," "]
[null,null,null,null,null,null,"","",null," "]
[null,null,null,null,null,null,"","",null," "]
[null,null,null,null,null,null,"","",null," "]
[null,null,null,null,null,null,"","",null," "]
[null,null,null,null,null,null,"","",null," "]
[null,null,null,{"$f":"IF(E166=\"\",\"\",D155+1)","v":""},null,null,"","",null," "]
[null,null,null,"",null,null,"","",null," "]
[null,null,null,"",null,null,"","",null," "]
[null,null,null,"",null,null,"","",null," "]
[null,null,null,"",null,null,"","",null," "]
[null,null,null,"",null,null,"","",null," "]
[null,null,null,"",null,null,"","",null," "]
[null,null,null,"",null,null,"","",null," "]
[null,null,null,"",null,null,"","",null," "]
[null,null,null,"",null,null,"","",null," "]
[null,null,null,"",null,null,"","",null," "]
[null,null,null,"",null,null,"","",null," "]
[null,null,null,"",null,null,"","",null," "]
[null,null,null,"",null,null,"","",null," "]
[null,null,null,{"$f":"COUNT(D81:D179)","v":2},null,{"$f":"COUNT(F81:F179)","v":2},"","",null," "]
[null,null,null,null,null,null,"","",null," "]
[null,null,null,null,null,null,"","",null," "]
[3,null,"Development sentence + 1 topic",1,"g",1,"","",null," "]
[null,null,null,{"$f":"IF(E184=\"\",\"\",D183+1)","v":2},"g",1,"","",null," "]
[null,null,null,"",null,null,"","",null," "]
[null,null,null,"",null,null,"","",null," ",null,1,"Maths",null,null,null,"History"]
[null,null,null,"",null,null,"","",null," "]
[null,null,null,"",null,null,"","",null," "]
[null,null,null,"",null,null,"","",null," "]
[null,null,null,"",null,null,"","",null," "]
[null,null,null,"",null,null,"","",null," "]
[null,null,null,"",null,null,"","",null," "]
[null,null,null,"",null,null,"","",null," "]
[null,null,null,"",null,null,"","",null," "]
[null,null,null,"",null,null,"","",null," "]
[null,null,null,"",null,null,"","",null," "]
[null,null,null,"",null,null,"","",null," "]
[null,null,null,"",null,null,{"$f":"IF(LEFT(E198,1)=\" \",1,\"\")","v":""},{"$f":"IF(RIGHT(E198,1)=\" \",1,\"\")","v":""},null," "]
[null,null,null,"",null,null,"","",null," "]
[null,null,null,"",null,null,"","",null," "]
[null,null,null,"",null,null,"","",null," "]
[null,null,null,"",null,null,"","",null," "]
[null,null,null,"",null,null,"","",null," "]
[null,null,null,"",null,null,"","",null," "]
[null,null,null,"",null,null,"","",null," "]
[null,null,null,"",null,null,"","",null," "]
[null,null,null,"",null,null,"","",null," "]
[null,null,null,"",null,null,"","",null," "]
[null,null,null,"",null,null,"","",null," "]
[null,null,null,"",null,null,"","",null,{"$f":"IF(OR(LEFT(E210,1)=\" \",RIGHT(E210,1)=\" \",),1,\" \")","v":" "}]
[null,null,null,"",null,null,"","",null," "]
[null,null,null,"",null,null,"",{"$f":"IF(RIGHT(E212,1)=\" \",1,\"\")","v":""},null," "]
[null,null,null,"",null,null,"","",null," "]
[null,null,null,"",null,null,"","",null," "]
[null,null,null,"",null,null,"","",null," "]
[null,null,null,"",null,null,"","",null," "]
[null,null,null,"",null,null,"","",null," "]
[null,null,null,"",null,null,"","",null," "]
[null,null,null,"",null,null,"","",null," "]
[null,null,null,"",null,null,"","",null," "]
[null,null,null,"",null,null,"","",null," "]
[null,null,null,"",null,null,"","",null," "]
[null,null,null,"",null,null,"","",null," "]
[null,null,null,"",null,null,"","",null," "]
[null,null,null,"",null,null,"","",null," "]
[null,null,null,"",null,null,"","",null," "]
[null,null,null,"",null,null,"","",null," "]
[null,null,null,"",null,null,"","",null," "]
[null,null,null,"",null,null,"","",null," "]
[null,null,null,"",null,null,"","",null," "]
[null,null,null,"",null,null,"","",null," "]
[null,null,null,"",null,null,"","",null," "]
[null,null,null,"",null,null,"","",null," "]
[null,null,null,"",null,null,"","",null," "]
[null,null,null,"",null,null,"","",null," "]
[null,null,null,"",null,null,"","",null," "]
[null,null,null,"",null,null,"","",null," "]
[null,null,null,"",null,null,"","",null," "]
[null,null,null,"",null,null,"","",null," "]
[null,null,null,"",null,null,"","",null," "]
[null,null,null,"",null,null,"","",null," "]
[null,null,null,"",null,null,"","",null," "]
[null,null,null,"",null,null,"","",null," "]
[null,null,null,"",null,null,"","",null," "]
[null,null,null,null,null,null,"","",null," "]
[null,null,null,null,null,null,"","",null," "]
[null,null,null,null,null,null,"","",null," "]
[null,null,null,null,null,null,"","",null," "]
[null,null,null,null,null,null,"","",null," "]
[null,null,null,null,null,null,"","",null," "]
[null,null,null,null,null,null,"","",null," "]
[null,null,null,null,null,null,"","",null," "]
[null,null,null,null,null,null,"","",null," "]
[null,null,null,null,null,null,"","",null," "]
[null,null,null,null,null,null,"","",null," "]
[null,null,null,null,null,null,"","",null," "]
[null,null,null,null,null,null,"","",null," "]
[null,null,null,null,null,null,"","",null," "]
[null,null,null,{"$f":"IF(E259=\"\",\"\",D190+1)","v":""},null,null,"","",null," "]
[null,null,null,"",null,null,"","",null," "]
[null,null,null,"",null,null,"","",null," "]
[null,null,null,"",null,null,{"$f":"IF(LEFT(E262,1)=\" \",1,\"\")","v":""},{"$f":"IF(RIGHT(E262,1)=\" \",1,\"\")","v":""},null," "]
[null,null,null,"",null,null,"","",null," "]
[null,null,null,"",null,null,"","",null," "]
[null,null,null,"",null,null,"","",null," "]
[null,null,null,"",null,null,"","",null," "]
[null,null,null,"",null,null,"","",null," "]
[null,null,null,"",null,null,"","",null," "]
[null,null,null,"",null,null,"","",null," "]
[null,null,null,"",null,null,"","",null," "]
[null,null,null,"",null,null,"","",null," "]
[null,null,null,"",null,null,"","",null," "]
[null,null,null,"",null,null,"","",null," "]
[null,null,null,"",null,null,"","",null,{"$f":"IF(OR(LEFT(E274,1)=\" \",RIGHT(E274,1)=\" \",),1,\" \")","v":" "}]
[null,null,null,"",null,null,"","",null," "]
[null,null,null,"",null,null,"","",null," "]
[null,null,null,"",null,null,"","",null," "]
[null,null,null,"",null,null,"","",null," "]
[null,null,null,"",null,null,"","",null," "]
[null,null,null,"",null,null,"","",null," "]
[null,null,null,"",null,null,"","",null," "]
[null,null,null,"",null,null,"","",null," "]
[null,null,null,"",null,null,"","",null," "]
[null,null,null,"",null,null,"","",null," "]
[null,null,null,"",null,null,"","",null," "]
[null,null,null,"",null,null,"","",null," "]
[null,null,null,"",null,null,"","",null," "]
[null,null,null,"",null,null,"","",null," "]
[null,null,null,"",null,null,"","",null," "]
[null,null,null,"",null,null,"","",null," "]
[null,null,null,"",null,null,"","",null," "]
[null,null,null,"",null,null,"","",null," "]
[null,null,null,"",null,null,"","",null," "]
[null,null,null,"",null,null,"","",null," "]
[null,null,null,"",null,null,"","",null," "]
[null,null,null,{"$f":"COUNT(D183:D295)","v":2},null,{"$f":"COUNT(F183:F295)","v":2},null,"",null," "]
[null,null,null,null,null,null,"","",null," "]
[null,null,null,10000,null,null,"","",null," "]
[4,null,null,{"$f":"D298+1","v":10001},null,null,"","",null," "]
[null,null,null,{"$f":"IF(E300=\"\",\"\",D299+1)","v":""},null,null,"","",null," "]
[null,null,null,"",null,null,"","",null," "]
[null,null,null,"",null,null,"","",null," "]
[null,null,null,"",null,null,"","",null," "]
[null,null,null,"",null,null,"","",null," "]
[null,null,null,"",null,null,"","",null," "]
[null,null,null,"",null,null,"","",null," "]
[null,null,null,"",null,null,"","",null," "]
[null,null,null,"",null,null,"","",null," "]
[null,null,null,"",null,null,"","",null," "]
[null,null,null,"",null,null,"","",null," "]
[null,null,null,"",null,null,"","",null," "]
[null,null,null,"",null,null,"","",null," "]
[null,null,null,"",null,null,"","",null," "]
[null,null,null,"",null,null,"","",null," "]
[null,null,null,"",null,null,"","",null," "]
[null,null,null,"",null,null,"","",null," "]
[null,null,null,"",null,null,"","",null," "]
[null,null,null,"",null,null,"","",null," "]
[null,null,null,"",null,null,"","",null," "]
[null,null,null,"",null,null,"","",null," "]
[null,null,null,"",null,null,"","",null," "]
[null,null,null,"",null,null,"","",null," "]
[null,null,null,"",null,null,"","",null," "]
[null,null,null,"",null,null,"","",null," "]
[null,null,null,"",null,null,"",null,null," "]
[null,null,null,"",null,null,{"$f":"IF(LEFT(E326,1)=\" \",1,\"\")","v":""},null,null," "]
[null,null,null,"",null,null,"",null,null," "]
[null,null,null,"",null,null,"",null,null," "]
[null,null,null,"",null,null,"",null,null," "]
[null,null,null,"",null,null,"",null,null," "]
[null,null,null,"",null,null,"",null,null," "]
[null,null,null,"",null,null,"",null,null," "]
[null,null,null,"",null,null,"",null,null," "]
[null,null,null,"",null,null,"",null,null," "]
[null,null,null,"",null,null,"",null,null," "]
[null,null,null,"",null,null,"",null,null," "]
[null,null,null,"",null,null,"",null,null," "]
[null,null,null,"",null,null,"",null,null,{"$f":"IF(OR(LEFT(E338,1)=\" \",RIGHT(E338,1)=\" \",),1,\" \")","v":" "}]
[null,null,null,"",null,null,"",null,null," "]
[null,null,null,"",null,null,"",null,null," "]
[null,null,null,"",null,null,"",null,null," "]
[null,null,null,"",null,null,"",null,null," "]
[null,null,null,"",null,null,null,null,null," "]
[null,null,null,{"$f":"COUNT(D299:D343)","v":1}]

{"sheet":"Front Sheet","index":7,"n_rows":49,"n_cols":94,"rows_kept":49,"cut":false,"hidden":false,"merged":[[8,44,9,80],[8,93,10,93],[48,8,48,86],[9,37,10,37],[9,34,10,34],[9,86,10,86],[9,89,10,89]]}
[]
[]
[]
[]
[null,null,null,null,null,null,null,null,null,"Subject",null,null,null,null,null,null,null,"Maths",{"$f":"VLOOKUP(R5,Code!Q1:R2,2,FALSE)","v":2}]
[null,null,null,null,null,null,null,null,null,"Grade Table",null,null,null,null,null,null,null,"Type_2",{"$f":"VLOOKUP(R6,Code!$B$35:$C$38,2,FALSE)","v":"Type_22"}]
[]
[]
[null,null,null,null,null,null,null,null,null,null,null,null,null,null,null,null,null,null,null,null,null,null,null,null,null,null,null,null,null,null,null,null,null,null,null,null,null,null,null,null,1,"Test score contains a % sign",null,null,null,null,null,null,null,null,null,null,null,null,null,null,null,null,null,null,null,null,null,null,null,null,null,null,null,null,null,null,null,null,null,null,null,null,null,null,null,null,null,null,null,null,null,null,null,null,null,null,null,"Start with the lowest grade"]
[null,null,null,null,null,null,null,null,null,null,null,null,null,null,null,null,null,null,null,null,null,null,null,null,null,null,null,null,null,null,null,null,null,null,"Target Grade",null,null,"End of year grade",null,null,2,"Test score does not contain a % sign",null,null,null,null,null,null,null,null,null,null,null,null,null,null,null,null,null,null,null,null,null,null,null,null,null,null,null,null,null,null,null,null,null,null,null,null,null,null,null,null,null,null,null,null,"Average for Report",null,null,"which sentence"]
[null,null,null,null,null,null,null,null,null,"Surname, First name",null,"Surname, First name","Surname Paste for separate","First name Paste for separate","First name without space at the start",null,null,"First name, Surname",null,"First name, Surname","First name Paste for separate","Surname Paste for separate","First name without space at the start",null,"First Name","Surname",null,"First Name","Surname",null,"First Name","Surname",null,null,null,"Target Grade",null,null,"Target Grade",null,3,"Grade",null,null,"Test",null,null,null,"Test 2",null,null,null,"Test 3",null,null,null,"Test 4",null,null,null,"Test 5",null,null,null,"Test 6",null,null,null,"Test 7",null,null,null,"Test 8",null,null,null,"Test 9",null,null,null,"Test 10",null,null,null,"Average","Average",null,null,null,null,"Sentence Average for Report"]
[null,null,null,null,null,null,null,null,null,null,",",{"$f":"IF(J12=\"\",K12,J12)","v":","},"  ",null,{"$f":"TRIM(N12)","v":""},null,null,null,",",{"$f":"IF(R12=\"\",S12,R12)","v":","},null,null,{"$f":"TRIM(V12)","v":""},"",{"$f":"IF(AND((U12)=\"\",O12=\"\"),\"\",IF(AND(LEN(O12)>0,LEN(U12)>0),\"Error\",IF(LEN(O12)>1,O12,U12)))","v":""},{"$f":"IF(AND((V12)=\"\",M12=\"\"),\"\",IF(AND(LEN(M12)>0,LEN(V12)>0),\"Error\",IF(LEN(M12)>1,M12,V12)))","v":"  "},null,null,null,null,{"$f":"IF(AND(LEN(Y12)>0,LEN(AB12)>0),\"Error\",IF(AB12=\"\",Y12,AB12))","v":""},{"$f":"IF(AND(LEN(Z12)>0,LEN(AC12)>0),\"Error\",IF(AC12=\"\",Z12,AC12))","v":"  "},null,null,null,{"$f":"IF(AI12=\"\",\"\",AI12)","v":""},null,null,{"$f":"IF(AL12=\"\",\"\",AL12)","v":""},null,null,null,null,null,null,{"$f":"IF(AS12=\"\",0,VLOOKUP(TEXT(AS12,\"#\"),INDIRECT($R$6),2,FALSE))","v":0},{"$f":"IF(AS12=\"\",0,1)","v":0},null,null,{"$f":"IF(AW12=\"\",0,VLOOKUP(TEXT(AW12,\"#\"),INDIRECT($R$6),2,FALSE))","v":0},{"$f":"IF(AW12>0,1,0)","v":0},null,null,{"$f":"IF(BA12=\"\",0,VLOOKUP(TEXT(BA12,\"#\"),INDIRECT($R$6),2,FALSE))","v":0},{"$f":"IF(BA12>0,1,0)","v":0},null,null,{"$f":"IF(BE12=\"\",0,VLOOKUP(TEXT(BE12,\"#\"),INDIRECT($R$6),2,FALSE))","v":0},{"$f":"IF(BE12=\"\",0,1)","v":0},null,null,{"$f":"IF(BI12=\"\",0,VLOOKUP(TEXT(BI12,\"#\"),INDIRECT($R$6),2,FALSE))","v":0},{"$f":"IF(BI12=\"\",0,1)","v":0},null,null,{"$f":"IF(BM12=\"\",0,VLOOKUP(TEXT(BM12,\"#\"),INDIRECT($R$6),2,FALSE))","v":0},{"$f":"IF(BM12=\"\",0,1)","v":0},null,null,{"$f":"IF(BQ12=\"\",0,VLOOKUP(TEXT(BQ12,\"#\"),INDIRECT($R$6),2,FALSE))","v":0},{"$f":"IF(BQ12=\"\",0,1)","v":0},null,null,{"$f":"IF(BU12=\"\",0,VLOOKUP(TEXT(BU12,\"#\"),INDIRECT($R$6),2,FALSE))","v":0},{"$f":"IF(BU12=\"\",0,1)","v":0},null,null,{"$f":"IF(BY12=\"\",0,VLOOKUP(TEXT(BY12,\"#\"),INDIRECT($R$6),2,FALSE))","v":0},{"$f":"IF(BY12=\"\",0,1)","v":0},null,null,{"$f":"IF(CC12=\"\",0,VLOOKUP(TEXT(CC12,\"#\"),INDIRECT($R$6),2,FALSE))","v":0},{"$f":"IF(CC12=\"\",0,1)","v":0},null,{"$f":"IF(AP12=1,((AS12+AW12+BA12+BE12+BI12+BM12+BQ12+BU12+BY12+CC12)/(AU12+AY12+BC12+BG12+BK12+BO12+BS12+BW12+CA12+CE12))*100,IF(AP12=2,(AS12+AW12+BA12+BE12+BI12+BM12+BQ12+BU12+BY12+CC12)/(AU12+AY12+BC12+BG12+BK12+BO12+BS12+BW12+CA12+CE12),IF(AP12=3,(AT12+AX12+BB12+BF12+BJ12+BN12+BR12+BV12+BZ12+CD12)/(AU12+AY12+BC12+BG12+BK12+BO12+BS12+BW12+CA12+CE12),\"\")))","v":""},{"$f":"IF(OR(AP12=1,AP12=2),ROUND(CG12,2)&\"%\",(VLOOKUP(INT(CG12),INDIRECT(VLOOKUP($R$6,Code!$B$35:$C$38,2,FALSE)),2,FALSE)))","v":{"$error":"#VALUE!"}},"Average for Report",null,null,{"$f":"IF((AU12+AY12+BC12+BG12+BK12+BO12+BS12+BW12+CA12+CE12)=1,1,0)","v":0},{"$f":"IF(CI12=\"\",0,CL12)","v":0}]
[null,null,null,null,null,null,null,null,1,null,",",{"$f":"IF(J13=\"\",K13,J13)","v":","},"  ",null,{"$f":"TRIM(N13)","v":""},null,null,null,",",{"$f":"IF(R13=\"\",S13,R13)","v":","},null,null,{"$f":"TRIM(V13)","v":""},null,{"$f":"IF(AND((U13)=\"\",O13=\"\"),\"\",IF(AND(LEN(O13)>0,LEN(U13)>0),\"Error\",IF(LEN(O13)>1,O13,U13)))","v":""},{"$f":"IF(AND((V13)=\"\",M13=\"\"),\"\",IF(AND(LEN(M13)>0,LEN(V13)>0),\"Error\",IF(LEN(M13)>1,M13,V13)))","v":"  "},null,null,null,null,{"$f":"IF(AND(LEN(Y13)>0,LEN(AB13)>0),\"Error\",IF(AB13=\"\",Y13,AB13))","v":""},{"$f":"IF(AND(LEN(Z13)>0,LEN(AC13)>0),\"Error\",IF(AC13=\"\",Z13,AC13))","v":"  "},null,null,null,{"$f":"IF(AI13=\"\",\"\",AI13)","v":""},null,null,{"$f":"IF(AL13=\"\",\"\",AL13)","v":""},null,null,null,null,null,null,{"$f":"IF(AS13=\"\",0,VLOOKUP(TEXT(AS13,\"#\"),INDIRECT($R$6),2,FALSE))","v":0},{"$f":"IF(AS13=\"\",0,1)","v":0},null,null,{"$f":"IF(AW13=\"\",0,VLOOKUP(TEXT(AW13,\"#\"),INDIRECT($R$6),2,FALSE))","v":0},{"$f":"IF(AW13>0,1,0)","v":0},null,null,{"$f":"IF(BA13=\"\",0,VLOOKUP(TEXT(BA13,\"#\"),INDIRECT($R$6),2,FALSE))","v":0},{"$f":"IF(BA13>0,1,0)","v":0},null,null,{"$f":"IF(BE13=\"\",0,VLOOKUP(TEXT(BE13,\"#\"),INDIRECT($R$6),2,FALSE))","v":0},{"$f":"IF(BE13=\"\",0,1)","v":0},null,null,{"$f":"IF(BI13=\"\",0,VLOOKUP(TEXT(BI13,\"#\"),INDIRECT($R$6),2,FALSE))","v":0},{"$f":"IF(BI13=\"\",0,1)","v":0},null,null,{"$f":"IF(BM13=\"\",0,VLOOKUP(TEXT(BM13,\"#\"),INDIRECT($R$6),2,FALSE))","v":0},{"$f":"IF(BM13=\"\",0,1)","v":0},null,null,{"$f":"IF(BQ13=\"\",0,VLOOKUP(TEXT(BQ13,\"#\"),INDIRECT($R$6),2,FALSE))","v":0},{"$f":"IF(BQ13=\"\",0,1)","v":0},null,null,{"$f":"IF(BU13=\"\",0,VLOOKUP(TEXT(BU13,\"#\"),INDIRECT($R$6),2,FALSE))","v":0},{"$f":"IF(BU13=\"\",0,1)","v":0},null,null,{"$f":"IF(BY13=\"\",0,VLOOKUP(TEXT(BY13,\"#\"),INDIRECT($R$6),2,FALSE))","v":0},{"$f":"IF(BY13=\"\",0,1)","v":0},null,null,{"$f":"IF(CC13=\"\",0,VLOOKUP(TEXT(CC13,\"#\"),INDIRECT($R$6),2,FALSE))","v":0},{"$f":"IF(CC13=\"\",0,1)","v":0},null,{"$f":"IF(AP13=1,((AS13+AW13+BA13+BE13+BI13+BM13+BQ13+BU13+BY13+CC13)/(AU13+AY13+BC13+BG13+BK13+BO13+BS13+BW13+CA13+CE13))*100,IF(AP13=2,(AS13+AW13+BA13+BE13+BI13+BM13+BQ13+BU13+BY13+CC13)/(AU13+AY13+BC13+BG13+BK13+BO13+BS13+BW13+CA13+CE13),IF(AP13=3,(AT13+AX13+BB13+BF13+BJ13+BN13+BR13+BV13+BZ13+CD13)/(AU13+AY13+BC13+BG13+BK13+BO13+BS13+BW13+CA13+CE13),\"\")))","v":""},{"$f":"IF(OR(AP13=1,AP13=2),ROUND(CG13,2)&\"%\",(VLOOKUP(INT(CG13),INDIRECT(VLOOKUP($R$6,Code!$B$35:$C$38,2,FALSE)),2,FALSE)))","v":{"$error":"#VALUE!"}},{"$f":"IF(ISERROR(IF(CH13=\"\",\"\",CH13)),\"\",IF(CH13=\"\",\"\",CH13))","v":""},null,null,{"$f":"IF((AU13+AY13+BC13+BG13+BK13+BO13+BS13+BW13+CA13+CE13)=1,1,0)","v":0},{"$f":"IF(CI13=\"\",0,CL13)","v":0},null,null,1]
[null,null,null,null,null,null,null,null,2,null,",",",","  ",null,"",null,null,null,",",",",null,null,"",null,"","  ",null,null,null,null,"","  ",null,null,null,"",null,null,"",null,null,null,null,null,null,0,0,null,null,0,0,null,null,0,0,null,null,0,0,null,null,0,0,null,null,0,0,null,null,0,0,null,null,0,0,null,null,0,0,null,null,0,0,null,"",{"$f":"IF(OR(AP14=1,AP14=2),ROUND(CG14,2)&\"%\",(VLOOKUP(INT(CG14),INDIRECT(VLOOKUP($R$6,Code!$B$35:$C$38,2,FALSE)),2,FALSE)))","v":{"$error":"#VALUE!"}},{"$f":"IF(ISERROR(IF(CH14=\"\",\"\",CH14)),\"\",IF(CH14=\"\",\"\",CH14))","v":""},null,null,{"$f":"IF((AU14+AY14+BC14+BG14+BK14+BO14+BS14+BW14+CA14+CE14)=1,1,0)","v":0},0,null,null,2]
[null,null,null,null,null,null,null,null,3,null,",",",","  ",null,"",null,null,null,",",",",null,null,"",null,"","  ",null,null,null,null,"","  ",null,null,null,"",null,null,"",null,null,null,null,null,null,0,0,null,null,0,0,null,null,0,0,null,null,0,0,null,null,0,0,null,null,0,0,null,null,0,0,null,null,0,0,null,null,0,0,null,null,0,0,null,"",{"$f":"IF(OR(AP15=1,AP15=2),ROUND(CG15,2)&\"%\",(VLOOKUP(INT(CG15),INDIRECT(VLOOKUP($R$6,Code!$B$35:$C$38,2,FALSE)),2,FALSE)))","v":{"$error":"#VALUE!"}},"",null,null,0,0,null,null,3]
[null,null,null,null,null,null,null,null,4,null,",",",","  ",null,"",null,null,null,",",",",null,null,"",null,"","  ",null,null,null,null,"","  ",null,null,null,"",null,null,"",null,null,null,null,null,null,0,0,null,null,0,0,null,null,0,0,null,null,0,0,null,null,0,0,null,null,0,0,null,null,0,0,null,null,0,0,null,null,0,0,null,null,0,0,null,"",{"$f":"IF(OR(AP16=1,AP16=2),ROUND(CG16,2)&\"%\",(VLOOKUP(INT(CG16),INDIRECT(VLOOKUP($R$6,Code!$B$35:$C$38,2,FALSE)),2,FALSE)))","v":{"$error":"#VALUE!"}},"",null,null,0,0,null,null,4]
[null,null,null,null,null,null,null,null,5,null,",",",","  ",null,"",null,null,null,",",",",null,null,"",null,"","  ",null,null,null,null,"","  ",null,null,null,"",null,null,"",null,null,null,null,null,null,0,0,null,null,0,0,null,null,0,0,null,null,0,0,null,null,0,0,null,null,0,0,null,null,0,0,null,null,0,0,null,null,0,0,null,null,0,0,null,"",{"$f":"IF(OR(AP17=1,AP17=2),ROUND(CG17,2)&\"%\",(VLOOKUP(INT(CG17),INDIRECT(VLOOKUP($R$6,Code!$B$35:$C$38,2,FALSE)),2,FALSE)))","v":{"$error":"#VALUE!"}},"",null,null,0,0]
[null,null,null,null,null,null,null,null,6,null,",",",","  ",null,"",null,null,null,",",",",null,null,"",null,"","  ",null,null,null,null,"","  ",null,null,null,"",null,null,"",null,null,null,null,null,null,0,0,null,null,0,0,null,null,0,0,null,null,0,0,null,null,0,0,null,null,0,0,null,null,0,0,null,null,0,0,null,null,0,0,null,null,0,0,null,"",{"$f":"IF(OR(AP18=1,AP18=2),ROUND(CG18,2)&\"%\",(VLOOKUP(INT(CG18),INDIRECT(VLOOKUP($R$6,Code!$B$35:$C$38,2,FALSE)),2,FALSE)))","v":{"$error":"#VALUE!"}},"",null,null,0,0]
[null,null,null,null,null,null,null,null,7,null,",",",","  ",null,"",null,null,null,",",",",null,null,"",null,"","  ",null,null,null,null,"","  ",null,null,null,"",null,null,"",null,null,null,null,null,null,0,0,null,null,0,0,null,null,0,0,null,null,0,0,null,null,0,0,null,null,0,0,null,null,0,0,null,null,0,0,null,null,0,0,null,null,0,0,null,"",{"$f":"IF(OR(AP19=1,AP19=2),ROUND(CG19,2)&\"%\",(VLOOKUP(INT(CG19),INDIRECT(VLOOKUP($R$6,Code!$B$35:$C$38,2,FALSE)),2,FALSE)))","v":{"$error":"#VALUE!"}},"",null,null,0,0]
[null,null,null,null,null,null,null,null,8,null,",",",","  ",null,"",null,null,null,",",",",null,null,"",null,"","  ",null,null,null,null,"","  ",null,null,null,"",null,null,"",null,null,null,null,null,null,0,0,null,null,0,0,null,null,0,0,null,null,0,0,null,null,0,0,null,null,0,0,null,null,0,0,null,null,0,0,null,null,0,0,null,null,0,0,null,"",{"$f":"IF(OR(AP20=1,AP20=2),ROUND(CG20,2)&\"%\",(VLOOKUP(INT(CG20),INDIRECT(VLOOKUP($R$6,Code!$B$35:$C$38,2,FALSE)),2,FALSE)))","v":{"$error":"#VALUE!"}},"",null,null,0,0]
[null,null,null,null,null,null,null,null,9,null,",",",","  ",null,"",null,null,null,",",",",null,null,"",null,"","  ",null,null,null,null,"","  ",null,null,null,"",null,null,"",null,null,null,null,null,null,0,0,null,null,0,0,null,null,0,0,null,null,0,0,null,null,0,0,null,null,0,0,null,null,0,0,null,null,0,0,null,null,0,0,null,null,0,0,null,"",{"$f":"IF(OR(AP21=1,AP21=2),ROUND(CG21,2)&\"%\",(VLOOKUP(INT(CG21),INDIRECT(VLOOKUP($R$6,Code!$B$35:$C$38,2,FALSE)),2,FALSE)))","v":{"$error":"#VALUE!"}},"",null,null,0,0]
[null,null,null,null,null,null,null,null,10,null,",",",","  ",null,"",null,null,null,",",",",null,null,"",null,"","  ",null,null,null,null,"","  ",null,null,null,"",null,null,"",null,null,null,null,null,null,0,0,null,null,0,0,null,null,0,0,null,null,0,0,null,null,0,0,null,null,0,0,null,null,0,0,null,null,0,0,null,null,0,0,null,null,0,0,null,"",{"$f":"IF(OR(AP22=1,AP22=2),ROUND(CG22,2)&\"%\",(VLOOKUP(INT(CG22),INDIRECT(VLOOKUP($R$6,Code!$B$35:$C$38,2,FALSE)),2,FALSE)))","v":{"$error":"#VALUE!"}},"",null,null,0,0]
[null,null,null,null,null,null,null,null,11,null,",",",","  ",null,"",null,null,null,",",",",null,null,"",null,"","  ",null,null,null,null,"","  ",null,null,null,"",null,null,"",null,null,null,null,null,null,0,0,null,null,0,0,null,null,0,0,null,null,0,0,null,null,0,0,null,null,0,0,null,null,0,0,null,null,0,0,null,null,0,0,null,null,0,0,null,"",{"$f":"IF(OR(AP23=1,AP23=2),ROUND(CG23,2)&\"%\",(VLOOKUP(INT(CG23),INDIRECT(VLOOKUP($R$6,Code!$B$35:$C$38,2,FALSE)),2,FALSE)))","v":{"$error":"#VALUE!"}},"",null,null,0,0]
[null,null,null,null,null,null,null,null,12,null,",",",","  ",null,"",null,null,null,",",",",null,null,"",null,"","  ",null,null,null,null,"","  ",null,null,null,"",null,null,"",null,null,null,null,null,null,0,0,null,null,0,0,null,null,0,0,null,null,0,0,null,null,0,0,null,null,0,0,null,null,0,0,null,null,0,0,null,null,0,0,null,null,0,0,null,"",{"$f":"IF(OR(AP24=1,AP24=2),ROUND(CG24,2)&\"%\",(VLOOKUP(INT(CG24),INDIRECT(VLOOKUP($R$6,Code!$B$35:$C$38,2,FALSE)),2,FALSE)))","v":{"$error":"#VALUE!"}},"",null,null,0,0]
[null,null,null,null,null,null,null,null,13,null,",",",","  ",null,"",null,null,null,",",",",null,null,"",null,"","  ",null,null,null,null,"","  ",null,null,null,"",null,null,"",null,null,null,null,null,null,0,0,null,null,0,0,null,null,0,0,null,null,0,0,null,null,0,0,null,null,0,0,null,null,0,0,null,null,0,0,null,null,0,0,null,null,0,0,null,"",{"$f":"IF(OR(AP25=1,AP25=2),ROUND(CG25,2)&\"%\",(VLOOKUP(INT(CG25),INDIRECT(VLOOKUP($R$6,Code!$B$35:$C$38,2,FALSE)),2,FALSE)))","v":{"$error":"#VALUE!"}},"",null,null,0,0]
[null,null,null,null,null,null,null,null,14,null,",",",","  ",null,"",null,null,null,",",",",null,null,"",null,"","  ",null,null,null,null,"","  ",null,null,null,"",null,null,"",null,null,null,null,null,null,0,0,null,null,0,0,null,null,0,0,null,null,0,0,null,null,0,0,null,null,0,0,null,null,0,0,null,null,0,0,null,null,0,0,null,null,0,0,null,"",{"$f":"IF(OR(AP26=1,AP26=2),ROUND(CG26,2)&\"%\",(VLOOKUP(INT(CG26),INDIRECT(VLOOKUP($R$6,Code!$B$35:$C$38,2,FALSE)),2,FALSE)))","v":{"$error":"#VALUE!"}},"",null,null,0,0]
[null,null,null,null,null,null,null,null,15,null,",",",","  ",null,"",null,null,null,",",",",null,null,"",null,"","  ",null,null,null,null,"","  ",null,null,null,"",null,null,"",null,null,null,null,null,null,0,0,null,null,0,0,null,null,0,0,null,null,0,0,null,null,0,0,null,null,0,0,null,null,0,0,null,null,0,0,null,null,0,0,null,null,0,0,null,"",{"$f":"IF(OR(AP27=1,AP27=2),ROUND(CG27,2)&\"%\",(VLOOKUP(INT(CG27),INDIRECT(VLOOKUP($R$6,Code!$B$35:$C$38,2,FALSE)),2,FALSE)))","v":{"$error":"#VALUE!"}},"",null,null,0,0]
[null,null,null,null,null,null,null,null,16,null,",",",","  ",null,"",null,null,null,",",",",null,null,"",null,"","  ",null,null,null,null,"","  ",null,null,null,"",null,null,"",null,null,null,null,null,null,0,0,null,null,0,0,null,null,0,0,null,null,0,0,null,null,0,0,null,null,0,0,null,null,0,0,null,null,0,0,null,null,0,0,null,null,0,0,null,"",{"$f":"IF(OR(AP28=1,AP28=2),ROUND(CG28,2)&\"%\",(VLOOKUP(INT(CG28),INDIRECT(VLOOKUP($R$6,Code!$B$35:$C$38,2,FALSE)),2,FALSE)))","v":{"$error":"#VALUE!"}},"",null,null,0,0]
[null,null,null,null,null,null,null,null,17,null,",",",","  ",null,"",null,null,null,",",",",null,null,"",null,"","  ",null,null,null,null,"","  ",null,null,null,"",null,null,"",null,null,null,null,null,null,0,0,null,null,0,0,null,null,0,0,null,null,0,0,null,null,0,0,null,null,0,0,null,null,0,0,null,null,0,0,null,null,0,0,null,null,0,0,null,"",{"$f":"IF(OR(AP29=1,AP29=2),ROUND(CG29,2)&\"%\",(VLOOKUP(INT(CG29),INDIRECT(VLOOKUP($R$6,Code!$B$35:$C$38,2,FALSE)),2,FALSE)))","v":{"$error":"#VALUE!"}},"",null,null,0,0]
[null,null,null,null,null,null,null,null,18,null,",",",","  ",null,"",null,null,null,",",",",null,null,"",null,"","  ",null,null,null,null,"","  ",null,null,null,"",null,null,"",null,null,null,null,null,null,0,0,null,null,0,0,null,null,0,0,null,null,0,0,null,null,0,0,null,null,0,0,null,null,0,0,null,null,0,0,null,null,0,0,null,null,0,0,null,"",{"$f":"IF(OR(AP30=1,AP30=2),ROUND(CG30,2)&\"%\",(VLOOKUP(INT(CG30),INDIRECT(VLOOKUP($R$6,Code!$B$35:$C$38,2,FALSE)),2,FALSE)))","v":{"$error":"#VALUE!"}},"",null,null,0,0]
[null,null,null,null,null,null,null,null,19,null,",",",","  ",null,"",null,null,null,",",",",null,null,"",null,"","  ",null,null,null,null,"","  ",null,null,null,"",null,null,"",null,null,null,null,null,null,0,0,null,null,0,0,null,null,0,0,null,null,0,0,null,null,0,0,null,null,0,0,null,null,0,0,null,null,0,0,null,null,0,0,null,null,0,0,null,"",{"$f":"IF(OR(AP31=1,AP31=2),ROUND(CG31,2)&\"%\",(VLOOKUP(INT(CG31),INDIRECT(VLOOKUP($R$6,Code!$B$35:$C$38,2,FALSE)),2,FALSE)))","v":{"$error":"#VALUE!"}},"",null,null,0,0]
[null,null,null,null,null,null,null,null,20,null,",",",","  ",null,"",null,null,null,",",",",null,null,"",null,"","  ",null,null,null,null,"","  ",null,null,null,"",null,null,"",null,null,null,null,null,null,0,0,null,null,0,0,null,null,0,0,null,null,0,0,null,null,0,0,null,null,0,0,null,null,0,0,null,null,0,0,null,null,0,0,null,null,0,0,null,"",{"$f":"IF(OR(AP32=1,AP32=2),ROUND(CG32,2)&\"%\",(VLOOKUP(INT(CG32),INDIRECT(VLOOKUP($R$6,Code!$B$35:$C$38,2,FALSE)),2,FALSE)))","v":{"$error":"#VALUE!"}},"",null,null,0,0]
[null,null,null,null,null,null,null,null,21,null,",",",","  ",null,"",null,null,null,",",",",null,null,"",null,"","  ",null,null,null,null,"","  ",null,null,null,"",null,null,"",null,null,null,null,null,null,0,0,null,null,0,0,null,null,0,0,null,null,0,0,null,null,0,0,null,null,0,0,null,null,0,0,null,null,0,0,null,null,0,0,null,null,0,0,null,"",{"$f":"IF(OR(AP33=1,AP33=2),ROUND(CG33,2)&\"%\",(VLOOKUP(INT(CG33),INDIRECT(VLOOKUP($R$6,Code!$B$35:$C$38,2,FALSE)),2,FALSE)))","v":{"$error":"#VALUE!"}},"",null,null,0,0]
[null,null,null,null,null,null,null,null,22,null,",",",","  ",null,"",null,null,null,",",",",null,null,"",null,"","  ",null,null,null,null,"","  ",null,null,null,"",null,null,"",null,null,null,null,null,null,0,0,null,null,0,0,null,null,0,0,null,null,0,0,null,null,0,0,null,null,0,0,null,null,0,0,null,null,0,0,null,null,0,0,null,null,0,0,null,"",{"$f":"IF(OR(AP34=1,AP34=2),ROUND(CG34,2)&\"%\",(VLOOKUP(INT(CG34),INDIRECT(VLOOKUP($R$6,Code!$B$35:$C$38,2,FALSE)),2,FALSE)))","v":{"$error":"#VALUE!"}},"",null,null,0,0]
[null,null,null,null,null,null,null,null,23,null,",",",","  ",null,"",null,null,null,",",",",null,null,"",null,"","  ",null,null,null,null,"","  ",null,null,null,"",null,null,"",null,null,null,null,null,null,0,0,null,null,0,0,null,null,0,0,null,null,0,0,null,null,0,0,null,null,0,0,null,null,0,0,null,null,0,0,null,null,0,0,null,null,0,0,null,"",{"$f":"IF(OR(AP35=1,AP35=2),ROUND(CG35,2)&\"%\",(VLOOKUP(INT(CG35),INDIRECT(VLOOKUP($R$6,Code!$B$35:$C$38,2,FALSE)),2,FALSE)))","v":{"$error":"#VALUE!"}},"",null,null,0,0]
[null,null,null,null,null,null,null,null,24,null,",",",","  ",null,"",null,null,null,",",",",null,null,"",null,"","  ",null,null,null,null,"","  ",null,null,null,"",null,null,"",null,null,null,null,null,null,0,0,null,null,0,0,null,null,0,0,null,null,0,0,null,null,0,0,null,null,0,0,null,null,0,0,null,null,0,0,null,null,0,0,null,null,0,0,null,"",{"$f":"IF(OR(AP36=1,AP36=2),ROUND(CG36,2)&\"%\",(VLOOKUP(INT(CG36),INDIRECT(VLOOKUP($R$6,Code!$B$35:$C$38,2,FALSE)),2,FALSE)))","v":{"$error":"#VALUE!"}},"",null,null,0,0]
[null,null,null,null,null,null,null,null,25,null,",",",","  ",null,"",null,null,null,",",",",null,null,"",null,"","  ",null,null,null,null,"","  ",null,null,null,"",null,null,"",null,null,null,null,null,null,0,0,null,null,0,0,null,null,0,0,null,null,0,0,null,null,0,0,null,null,0,0,null,null,0,0,null,null,0,0,null,null,0,0,null,null,0,0,null,"",{"$f":"IF(OR(AP37=1,AP37=2),ROUND(CG37,2)&\"%\",(VLOOKUP(INT(CG37),INDIRECT(VLOOKUP($R$6,Code!$B$35:$C$38,2,FALSE)),2,FALSE)))","v":{"$error":"#VALUE!"}},"",null,null,0,0]
[null,null,null,null,null,null,null,null,26,null,",",",","  ",null,"",null,null,null,",",",",null,null,"",null,"","  ",null,null,null,null,"","  ",null,null,null,"",null,null,"",null,null,null,null,null,null,0,0,null,null,0,0,null,null,0,0,null,null,0,0,null,null,0,0,null,null,0,0,null,null,0,0,null,null,0,0,null,null,0,0,null,null,0,0,null,"",{"$f":"IF(OR(AP38=1,AP38=2),ROUND(CG38,2)&\"%\",(VLOOKUP(INT(CG38),INDIRECT(VLOOKUP($R$6,Code!$B$35:$C$38,2,FALSE)),2,FALSE)))","v":{"$error":"#VALUE!"}},"",null,null,0,0]
[null,null,null,null,null,null,null,null,27,null,",",",","  ",null,"",null,null,null,",",",",null,null,"",null,"","  ",null,null,null,null,"","  ",null,null,null,"",null,null,"",null,null,null,null,null,null,0,0,null,null,0,0,null,null,0,0,null,null,0,0,null,null,0,0,null,null,0,0,null,null,0,0,null,null,0,0,null,null,0,0,null,null,0,0,null,"",{"$f":"IF(OR(AP39=1,AP39=2),ROUND(CG39,2)&\"%\",(VLOOKUP(INT(CG39),INDIRECT(VLOOKUP($R$6,Code!$B$35:$C$38,2,FALSE)),2,FALSE)))","v":{"$error":"#VALUE!"}},"",null,null,0,0]
[null,null,null,null,null,null,null,null,28,null,",",",","  ",null,"",null,null,null,",",",",null,null,"",null,"","  ",null,null,null,null,"","  ",null,null,null,"",null,null,"",null,null,null,null,null,null,0,0,null,null,0,0,null,null,0,0,null,null,0,0,null,null,0,0,null,null,0,0,null,null,0,0,null,null,0,0,null,null,0,0,null,null,0,0,null,"",{"$f":"IF(OR(AP40=1,AP40=2),ROUND(CG40,2)&\"%\",(VLOOKUP(INT(CG40),INDIRECT(VLOOKUP($R$6,Code!$B$35:$C$38,2,FALSE)),2,FALSE)))","v":{"$error":"#VALUE!"}},"",null,null,0,0]
[null,null,null,null,null,null,null,null,29,null,",",",","  ",null,"",null,null,null,",",",",null,null,"",null,"","  ",null,null,null,null,"","  ",null,null,null,"",null,null,"",null,null,null,null,null,null,0,0,null,null,0,0,null,null,0,0,null,null,0,0,null,null,0,0,null,null,0,0,null,null,0,0,null,null,0,0,null,null,0,0,null,null,0,0,null,"",{"$f":"IF(OR(AP41=1,AP41=2),ROUND(CG41,2)&\"%\",(VLOOKUP(INT(CG41),INDIRECT(VLOOKUP($R$6,Code!$B$35:$C$38,2,FALSE)),2,FALSE)))","v":{"$error":"#VALUE!"}},"",null,null,0,0]
[null,null,null,null,null,null,null,null,30,null,",",",","  ",null,"",null,null,null,",",",",null,null,"",null,"","  ",null,null,null,null,"","  ",null,null,null,"",null,null,"",null,null,null,null,null,null,0,0,null,null,0,0,null,null,0,0,null,null,0,0,null,null,0,0,null,null,0,0,null,null,0,0,null,null,0,0,null,null,0,0,null,null,0,0,null,"",{"$f":"IF(OR(AP42=1,AP42=2),ROUND(CG42,2)&\"%\",(VLOOKUP(INT(CG42),INDIRECT(VLOOKUP($R$6,Code!$B$35:$C$38,2,FALSE)),2,FALSE)))","v":{"$error":"#VALUE!"}},"",null,null,0,0]
[null,null,null,null,null,null,null,null,31,null,",",",","  ",null,"",null,null,null,",",",",null,null,"",null,"","  ",null,null,null,null,"","  ",null,null,null,"",null,null,"",null,null,null,null,null,null,0,0,null,null,0,0,null,null,0,0,null,null,0,0,null,null,0,0,null,null,0,0,null,null,0,0,null,null,0,0,null,null,0,0,null,null,0,0,null,"",{"$f":"IF(OR(AP43=1,AP43=2),ROUND(CG43,2)&\"%\",(VLOOKUP(INT(CG43),INDIRECT(VLOOKUP($R$6,Code!$B$35:$C$38,2,FALSE)),2,FALSE)))","v":{"$error":"#VALUE!"}},"",null,null,0,0]
[null,null,null,null,null,null,null,null,32,null,",",",","  ",null,"",null,null,null,",",",",null,null,"",null,"","  ",null,null,null,null,"","  ",null,null,null,"",null,null,"",null,null,null,null,null,null,0,0,null,null,0,0,null,null,0,0,null,null,0,0,null,null,0,0,null,null,0,0,null,null,0,0,null,null,0,0,null,null,0,0,null,null,0,0,null,"",{"$f":"IF(OR(AP44=1,AP44=2),ROUND(CG44,2)&\"%\",(VLOOKUP(INT(CG44),INDIRECT(VLOOKUP($R$6,Code!$B$35:$C$38,2,FALSE)),2,FALSE)))","v":{"$error":"#VALUE!"}},"",null,null,0,0]
[null,null,null,null,null,null,null,null,33,null,",",",","  ",null,"",null,null,null,",",",",null,null,"",null,"","  ",null,null,null,null,"","  ",null,null,null,"",null,null,"",null,null,null,null,null,null,0,0,null,null,0,0,null,null,0,0,null,null,0,0,null,null,0,0,null,null,0,0,null,null,0,0,null,null,0,0,null,null,0,0,null,null,0,0,null,"",{"$f":"IF(OR(AP45=1,AP45=2),ROUND(CG45,2)&\"%\",(VLOOKUP(INT(CG45),INDIRECT(VLOOKUP($R$6,Code!$B$35:$C$38,2,FALSE)),2,FALSE)))","v":{"$error":"#VALUE!"}},"",null,null,0,0]
[null,null,null,null,null,null,null,null,34,null,",",",","  ",null,"",null,null,null,",",",",null,null,"",null,"","  ",null,null,null,null,"","  ",null,null,null,"",null,null,"",null,null,null,null,null,null,0,0,null,null,0,0,null,null,0,0,null,null,0,0,null,null,0,0,null,null,0,0,null,null,0,0,null,null,0,0,null,null,0,0,null,null,0,0,null,"",{"$f":"IF(OR(AP46=1,AP46=2),ROUND(CG46,2)&\"%\",(VLOOKUP(INT(CG46),INDIRECT(VLOOKUP($R$6,Code!$B$35:$C$38,2,FALSE)),2,FALSE)))","v":{"$error":"#VALUE!"}},"",null,null,0,0]
[null,null,null,null,null,null,null,null,35,null,",",",","  ",null,"",null,null,null,",",",",null,null,"",null,"","  ",null,null,null,null,"","  ",null,null,null,"",null,null,"",null,null,null,null,null,null,0,0,null,null,0,0,null,null,0,0,null,null,0,0,null,null,0,0,null,null,0,0,null,null,0,0,null,null,0,0,null,null,0,0,null,null,0,0,null,"",{"$f":"IF(OR(AP47=1,AP47=2),ROUND(CG47,2)&\"%\",(VLOOKUP(INT(CG47),INDIRECT(VLOOKUP($R$6,Code!$B$35:$C$38,2,FALSE)),2,FALSE)))","v":{"$error":"#VALUE!"}},"",null,null,0,0]
[]
[null,null,null,null,null,null,null,null,{"$f":"Report!I207","v":"© 2017, Maths Kingdom, All Rights Reserved"}]

{"sheet":"Report","index":8,"n_rows":207,"n_cols":134,"rows_kept":207,"cut":false,"hidden":false,"merged":[[0,6,6,6],[2,25,6,25],[2,21,3,23],[4,21,6,21],[4,23,6,23],[0,8,6,8],[0,20,0,25],[0,7,6,7],[0,4,6,4],[206,8,206,133],[0,133,6,133],[0,124,6,124],[0,125,6,125],[0,126,6,126],[0,71,6,71],[0,72,6,72],[0,73,6,73],[0,118,0,121],[0,80,0,83],[0,87,0,88],[2,88,4,88],[0,66,0,70],[0,45,0,48],[0,52,0,55]]}
[null,null,null,null,null,null,"First Name","Surname","Gender",null,null,null,null,null,null,null,null,null,null,null,"Grade Table",null,null,null,null,null,null,null,null,null,null,null,null,"Attitude",null,null,null,null,null,null,null,null,null,null,null,"Behaviour",null,null,null,null,null,null,"Homework",null,null,null,null,null,null,null,null,null,null,null,null,null,"Equipment",null,null,null,null,"Piece 1","Piece 2","Piece 3",null,null,null,null,null,null,"Behaviour",null,null,null,null,null,null,"Assessment",null,null,null,null,null,null,null,null,null,null,null,null,null,"Progress",null,null,null,"Effort",null,null,null,null,null,null,null,null,null,null,null,null,"Development ",null,null,null,null,null,"Topic 1","Topic 2","Topic 3",null,null,null,null,null,null,"Report"]
[null,null,null,null,null,null,null,null,null,null,null,null,null,null,null,null,null,null,null,null,"Type_1","Target Grade","Lookup number","End of year achieved grade","Lookup number","comparison",null,null,null,null,null,null,null,{"$f":"\"1.\"&Person!C5&\"    2.\"&Person!C99&\"    3.\"&Person!C149&\"     4.\"&Person!C199&\"   5.\"&Person!C247","v":"1.Outstanding    2.Pleasant pupil, quiet in class    3.Lacks confidence      4.On occasions, poor attitude to learning    5.Poor attitude to learning"},null,null,null,null,null,null,null,null,null,null,null,null,null,null,null,null,null,null,{"$f":"\"1.\"&Homework!C5&\"    2.\"&Homework!C46&\"     3.\"&Homework!C96&\"   4.\"&Homework!C144","v":"1.High quality    2.Improve quality     3.Sometimes hands in   4.None submitted"},null,null,null,null,null,null,null,null,null,null,null,null,null,null,null,null,null,null,null,null,null,null,null,null,null,null,null,{"$f":"\"1.\"&Behaviour!C52&\"    2.\"&Behaviour!C122&\"     3.\"&Behaviour!C172&\"   4.\"&Behaviour!C220","v":"1.Willing to help others    2.Distracted by others     3.Causes distractions   4.Fails to comply with class rules"},null,null,null,null,null,null,"1. Above Target  2. On Target  3. Below Target",null,null,null,null,null,null,null,null,null,null,"formula for progress",null,null,"1. Above Target  2. On Target  3. Below Target",null,null,null,"1. Gives 100% effort every lessons   2. Doesn’t give effort every lesson but does occasionally   3.Give no  effort to any of the lessons  ",null,null,null,null,null,null,null,null,null,null,null,null,{"$f":"\"1.   \"&Development!C5&\"    2.    \"&Development!C81&\"     3.   \"&Development!C183&\"   4.    \"&Development!C299","v":"1.   Development sentence + 3 topics    2.    Development sentence + 2 topics     3.   Development sentence + 1 topic   4.    "}]
[null,null,null,null,null,null,null,null,null,null,null,null,null,null,null,null,null,null,null,null,null,{"$f":"'Front Sheet'!R6","v":"Type_2"},null,null,null,"this cell contains the data needed",null,null,null,null,null,null,1,{"$f":"Person!C5","v":"Outstanding"},null,null,null,null,null,null,null,null,null,null,1,{"$f":"Behaviour!G1","v":"Outstanding"},null,null,null,null,null,0,"No sentence required",null,null,null,null,null,null,null,null,null,null,null,null,0,"No sentence required",null,null,null,null,null,null,null,null,null,null,null,null,1,"=",null,null,null,null,null,0,{"$f":"BO3","v":"No sentence required"},"Percentageor level/grade",null,null,null,null,null,null,null,null,null,null,null,1,"Above target  ",null,null,1,"Gives 100% effort every lesson",null,null,null,null,null,null,null,null,null,null,null,0,"No sentence required"]
[null,null,null,null,null,null,null,null,null,null,null,null,null,null,null,null,null,null,null,null,null,null,null,null,null,null,null,null,null,null,null,null,2,{"$f":"Person!C99","v":"Pleasant pupil, quiet in class"},null,null,null,null,null,null,null,null,null,null,2,{"$f":"Behaviour!C52","v":"Willing to help others"},null,null,null,null,null,1,{"$f":"Homework!C5","v":"High quality"},null,null,null,null,null,null,null,null,null,null,null,null,1,{"$f":"Equipment!C42","v":"Missing 1 piece of equipment "},null,null,null,null,null,null,null,null,null,null,null,null,2,{"$f":"Behaviour!C122","v":"Distracted by others"},null,null,null,null,null,1,{"$f":"Assessment!C9","v":"Last assessment"},null,null,null,null,null,null,null,null,null,null,null,null,2,"On target",null,null,2,"Gives occasional effort to the lesson",null,null,null,null,null,null,null,null,null,null,null,1,{"$f":"Development!C183","v":"Development sentence + 1 topic"}]
[null,null,null,null,null,null,null,null,null,null,null,null,null,null,null,null,null,null,null,null,null,"Target Grade",null,"End of year grade",null,null,null,null,null,null,null,null,3,{"$f":"Person!C149","v":"Lacks confidence "},null,null,null,null,null,null,null,null,null,null,3,{"$f":"Behaviour!C122","v":"Distracted by others"},null,null,null,null,null,2,{"$f":"Homework!C46","v":"Improve quality"},null,null,null,null,null,null,null,null,null,null,null,null,2,{"$f":"Equipment!C67","v":"Missing 2 pieces of equipment "},null,null,null,null,null,null,null,null,null,null,null,null,3,{"$f":"Behaviour!C172","v":"Causes distractions"},null,null,null,null,null,2,{"$f":"Assessment!C50","v":"Average score"},null,null,null,null,null,null,null,null,null,null,null,null,3,"Below target",null,null,3,"Gives no effort to any lesson",null,null,null,null,null,null,null,null,null,null,null,2,{"$f":"Development!C81","v":"Development sentence + 2 topics"}]
[null,null,null,null,null,null,null,null,null,null,null,null,null,null,null,null,null,null,null,null,null,null,null,null,null,null,null,null,null,null,null,null,4,{"$f":"Person!C199","v":"On occasions, poor attitude to learning "},null,null,null,null,null,null,null,null,null,null,4,{"$f":"Behaviour!C172","v":"Causes distractions"},null,null,null,null,null,3,{"$f":"Homework!C96","v":"Sometimes hands in"},null,null,null,null,null,null,null,null,null,null,null,null,3,{"$f":"Equipment!C92","v":"Missing 3 pieces of equipment "},null,null,null,null,null,null,null,null,null,null,null,null,4,{"$f":"Behaviour!C220","v":"Fails to comply with class rules"},null,null,null,null,null,null,null,null,null,null,null,null,null,null,null,null,null,null,null,null,null,null,null,null,null,null,null,null,null,null,null,null,null,null,null,null,3,"Development Sentence + 3 topics"]
[null,null,null,null,null,null,null,null,null,null,null,null,null,null,null,null,null,null,null,null,null,null,null,null,null,null,null,null,null,null,null,null,5,{"$f":"Person!C247","v":"Poor attitude to learning"},null,null,null,null,null,null,null,null,null,null,5,{"$f":"Behaviour!C220","v":"Fails to comply with class rules"},null,null,null,null,null,4,{"$f":"Homework!C144","v":"None submitted"},null,null,null,null,null,null,null,null,null,null,null,null,4,{"$f":"Equipment!C9","v":"Always equipped "},null,null,null,null,null,null,null,null,null,null,null,null,null,"k but complete tasks"]
[]
[null,null,null,null,1,null,{"$f":"'Front Sheet'!AE13","v":""},{"$f":"'Front Sheet'!AF13","v":"  "},null,null,null,null,null,null,null,null,null,null,null,null,{"$f":"$V$3","v":"Type_2"},{"$f":"'Front Sheet'!AJ13","v":""},{"$f":"VLOOKUP(TEXT(V9,\"#\"),INDIRECT(U9),2,FALSE)","v":{"$error":"#N/A"}},{"$f":"'Front Sheet'!AM13","v":""},{"$f":"VLOOKUP(TEXT(X9,\"#\"),INDIRECT(U9),2,FALSE)","v":{"$error":"#N/A"}},{"$f":"IF(W9=Y9,2,IF(W9<Y9,1,3))","v":{"$error":"#N/A"}},null,{"$f":"IF(I9=\"F\",\"she\",\"he\")","v":"he"},{"$f":"IF(I9=\"F\",\"She\",\"He\")","v":"He"},{"$f":"IF(I9=\"F\",\"her\",\"his\")","v":"his"},{"$f":"IF(I9=\"F\",\"Her\",\"His\")","v":"His"},null,null,null,{"$f":"HLOOKUP(Report!AH9,Person!$H$2:$L$3,2,FALSE)","v":{"$error":"#N/A"}},{"$f":"RANDBETWEEN(1,AI9)","v":{"$error":"#N/A"}},{"$f":"IF(AH9=0,\"\",AJ9+VLOOKUP(AH9,Code!$B$2:$C$6,2,FALSE))","v":""},{"$f":"IF(AH9=0,\"\",IF(I9=\"F\",G9&\" \"&VLOOKUP(AK9,Person!D:I,2,FALSE),G9&\" \"&VLOOKUP(AK9,Person!D:I,4,FALSE)))","v":""},null,null,null,null,null,null,null,null,{"$f":"VLOOKUP(AT9,Code!$B$51:$D$55,2,FALSE)","v":{"$error":"#N/A"}},{"$f":"RANDBETWEEN(1,VLOOKUP(AT9,Code!$B$51:$D$55,3,FALSE))","v":{"$error":"#N/A"}},null,{"$f":"IF(AT9=0,\"\",IF(I9=\"F\",\" \"&VLOOKUP(AV9,INDIRECT(AU9),2,FALSE),\" \"&VLOOKUP(AV9,INDIRECT(AU9),4,FALSE)))","v":""},null,null,null,{"$f":"HLOOKUP(Report!BA9,Homework!$I$2:$L$3,2,FALSE)","v":{"$error":"#N/A"}},{"$f":"RANDBETWEEN(1,BB9)","v":{"$error":"#N/A"}},{"$f":"IF(BA9=0,\"\",BC9+VLOOKUP(BA9,Code!$B$2:$C$6,2,FALSE))","v":""},{"$f":"IF(AND(VLOOKUP(BD9,Homework!D:J,2,FALSE)=\"'s \",RIGHT(G9,1)=\"s\"),\"' \",IF(VLOOKUP(BD9,Homework!D:J,2,FALSE)=\"'s \",\"'s \",\" \"))","v":" "},{"$f":"IF(BA9=0,\"\",IF(I9=\"F\",\" \"&G9&BE9&VLOOKUP(BD9,Homework!D:J,3,FALSE),\" \"&G9&BE9&VLOOKUP(BD9,Homework!D:J,5,FALSE)))","v":""},null,null,null,null,null,null,null,null,null,{"$f":"VLOOKUP(BO9,Code!$B$45:$D$48,2,FALSE)","v":{"$error":"#N/A"}},{"$f":"VLOOKUP(BO9,Code!$B$45:$D$48,3,FALSE)","v":{"$error":"#N/A"}},{"$f":"RANDBETWEEN(1,BQ9)","v":{"$error":"#N/A"}},null,"pen","pencil","ruler",null,null,{"$f":"IF(BO9=1,(VLOOKUP(BR9,INDIRECT(BP9),2,FALSE)&\" \"&BT9&\".\"),IF(BO9=2,(VLOOKUP(BR9,INDIRECT(BP9),2,FALSE)&\" \"&BT9&\" and \"&BU9&\".\"),IF(BO9=3,(VLOOKUP(BR9,INDIRECT(BP9),2,FALSE)&\" \"&BT9&\", \"&BU9&\" and \"&BV9&\".\"),IF(BO9=4,VLOOKUP(BR9,INDIRECT(BP9),2,FALSE)& \".\",\"\"))))","v":""},{"$f":"IF(BO9=1,(VLOOKUP(BR9,INDIRECT(BP9),4,FALSE)&\" \"&BT9&\".\"),IF(BO9=2,(VLOOKUP(BR9,INDIRECT(BP9),4,FALSE)&\" \"&BT9&\" and \"&BU9&\".\"),IF(BO9=3,(VLOOKUP(BR9,INDIRECT(BP9),4,FALSE)&\" \"&BT9&\", \"&BU9&\" and \"&BV9&\".\"),IF(BO9=4,VLOOKUP(BR9,INDIRECT(BP9),4,FALSE)&\".\",\"\"))))","v":""},{"$f":"IF(BO9=0,\"\",IF(I9=\"F\",\" \"&BY9,\" \"&BZ9))","v":""},null,1,{"$f":"HLOOKUP(Report!CC9,Behaviour!$H$2:$K$3,2,FALSE)","v":2},{"$f":"RANDBETWEEN(1,CD9)","v":1},{"$f":"CE9+VLOOKUP(CC9,Code!$B$2:$C$6,2,FALSE)","v":11},{"$f":"IF(CC9=0,\"\",IF(I9=\"F\",AC9&\" \"&VLOOKUP(CF9,Behaviour!D:I,2,FALSE)&\" \",AC9&\" \"&VLOOKUP(CF9,Behaviour!D:I,4,FALSE)&\" \"))","v":{"$error":"#N/A"}},null,null,{"$f":"'Front Sheet'!CM13","v":0},{"$f":"'Front Sheet'!CI13","v":""},{"$f":"IF(CJ9=0,\"\",VLOOKUP(CJ9,Code!$B$59:$D$61,2,FALSE))","v":""},{"$f":"IF(CJ9=0,\"\",VLOOKUP(CJ9,Code!$B$59:$D$61,3,FALSE))","v":""},{"$f":"RANDBETWEEN(1,CM9)","v":{"$error":"#VALUE!"}},{"$f":"IF(I9=\"F\",VLOOKUP(CN9,INDIRECT(CL9),2,FALSE),VLOOKUP(CN9,INDIRECT(CL9),5,FALSE))","v":{"$error":"#VALUE!"}},{"$f":"IF(I9=\"F\",VLOOKUP(CN9,INDIRECT(CL9),3,FALSE),VLOOKUP(CN9,INDIRECT(CL9),6,FALSE))","v":{"$error":"#VALUE!"}},{"$f":"IF(RIGHT(CK9,1)=\"%\",CO9&\" \"&CK9*100&\"%\"&CP9,CO9&\" a \"&CK9&CP9)","v":{"$error":"#VALUE!"}},{"$f":"IF(OR(ISERROR(CQ9),CK9=\"\",CJ9=\"\"),\"\",\" \"&CQ9)","v":""},null,null,{"$f":"IF(ISERROR(Z9),\"\",Z9)","v":""},null,null,{"$f":"CU9","v":""},{"$f":"CX9*10","v":{"$error":"#VALUE!"}},null,null,null,{"$f":"CY9+DB9","v":{"$error":"#VALUE!"}},{"$f":"VLOOKUP(Report!DC9,Code!$B$24:$C$32,2,FALSE)","v":{"$error":"#VALUE!"}},{"$f":"VLOOKUP(Report!DC9,Code!$B$24:$D$32,3,FALSE)","v":{"$error":"#VALUE!"}},{"$f":"RANDBETWEEN(1,DE9)","v":{"$error":"#VALUE!"}},{"$f":"IF(AND(VLOOKUP(DF9,INDIRECT(DD9),2,FALSE)=\"'s \",RIGHT(G9,1)=\"s\"),\"' \",IF(VLOOKUP(DF9,INDIRECT(DD9),2,FALSE)=\"'s \",\"'s \",\"\"))","v":{"$error":"#VALUE!"}},{"$f":"\" \"&IF(DB9=0,\"\",IF(I9=\"F\",G9&DG9&VLOOKUP(DF9,INDIRECT(DD9),3,FALSE),G9&DG9&VLOOKUP(DF9,INDIRECT(DD9),5,FALSE)))","v":" "},null,null,null,null,null,null,null,{"$f":"VLOOKUP(Report!DO9,Code!$B$40:$D$42,2,FALSE)","v":{"$error":"#N/A"}},{"$f":"VLOOKUP(Report!DO9,Code!$B$40:$D$42,3,FALSE)","v":{"$error":"#N/A"}},{"$f":"RANDBETWEEN(1,DQ9)","v":{"$error":"#N/A"}},null,{"$f":"VLOOKUP(DR9,INDIRECT(DP9),2,FALSE)","v":{"$error":"#N/A"}},"problem solving questions","number","multiplication",{"$f":"IF(DO9=3,(\" \"&DT9&\" \"&DU9&\", \"&DV9&\" and \"&DW9&\".\"),IF(DO9=2,(\" \"&DT9&\" \"&DU9&\" and \"&DV9&\".\"),IF(DO9=1,(\" \"&DT9&\" \"&DU9&\".\"),\"\")))","v":""},null,null,null,null,{"$f":"IF(LEN(G9)<1,\"\",IF(OR(I9=\"F\",I9=\"M\"),(IF(ISERROR(AL9&AX9&BF9&CA9&CR9&DH9&DX9),\"\",AL9&AX9&BF9&CA9&CR9&DH9&DX9)),\"\"))","v":""},""]
[null,null,null,null,2,null,{"$f":"'Front Sheet'!AE14","v":""},{"$f":"'Front Sheet'!AF14","v":"  "},null,null,null,null,null,null,null,null,null,null,null,null,{"$f":"$V$3","v":"Type_2"},{"$f":"'Front Sheet'!AJ14","v":""},{"$f":"VLOOKUP(TEXT(V10,\"#\"),INDIRECT(U10),2,FALSE)","v":{"$error":"#N/A"}},{"$f":"'Front Sheet'!AM14","v":""},{"$f":"VLOOKUP(TEXT(X10,\"#\"),INDIRECT(U10),2,FALSE)","v":{"$error":"#N/A"}},{"$f":"IF(W10=Y10,2,IF(W10<Y10,1,3))","v":{"$error":"#N/A"}},null,"he","He","his","His",null,null,null,{"$f":"HLOOKUP(Report!AH10,Person!$H$2:$L$3,2,FALSE)","v":{"$error":"#N/A"}},{"$f":"RANDBETWEEN(1,AI10)","v":{"$error":"#N/A"}},{"$f":"IF(AH10=0,\"\",AJ10+VLOOKUP(AH10,Code!$B$2:$C$6,2,FALSE))","v":""},{"$f":"IF(AH10=0,\"\",IF(I10=\"F\",G10&\" \"&VLOOKUP(AK10,Person!D:I,2,FALSE),G10&\" \"&VLOOKUP(AK10,Person!D:I,4,FALSE)))","v":""},null,null,null,null,null,null,null,null,{"$f":"VLOOKUP(AT10,Code!$B$51:$D$55,2,FALSE)","v":{"$error":"#N/A"}},{"$f":"RANDBETWEEN(1,VLOOKUP(AT10,Code!$B$51:$D$55,3,FALSE))","v":{"$error":"#N/A"}},null,"",null,null,null,{"$f":"HLOOKUP(Report!BA10,Homework!$I$2:$L$3,2,FALSE)","v":{"$error":"#N/A"}},{"$f":"RANDBETWEEN(1,BB10)","v":{"$error":"#N/A"}},{"$f":"IF(BA10=0,\"\",BC10+VLOOKUP(BA10,Code!$B$2:$C$6,2,FALSE))","v":""},{"$f":"IF(AND(VLOOKUP(BD10,Homework!D:J,2,FALSE)=\"'s \",RIGHT(G10,1)=\"s\"),\"' \",IF(VLOOKUP(BD10,Homework!D:J,2,FALSE)=\"'s \",\"'s \",\" \"))","v":" "},{"$f":"IF(BA10=0,\"\",IF(I10=\"F\",\" \"&G10&BE10&VLOOKUP(BD10,Homework!D:J,3,FALSE),\" \"&G10&BE10&VLOOKUP(BD10,Homework!D:J,5,FALSE)))","v":""},null,null,null,null,null,null,null,null,null,{"$f":"VLOOKUP(BO10,Code!$B$45:$D$48,2,FALSE)","v":{"$error":"#N/A"}},{"$f":"VLOOKUP(BO10,Code!$B$45:$D$48,3,FALSE)","v":{"$error":"#N/A"}},{"$f":"RANDBETWEEN(1,BQ10)","v":{"$error":"#N/A"}},null,"pen","pencil","ruler",null,null,{"$f":"IF(BO10=1,(VLOOKUP(BR10,INDIRECT(BP10),2,FALSE)&\" \"&BT10&\".\"),IF(BO10=2,(VLOOKUP(BR10,INDIRECT(BP10),2,FALSE)&\" \"&BT10&\" and \"&BU10&\".\"),IF(BO10=3,(VLOOKUP(BR10,INDIRECT(BP10),2,FALSE)&\" \"&BT10&\", \"&BU10&\" and \"&BV10&\".\"),IF(BO10=4,VLOOKUP(BR10,INDIRECT(BP10),2,FALSE)& \".\",\"\"))))","v":""},{"$f":"IF(BO10=1,(VLOOKUP(BR10,INDIRECT(BP10),4,FALSE)&\" \"&BT10&\".\"),IF(BO10=2,(VLOOKUP(BR10,INDIRECT(BP10),4,FALSE)&\" \"&BT10&\" and \"&BU10&\".\"),IF(BO10=3,(VLOOKUP(BR10,INDIRECT(BP10),4,FALSE)&\" \"&BT10&\", \"&BU10&\" and \"&BV10&\".\"),IF(BO10=4,VLOOKUP(BR10,INDIRECT(BP10),4,FALSE)&\".\",\"\"))))","v":""},"",null,2,{"$f":"HLOOKUP(Report!CC10,Behaviour!$H$2:$K$3,2,FALSE)","v":2},{"$f":"RANDBETWEEN(1,CD10)","v":2},{"$f":"CE10+VLOOKUP(CC10,Code!$B$2:$C$6,2,FALSE)","v":102},{"$f":"IF(CC10=0,\"\",IF(I10=\"F\",AC10&\" \"&VLOOKUP(CF10,Behaviour!D:I,2,FALSE)&\" \",AC10&\" \"&VLOOKUP(CF10,Behaviour!D:I,4,FALSE)&\" \"))","v":{"$error":"#N/A"}},null,null,{"$f":"'Front Sheet'!CM14","v":0},{"$f":"'Front Sheet'!CI14","v":""},{"$f":"IF(CJ10=0,\"\",VLOOKUP(CJ10,Code!$B$59:$D$61,2,FALSE))","v":""},{"$f":"IF(CJ10=0,\"\",VLOOKUP(CJ10,Code!$B$59:$D$61,3,FALSE))","v":""},{"$f":"RANDBETWEEN(1,CM10)","v":{"$error":"#VALUE!"}},{"$error":"#VALUE!"},{"$error":"#VALUE!"},{"$f":"IF(RIGHT(CK10,1)=\"%\",CO10&\" \"&CK10*100&\"%\"&CP10,CO10&\" a \"&CK10&CP10)","v":{"$error":"#VALUE!"}},{"$f":"IF(OR(ISERROR(CQ10),CK10=\"\",CJ10=\"\"),\"\",\" \"&CQ10)","v":""},null,null,"",null,null,{"$f":"CU10","v":""},{"$f":"CX10*10","v":{"$error":"#VALUE!"}},null,null,null,{"$f":"CY10+DB10","v":{"$error":"#VALUE!"}},{"$f":"VLOOKUP(Report!DC10,Code!$B$24:$C$32,2,FALSE)","v":{"$error":"#VALUE!"}},{"$f":"VLOOKUP(Report!DC10,Code!$B$24:$D$32,3,FALSE)","v":{"$error":"#VALUE!"}},{"$f":"RANDBETWEEN(1,DE10)","v":{"$error":"#VALUE!"}},{"$error":"#VALUE!"}," ",null,null,null,null,null,null,null,{"$f":"VLOOKUP(Report!DO10,Code!$B$40:$D$42,2,FALSE)","v":{"$error":"#N/A"}},{"$f":"VLOOKUP(Report!DO10,Code!$B$40:$D$42,3,FALSE)","v":{"$error":"#N/A"}},{"$f":"RANDBETWEEN(1,DQ10)","v":{"$error":"#N/A"}},null,{"$f":"VLOOKUP(DR10,INDIRECT(DP10),2,FALSE)","v":{"$error":"#N/A"}},"simultaneous equations","multi step questions","factorising","",null,null,null,null,{"$f":"IF(LEN(G10)<1,\"\",IF(OR(I10=\"F\",I10=\"M\"),(IF(ISERROR(AL10&AX10&BF10&CA10&CR10&DH10&DX10),\"\",AL10&AX10&BF10&CA10&CR10&DH10&DX10)),\"\"))","v":""},{"$f":"EC10","v":""}]
[null,null,null,null,3,null,{"$f":"'Front Sheet'!AE15","v":""},{"$f":"'Front Sheet'!AF15","v":"  "},null,null,null,null,null,null,null,null,null,null,null,null,"Type_2",{"$f":"'Front Sheet'!AJ15","v":""},{"$error":"#N/A"},{"$f":"'Front Sheet'!AM15","v":""},{"$error":"#N/A"},{"$error":"#N/A"},null,"he","He","his","His",null,null,null,{"$f":"HLOOKUP(Report!AH11,Person!$H$2:$L$3,2,FALSE)","v":{"$error":"#N/A"}},{"$error":"#N/A"},{"$f":"IF(AH11=0,\"\",AJ11+VLOOKUP(AH11,Code!$B$2:$C$6,2,FALSE))","v":""},{"$f":"IF(AH11=0,\"\",IF(I11=\"F\",G11&\" \"&VLOOKUP(AK11,Person!D:I,2,FALSE),G11&\" \"&VLOOKUP(AK11,Person!D:I,4,FALSE)))","v":""},null,null,null,null,null,null,null,null,{"$f":"VLOOKUP(AT11,Code!$B$51:$D$55,2,FALSE)","v":{"$error":"#N/A"}},{"$f":"RANDBETWEEN(1,VLOOKUP(AT11,Code!$B$51:$D$55,3,FALSE))","v":{"$error":"#N/A"}},null,"",null,null,null,{"$f":"HLOOKUP(Report!BA11,Homework!$I$2:$L$3,2,FALSE)","v":{"$error":"#N/A"}},{"$error":"#N/A"},{"$f":"IF(BA11=0,\"\",BC11+VLOOKUP(BA11,Code!$B$2:$C$6,2,FALSE))","v":""},{"$f":"IF(AND(VLOOKUP(BD11,Homework!D:J,2,FALSE)=\"'s \",RIGHT(G11,1)=\"s\"),\"' \",IF(VLOOKUP(BD11,Homework!D:J,2,FALSE)=\"'s \",\"'s \",\" \"))","v":" "},{"$f":"IF(BA11=0,\"\",IF(I11=\"F\",\" \"&G11&BE11&VLOOKUP(BD11,Homework!D:J,3,FALSE),\" \"&G11&BE11&VLOOKUP(BD11,Homework!D:J,5,FALSE)))","v":""},null,null,null,null,null,null,null,null,null,{"$f":"VLOOKUP(BO11,Code!$B$45:$D$48,2,FALSE)","v":{"$error":"#N/A"}},{"$f":"VLOOKUP(BO11,Code!$B$45:$D$48,3,FALSE)","v":{"$error":"#N/A"}},{"$error":"#N/A"},null,"pen","pencil","ruler",null,null,"","","",null,3,{"$f":"HLOOKUP(Report!CC11,Behaviour!$H$2:$K$3,2,FALSE)","v":2},1,{"$f":"CE11+VLOOKUP(CC11,Code!$B$2:$C$6,2,FALSE)","v":1001},{"$f":"IF(CC11=0,\"\",IF(I11=\"F\",AC11&\" \"&VLOOKUP(CF11,Behaviour!D:I,2,FALSE)&\" \",AC11&\" \"&VLOOKUP(CF11,Behaviour!D:I,4,FALSE)&\" \"))","v":{"$error":"#N/A"}},null,null,{"$f":"'Front Sheet'!CM15","v":0},{"$f":"'Front Sheet'!CI15","v":""},{"$f":"IF(CJ11=0,\"\",VLOOKUP(CJ11,Code!$B$59:$D$61,2,FALSE))","v":""},{"$f":"IF(CJ11=0,\"\",VLOOKUP(CJ11,Code!$B$59:$D$61,3,FALSE))","v":""},{"$error":"#VALUE!"},{"$error":"#VALUE!"},{"$error":"#VALUE!"},{"$error":"#VALUE!"},"",null,null,"",null,null,"",{"$error":"#VALUE!"},null,null,null,{"$error":"#VALUE!"},{"$f":"VLOOKUP(Report!DC11,Code!$B$24:$C$32,2,FALSE)","v":{"$error":"#VALUE!"}},{"$f":"VLOOKUP(Report!DC11,Code!$B$24:$D$32,3,FALSE)","v":{"$error":"#VALUE!"}},{"$error":"#VALUE!"},{"$error":"#VALUE!"}," ",null,null,null,null,null,null,null,{"$f":"VLOOKUP(Report!DO11,Code!$B$40:$D$42,2,FALSE)","v":{"$error":"#N/A"}},{"$f":"VLOOKUP(Report!DO11,Code!$B$40:$D$42,3,FALSE)","v":{"$error":"#N/A"}},{"$f":"RANDBETWEEN(1,DQ11)","v":{"$error":"#N/A"}},null,{"$error":"#N/A"},"multi step questions","rounding to 3 significant figures","algebra","",null,null,null,null,"",""]
[null,null,null,null,4,null,{"$f":"'Front Sheet'!AE16","v":""},{"$f":"'Front Sheet'!AF16","v":"  "},null,null,null,null,null,null,null,null,null,null,null,null,"Type_2",{"$f":"'Front Sheet'!AJ16","v":""},{"$error":"#N/A"},{"$f":"'Front Sheet'!AM16","v":""},{"$error":"#N/A"},{"$error":"#N/A"},null,"he","He","his","His",null,null,null,{"$f":"HLOOKUP(Report!AH12,Person!$H$2:$L$3,2,FALSE)","v":{"$error":"#N/A"}},{"$error":"#N/A"},{"$f":"IF(AH12=0,\"\",AJ12+VLOOKUP(AH12,Code!$B$2:$C$6,2,FALSE))","v":""},{"$f":"IF(AH12=0,\"\",IF(I12=\"F\",G12&\" \"&VLOOKUP(AK12,Person!D:I,2,FALSE),G12&\" \"&VLOOKUP(AK12,Person!D:I,4,FALSE)))","v":""},null,null,null,null,null,null,null,null,{"$f":"VLOOKUP(AT12,Code!$B$51:$D$55,2,FALSE)","v":{"$error":"#N/A"}},{"$f":"RANDBETWEEN(1,VLOOKUP(AT12,Code!$B$51:$D$55,3,FALSE))","v":{"$error":"#N/A"}},null,"",null,null,null,{"$f":"HLOOKUP(Report!BA12,Homework!$I$2:$L$3,2,FALSE)","v":{"$error":"#N/A"}},{"$error":"#N/A"},{"$f":"IF(BA12=0,\"\",BC12+VLOOKUP(BA12,Code!$B$2:$C$6,2,FALSE))","v":""},{"$f":"IF(AND(VLOOKUP(BD12,Homework!D:J,2,FALSE)=\"'s \",RIGHT(G12,1)=\"s\"),\"' \",IF(VLOOKUP(BD12,Homework!D:J,2,FALSE)=\"'s \",\"'s \",\" \"))","v":" "},{"$f":"IF(BA12=0,\"\",IF(I12=\"F\",\" \"&G12&BE12&VLOOKUP(BD12,Homework!D:J,3,FALSE),\" \"&G12&BE12&VLOOKUP(BD12,Homework!D:J,5,FALSE)))","v":""},null,null,null,null,null,null,null,null,null,{"$f":"VLOOKUP(BO12,Code!$B$45:$D$48,2,FALSE)","v":{"$error":"#N/A"}},{"$f":"VLOOKUP(BO12,Code!$B$45:$D$48,3,FALSE)","v":{"$error":"#N/A"}},{"$error":"#N/A"},null,"pen","pencil","ruler",null,null,"","","",null,4,{"$f":"HLOOKUP(Report!CC12,Behaviour!$H$2:$K$3,2,FALSE)","v":2},1,{"$f":"CE12+VLOOKUP(CC12,Code!$B$2:$C$6,2,FALSE)","v":10001},{"$f":"IF(CC12=0,\"\",IF(I12=\"F\",AC12&\" \"&VLOOKUP(CF12,Behaviour!D:I,2,FALSE)&\" \",AC12&\" \"&VLOOKUP(CF12,Behaviour!D:I,4,FALSE)&\" \"))","v":{"$error":"#N/A"}},null,null,{"$f":"'Front Sheet'!CM16","v":0},{"$f":"'Front Sheet'!CI16","v":""},{"$f":"IF(CJ12=0,\"\",VLOOKUP(CJ12,Code!$B$59:$D$61,2,FALSE))","v":""},{"$f":"IF(CJ12=0,\"\",VLOOKUP(CJ12,Code!$B$59:$D$61,3,FALSE))","v":""},{"$error":"#VALUE!"},{"$error":"#VALUE!"},{"$error":"#VALUE!"},{"$error":"#VALUE!"},"",null,null,"",null,null,"",{"$error":"#VALUE!"},null,null,null,{"$error":"#VALUE!"},{"$f":"VLOOKUP(Report!DC12,Code!$B$24:$C$32,2,FALSE)","v":{"$error":"#VALUE!"}},{"$f":"VLOOKUP(Report!DC12,Code!$B$24:$D$32,3,FALSE)","v":{"$error":"#VALUE!"}},{"$error":"#VALUE!"},{"$error":"#VALUE!"}," ",null,null,null,null,null,null,null,{"$f":"VLOOKUP(Report!DO12,Code!$B$40:$D$42,2,FALSE)","v":{"$error":"#N/A"}},{"$f":"VLOOKUP(Report!DO12,Code!$B$40:$D$42,3,FALSE)","v":{"$error":"#N/A"}},{"$error":"#N/A"},null,{"$error":"#N/A"},"highest common factor","percentage increase","odd numbers","",null,null,null,null,"",""]
[null,null,null,null,5,null,{"$f":"'Front Sheet'!AE17","v":""},{"$f":"'Front Sheet'!AF17","v":"  "},null,null,null,null,null,null,null,null,null,null,null,null,"Type_2",{"$f":"'Front Sheet'!AJ17","v":""},{"$error":"#N/A"},{"$f":"'Front Sheet'!AM17","v":""},{"$error":"#N/A"},{"$error":"#N/A"},null,{"$f":"IF(I13=\"F\",\"she\",\"he\")","v":"he"},{"$f":"IF(I13=\"F\",\"She\",\"He\")","v":"He"},"his","His",null,null,null,{"$f":"HLOOKUP(Report!AH13,Person!$H$2:$L$3,2,FALSE)","v":{"$error":"#N/A"}},{"$error":"#N/A"},{"$f":"IF(AH13=0,\"\",AJ13+VLOOKUP(AH13,Code!$B$2:$C$6,2,FALSE))","v":""},{"$f":"IF(AH13=0,\"\",IF(I13=\"F\",G13&\" \"&VLOOKUP(AK13,Person!D:I,2,FALSE),G13&\" \"&VLOOKUP(AK13,Person!D:I,4,FALSE)))","v":""},null,null,null,null,null,null,null,null,{"$f":"VLOOKUP(AT13,Code!$B$51:$D$55,2,FALSE)","v":{"$error":"#N/A"}},{"$f":"RANDBETWEEN(1,VLOOKUP(AT13,Code!$B$51:$D$55,3,FALSE))","v":{"$error":"#N/A"}},null,"",null,null,null,{"$f":"HLOOKUP(Report!BA13,Homework!$I$2:$L$3,2,FALSE)","v":{"$error":"#N/A"}},{"$error":"#N/A"},{"$f":"IF(BA13=0,\"\",BC13+VLOOKUP(BA13,Code!$B$2:$C$6,2,FALSE))","v":""},{"$f":"IF(AND(VLOOKUP(BD13,Homework!D:J,2,FALSE)=\"'s \",RIGHT(G13,1)=\"s\"),\"' \",IF(VLOOKUP(BD13,Homework!D:J,2,FALSE)=\"'s \",\"'s \",\" \"))","v":" "},{"$f":"IF(BA13=0,\"\",IF(I13=\"F\",\" \"&G13&BE13&VLOOKUP(BD13,Homework!D:J,3,FALSE),\" \"&G13&BE13&VLOOKUP(BD13,Homework!D:J,5,FALSE)))","v":""},null,null,null,null,null,null,null,null,null,{"$f":"VLOOKUP(BO13,Code!$B$45:$D$48,2,FALSE)","v":{"$error":"#N/A"}},{"$f":"VLOOKUP(BO13,Code!$B$45:$D$48,3,FALSE)","v":{"$error":"#N/A"}},{"$error":"#N/A"},null,"pen","pencil","ruler",null,null,"","","",null,5,{"$f":"HLOOKUP(Report!CC13,Behaviour!$H$2:$K$3,2,FALSE)","v":{"$error":"#N/A"}},{"$error":"#N/A"},{"$f":"CE13+VLOOKUP(CC13,Code!$B$2:$C$6,2,FALSE)","v":{"$error":"#N/A"}},{"$f":"IF(CC13=0,\"\",IF(I13=\"F\",AC13&\" \"&VLOOKUP(CF13,Behaviour!D:I,2,FALSE)&\" \",AC13&\" \"&VLOOKUP(CF13,Behaviour!D:I,4,FALSE)&\" \"))","v":{"$error":"#N/A"}},null,null,{"$f":"'Front Sheet'!CM17","v":0},{"$f":"'Front Sheet'!CI17","v":""},{"$f":"IF(CJ13=0,\"\",VLOOKUP(CJ13,Code!$B$59:$D$61,2,FALSE))","v":""},{"$f":"IF(CJ13=0,\"\",VLOOKUP(CJ13,Code!$B$59:$D$61,3,FALSE))","v":""},{"$error":"#VALUE!"},{"$error":"#VALUE!"},{"$error":"#VALUE!"},{"$error":"#VALUE!"},"",null,null,"",null,null,"",{"$error":"#VALUE!"},null,null,null,{"$error":"#VALUE!"},{"$f":"VLOOKUP(Report!DC13,Code!$B$24:$C$32,2,FALSE)","v":{"$error":"#VALUE!"}},{"$f":"VLOOKUP(Report!DC13,Code!$B$24:$D$32,3,FALSE)","v":{"$error":"#VALUE!"}},{"$error":"#VALUE!"},{"$error":"#VALUE!"}," ",null,null,null,null,null,null,null,{"$f":"VLOOKUP(Report!DO13,Code!$B$40:$D$42,2,FALSE)","v":{"$error":"#N/A"}},{"$f":"VLOOKUP(Report!DO13,Code!$B$40:$D$42,3,FALSE)","v":{"$error":"#N/A"}},{"$error":"#N/A"},null,{"$error":"#N/A"},"number","number","number","",null,null,null,null,{"$f":"IF(LEN(G13)<1,\"\",IF(OR(I13=\"F\",I13=\"M\"),(IF(ISERROR(AL13&AX13&BF13&CA13&CR13&DH13&DX13),\"\",AL13&AX13&BF13&CA13&CR13&DH13&DX13)),\"\"))","v":""},""]
[null,null,null,null,6,null,{"$f":"'Front Sheet'!AE18","v":""},{"$f":"'Front Sheet'!AF18","v":"  "},null,null,null,null,null,null,null,null,null,null,null,null,"Type_2",{"$f":"'Front Sheet'!AJ18","v":""},{"$error":"#N/A"},{"$f":"'Front Sheet'!AM18","v":""},{"$error":"#N/A"},{"$error":"#N/A"},null,"he","He","his","His",null,null,null,{"$f":"HLOOKUP(Report!AH14,Person!$H$2:$L$3,2,FALSE)","v":{"$error":"#N/A"}},{"$error":"#N/A"},{"$f":"IF(AH14=0,\"\",AJ14+VLOOKUP(AH14,Code!$B$2:$C$6,2,FALSE))","v":""},{"$f":"IF(AH14=0,\"\",IF(I14=\"F\",G14&\" \"&VLOOKUP(AK14,Person!D:I,2,FALSE),G14&\" \"&VLOOKUP(AK14,Person!D:I,4,FALSE)))","v":""},null,null,null,null,null,null,null,null,{"$f":"VLOOKUP(AT14,Code!$B$51:$D$55,2,FALSE)","v":{"$error":"#N/A"}},{"$f":"RANDBETWEEN(1,VLOOKUP(AT14,Code!$B$51:$D$55,3,FALSE))","v":{"$error":"#N/A"}},null,"",null,null,null,{"$f":"HLOOKUP(Report!BA14,Homework!$I$2:$L$3,2,FALSE)","v":{"$error":"#N/A"}},{"$error":"#N/A"},{"$f":"IF(BA14=0,\"\",BC14+VLOOKUP(BA14,Code!$B$2:$C$6,2,FALSE))","v":""},{"$f":"IF(AND(VLOOKUP(BD14,Homework!D:J,2,FALSE)=\"'s \",RIGHT(G14,1)=\"s\"),\"' \",IF(VLOOKUP(BD14,Homework!D:J,2,FALSE)=\"'s \",\"'s \",\" \"))","v":" "},{"$f":"IF(BA14=0,\"\",IF(I14=\"F\",\" \"&G14&BE14&VLOOKUP(BD14,Homework!D:J,3,FALSE),\" \"&G14&BE14&VLOOKUP(BD14,Homework!D:J,5,FALSE)))","v":""},null,null,null,null,null,null,null,null,null,{"$f":"VLOOKUP(BO14,Code!$B$45:$D$48,2,FALSE)","v":{"$error":"#N/A"}},{"$f":"VLOOKUP(BO14,Code!$B$45:$D$48,3,FALSE)","v":{"$error":"#N/A"}},{"$error":"#N/A"},null,"pen","pencil","ruler",null,null,"","","",null,6,{"$f":"HLOOKUP(Report!CC14,Behaviour!$H$2:$K$3,2,FALSE)","v":{"$error":"#N/A"}},{"$error":"#N/A"},{"$f":"CE14+VLOOKUP(CC14,Code!$B$2:$C$6,2,FALSE)","v":{"$error":"#N/A"}},{"$f":"IF(CC14=0,\"\",IF(I14=\"F\",AC14&\" \"&VLOOKUP(CF14,Behaviour!D:I,2,FALSE)&\" \",AC14&\" \"&VLOOKUP(CF14,Behaviour!D:I,4,FALSE)&\" \"))","v":{"$error":"#N/A"}},null,null,{"$f":"'Front Sheet'!CM18","v":0},{"$f":"'Front Sheet'!CI18","v":""},{"$f":"IF(CJ14=0,\"\",VLOOKUP(CJ14,Code!$B$59:$D$61,2,FALSE))","v":""},{"$f":"IF(CJ14=0,\"\",VLOOKUP(CJ14,Code!$B$59:$D$61,3,FALSE))","v":""},{"$error":"#VALUE!"},{"$error":"#VALUE!"},{"$error":"#VALUE!"},{"$error":"#VALUE!"},"",null,null,"",null,null,"",{"$error":"#VALUE!"},null,null,null,{"$error":"#VALUE!"},{"$f":"VLOOKUP(Report!DC14,Code!$B$24:$C$32,2,FALSE)","v":{"$error":"#VALUE!"}},{"$f":"VLOOKUP(Report!DC14,Code!$B$24:$D$32,3,FALSE)","v":{"$error":"#VALUE!"}},{"$error":"#VALUE!"},{"$error":"#VALUE!"}," ",null,null,null,null,null,null,null,{"$f":"VLOOKUP(Report!DO14,Code!$B$40:$D$42,2,FALSE)","v":{"$error":"#N/A"}},{"$f":"VLOOKUP(Report!DO14,Code!$B$40:$D$42,3,FALSE)","v":{"$error":"#N/A"}},{"$error":"#N/A"},null,{"$error":"#N/A"},"number","number","number","",null,null,null,null,"",""]
[null,null,null,null,7,null,{"$f":"'Front Sheet'!AE19","v":""},{"$f":"'Front Sheet'!AF19","v":"  "},null,null,null,null,null,null,null,null,null,null,null,null,"Type_2",{"$f":"'Front Sheet'!AJ19","v":""},{"$error":"#N/A"},{"$f":"'Front Sheet'!AM19","v":""},{"$error":"#N/A"},{"$error":"#N/A"},null,"he","He","his","His",null,null,null,{"$f":"HLOOKUP(Report!AH15,Person!$H$2:$L$3,2,FALSE)","v":{"$error":"#N/A"}},{"$error":"#N/A"},{"$f":"IF(AH15=0,\"\",AJ15+VLOOKUP(AH15,Code!$B$2:$C$6,2,FALSE))","v":""},{"$f":"IF(AH15=0,\"\",IF(I15=\"F\",G15&\" \"&VLOOKUP(AK15,Person!D:I,2,FALSE),G15&\" \"&VLOOKUP(AK15,Person!D:I,4,FALSE)))","v":""},null,null,null,null,null,null,null,null,{"$f":"VLOOKUP(AT15,Code!$B$51:$D$55,2,FALSE)","v":{"$error":"#N/A"}},{"$f":"RANDBETWEEN(1,VLOOKUP(AT15,Code!$B$51:$D$55,3,FALSE))","v":{"$error":"#N/A"}},null,"",null,null,null,{"$f":"HLOOKUP(Report!BA15,Homework!$I$2:$L$3,2,FALSE)","v":{"$error":"#N/A"}},{"$error":"#N/A"},{"$f":"IF(BA15=0,\"\",BC15+VLOOKUP(BA15,Code!$B$2:$C$6,2,FALSE))","v":""},{"$f":"IF(AND(VLOOKUP(BD15,Homework!D:J,2,FALSE)=\"'s \",RIGHT(G15,1)=\"s\"),\"' \",IF(VLOOKUP(BD15,Homework!D:J,2,FALSE)=\"'s \",\"'s \",\" \"))","v":" "},{"$f":"IF(BA15=0,\"\",IF(I15=\"F\",\" \"&G15&BE15&VLOOKUP(BD15,Homework!D:J,3,FALSE),\" \"&G15&BE15&VLOOKUP(BD15,Homework!D:J,5,FALSE)))","v":""},null,null,null,null,null,null,null,null,null,{"$f":"VLOOKUP(BO15,Code!$B$45:$D$48,2,FALSE)","v":{"$error":"#N/A"}},{"$f":"VLOOKUP(BO15,Code!$B$45:$D$48,3,FALSE)","v":{"$error":"#N/A"}},{"$error":"#N/A"},null,"pen","pencil","ruler",null,null,"","","",null,7,{"$f":"HLOOKUP(Report!CC15,Behaviour!$H$2:$K$3,2,FALSE)","v":{"$error":"#N/A"}},{"$error":"#N/A"},{"$f":"CE15+VLOOKUP(CC15,Code!$B$2:$C$6,2,FALSE)","v":{"$error":"#N/A"}},{"$f":"IF(CC15=0,\"\",IF(I15=\"F\",AC15&\" \"&VLOOKUP(CF15,Behaviour!D:I,2,FALSE)&\" \",AC15&\" \"&VLOOKUP(CF15,Behaviour!D:I,4,FALSE)&\" \"))","v":{"$error":"#N/A"}},null,null,{"$f":"'Front Sheet'!CM19","v":0},{"$f":"'Front Sheet'!CI19","v":""},{"$f":"IF(CJ15=0,\"\",VLOOKUP(CJ15,Code!$B$59:$D$61,2,FALSE))","v":""},{"$f":"IF(CJ15=0,\"\",VLOOKUP(CJ15,Code!$B$59:$D$61,3,FALSE))","v":""},{"$error":"#VALUE!"},{"$error":"#VALUE!"},{"$error":"#VALUE!"},{"$error":"#VALUE!"},"",null,null,"",null,null,"",{"$error":"#VALUE!"},null,null,null,{"$error":"#VALUE!"},{"$f":"VLOOKUP(Report!DC15,Code!$B$24:$C$32,2,FALSE)","v":{"$error":"#VALUE!"}},{"$f":"VLOOKUP(Report!DC15,Code!$B$24:$D$32,3,FALSE)","v":{"$error":"#VALUE!"}},{"$error":"#VALUE!"},{"$error":"#VALUE!"}," ",null,null,null,null,null,null,null,{"$f":"VLOOKUP(Report!DO15,Code!$B$40:$D$42,2,FALSE)","v":{"$error":"#N/A"}},{"$f":"VLOOKUP(Report!DO15,Code!$B$40:$D$42,3,FALSE)","v":{"$error":"#N/A"}},{"$error":"#N/A"},null,{"$error":"#N/A"},"number","number","number","",null,null,null,null,"",{"$f":"EC15","v":""}]
[null,null,null,null,8,null,{"$f":"'Front Sheet'!AE20","v":""},{"$f":"'Front Sheet'!AF20","v":"  "},null,null,null,null,null,null,null,null,null,null,null,null,"Type_2",{"$f":"'Front Sheet'!AJ20","v":""},{"$error":"#N/A"},{"$f":"'Front Sheet'!AM20","v":""},{"$error":"#N/A"},{"$error":"#N/A"},null,"he","He","his","His",null,null,null,{"$f":"HLOOKUP(Report!AH16,Person!$H$2:$L$3,2,FALSE)","v":{"$error":"#N/A"}},{"$error":"#N/A"},{"$f":"IF(AH16=0,\"\",AJ16+VLOOKUP(AH16,Code!$B$2:$C$6,2,FALSE))","v":""},{"$f":"IF(AH16=0,\"\",IF(I16=\"F\",G16&\" \"&VLOOKUP(AK16,Person!D:I,2,FALSE),G16&\" \"&VLOOKUP(AK16,Person!D:I,4,FALSE)))","v":""},null,null,null,null,null,null,null,null,{"$f":"VLOOKUP(AT16,Code!$B$51:$D$55,2,FALSE)","v":{"$error":"#N/A"}},{"$f":"RANDBETWEEN(1,VLOOKUP(AT16,Code!$B$51:$D$55,3,FALSE))","v":{"$error":"#N/A"}},null,"",null,null,null,{"$f":"HLOOKUP(Report!BA16,Homework!$I$2:$L$3,2,FALSE)","v":{"$error":"#N/A"}},{"$error":"#N/A"},{"$f":"IF(BA16=0,\"\",BC16+VLOOKUP(BA16,Code!$B$2:$C$6,2,FALSE))","v":""},{"$f":"IF(AND(VLOOKUP(BD16,Homework!D:J,2,FALSE)=\"'s \",RIGHT(G16,1)=\"s\"),\"' \",IF(VLOOKUP(BD16,Homework!D:J,2,FALSE)=\"'s \",\"'s \",\" \"))","v":" "},{"$f":"IF(BA16=0,\"\",IF(I16=\"F\",\" \"&G16&BE16&VLOOKUP(BD16,Homework!D:J,3,FALSE),\" \"&G16&BE16&VLOOKUP(BD16,Homework!D:J,5,FALSE)))","v":""},null,null,null,null,null,null,null,null,null,{"$f":"VLOOKUP(BO16,Code!$B$45:$D$48,2,FALSE)","v":{"$error":"#N/A"}},{"$f":"VLOOKUP(BO16,Code!$B$45:$D$48,3,FALSE)","v":{"$error":"#N/A"}},{"$error":"#N/A"},null,"pen","pencil","ruler",null,null,"","","",null,8,{"$f":"HLOOKUP(Report!CC16,Behaviour!$H$2:$K$3,2,FALSE)","v":{"$error":"#N/A"}},{"$error":"#N/A"},{"$f":"CE16+VLOOKUP(CC16,Code!$B$2:$C$6,2,FALSE)","v":{"$error":"#N/A"}},{"$f":"IF(CC16=0,\"\",IF(I16=\"F\",AC16&\" \"&VLOOKUP(CF16,Behaviour!D:I,2,FALSE)&\" \",AC16&\" \"&VLOOKUP(CF16,Behaviour!D:I,4,FALSE)&\" \"))","v":{"$error":"#N/A"}},null,null,{"$f":"'Front Sheet'!CM20","v":0},{"$f":"'Front Sheet'!CI20","v":""},{"$f":"IF(CJ16=0,\"\",VLOOKUP(CJ16,Code!$B$59:$D$61,2,FALSE))","v":""},{"$f":"IF(CJ16=0,\"\",VLOOKUP(CJ16,Code!$B$59:$D$61,3,FALSE))","v":""},{"$error":"#VALUE!"},{"$error":"#VALUE!"},{"$error":"#VALUE!"},{"$error":"#VALUE!"},"",null,null,"",null,null,"",{"$error":"#VALUE!"},null,null,null,{"$error":"#VALUE!"},{"$f":"VLOOKUP(Report!DC16,Code!$B$24:$C$32,2,FALSE)","v":{"$error":"#VALUE!"}},{"$f":"VLOOKUP(Report!DC16,Code!$B$24:$D$32,3,FALSE)","v":{"$error":"#VALUE!"}},{"$error":"#VALUE!"},{"$error":"#VALUE!"}," ",null,null,null,null,null,null,null,{"$f":"VLOOKUP(Report!DO16,Code!$B$40:$D$42,2,FALSE)","v":{"$error":"#N/A"}},{"$f":"VLOOKUP(Report!DO16,Code!$B$40:$D$42,3,FALSE)","v":{"$error":"#N/A"}},{"$error":"#N/A"},null,{"$error":"#N/A"},"number","number","number","",null,null,null,null,"",{"$f":"EC16","v":""}]
[null,null,null,null,9,null,{"$f":"'Front Sheet'!AE21","v":""},{"$f":"'Front Sheet'!AF21","v":"  "},null,null,null,null,null,null,null,null,null,null,null,null,"Type_2",{"$f":"'Front Sheet'!AJ21","v":""},{"$error":"#N/A"},{"$f":"'Front Sheet'!AM21","v":""},{"$error":"#N/A"},{"$error":"#N/A"},null,"he","He","his","His",null,null,null,{"$f":"HLOOKUP(Report!AH17,Person!$H$2:$L$3,2,FALSE)","v":{"$error":"#N/A"}},{"$error":"#N/A"},{"$f":"IF(AH17=0,\"\",AJ17+VLOOKUP(AH17,Code!$B$2:$C$6,2,FALSE))","v":""},{"$f":"IF(AH17=0,\"\",IF(I17=\"F\",G17&\" \"&VLOOKUP(AK17,Person!D:I,2,FALSE),G17&\" \"&VLOOKUP(AK17,Person!D:I,4,FALSE)))","v":""},null,null,null,null,null,null,null,null,{"$f":"VLOOKUP(AT17,Code!$B$51:$D$55,2,FALSE)","v":{"$error":"#N/A"}},{"$f":"RANDBETWEEN(1,VLOOKUP(AT17,Code!$B$51:$D$55,3,FALSE))","v":{"$error":"#N/A"}},null,"",null,null,null,{"$f":"HLOOKUP(Report!BA17,Homework!$I$2:$L$3,2,FALSE)","v":{"$error":"#N/A"}},{"$error":"#N/A"},{"$f":"IF(BA17=0,\"\",BC17+VLOOKUP(BA17,Code!$B$2:$C$6,2,FALSE))","v":""},{"$f":"IF(AND(VLOOKUP(BD17,Homework!D:J,2,FALSE)=\"'s \",RIGHT(G17,1)=\"s\"),\"' \",IF(VLOOKUP(BD17,Homework!D:J,2,FALSE)=\"'s \",\"'s \",\" \"))","v":" "},{"$f":"IF(BA17=0,\"\",IF(I17=\"F\",\" \"&G17&BE17&VLOOKUP(BD17,Homework!D:J,3,FALSE),\" \"&G17&BE17&VLOOKUP(BD17,Homework!D:J,5,FALSE)))","v":""},null,null,null,null,null,null,null,null,null,{"$f":"VLOOKUP(BO17,Code!$B$45:$D$48,2,FALSE)","v":{"$error":"#N/A"}},{"$f":"VLOOKUP(BO17,Code!$B$45:$D$48,3,FALSE)","v":{"$error":"#N/A"}},{"$error":"#N/A"},null,"pen","pencil","ruler",null,null,"","","",null,9,{"$f":"HLOOKUP(Report!CC17,Behaviour!$H$2:$K$3,2,FALSE)","v":{"$error":"#N/A"}},{"$error":"#N/A"},{"$f":"CE17+VLOOKUP(CC17,Code!$B$2:$C$6,2,FALSE)","v":{"$error":"#N/A"}},{"$f":"IF(CC17=0,\"\",IF(I17=\"F\",AC17&\" \"&VLOOKUP(CF17,Behaviour!D:I,2,FALSE)&\" \",AC17&\" \"&VLOOKUP(CF17,Behaviour!D:I,4,FALSE)&\" \"))","v":{"$error":"#N/A"}},null,null,{"$f":"'Front Sheet'!CM21","v":0},{"$f":"'Front Sheet'!CI21","v":""},{"$f":"IF(CJ17=0,\"\",VLOOKUP(CJ17,Code!$B$59:$D$61,2,FALSE))","v":""},{"$f":"IF(CJ17=0,\"\",VLOOKUP(CJ17,Code!$B$59:$D$61,3,FALSE))","v":""},{"$error":"#VALUE!"},{"$error":"#VALUE!"},{"$error":"#VALUE!"},{"$error":"#VALUE!"},"",null,null,"",null,null,"",{"$error":"#VALUE!"},null,null,null,{"$error":"#VALUE!"},{"$f":"VLOOKUP(Report!DC17,Code!$B$24:$C$32,2,FALSE)","v":{"$error":"#VALUE!"}},{"$f":"VLOOKUP(Report!DC17,Code!$B$24:$D$32,3,FALSE)","v":{"$error":"#VALUE!"}},{"$error":"#VALUE!"},{"$error":"#VALUE!"}," ",null,null,null,null,null,null,null,{"$f":"VLOOKUP(Report!DO17,Code!$B$40:$D$42,2,FALSE)","v":{"$error":"#N/A"}},{"$f":"VLOOKUP(Report!DO17,Code!$B$40:$D$42,3,FALSE)","v":{"$error":"#N/A"}},{"$error":"#N/A"},null,{"$error":"#N/A"},"number","number","number","",null,null,null,null,"",""]
[null,null,null,null,10,null,{"$f":"'Front Sheet'!AE22","v":""},{"$f":"'Front Sheet'!AF22","v":"  "},null,null,null,null,null,null,null,null,null,null,null,null,"Type_2",{"$f":"'Front Sheet'!AJ22","v":""},{"$error":"#N/A"},{"$f":"'Front Sheet'!AM22","v":""},{"$error":"#N/A"},{"$error":"#N/A"},null,"he","He","his","His",null,null,null,{"$f":"HLOOKUP(Report!AH18,Person!$H$2:$L$3,2,FALSE)","v":{"$error":"#N/A"}},{"$error":"#N/A"},{"$f":"IF(AH18=0,\"\",AJ18+VLOOKUP(AH18,Code!$B$2:$C$6,2,FALSE))","v":""},{"$f":"IF(AH18=0,\"\",IF(I18=\"F\",G18&\" \"&VLOOKUP(AK18,Person!D:I,2,FALSE),G18&\" \"&VLOOKUP(AK18,Person!D:I,4,FALSE)))","v":""},null,null,null,null,null,null,null,null,{"$f":"VLOOKUP(AT18,Code!$B$51:$D$55,2,FALSE)","v":{"$error":"#N/A"}},{"$f":"RANDBETWEEN(1,VLOOKUP(AT18,Code!$B$51:$D$55,3,FALSE))","v":{"$error":"#N/A"}},null,"",null,null,null,{"$f":"HLOOKUP(Report!BA18,Homework!$I$2:$L$3,2,FALSE)","v":{"$error":"#N/A"}},{"$error":"#N/A"},{"$f":"IF(BA18=0,\"\",BC18+VLOOKUP(BA18,Code!$B$2:$C$6,2,FALSE))","v":""},{"$f":"IF(AND(VLOOKUP(BD18,Homework!D:J,2,FALSE)=\"'s \",RIGHT(G18,1)=\"s\"),\"' \",IF(VLOOKUP(BD18,Homework!D:J,2,FALSE)=\"'s \",\"'s \",\" \"))","v":" "},{"$f":"IF(BA18=0,\"\",IF(I18=\"F\",\" \"&G18&BE18&VLOOKUP(BD18,Homework!D:J,3,FALSE),\" \"&G18&BE18&VLOOKUP(BD18,Homework!D:J,5,FALSE)))","v":""},null,null,null,null,null,null,null,null,null,{"$f":"VLOOKUP(BO18,Code!$B$45:$D$48,2,FALSE)","v":{"$error":"#N/A"}},{"$f":"VLOOKUP(BO18,Code!$B$45:$D$48,3,FALSE)","v":{"$error":"#N/A"}},{"$error":"#N/A"},null,"pen","pencil","ruler",null,null,"","","",null,10,{"$f":"HLOOKUP(Report!CC18,Behaviour!$H$2:$K$3,2,FALSE)","v":{"$error":"#N/A"}},{"$error":"#N/A"},{"$f":"CE18+VLOOKUP(CC18,Code!$B$2:$C$6,2,FALSE)","v":{"$error":"#N/A"}},{"$f":"IF(CC18=0,\"\",IF(I18=\"F\",AC18&\" \"&VLOOKUP(CF18,Behaviour!D:I,2,FALSE)&\" \",AC18&\" \"&VLOOKUP(CF18,Behaviour!D:I,4,FALSE)&\" \"))","v":{"$error":"#N/A"}},null,null,{"$f":"'Front Sheet'!CM22","v":0},{"$f":"'Front Sheet'!CI22","v":""},{"$f":"IF(CJ18=0,\"\",VLOOKUP(CJ18,Code!$B$59:$D$61,2,FALSE))","v":""},{"$f":"IF(CJ18=0,\"\",VLOOKUP(CJ18,Code!$B$59:$D$61,3,FALSE))","v":""},{"$error":"#VALUE!"},{"$error":"#VALUE!"},{"$error":"#VALUE!"},{"$error":"#VALUE!"},"",null,null,"",null,null,"",{"$error":"#VALUE!"},null,null,null,{"$error":"#VALUE!"},{"$f":"VLOOKUP(Report!DC18,Code!$B$24:$C$32,2,FALSE)","v":{"$error":"#VALUE!"}},{"$f":"VLOOKUP(Report!DC18,Code!$B$24:$D$32,3,FALSE)","v":{"$error":"#VALUE!"}},{"$error":"#VALUE!"},{"$error":"#VALUE!"}," ",null,null,null,null,null,null,null,{"$f":"VLOOKUP(Report!DO18,Code!$B$40:$D$42,2,FALSE)","v":{"$error":"#N/A"}},{"$f":"VLOOKUP(Report!DO18,Code!$B$40:$D$42,3,FALSE)","v":{"$error":"#N/A"}},{"$error":"#N/A"},null,{"$error":"#N/A"},"number","number","number","",null,null,null,null,"",{"$f":"EC18","v":""}]
[null,null,null,null,11,null,{"$f":"'Front Sheet'!AE23","v":""},{"$f":"'Front Sheet'!AF23","v":"  "},null,null,null,null,null,null,null,null,null,null,null,null,"Type_2",{"$f":"'Front Sheet'!AJ23","v":""},{"$error":"#N/A"},{"$f":"'Front Sheet'!AM23","v":""},{"$error":"#N/A"},{"$error":"#N/A"},null,"he","He","his","His",null,null,null,{"$f":"HLOOKUP(Report!AH19,Person!$H$2:$L$3,2,FALSE)","v":{"$error":"#N/A"}},{"$error":"#N/A"},{"$f":"IF(AH19=0,\"\",AJ19+VLOOKUP(AH19,Code!$B$2:$C$6,2,FALSE))","v":""},{"$f":"IF(AH19=0,\"\",IF(I19=\"F\",G19&\" \"&VLOOKUP(AK19,Person!D:I,2,FALSE),G19&\" \"&VLOOKUP(AK19,Person!D:I,4,FALSE)))","v":""},null,null,null,null,null,null,null,null,{"$f":"VLOOKUP(AT19,Code!$B$51:$D$55,2,FALSE)","v":{"$error":"#N/A"}},{"$f":"RANDBETWEEN(1,VLOOKUP(AT19,Code!$B$51:$D$55,3,FALSE))","v":{"$error":"#N/A"}},null,"",null,null,null,{"$f":"HLOOKUP(Report!BA19,Homework!$I$2:$L$3,2,FALSE)","v":{"$error":"#N/A"}},{"$error":"#N/A"},{"$f":"IF(BA19=0,\"\",BC19+VLOOKUP(BA19,Code!$B$2:$C$6,2,FALSE))","v":""},{"$f":"IF(AND(VLOOKUP(BD19,Homework!D:J,2,FALSE)=\"'s \",RIGHT(G19,1)=\"s\"),\"' \",IF(VLOOKUP(BD19,Homework!D:J,2,FALSE)=\"'s \",\"'s \",\" \"))","v":" "},{"$f":"IF(BA19=0,\"\",IF(I19=\"F\",\" \"&G19&BE19&VLOOKUP(BD19,Homework!D:J,3,FALSE),\" \"&G19&BE19&VLOOKUP(BD19,Homework!D:J,5,FALSE)))","v":""},null,null,null,null,null,null,null,null,null,{"$f":"VLOOKUP(BO19,Code!$B$45:$D$48,2,FALSE)","v":{"$error":"#N/A"}},{"$f":"VLOOKUP(BO19,Code!$B$45:$D$48,3,FALSE)","v":{"$error":"#N/A"}},{"$error":"#N/A"},null,"pen","pencil","ruler",null,null,"","","",null,11,{"$f":"HLOOKUP(Report!CC19,Behaviour!$H$2:$K$3,2,FALSE)","v":{"$error":"#N/A"}},{"$error":"#N/A"},{"$f":"CE19+VLOOKUP(CC19,Code!$B$2:$C$6,2,FALSE)","v":{"$error":"#N/A"}},{"$f":"IF(CC19=0,\"\",IF(I19=\"F\",AC19&\" \"&VLOOKUP(CF19,Behaviour!D:I,2,FALSE)&\" \",AC19&\" \"&VLOOKUP(CF19,Behaviour!D:I,4,FALSE)&\" \"))","v":{"$error":"#N/A"}},null,null,{"$f":"'Front Sheet'!CM23","v":0},{"$f":"'Front Sheet'!CI23","v":""},{"$f":"IF(CJ19=0,\"\",VLOOKUP(CJ19,Code!$B$59:$D$61,2,FALSE))","v":""},{"$f":"IF(CJ19=0,\"\",VLOOKUP(CJ19,Code!$B$59:$D$61,3,FALSE))","v":""},{"$error":"#VALUE!"},{"$error":"#VALUE!"},{"$error":"#VALUE!"},{"$error":"#VALUE!"},"",null,null,"",null,null,"",{"$error":"#VALUE!"},null,null,null,{"$error":"#VALUE!"},{"$f":"VLOOKUP(Report!DC19,Code!$B$24:$C$32,2,FALSE)","v":{"$error":"#VALUE!"}},{"$f":"VLOOKUP(Report!DC19,Code!$B$24:$D$32,3,FALSE)","v":{"$error":"#VALUE!"}},{"$error":"#VALUE!"},{"$error":"#VALUE!"}," ",null,null,null,null,null,null,null,{"$f":"VLOOKUP(Report!DO19,Code!$B$40:$D$42,2,FALSE)","v":{"$error":"#N/A"}},{"$f":"VLOOKUP(Report!DO19,Code!$B$40:$D$42,3,FALSE)","v":{"$error":"#N/A"}},{"$error":"#N/A"},null,{"$error":"#N/A"},"number","number","number","",null,null,null,null,"",""]
[null,null,null,null,12,null,{"$f":"'Front Sheet'!AE24","v":""},{"$f":"'Front Sheet'!AF24","v":"  "},null,null,null,null,null,null,null,null,null,null,null,null,"Type_2",{"$f":"'Front Sheet'!AJ24","v":""},{"$error":"#N/A"},{"$f":"'Front Sheet'!AM24","v":""},{"$error":"#N/A"},{"$error":"#N/A"},null,"he","He","his","His",null,null,null,{"$f":"HLOOKUP(Report!AH20,Person!$H$2:$L$3,2,FALSE)","v":{"$error":"#N/A"}},{"$error":"#N/A"},{"$f":"IF(AH20=0,\"\",AJ20+VLOOKUP(AH20,Code!$B$2:$C$6,2,FALSE))","v":""},{"$f":"IF(AH20=0,\"\",IF(I20=\"F\",G20&\" \"&VLOOKUP(AK20,Person!D:I,2,FALSE),G20&\" \"&VLOOKUP(AK20,Person!D:I,4,FALSE)))","v":""},null,null,null,null,null,null,null,null,{"$f":"VLOOKUP(AT20,Code!$B$51:$D$55,2,FALSE)","v":{"$error":"#N/A"}},{"$f":"RANDBETWEEN(1,VLOOKUP(AT20,Code!$B$51:$D$55,3,FALSE))","v":{"$error":"#N/A"}},null,"",null,null,null,{"$f":"HLOOKUP(Report!BA20,Homework!$I$2:$L$3,2,FALSE)","v":{"$error":"#N/A"}},{"$error":"#N/A"},{"$f":"IF(BA20=0,\"\",BC20+VLOOKUP(BA20,Code!$B$2:$C$6,2,FALSE))","v":""},{"$f":"IF(AND(VLOOKUP(BD20,Homework!D:J,2,FALSE)=\"'s \",RIGHT(G20,1)=\"s\"),\"' \",IF(VLOOKUP(BD20,Homework!D:J,2,FALSE)=\"'s \",\"'s \",\" \"))","v":" "},{"$f":"IF(BA20=0,\"\",IF(I20=\"F\",\" \"&G20&BE20&VLOOKUP(BD20,Homework!D:J,3,FALSE),\" \"&G20&BE20&VLOOKUP(BD20,Homework!D:J,5,FALSE)))","v":""},null,null,null,null,null,null,null,null,null,{"$f":"VLOOKUP(BO20,Code!$B$45:$D$48,2,FALSE)","v":{"$error":"#N/A"}},{"$f":"VLOOKUP(BO20,Code!$B$45:$D$48,3,FALSE)","v":{"$error":"#N/A"}},{"$error":"#N/A"},null,"pen","pencil","ruler",null,null,"","","",null,12,{"$f":"HLOOKUP(Report!CC20,Behaviour!$H$2:$K$3,2,FALSE)","v":{"$error":"#N/A"}},{"$error":"#N/A"},{"$f":"CE20+VLOOKUP(CC20,Code!$B$2:$C$6,2,FALSE)","v":{"$error":"#N/A"}},{"$f":"IF(CC20=0,\"\",IF(I20=\"F\",AC20&\" \"&VLOOKUP(CF20,Behaviour!D:I,2,FALSE)&\" \",AC20&\" \"&VLOOKUP(CF20,Behaviour!D:I,4,FALSE)&\" \"))","v":{"$error":"#N/A"}},null,null,{"$f":"'Front Sheet'!CM24","v":0},{"$f":"'Front Sheet'!CI24","v":""},{"$f":"IF(CJ20=0,\"\",VLOOKUP(CJ20,Code!$B$59:$D$61,2,FALSE))","v":""},{"$f":"IF(CJ20=0,\"\",VLOOKUP(CJ20,Code!$B$59:$D$61,3,FALSE))","v":""},{"$error":"#VALUE!"},{"$error":"#VALUE!"},{"$error":"#VALUE!"},{"$error":"#VALUE!"},"",null,null,"",null,null,"",{"$error":"#VALUE!"},null,null,null,{"$error":"#VALUE!"},{"$f":"VLOOKUP(Report!DC20,Code!$B$24:$C$32,2,FALSE)","v":{"$error":"#VALUE!"}},{"$f":"VLOOKUP(Report!DC20,Code!$B$24:$D$32,3,FALSE)","v":{"$error":"#VALUE!"}},{"$error":"#VALUE!"},{"$error":"#VALUE!"}," ",null,null,null,null,null,null,null,{"$f":"VLOOKUP(Report!DO20,Code!$B$40:$D$42,2,FALSE)","v":{"$error":"#N/A"}},{"$f":"VLOOKUP(Report!DO20,Code!$B$40:$D$42,3,FALSE)","v":{"$error":"#N/A"}},{"$error":"#N/A"},null,{"$error":"#N/A"},"number","number","number","",null,null,null,null,"",""]
[null,null,null,null,13,null,{"$f":"'Front Sheet'!AE25","v":""},{"$f":"'Front Sheet'!AF25","v":"  "},null,null,null,null,null,null,null,null,null,null,null,null,"Type_2",{"$f":"'Front Sheet'!AJ25","v":""},{"$error":"#N/A"},{"$f":"'Front Sheet'!AM25","v":""},{"$error":"#N/A"},{"$error":"#N/A"},null,"he","He","his","His",null,null,null,{"$f":"HLOOKUP(Report!AH21,Person!$H$2:$L$3,2,FALSE)","v":{"$error":"#N/A"}},{"$error":"#N/A"},{"$f":"IF(AH21=0,\"\",AJ21+VLOOKUP(AH21,Code!$B$2:$C$6,2,FALSE))","v":""},{"$f":"IF(AH21=0,\"\",IF(I21=\"F\",G21&\" \"&VLOOKUP(AK21,Person!D:I,2,FALSE),G21&\" \"&VLOOKUP(AK21,Person!D:I,4,FALSE)))","v":""},null,null,null,null,null,null,null,null,{"$f":"VLOOKUP(AT21,Code!$B$51:$D$55,2,FALSE)","v":{"$error":"#N/A"}},{"$f":"RANDBETWEEN(1,VLOOKUP(AT21,Code!$B$51:$D$55,3,FALSE))","v":{"$error":"#N/A"}},null,"",null,null,null,{"$f":"HLOOKUP(Report!BA21,Homework!$I$2:$L$3,2,FALSE)","v":{"$error":"#N/A"}},{"$error":"#N/A"},{"$f":"IF(BA21=0,\"\",BC21+VLOOKUP(BA21,Code!$B$2:$C$6,2,FALSE))","v":""},{"$f":"IF(AND(VLOOKUP(BD21,Homework!D:J,2,FALSE)=\"'s \",RIGHT(G21,1)=\"s\"),\"' \",IF(VLOOKUP(BD21,Homework!D:J,2,FALSE)=\"'s \",\"'s \",\" \"))","v":" "},{"$f":"IF(BA21=0,\"\",IF(I21=\"F\",\" \"&G21&BE21&VLOOKUP(BD21,Homework!D:J,3,FALSE),\" \"&G21&BE21&VLOOKUP(BD21,Homework!D:J,5,FALSE)))","v":""},null,null,null,null,null,null,null,null,null,{"$f":"VLOOKUP(BO21,Code!$B$45:$D$48,2,FALSE)","v":{"$error":"#N/A"}},{"$f":"VLOOKUP(BO21,Code!$B$45:$D$48,3,FALSE)","v":{"$error":"#N/A"}},{"$error":"#N/A"},null,"pen","pencil","ruler",null,null,"","","",null,13,{"$f":"HLOOKUP(Report!CC21,Behaviour!$H$2:$K$3,2,FALSE)","v":{"$error":"#N/A"}},{"$error":"#N/A"},{"$f":"CE21+VLOOKUP(CC21,Code!$B$2:$C$6,2,FALSE)","v":{"$error":"#N/A"}},{"$f":"IF(CC21=0,\"\",IF(I21=\"F\",AC21&\" \"&VLOOKUP(CF21,Behaviour!D:I,2,FALSE)&\" \",AC21&\" \"&VLOOKUP(CF21,Behaviour!D:I,4,FALSE)&\" \"))","v":{"$error":"#N/A"}},null,null,{"$f":"'Front Sheet'!CM25","v":0},{"$f":"'Front Sheet'!CI25","v":""},{"$f":"IF(CJ21=0,\"\",VLOOKUP(CJ21,Code!$B$59:$D$61,2,FALSE))","v":""},{"$f":"IF(CJ21=0,\"\",VLOOKUP(CJ21,Code!$B$59:$D$61,3,FALSE))","v":""},{"$error":"#VALUE!"},{"$error":"#VALUE!"},{"$error":"#VALUE!"},{"$error":"#VALUE!"},"",null,null,"",null,null,"",{"$error":"#VALUE!"},null,null,null,{"$error":"#VALUE!"},{"$f":"VLOOKUP(Report!DC21,Code!$B$24:$C$32,2,FALSE)","v":{"$error":"#VALUE!"}},{"$f":"VLOOKUP(Report!DC21,Code!$B$24:$D$32,3,FALSE)","v":{"$error":"#VALUE!"}},{"$error":"#VALUE!"},{"$error":"#VALUE!"}," ",null,null,null,null,null,null,null,{"$f":"VLOOKUP(Report!DO21,Code!$B$40:$D$42,2,FALSE)","v":{"$error":"#N/A"}},{"$f":"VLOOKUP(Report!DO21,Code!$B$40:$D$42,3,FALSE)","v":{"$error":"#N/A"}},{"$error":"#N/A"},null,{"$error":"#N/A"},"number","number","number","",null,null,null,null,"",""]
[null,null,null,null,14,null,{"$f":"'Front Sheet'!AE26","v":""},{"$f":"'Front Sheet'!AF26","v":"  "},null,null,null,null,null,null,null,null,null,null,null,null,"Type_2",{"$f":"'Front Sheet'!AJ26","v":""},{"$error":"#N/A"},{"$f":"'Front Sheet'!AM26","v":""},{"$error":"#N/A"},{"$error":"#N/A"},null,"he","He","his","His",null,null,null,{"$f":"HLOOKUP(Report!AH22,Person!$H$2:$L$3,2,FALSE)","v":{"$error":"#N/A"}},{"$error":"#N/A"},{"$f":"IF(AH22=0,\"\",AJ22+VLOOKUP(AH22,Code!$B$2:$C$6,2,FALSE))","v":""},{"$f":"IF(AH22=0,\"\",IF(I22=\"F\",G22&\" \"&VLOOKUP(AK22,Person!D:I,2,FALSE),G22&\" \"&VLOOKUP(AK22,Person!D:I,4,FALSE)))","v":""},null,null,null,null,null,null,null,null,{"$f":"VLOOKUP(AT22,Code!$B$51:$D$55,2,FALSE)","v":{"$error":"#N/A"}},{"$f":"RANDBETWEEN(1,VLOOKUP(AT22,Code!$B$51:$D$55,3,FALSE))","v":{"$error":"#N/A"}},null,"",null,null,null,{"$f":"HLOOKUP(Report!BA22,Homework!$I$2:$L$3,2,FALSE)","v":{"$error":"#N/A"}},{"$error":"#N/A"},{"$f":"IF(BA22=0,\"\",BC22+VLOOKUP(BA22,Code!$B$2:$C$6,2,FALSE))","v":""},{"$f":"IF(AND(VLOOKUP(BD22,Homework!D:J,2,FALSE)=\"'s \",RIGHT(G22,1)=\"s\"),\"' \",IF(VLOOKUP(BD22,Homework!D:J,2,FALSE)=\"'s \",\"'s \",\" \"))","v":" "},{"$f":"IF(BA22=0,\"\",IF(I22=\"F\",\" \"&G22&BE22&VLOOKUP(BD22,Homework!D:J,3,FALSE),\" \"&G22&BE22&VLOOKUP(BD22,Homework!D:J,5,FALSE)))","v":""},null,null,null,null,null,null,null,null,null,{"$f":"VLOOKUP(BO22,Code!$B$45:$D$48,2,FALSE)","v":{"$error":"#N/A"}},{"$f":"VLOOKUP(BO22,Code!$B$45:$D$48,3,FALSE)","v":{"$error":"#N/A"}},{"$error":"#N/A"},null,"pen","pencil","ruler",null,null,"","","",null,14,{"$f":"HLOOKUP(Report!CC22,Behaviour!$H$2:$K$3,2,FALSE)","v":{"$error":"#N/A"}},{"$error":"#N/A"},{"$f":"CE22+VLOOKUP(CC22,Code!$B$2:$C$6,2,FALSE)","v":{"$error":"#N/A"}},{"$f":"IF(CC22=0,\"\",IF(I22=\"F\",AC22&\" \"&VLOOKUP(CF22,Behaviour!D:I,2,FALSE)&\" \",AC22&\" \"&VLOOKUP(CF22,Behaviour!D:I,4,FALSE)&\" \"))","v":{"$error":"#N/A"}},null,null,{"$f":"'Front Sheet'!CM26","v":0},{"$f":"'Front Sheet'!CI26","v":""},{"$f":"IF(CJ22=0,\"\",VLOOKUP(CJ22,Code!$B$59:$D$61,2,FALSE))","v":""},{"$f":"IF(CJ22=0,\"\",VLOOKUP(CJ22,Code!$B$59:$D$61,3,FALSE))","v":""},{"$error":"#VALUE!"},{"$error":"#VALUE!"},{"$error":"#VALUE!"},{"$error":"#VALUE!"},"",null,null,"",null,null,"",{"$error":"#VALUE!"},null,null,null,{"$error":"#VALUE!"},{"$f":"VLOOKUP(Report!DC22,Code!$B$24:$C$32,2,FALSE)","v":{"$error":"#VALUE!"}},{"$f":"VLOOKUP(Report!DC22,Code!$B$24:$D$32,3,FALSE)","v":{"$error":"#VALUE!"}},{"$error":"#VALUE!"},{"$error":"#VALUE!"}," ",null,null,null,null,null,null,null,{"$f":"VLOOKUP(Report!DO22,Code!$B$40:$D$42,2,FALSE)","v":{"$error":"#N/A"}},{"$f":"VLOOKUP(Report!DO22,Code!$B$40:$D$42,3,FALSE)","v":{"$error":"#N/A"}},{"$error":"#N/A"},null,{"$error":"#N/A"},"number","number","number","",null,null,null,null,"",""]
[null,null,null,null,15,null,{"$f":"'Front Sheet'!AE27","v":""},{"$f":"'Front Sheet'!AF27","v":"  "},null,null,null,null,null,null,null,null,null,null,null,null,"Type_2",{"$f":"'Front Sheet'!AJ27","v":""},{"$error":"#N/A"},{"$f":"'Front Sheet'!AM27","v":""},{"$error":"#N/A"},{"$error":"#N/A"},null,"he","He","his","His",null,null,null,{"$f":"HLOOKUP(Report!AH23,Person!$H$2:$L$3,2,FALSE)","v":{"$error":"#N/A"}},{"$error":"#N/A"},{"$f":"IF(AH23=0,\"\",AJ23+VLOOKUP(AH23,Code!$B$2:$C$6,2,FALSE))","v":""},{"$f":"IF(AH23=0,\"\",IF(I23=\"F\",G23&\" \"&VLOOKUP(AK23,Person!D:I,2,FALSE),G23&\" \"&VLOOKUP(AK23,Person!D:I,4,FALSE)))","v":""},null,null,null,null,null,null,null,null,{"$f":"VLOOKUP(AT23,Code!$B$51:$D$55,2,FALSE)","v":{"$error":"#N/A"}},{"$f":"RANDBETWEEN(1,VLOOKUP(AT23,Code!$B$51:$D$55,3,FALSE))","v":{"$error":"#N/A"}},null,"",null,null,null,{"$f":"HLOOKUP(Report!BA23,Homework!$I$2:$L$3,2,FALSE)","v":{"$error":"#N/A"}},{"$error":"#N/A"},{"$f":"IF(BA23=0,\"\",BC23+VLOOKUP(BA23,Code!$B$2:$C$6,2,FALSE))","v":""},{"$f":"IF(AND(VLOOKUP(BD23,Homework!D:J,2,FALSE)=\"'s \",RIGHT(G23,1)=\"s\"),\"' \",IF(VLOOKUP(BD23,Homework!D:J,2,FALSE)=\"'s \",\"'s \",\" \"))","v":" "},{"$f":"IF(BA23=0,\"\",IF(I23=\"F\",\" \"&G23&BE23&VLOOKUP(BD23,Homework!D:J,3,FALSE),\" \"&G23&BE23&VLOOKUP(BD23,Homework!D:J,5,FALSE)))","v":""},null,null,null,null,null,null,null,null,null,{"$f":"VLOOKUP(BO23,Code!$B$45:$D$48,2,FALSE)","v":{"$error":"#N/A"}},{"$f":"VLOOKUP(BO23,Code!$B$45:$D$48,3,FALSE)","v":{"$error":"#N/A"}},{"$error":"#N/A"},null,"pen","pencil","ruler",null,null,"","","",null,15,{"$f":"HLOOKUP(Report!CC23,Behaviour!$H$2:$K$3,2,FALSE)","v":{"$error":"#N/A"}},{"$error":"#N/A"},{"$f":"CE23+VLOOKUP(CC23,Code!$B$2:$C$6,2,FALSE)","v":{"$error":"#N/A"}},{"$f":"IF(CC23=0,\"\",IF(I23=\"F\",AC23&\" \"&VLOOKUP(CF23,Behaviour!D:I,2,FALSE)&\" \",AC23&\" \"&VLOOKUP(CF23,Behaviour!D:I,4,FALSE)&\" \"))","v":{"$error":"#N/A"}},null,null,{"$f":"'Front Sheet'!CM27","v":0},{"$f":"'Front Sheet'!CI27","v":""},{"$f":"IF(CJ23=0,\"\",VLOOKUP(CJ23,Code!$B$59:$D$61,2,FALSE))","v":""},{"$f":"IF(CJ23=0,\"\",VLOOKUP(CJ23,Code!$B$59:$D$61,3,FALSE))","v":""},{"$error":"#VALUE!"},{"$error":"#VALUE!"},{"$error":"#VALUE!"},{"$error":"#VALUE!"},"",null,null,"",null,null,"",{"$error":"#VALUE!"},null,null,null,{"$error":"#VALUE!"},{"$f":"VLOOKUP(Report!DC23,Code!$B$24:$C$32,2,FALSE)","v":{"$error":"#VALUE!"}},{"$f":"VLOOKUP(Report!DC23,Code!$B$24:$D$32,3,FALSE)","v":{"$error":"#VALUE!"}},{"$error":"#VALUE!"},{"$error":"#VALUE!"}," ",null,null,null,null,null,null,null,{"$f":"VLOOKUP(Report!DO23,Code!$B$40:$D$42,2,FALSE)","v":{"$error":"#N/A"}},{"$f":"VLOOKUP(Report!DO23,Code!$B$40:$D$42,3,FALSE)","v":{"$error":"#N/A"}},{"$error":"#N/A"},null,{"$error":"#N/A"},"number","number","number","",null,null,null,null,"",""]
[null,null,null,null,16,null,{"$f":"'Front Sheet'!AE28","v":""},{"$f":"'Front Sheet'!AF28","v":"  "},null,null,null,null,null,null,null,null,null,null,null,null,"Type_2",{"$f":"'Front Sheet'!AJ28","v":""},{"$error":"#N/A"},{"$f":"'Front Sheet'!AM28","v":""},{"$error":"#N/A"},{"$error":"#N/A"},null,"he","He","his","His",null,null,null,{"$f":"HLOOKUP(Report!AH24,Person!$H$2:$L$3,2,FALSE)","v":{"$error":"#N/A"}},{"$error":"#N/A"},{"$f":"IF(AH24=0,\"\",AJ24+VLOOKUP(AH24,Code!$B$2:$C$6,2,FALSE))","v":""},{"$f":"IF(AH24=0,\"\",IF(I24=\"F\",G24&\" \"&VLOOKUP(AK24,Person!D:I,2,FALSE),G24&\" \"&VLOOKUP(AK24,Person!D:I,4,FALSE)))","v":""},null,null,null,null,null,null,null,null,{"$f":"VLOOKUP(AT24,Code!$B$51:$D$55,2,FALSE)","v":{"$error":"#N/A"}},{"$f":"RANDBETWEEN(1,VLOOKUP(AT24,Code!$B$51:$D$55,3,FALSE))","v":{"$error":"#N/A"}},null,"",null,null,null,{"$f":"HLOOKUP(Report!BA24,Homework!$I$2:$L$3,2,FALSE)","v":{"$error":"#N/A"}},{"$error":"#N/A"},{"$f":"IF(BA24=0,\"\",BC24+VLOOKUP(BA24,Code!$B$2:$C$6,2,FALSE))","v":""},{"$f":"IF(AND(VLOOKUP(BD24,Homework!D:J,2,FALSE)=\"'s \",RIGHT(G24,1)=\"s\"),\"' \",IF(VLOOKUP(BD24,Homework!D:J,2,FALSE)=\"'s \",\"'s \",\" \"))","v":" "},{"$f":"IF(BA24=0,\"\",IF(I24=\"F\",\" \"&G24&BE24&VLOOKUP(BD24,Homework!D:J,3,FALSE),\" \"&G24&BE24&VLOOKUP(BD24,Homework!D:J,5,FALSE)))","v":""},null,null,null,null,null,null,null,null,null,{"$f":"VLOOKUP(BO24,Code!$B$45:$D$48,2,FALSE)","v":{"$error":"#N/A"}},{"$f":"VLOOKUP(BO24,Code!$B$45:$D$48,3,FALSE)","v":{"$error":"#N/A"}},{"$error":"#N/A"},null,"pen","pencil","ruler",null,null,"","","",null,16,{"$f":"HLOOKUP(Report!CC24,Behaviour!$H$2:$K$3,2,FALSE)","v":{"$error":"#N/A"}},{"$error":"#N/A"},{"$f":"CE24+VLOOKUP(CC24,Code!$B$2:$C$6,2,FALSE)","v":{"$error":"#N/A"}},{"$f":"IF(CC24=0,\"\",IF(I24=\"F\",AC24&\" \"&VLOOKUP(CF24,Behaviour!D:I,2,FALSE)&\" \",AC24&\" \"&VLOOKUP(CF24,Behaviour!D:I,4,FALSE)&\" \"))","v":{"$error":"#N/A"}},null,null,{"$f":"'Front Sheet'!CM28","v":0},{"$f":"'Front Sheet'!CI28","v":""},{"$f":"IF(CJ24=0,\"\",VLOOKUP(CJ24,Code!$B$59:$D$61,2,FALSE))","v":""},{"$f":"IF(CJ24=0,\"\",VLOOKUP(CJ24,Code!$B$59:$D$61,3,FALSE))","v":""},{"$error":"#VALUE!"},{"$error":"#VALUE!"},{"$error":"#VALUE!"},{"$error":"#VALUE!"},"",null,null,"",null,null,"",{"$error":"#VALUE!"},null,null,null,{"$error":"#VALUE!"},{"$f":"VLOOKUP(Report!DC24,Code!$B$24:$C$32,2,FALSE)","v":{"$error":"#VALUE!"}},{"$f":"VLOOKUP(Report!DC24,Code!$B$24:$D$32,3,FALSE)","v":{"$error":"#VALUE!"}},{"$error":"#VALUE!"},{"$error":"#VALUE!"}," ",null,null,null,null,null,null,null,{"$f":"VLOOKUP(Report!DO24,Code!$B$40:$D$42,2,FALSE)","v":{"$error":"#N/A"}},{"$f":"VLOOKUP(Report!DO24,Code!$B$40:$D$42,3,FALSE)","v":{"$error":"#N/A"}},{"$error":"#N/A"},null,{"$error":"#N/A"},"number","number","number","",null,null,null,null,"",{"$f":"EC24","v":""}]
[null,null,null,null,17,null,{"$f":"'Front Sheet'!AE29","v":""},{"$f":"'Front Sheet'!AF29","v":"  "},null,null,null,null,null,null,null,null,null,null,null,null,"Type_2",{"$f":"'Front Sheet'!AJ29","v":""},{"$error":"#N/A"},{"$f":"'Front Sheet'!AM29","v":""},{"$error":"#N/A"},{"$error":"#N/A"},null,"he","He","his","His",null,null,null,{"$f":"HLOOKUP(Report!AH25,Person!$H$2:$L$3,2,FALSE)","v":{"$error":"#N/A"}},{"$error":"#N/A"},{"$f":"IF(AH25=0,\"\",AJ25+VLOOKUP(AH25,Code!$B$2:$C$6,2,FALSE))","v":""},{"$f":"IF(AH25=0,\"\",IF(I25=\"F\",G25&\" \"&VLOOKUP(AK25,Person!D:I,2,FALSE),G25&\" \"&VLOOKUP(AK25,Person!D:I,4,FALSE)))","v":""},null,null,null,null,null,null,null,null,{"$f":"VLOOKUP(AT25,Code!$B$51:$D$55,2,FALSE)","v":{"$error":"#N/A"}},{"$f":"RANDBETWEEN(1,VLOOKUP(AT25,Code!$B$51:$D$55,3,FALSE))","v":{"$error":"#N/A"}},null,"",null,null,null,{"$f":"HLOOKUP(Report!BA25,Homework!$I$2:$L$3,2,FALSE)","v":{"$error":"#N/A"}},{"$error":"#N/A"},{"$f":"IF(BA25=0,\"\",BC25+VLOOKUP(BA25,Code!$B$2:$C$6,2,FALSE))","v":""},{"$f":"IF(AND(VLOOKUP(BD25,Homework!D:J,2,FALSE)=\"'s \",RIGHT(G25,1)=\"s\"),\"' \",IF(VLOOKUP(BD25,Homework!D:J,2,FALSE)=\"'s \",\"'s \",\" \"))","v":" "},{"$f":"IF(BA25=0,\"\",IF(I25=\"F\",\" \"&G25&BE25&VLOOKUP(BD25,Homework!D:J,3,FALSE),\" \"&G25&BE25&VLOOKUP(BD25,Homework!D:J,5,FALSE)))","v":""},null,null,null,null,null,null,null,null,null,{"$f":"VLOOKUP(BO25,Code!$B$45:$D$48,2,FALSE)","v":{"$error":"#N/A"}},{"$f":"VLOOKUP(BO25,Code!$B$45:$D$48,3,FALSE)","v":{"$error":"#N/A"}},{"$error":"#N/A"},null,"pen","pencil","ruler",null,null,"","","",null,17,{"$f":"HLOOKUP(Report!CC25,Behaviour!$H$2:$K$3,2,FALSE)","v":{"$error":"#N/A"}},{"$error":"#N/A"},{"$f":"CE25+VLOOKUP(CC25,Code!$B$2:$C$6,2,FALSE)","v":{"$error":"#N/A"}},{"$f":"IF(CC25=0,\"\",IF(I25=\"F\",AC25&\" \"&VLOOKUP(CF25,Behaviour!D:I,2,FALSE)&\" \",AC25&\" \"&VLOOKUP(CF25,Behaviour!D:I,4,FALSE)&\" \"))","v":{"$error":"#N/A"}},null,null,{"$f":"'Front Sheet'!CM29","v":0},{"$f":"'Front Sheet'!CI29","v":""},{"$f":"IF(CJ25=0,\"\",VLOOKUP(CJ25,Code!$B$59:$D$61,2,FALSE))","v":""},{"$f":"IF(CJ25=0,\"\",VLOOKUP(CJ25,Code!$B$59:$D$61,3,FALSE))","v":""},{"$error":"#VALUE!"},{"$error":"#VALUE!"},{"$error":"#VALUE!"},{"$error":"#VALUE!"},"",null,null,"",null,null,"",{"$error":"#VALUE!"},null,null,null,{"$error":"#VALUE!"},{"$f":"VLOOKUP(Report!DC25,Code!$B$24:$C$32,2,FALSE)","v":{"$error":"#VALUE!"}},{"$f":"VLOOKUP(Report!DC25,Code!$B$24:$D$32,3,FALSE)","v":{"$error":"#VALUE!"}},{"$error":"#VALUE!"},{"$error":"#VALUE!"}," ",null,null,null,null,null,null,null,{"$f":"VLOOKUP(Report!DO25,Code!$B$40:$D$42,2,FALSE)","v":{"$error":"#N/A"}},{"$f":"VLOOKUP(Report!DO25,Code!$B$40:$D$42,3,FALSE)","v":{"$error":"#N/A"}},{"$error":"#N/A"},null,{"$error":"#N/A"},"number","number","number","",null,null,null,null,"",{"$f":"EC25","v":""}]
[null,null,null,null,18,null,{"$f":"'Front Sheet'!AE30","v":""},{"$f":"'Front Sheet'!AF30","v":"  "},null,null,null,null,null,null,null,null,null,null,null,null,"Type_2",{"$f":"'Front Sheet'!AJ30","v":""},{"$error":"#N/A"},{"$f":"'Front Sheet'!AM30","v":""},{"$error":"#N/A"},{"$error":"#N/A"},null,"he","He","his","His",null,null,null,{"$f":"HLOOKUP(Report!AH26,Person!$H$2:$L$3,2,FALSE)","v":{"$error":"#N/A"}},{"$error":"#N/A"},{"$f":"IF(AH26=0,\"\",AJ26+VLOOKUP(AH26,Code!$B$2:$C$6,2,FALSE))","v":""},{"$f":"IF(AH26=0,\"\",IF(I26=\"F\",G26&\" \"&VLOOKUP(AK26,Person!D:I,2,FALSE),G26&\" \"&VLOOKUP(AK26,Person!D:I,4,FALSE)))","v":""},null,null,null,null,null,null,null,null,{"$f":"VLOOKUP(AT26,Code!$B$51:$D$55,2,FALSE)","v":{"$error":"#N/A"}},{"$f":"RANDBETWEEN(1,VLOOKUP(AT26,Code!$B$51:$D$55,3,FALSE))","v":{"$error":"#N/A"}},null,"",null,null,null,{"$f":"HLOOKUP(Report!BA26,Homework!$I$2:$L$3,2,FALSE)","v":{"$error":"#N/A"}},{"$error":"#N/A"},{"$f":"IF(BA26=0,\"\",BC26+VLOOKUP(BA26,Code!$B$2:$C$6,2,FALSE))","v":""},{"$f":"IF(AND(VLOOKUP(BD26,Homework!D:J,2,FALSE)=\"'s \",RIGHT(G26,1)=\"s\"),\"' \",IF(VLOOKUP(BD26,Homework!D:J,2,FALSE)=\"'s \",\"'s \",\" \"))","v":" "},{"$f":"IF(BA26=0,\"\",IF(I26=\"F\",\" \"&G26&BE26&VLOOKUP(BD26,Homework!D:J,3,FALSE),\" \"&G26&BE26&VLOOKUP(BD26,Homework!D:J,5,FALSE)))","v":""},null,null,null,null,null,null,null,null,null,{"$f":"VLOOKUP(BO26,Code!$B$45:$D$48,2,FALSE)","v":{"$error":"#N/A"}},{"$f":"VLOOKUP(BO26,Code!$B$45:$D$48,3,FALSE)","v":{"$error":"#N/A"}},{"$error":"#N/A"},null,"pen","pencil","ruler",null,null,"","","",null,18,{"$f":"HLOOKUP(Report!CC26,Behaviour!$H$2:$K$3,2,FALSE)","v":{"$error":"#N/A"}},{"$error":"#N/A"},{"$f":"CE26+VLOOKUP(CC26,Code!$B$2:$C$6,2,FALSE)","v":{"$error":"#N/A"}},{"$f":"IF(CC26=0,\"\",IF(I26=\"F\",AC26&\" \"&VLOOKUP(CF26,Behaviour!D:I,2,FALSE)&\" \",AC26&\" \"&VLOOKUP(CF26,Behaviour!D:I,4,FALSE)&\" \"))","v":{"$error":"#N/A"}},null,null,{"$f":"'Front Sheet'!CM30","v":0},{"$f":"'Front Sheet'!CI30","v":""},{"$f":"IF(CJ26=0,\"\",VLOOKUP(CJ26,Code!$B$59:$D$61,2,FALSE))","v":""},{"$f":"IF(CJ26=0,\"\",VLOOKUP(CJ26,Code!$B$59:$D$61,3,FALSE))","v":""},{"$error":"#VALUE!"},{"$error":"#VALUE!"},{"$error":"#VALUE!"},{"$error":"#VALUE!"},"",null,null,"",null,null,"",{"$error":"#VALUE!"},null,null,null,{"$error":"#VALUE!"},{"$f":"VLOOKUP(Report!DC26,Code!$B$24:$C$32,2,FALSE)","v":{"$error":"#VALUE!"}},{"$f":"VLOOKUP(Report!DC26,Code!$B$24:$D$32,3,FALSE)","v":{"$error":"#VALUE!"}},{"$error":"#VALUE!"},{"$error":"#VALUE!"}," ",null,null,null,null,null,null,null,{"$f":"VLOOKUP(Report!DO26,Code!$B$40:$D$42,2,FALSE)","v":{"$error":"#N/A"}},{"$f":"VLOOKUP(Report!DO26,Code!$B$40:$D$42,3,FALSE)","v":{"$error":"#N/A"}},{"$error":"#N/A"},null,{"$error":"#N/A"},"number","number","number","",null,null,null,null,"",{"$f":"EC26","v":""}]
[null,null,null,null,19,null,{"$f":"'Front Sheet'!AE31","v":""},{"$f":"'Front Sheet'!AF31","v":"  "},null,null,null,null,null,null,null,null,null,null,null,null,"Type_2",{"$f":"'Front Sheet'!AJ31","v":""},{"$error":"#N/A"},{"$f":"'Front Sheet'!AM31","v":""},{"$error":"#N/A"},{"$error":"#N/A"},null,"he","He","his","His",null,null,null,{"$f":"HLOOKUP(Report!AH27,Person!$H$2:$L$3,2,FALSE)","v":{"$error":"#N/A"}},{"$error":"#N/A"},{"$f":"IF(AH27=0,\"\",AJ27+VLOOKUP(AH27,Code!$B$2:$C$6,2,FALSE))","v":""},{"$f":"IF(AH27=0,\"\",IF(I27=\"F\",G27&\" \"&VLOOKUP(AK27,Person!D:I,2,FALSE),G27&\" \"&VLOOKUP(AK27,Person!D:I,4,FALSE)))","v":""},null,null,null,null,null,null,null,null,{"$f":"VLOOKUP(AT27,Code!$B$51:$D$55,2,FALSE)","v":{"$error":"#N/A"}},{"$f":"RANDBETWEEN(1,VLOOKUP(AT27,Code!$B$51:$D$55,3,FALSE))","v":{"$error":"#N/A"}},null,"",null,null,null,{"$f":"HLOOKUP(Report!BA27,Homework!$I$2:$L$3,2,FALSE)","v":{"$error":"#N/A"}},{"$error":"#N/A"},{"$f":"IF(BA27=0,\"\",BC27+VLOOKUP(BA27,Code!$B$2:$C$6,2,FALSE))","v":""},{"$f":"IF(AND(VLOOKUP(BD27,Homework!D:J,2,FALSE)=\"'s \",RIGHT(G27,1)=\"s\"),\"' \",IF(VLOOKUP(BD27,Homework!D:J,2,FALSE)=\"'s \",\"'s \",\" \"))","v":" "},{"$f":"IF(BA27=0,\"\",IF(I27=\"F\",\" \"&G27&BE27&VLOOKUP(BD27,Homework!D:J,3,FALSE),\" \"&G27&BE27&VLOOKUP(BD27,Homework!D:J,5,FALSE)))","v":""},null,null,null,null,null,null,null,null,null,{"$f":"VLOOKUP(BO27,Code!$B$45:$D$48,2,FALSE)","v":{"$error":"#N/A"}},{"$f":"VLOOKUP(BO27,Code!$B$45:$D$48,3,FALSE)","v":{"$error":"#N/A"}},{"$error":"#N/A"},null,"pen","pencil","ruler",null,null,"","","",null,19,{"$f":"HLOOKUP(Report!CC27,Behaviour!$H$2:$K$3,2,FALSE)","v":{"$error":"#N/A"}},{"$error":"#N/A"},{"$f":"CE27+VLOOKUP(CC27,Code!$B$2:$C$6,2,FALSE)","v":{"$error":"#N/A"}},{"$f":"IF(CC27=0,\"\",IF(I27=\"F\",AC27&\" \"&VLOOKUP(CF27,Behaviour!D:I,2,FALSE)&\" \",AC27&\" \"&VLOOKUP(CF27,Behaviour!D:I,4,FALSE)&\" \"))","v":{"$error":"#N/A"}},null,null,{"$f":"'Front Sheet'!CM31","v":0},{"$f":"'Front Sheet'!CI31","v":""},{"$f":"IF(CJ27=0,\"\",VLOOKUP(CJ27,Code!$B$59:$D$61,2,FALSE))","v":""},{"$f":"IF(CJ27=0,\"\",VLOOKUP(CJ27,Code!$B$59:$D$61,3,FALSE))","v":""},{"$error":"#VALUE!"},{"$error":"#VALUE!"},{"$error":"#VALUE!"},{"$error":"#VALUE!"},"",null,null,"",null,null,"",{"$error":"#VALUE!"},null,null,null,{"$error":"#VALUE!"},{"$f":"VLOOKUP(Report!DC27,Code!$B$24:$C$32,2,FALSE)","v":{"$error":"#VALUE!"}},{"$f":"VLOOKUP(Report!DC27,Code!$B$24:$D$32,3,FALSE)","v":{"$error":"#VALUE!"}},{"$error":"#VALUE!"},{"$error":"#VALUE!"}," ",null,null,null,null,null,null,null,{"$f":"VLOOKUP(Report!DO27,Code!$B$40:$D$42,2,FALSE)","v":{"$error":"#N/A"}},{"$f":"VLOOKUP(Report!DO27,Code!$B$40:$D$42,3,FALSE)","v":{"$error":"#N/A"}},{"$error":"#N/A"},null,{"$error":"#N/A"},"number","number","number","",null,null,null,null,"",""]
[null,null,null,null,20,null,{"$f":"'Front Sheet'!AE32","v":""},{"$f":"'Front Sheet'!AF32","v":"  "},null,null,null,null,null,null,null,null,null,null,null,null,"Type_2",{"$f":"'Front Sheet'!AJ32","v":""},{"$error":"#N/A"},{"$f":"'Front Sheet'!AM32","v":""},{"$error":"#N/A"},{"$error":"#N/A"},null,"he","He","his","His",null,null,null,{"$f":"HLOOKUP(Report!AH28,Person!$H$2:$L$3,2,FALSE)","v":{"$error":"#N/A"}},{"$error":"#N/A"},{"$f":"IF(AH28=0,\"\",AJ28+VLOOKUP(AH28,Code!$B$2:$C$6,2,FALSE))","v":""},{"$f":"IF(AH28=0,\"\",IF(I28=\"F\",G28&\" \"&VLOOKUP(AK28,Person!D:I,2,FALSE),G28&\" \"&VLOOKUP(AK28,Person!D:I,4,FALSE)))","v":""},null,null,null,null,null,null,null,null,{"$f":"VLOOKUP(AT28,Code!$B$51:$D$55,2,FALSE)","v":{"$error":"#N/A"}},{"$f":"RANDBETWEEN(1,VLOOKUP(AT28,Code!$B$51:$D$55,3,FALSE))","v":{"$error":"#N/A"}},null,"",null,null,null,{"$f":"HLOOKUP(Report!BA28,Homework!$I$2:$L$3,2,FALSE)","v":{"$error":"#N/A"}},{"$error":"#N/A"},{"$f":"IF(BA28=0,\"\",BC28+VLOOKUP(BA28,Code!$B$2:$C$6,2,FALSE))","v":""},{"$f":"IF(AND(VLOOKUP(BD28,Homework!D:J,2,FALSE)=\"'s \",RIGHT(G28,1)=\"s\"),\"' \",IF(VLOOKUP(BD28,Homework!D:J,2,FALSE)=\"'s \",\"'s \",\" \"))","v":" "},{"$f":"IF(BA28=0,\"\",IF(I28=\"F\",\" \"&G28&BE28&VLOOKUP(BD28,Homework!D:J,3,FALSE),\" \"&G28&BE28&VLOOKUP(BD28,Homework!D:J,5,FALSE)))","v":""},null,null,null,null,null,null,null,null,null,{"$f":"VLOOKUP(BO28,Code!$B$45:$D$48,2,FALSE)","v":{"$error":"#N/A"}},{"$f":"VLOOKUP(BO28,Code!$B$45:$D$48,3,FALSE)","v":{"$error":"#N/A"}},{"$error":"#N/A"},null,"pen","pencil","ruler",null,null,"","","",null,20,{"$f":"HLOOKUP(Report!CC28,Behaviour!$H$2:$K$3,2,FALSE)","v":{"$error":"#N/A"}},{"$error":"#N/A"},{"$f":"CE28+VLOOKUP(CC28,Code!$B$2:$C$6,2,FALSE)","v":{"$error":"#N/A"}},{"$f":"IF(CC28=0,\"\",IF(I28=\"F\",AC28&\" \"&VLOOKUP(CF28,Behaviour!D:I,2,FALSE)&\" \",AC28&\" \"&VLOOKUP(CF28,Behaviour!D:I,4,FALSE)&\" \"))","v":{"$error":"#N/A"}},null,null,{"$f":"'Front Sheet'!CM32","v":0},{"$f":"'Front Sheet'!CI32","v":""},{"$f":"IF(CJ28=0,\"\",VLOOKUP(CJ28,Code!$B$59:$D$61,2,FALSE))","v":""},{"$f":"IF(CJ28=0,\"\",VLOOKUP(CJ28,Code!$B$59:$D$61,3,FALSE))","v":""},{"$error":"#VALUE!"},{"$error":"#VALUE!"},{"$error":"#VALUE!"},{"$error":"#VALUE!"},"",null,null,"",null,null,"",{"$error":"#VALUE!"},null,null,null,{"$error":"#VALUE!"},{"$f":"VLOOKUP(Report!DC28,Code!$B$24:$C$32,2,FALSE)","v":{"$error":"#VALUE!"}},{"$f":"VLOOKUP(Report!DC28,Code!$B$24:$D$32,3,FALSE)","v":{"$error":"#VALUE!"}},{"$error":"#VALUE!"},{"$error":"#VALUE!"}," ",null,null,null,null,null,null,null,{"$f":"VLOOKUP(Report!DO28,Code!$B$40:$D$42,2,FALSE)","v":{"$error":"#N/A"}},{"$f":"VLOOKUP(Report!DO28,Code!$B$40:$D$42,3,FALSE)","v":{"$error":"#N/A"}},{"$error":"#N/A"},null,{"$error":"#N/A"},"number","number","number","",null,null,null,null,"",{"$f":"EC28","v":""}]
[null,null,null,null,21,null,{"$f":"'Front Sheet'!AE33","v":""},{"$f":"'Front Sheet'!AF33","v":"  "},null,null,null,null,null,null,null,null,null,null,null,null,"Type_2",{"$f":"'Front Sheet'!AJ33","v":""},{"$error":"#N/A"},{"$f":"'Front Sheet'!AM33","v":""},{"$error":"#N/A"},{"$error":"#N/A"},null,"he","He","his","His",null,null,null,{"$f":"HLOOKUP(Report!AH29,Person!$H$2:$L$3,2,FALSE)","v":{"$error":"#N/A"}},{"$error":"#N/A"},{"$f":"IF(AH29=0,\"\",AJ29+VLOOKUP(AH29,Code!$B$2:$C$6,2,FALSE))","v":""},{"$f":"IF(AH29=0,\"\",IF(I29=\"F\",G29&\" \"&VLOOKUP(AK29,Person!D:I,2,FALSE),G29&\" \"&VLOOKUP(AK29,Person!D:I,4,FALSE)))","v":""},null,null,null,null,null,null,null,null,{"$f":"VLOOKUP(AT29,Code!$B$51:$D$55,2,FALSE)","v":{"$error":"#N/A"}},{"$f":"RANDBETWEEN(1,VLOOKUP(AT29,Code!$B$51:$D$55,3,FALSE))","v":{"$error":"#N/A"}},null,"",null,null,null,{"$f":"HLOOKUP(Report!BA29,Homework!$I$2:$L$3,2,FALSE)","v":{"$error":"#N/A"}},{"$error":"#N/A"},{"$f":"IF(BA29=0,\"\",BC29+VLOOKUP(BA29,Code!$B$2:$C$6,2,FALSE))","v":""},{"$f":"IF(AND(VLOOKUP(BD29,Homework!D:J,2,FALSE)=\"'s \",RIGHT(G29,1)=\"s\"),\"' \",IF(VLOOKUP(BD29,Homework!D:J,2,FALSE)=\"'s \",\"'s \",\" \"))","v":" "},{"$f":"IF(BA29=0,\"\",IF(I29=\"F\",\" \"&G29&BE29&VLOOKUP(BD29,Homework!D:J,3,FALSE),\" \"&G29&BE29&VLOOKUP(BD29,Homework!D:J,5,FALSE)))","v":""},null,null,null,null,null,null,null,null,null,{"$f":"VLOOKUP(BO29,Code!$B$45:$D$48,2,FALSE)","v":{"$error":"#N/A"}},{"$f":"VLOOKUP(BO29,Code!$B$45:$D$48,3,FALSE)","v":{"$error":"#N/A"}},{"$error":"#N/A"},null,"pen","pencil","ruler",null,null,"","","",null,21,{"$f":"HLOOKUP(Report!CC29,Behaviour!$H$2:$K$3,2,FALSE)","v":{"$error":"#N/A"}},{"$error":"#N/A"},{"$f":"CE29+VLOOKUP(CC29,Code!$B$2:$C$6,2,FALSE)","v":{"$error":"#N/A"}},{"$f":"IF(CC29=0,\"\",IF(I29=\"F\",AC29&\" \"&VLOOKUP(CF29,Behaviour!D:I,2,FALSE)&\" \",AC29&\" \"&VLOOKUP(CF29,Behaviour!D:I,4,FALSE)&\" \"))","v":{"$error":"#N/A"}},null,null,{"$f":"'Front Sheet'!CM33","v":0},{"$f":"'Front Sheet'!CI33","v":""},{"$f":"IF(CJ29=0,\"\",VLOOKUP(CJ29,Code!$B$59:$D$61,2,FALSE))","v":""},{"$f":"IF(CJ29=0,\"\",VLOOKUP(CJ29,Code!$B$59:$D$61,3,FALSE))","v":""},{"$error":"#VALUE!"},{"$error":"#VALUE!"},{"$error":"#VALUE!"},{"$error":"#VALUE!"},"",null,null,"",null,null,"",{"$error":"#VALUE!"},null,null,null,{"$error":"#VALUE!"},{"$f":"VLOOKUP(Report!DC29,Code!$B$24:$C$32,2,FALSE)","v":{"$error":"#VALUE!"}},{"$f":"VLOOKUP(Report!DC29,Code!$B$24:$D$32,3,FALSE)","v":{"$error":"#VALUE!"}},{"$error":"#VALUE!"},{"$error":"#VALUE!"}," ",null,null,null,null,null,null,null,{"$f":"VLOOKUP(Report!DO29,Code!$B$40:$D$42,2,FALSE)","v":{"$error":"#N/A"}},{"$f":"VLOOKUP(Report!DO29,Code!$B$40:$D$42,3,FALSE)","v":{"$error":"#N/A"}},{"$error":"#N/A"},null,{"$error":"#N/A"},"number","number","number","",null,null,null,null,"",{"$f":"EC29","v":""}]
[null,null,null,null,22,null,{"$f":"'Front Sheet'!AE34","v":""},{"$f":"'Front Sheet'!AF34","v":"  "},null,null,null,null,null,null,null,null,null,null,null,null,"Type_2",{"$f":"'Front Sheet'!AJ34","v":""},{"$error":"#N/A"},{"$f":"'Front Sheet'!AM34","v":""},{"$error":"#N/A"},{"$error":"#N/A"},null,"he","He","his","His",null,null,null,{"$f":"HLOOKUP(Report!AH30,Person!$H$2:$L$3,2,FALSE)","v":{"$error":"#N/A"}},{"$error":"#N/A"},{"$f":"IF(AH30=0,\"\",AJ30+VLOOKUP(AH30,Code!$B$2:$C$6,2,FALSE))","v":""},{"$f":"IF(AH30=0,\"\",IF(I30=\"F\",G30&\" \"&VLOOKUP(AK30,Person!D:I,2,FALSE),G30&\" \"&VLOOKUP(AK30,Person!D:I,4,FALSE)))","v":""},null,null,null,null,null,null,null,null,{"$f":"VLOOKUP(AT30,Code!$B$51:$D$55,2,FALSE)","v":{"$error":"#N/A"}},{"$f":"RANDBETWEEN(1,VLOOKUP(AT30,Code!$B$51:$D$55,3,FALSE))","v":{"$error":"#N/A"}},null,"",null,null,null,{"$f":"HLOOKUP(Report!BA30,Homework!$I$2:$L$3,2,FALSE)","v":{"$error":"#N/A"}},{"$error":"#N/A"},{"$f":"IF(BA30=0,\"\",BC30+VLOOKUP(BA30,Code!$B$2:$C$6,2,FALSE))","v":""},{"$f":"IF(AND(VLOOKUP(BD30,Homework!D:J,2,FALSE)=\"'s \",RIGHT(G30,1)=\"s\"),\"' \",IF(VLOOKUP(BD30,Homework!D:J,2,FALSE)=\"'s \",\"'s \",\" \"))","v":" "},{"$f":"IF(BA30=0,\"\",IF(I30=\"F\",\" \"&G30&BE30&VLOOKUP(BD30,Homework!D:J,3,FALSE),\" \"&G30&BE30&VLOOKUP(BD30,Homework!D:J,5,FALSE)))","v":""},null,null,null,null,null,null,null,null,null,{"$f":"VLOOKUP(BO30,Code!$B$45:$D$48,2,FALSE)","v":{"$error":"#N/A"}},{"$f":"VLOOKUP(BO30,Code!$B$45:$D$48,3,FALSE)","v":{"$error":"#N/A"}},{"$error":"#N/A"},null,"pen","pencil","ruler",null,null,"","","",null,22,{"$f":"HLOOKUP(Report!CC30,Behaviour!$H$2:$K$3,2,FALSE)","v":{"$error":"#N/A"}},{"$error":"#N/A"},{"$f":"CE30+VLOOKUP(CC30,Code!$B$2:$C$6,2,FALSE)","v":{"$error":"#N/A"}},{"$f":"IF(CC30=0,\"\",IF(I30=\"F\",AC30&\" \"&VLOOKUP(CF30,Behaviour!D:I,2,FALSE)&\" \",AC30&\" \"&VLOOKUP(CF30,Behaviour!D:I,4,FALSE)&\" \"))","v":{"$error":"#N/A"}},null,null,{"$f":"'Front Sheet'!CM34","v":0},{"$f":"'Front Sheet'!CI34","v":""},{"$f":"IF(CJ30=0,\"\",VLOOKUP(CJ30,Code!$B$59:$D$61,2,FALSE))","v":""},{"$f":"IF(CJ30=0,\"\",VLOOKUP(CJ30,Code!$B$59:$D$61,3,FALSE))","v":""},{"$error":"#VALUE!"},{"$error":"#VALUE!"},{"$error":"#VALUE!"},{"$error":"#VALUE!"},"",null,null,"",null,null,"",{"$error":"#VALUE!"},null,null,null,{"$error":"#VALUE!"},{"$f":"VLOOKUP(Report!DC30,Code!$B$24:$C$32,2,FALSE)","v":{"$error":"#VALUE!"}},{"$f":"VLOOKUP(Report!DC30,Code!$B$24:$D$32,3,FALSE)","v":{"$error":"#VALUE!"}},{"$error":"#VALUE!"},{"$error":"#VALUE!"}," ",null,null,null,null,null,null,null,{"$f":"VLOOKUP(Report!DO30,Code!$B$40:$D$42,2,FALSE)","v":{"$error":"#N/A"}},{"$f":"VLOOKUP(Report!DO30,Code!$B$40:$D$42,3,FALSE)","v":{"$error":"#N/A"}},{"$error":"#N/A"},null,{"$error":"#N/A"},"number","number","number","",null,null,null,null,"",""]
[null,null,null,null,23,null,{"$f":"'Front Sheet'!AE35","v":""},{"$f":"'Front Sheet'!AF35","v":"  "},null,null,null,null,null,null,null,null,null,null,null,null,"Type_2",{"$f":"'Front Sheet'!AJ35","v":""},{"$error":"#N/A"},{"$f":"'Front Sheet'!AM35","v":""},{"$error":"#N/A"},{"$error":"#N/A"},null,"he","He","his","His",null,null,null,{"$f":"HLOOKUP(Report!AH31,Person!$H$2:$L$3,2,FALSE)","v":{"$error":"#N/A"}},{"$error":"#N/A"},{"$f":"IF(AH31=0,\"\",AJ31+VLOOKUP(AH31,Code!$B$2:$C$6,2,FALSE))","v":""},{"$f":"IF(AH31=0,\"\",IF(I31=\"F\",G31&\" \"&VLOOKUP(AK31,Person!D:I,2,FALSE),G31&\" \"&VLOOKUP(AK31,Person!D:I,4,FALSE)))","v":""},null,null,null,null,null,null,null,null,{"$f":"VLOOKUP(AT31,Code!$B$51:$D$55,2,FALSE)","v":{"$error":"#N/A"}},{"$f":"RANDBETWEEN(1,VLOOKUP(AT31,Code!$B$51:$D$55,3,FALSE))","v":{"$error":"#N/A"}},null,"",null,null,null,{"$f":"HLOOKUP(Report!BA31,Homework!$I$2:$L$3,2,FALSE)","v":{"$error":"#N/A"}},{"$error":"#N/A"},{"$f":"IF(BA31=0,\"\",BC31+VLOOKUP(BA31,Code!$B$2:$C$6,2,FALSE))","v":""},{"$f":"IF(AND(VLOOKUP(BD31,Homework!D:J,2,FALSE)=\"'s \",RIGHT(G31,1)=\"s\"),\"' \",IF(VLOOKUP(BD31,Homework!D:J,2,FALSE)=\"'s \",\"'s \",\" \"))","v":" "},{"$f":"IF(BA31=0,\"\",IF(I31=\"F\",\" \"&G31&BE31&VLOOKUP(BD31,Homework!D:J,3,FALSE),\" \"&G31&BE31&VLOOKUP(BD31,Homework!D:J,5,FALSE)))","v":""},null,null,null,null,null,null,null,null,null,{"$f":"VLOOKUP(BO31,Code!$B$45:$D$48,2,FALSE)","v":{"$error":"#N/A"}},{"$f":"VLOOKUP(BO31,Code!$B$45:$D$48,3,FALSE)","v":{"$error":"#N/A"}},{"$error":"#N/A"},null,"pen","pencil","ruler",null,null,"","","",null,23,{"$f":"HLOOKUP(Report!CC31,Behaviour!$H$2:$K$3,2,FALSE)","v":{"$error":"#N/A"}},{"$error":"#N/A"},{"$f":"CE31+VLOOKUP(CC31,Code!$B$2:$C$6,2,FALSE)","v":{"$error":"#N/A"}},{"$f":"IF(CC31=0,\"\",IF(I31=\"F\",AC31&\" \"&VLOOKUP(CF31,Behaviour!D:I,2,FALSE)&\" \",AC31&\" \"&VLOOKUP(CF31,Behaviour!D:I,4,FALSE)&\" \"))","v":{"$error":"#N/A"}},null,null,{"$f":"'Front Sheet'!CM35","v":0},{"$f":"'Front Sheet'!CI35","v":""},{"$f":"IF(CJ31=0,\"\",VLOOKUP(CJ31,Code!$B$59:$D$61,2,FALSE))","v":""},{"$f":"IF(CJ31=0,\"\",VLOOKUP(CJ31,Code!$B$59:$D$61,3,FALSE))","v":""},{"$error":"#VALUE!"},{"$error":"#VALUE!"},{"$error":"#VALUE!"},{"$error":"#VALUE!"},"",null,null,"",null,null,"",{"$error":"#VALUE!"},null,null,null,{"$error":"#VALUE!"},{"$f":"VLOOKUP(Report!DC31,Code!$B$24:$C$32,2,FALSE)","v":{"$error":"#VALUE!"}},{"$f":"VLOOKUP(Report!DC31,Code!$B$24:$D$32,3,FALSE)","v":{"$error":"#VALUE!"}},{"$error":"#VALUE!"},{"$error":"#VALUE!"}," ",null,null,null,null,null,null,null,{"$f":"VLOOKUP(Report!DO31,Code!$B$40:$D$42,2,FALSE)","v":{"$error":"#N/A"}},{"$f":"VLOOKUP(Report!DO31,Code!$B$40:$D$42,3,FALSE)","v":{"$error":"#N/A"}},{"$error":"#N/A"},null,{"$error":"#N/A"},"number","number","number","",null,null,null,null,"",{"$f":"EC31","v":""}]
[null,null,null,null,24,null,{"$f":"'Front Sheet'!AE36","v":""},{"$f":"'Front Sheet'!AF36","v":"  "},null,null,null,null,null,null,null,null,null,null,null,null,"Type_2",{"$f":"'Front Sheet'!AJ36","v":""},{"$error":"#N/A"},{"$f":"'Front Sheet'!AM36","v":""},{"$error":"#N/A"},{"$error":"#N/A"},null,"he","He","his","His",null,null,null,{"$f":"HLOOKUP(Report!AH32,Person!$H$2:$L$3,2,FALSE)","v":{"$error":"#N/A"}},{"$error":"#N/A"},{"$f":"IF(AH32=0,\"\",AJ32+VLOOKUP(AH32,Code!$B$2:$C$6,2,FALSE))","v":""},{"$f":"IF(AH32=0,\"\",IF(I32=\"F\",G32&\" \"&VLOOKUP(AK32,Person!D:I,2,FALSE),G32&\" \"&VLOOKUP(AK32,Person!D:I,4,FALSE)))","v":""},null,null,null,null,null,null,null,null,{"$f":"VLOOKUP(AT32,Code!$B$51:$D$55,2,FALSE)","v":{"$error":"#N/A"}},{"$f":"RANDBETWEEN(1,VLOOKUP(AT32,Code!$B$51:$D$55,3,FALSE))","v":{"$error":"#N/A"}},null,"",null,null,null,{"$f":"HLOOKUP(Report!BA32,Homework!$I$2:$L$3,2,FALSE)","v":{"$error":"#N/A"}},{"$error":"#N/A"},{"$f":"IF(BA32=0,\"\",BC32+VLOOKUP(BA32,Code!$B$2:$C$6,2,FALSE))","v":""},{"$f":"IF(AND(VLOOKUP(BD32,Homework!D:J,2,FALSE)=\"'s \",RIGHT(G32,1)=\"s\"),\"' \",IF(VLOOKUP(BD32,Homework!D:J,2,FALSE)=\"'s \",\"'s \",\" \"))","v":" "},{"$f":"IF(BA32=0,\"\",IF(I32=\"F\",\" \"&G32&BE32&VLOOKUP(BD32,Homework!D:J,3,FALSE),\" \"&G32&BE32&VLOOKUP(BD32,Homework!D:J,5,FALSE)))","v":""},null,null,null,null,null,null,null,null,null,{"$f":"VLOOKUP(BO32,Code!$B$45:$D$48,2,FALSE)","v":{"$error":"#N/A"}},{"$f":"VLOOKUP(BO32,Code!$B$45:$D$48,3,FALSE)","v":{"$error":"#N/A"}},{"$error":"#N/A"},null,"pen","pencil","ruler",null,null,"","","",null,24,{"$f":"HLOOKUP(Report!CC32,Behaviour!$H$2:$K$3,2,FALSE)","v":{"$error":"#N/A"}},{"$error":"#N/A"},{"$f":"CE32+VLOOKUP(CC32,Code!$B$2:$C$6,2,FALSE)","v":{"$error":"#N/A"}},{"$f":"IF(CC32=0,\"\",IF(I32=\"F\",AC32&\" \"&VLOOKUP(CF32,Behaviour!D:I,2,FALSE)&\" \",AC32&\" \"&VLOOKUP(CF32,Behaviour!D:I,4,FALSE)&\" \"))","v":{"$error":"#N/A"}},null,null,{"$f":"'Front Sheet'!CM36","v":0},{"$f":"'Front Sheet'!CI36","v":""},{"$f":"IF(CJ32=0,\"\",VLOOKUP(CJ32,Code!$B$59:$D$61,2,FALSE))","v":""},{"$f":"IF(CJ32=0,\"\",VLOOKUP(CJ32,Code!$B$59:$D$61,3,FALSE))","v":""},{"$error":"#VALUE!"},{"$error":"#VALUE!"},{"$error":"#VALUE!"},{"$error":"#VALUE!"},"",null,null,"",null,null,"",{"$error":"#VALUE!"},null,null,null,{"$error":"#VALUE!"},{"$f":"VLOOKUP(Report!DC32,Code!$B$24:$C$32,2,FALSE)","v":{"$error":"#VALUE!"}},{"$f":"VLOOKUP(Report!DC32,Code!$B$24:$D$32,3,FALSE)","v":{"$error":"#VALUE!"}},{"$error":"#VALUE!"},{"$error":"#VALUE!"}," ",null,null,null,null,null,null,null,{"$f":"VLOOKUP(Report!DO32,Code!$B$40:$D$42,2,FALSE)","v":{"$error":"#N/A"}},{"$f":"VLOOKUP(Report!DO32,Code!$B$40:$D$42,3,FALSE)","v":{"$error":"#N/A"}},{"$error":"#N/A"},null,{"$error":"#N/A"},"number","number","number","",null,null,null,null,"",{"$f":"EC32","v":""}]
[null,null,null,null,25,null,{"$f":"'Front Sheet'!AE37","v":""},{"$f":"'Front Sheet'!AF37","v":"  "},null,null,null,null,null,null,null,null,null,null,null,null,"Type_2",{"$f":"'Front Sheet'!AJ37","v":""},{"$error":"#N/A"},{"$f":"'Front Sheet'!AM37","v":""},{"$error":"#N/A"},{"$error":"#N/A"},null,"he","He","his","His",null,null,null,{"$f":"HLOOKUP(Report!AH33,Person!$H$2:$L$3,2,FALSE)","v":{"$error":"#N/A"}},{"$error":"#N/A"},{"$f":"IF(AH33=0,\"\",AJ33+VLOOKUP(AH33,Code!$B$2:$C$6,2,FALSE))","v":""},{"$f":"IF(AH33=0,\"\",IF(I33=\"F\",G33&\" \"&VLOOKUP(AK33,Person!D:I,2,FALSE),G33&\" \"&VLOOKUP(AK33,Person!D:I,4,FALSE)))","v":""},null,null,null,null,null,null,null,null,{"$f":"VLOOKUP(AT33,Code!$B$51:$D$55,2,FALSE)","v":{"$error":"#N/A"}},{"$f":"RANDBETWEEN(1,VLOOKUP(AT33,Code!$B$51:$D$55,3,FALSE))","v":{"$error":"#N/A"}},null,"",null,null,null,{"$f":"HLOOKUP(Report!BA33,Homework!$I$2:$L$3,2,FALSE)","v":{"$error":"#N/A"}},{"$error":"#N/A"},{"$f":"IF(BA33=0,\"\",BC33+VLOOKUP(BA33,Code!$B$2:$C$6,2,FALSE))","v":""},{"$f":"IF(AND(VLOOKUP(BD33,Homework!D:J,2,FALSE)=\"'s \",RIGHT(G33,1)=\"s\"),\"' \",IF(VLOOKUP(BD33,Homework!D:J,2,FALSE)=\"'s \",\"'s \",\" \"))","v":" "},{"$f":"IF(BA33=0,\"\",IF(I33=\"F\",\" \"&G33&BE33&VLOOKUP(BD33,Homework!D:J,3,FALSE),\" \"&G33&BE33&VLOOKUP(BD33,Homework!D:J,5,FALSE)))","v":""},null,null,null,null,null,null,null,null,null,{"$f":"VLOOKUP(BO33,Code!$B$45:$D$48,2,FALSE)","v":{"$error":"#N/A"}},{"$f":"VLOOKUP(BO33,Code!$B$45:$D$48,3,FALSE)","v":{"$error":"#N/A"}},{"$error":"#N/A"},null,"pen","pencil","ruler",null,null,"","","",null,25,{"$f":"HLOOKUP(Report!CC33,Behaviour!$H$2:$K$3,2,FALSE)","v":{"$error":"#N/A"}},{"$error":"#N/A"},{"$f":"CE33+VLOOKUP(CC33,Code!$B$2:$C$6,2,FALSE)","v":{"$error":"#N/A"}},{"$f":"IF(CC33=0,\"\",IF(I33=\"F\",AC33&\" \"&VLOOKUP(CF33,Behaviour!D:I,2,FALSE)&\" \",AC33&\" \"&VLOOKUP(CF33,Behaviour!D:I,4,FALSE)&\" \"))","v":{"$error":"#N/A"}},null,null,{"$f":"'Front Sheet'!CM37","v":0},{"$f":"'Front Sheet'!CI37","v":""},{"$f":"IF(CJ33=0,\"\",VLOOKUP(CJ33,Code!$B$59:$D$61,2,FALSE))","v":""},{"$f":"IF(CJ33=0,\"\",VLOOKUP(CJ33,Code!$B$59:$D$61,3,FALSE))","v":""},{"$error":"#VALUE!"},{"$error":"#VALUE!"},{"$error":"#VALUE!"},{"$error":"#VALUE!"},"",null,null,"",null,null,"",{"$error":"#VALUE!"},null,null,null,{"$error":"#VALUE!"},{"$f":"VLOOKUP(Report!DC33,Code!$B$24:$C$32,2,FALSE)","v":{"$error":"#VALUE!"}},{"$f":"VLOOKUP(Report!DC33,Code!$B$24:$D$32,3,FALSE)","v":{"$error":"#VALUE!"}},{"$error":"#VALUE!"},{"$error":"#VALUE!"}," ",null,null,null,null,null,null,null,{"$f":"VLOOKUP(Report!DO33,Code!$B$40:$D$42,2,FALSE)","v":{"$error":"#N/A"}},{"$f":"VLOOKUP(Report!DO33,Code!$B$40:$D$42,3,FALSE)","v":{"$error":"#N/A"}},{"$error":"#N/A"},null,{"$error":"#N/A"},"number","number","number","",null,null,null,null,"",{"$f":"EC33","v":""}]
[null,null,null,null,26,null,{"$f":"'Front Sheet'!AE38","v":""},{"$f":"'Front Sheet'!AF38","v":"  "},null,null,null,null,null,null,null,null,null,null,null,null,"Type_2",{"$f":"'Front Sheet'!AJ38","v":""},{"$error":"#N/A"},{"$f":"'Front Sheet'!AM38","v":""},{"$error":"#N/A"},{"$error":"#N/A"},null,"he","He","his","His",null,null,null,{"$f":"HLOOKUP(Report!AH34,Person!$H$2:$L$3,2,FALSE)","v":{"$error":"#N/A"}},{"$error":"#N/A"},{"$f":"IF(AH34=0,\"\",AJ34+VLOOKUP(AH34,Code!$B$2:$C$6,2,FALSE))","v":""},{"$f":"IF(AH34=0,\"\",IF(I34=\"F\",G34&\" \"&VLOOKUP(AK34,Person!D:I,2,FALSE),G34&\" \"&VLOOKUP(AK34,Person!D:I,4,FALSE)))","v":""},null,null,null,null,null,null,null,null,{"$f":"VLOOKUP(AT34,Code!$B$51:$D$55,2,FALSE)","v":{"$error":"#N/A"}},{"$f":"RANDBETWEEN(1,VLOOKUP(AT34,Code!$B$51:$D$55,3,FALSE))","v":{"$error":"#N/A"}},null,"",null,null,null,{"$f":"HLOOKUP(Report!BA34,Homework!$I$2:$L$3,2,FALSE)","v":{"$error":"#N/A"}},{"$error":"#N/A"},{"$f":"IF(BA34=0,\"\",BC34+VLOOKUP(BA34,Code!$B$2:$C$6,2,FALSE))","v":""},{"$f":"IF(AND(VLOOKUP(BD34,Homework!D:J,2,FALSE)=\"'s \",RIGHT(G34,1)=\"s\"),\"' \",IF(VLOOKUP(BD34,Homework!D:J,2,FALSE)=\"'s \",\"'s \",\" \"))","v":" "},{"$f":"IF(BA34=0,\"\",IF(I34=\"F\",\" \"&G34&BE34&VLOOKUP(BD34,Homework!D:J,3,FALSE),\" \"&G34&BE34&VLOOKUP(BD34,Homework!D:J,5,FALSE)))","v":""},null,null,null,null,null,null,null,null,null,{"$f":"VLOOKUP(BO34,Code!$B$45:$D$48,2,FALSE)","v":{"$error":"#N/A"}},{"$f":"VLOOKUP(BO34,Code!$B$45:$D$48,3,FALSE)","v":{"$error":"#N/A"}},{"$error":"#N/A"},null,"pen","pencil","ruler",null,null,"","","",null,26,{"$f":"HLOOKUP(Report!CC34,Behaviour!$H$2:$K$3,2,FALSE)","v":{"$error":"#N/A"}},{"$error":"#N/A"},{"$f":"CE34+VLOOKUP(CC34,Code!$B$2:$C$6,2,FALSE)","v":{"$error":"#N/A"}},{"$f":"IF(CC34=0,\"\",IF(I34=\"F\",AC34&\" \"&VLOOKUP(CF34,Behaviour!D:I,2,FALSE)&\" \",AC34&\" \"&VLOOKUP(CF34,Behaviour!D:I,4,FALSE)&\" \"))","v":{"$error":"#N/A"}},null,null,{"$f":"'Front Sheet'!CM38","v":0},{"$f":"'Front Sheet'!CI38","v":""},{"$f":"IF(CJ34=0,\"\",VLOOKUP(CJ34,Code!$B$59:$D$61,2,FALSE))","v":""},{"$f":"IF(CJ34=0,\"\",VLOOKUP(CJ34,Code!$B$59:$D$61,3,FALSE))","v":""},{"$error":"#VALUE!"},{"$error":"#VALUE!"},{"$error":"#VALUE!"},{"$error":"#VALUE!"},"",null,null,"",null,null,"",{"$error":"#VALUE!"},null,null,null,{"$error":"#VALUE!"},{"$f":"VLOOKUP(Report!DC34,Code!$B$24:$C$32,2,FALSE)","v":{"$error":"#VALUE!"}},{"$f":"VLOOKUP(Report!DC34,Code!$B$24:$D$32,3,FALSE)","v":{"$error":"#VALUE!"}},{"$error":"#VALUE!"},{"$error":"#VALUE!"}," ",null,null,null,null,null,null,null,{"$f":"VLOOKUP(Report!DO34,Code!$B$40:$D$42,2,FALSE)","v":{"$error":"#N/A"}},{"$f":"VLOOKUP(Report!DO34,Code!$B$40:$D$42,3,FALSE)","v":{"$error":"#N/A"}},{"$error":"#N/A"},null,{"$error":"#N/A"},"number","number","number","",null,null,null,null,"",""]
[null,null,null,null,27,null,{"$f":"'Front Sheet'!AE39","v":""},{"$f":"'Front Sheet'!AF39","v":"  "},null,null,null,null,null,null,null,null,null,null,null,null,"Type_2",{"$f":"'Front Sheet'!AJ39","v":""},{"$error":"#N/A"},{"$f":"'Front Sheet'!AM39","v":""},{"$error":"#N/A"},{"$error":"#N/A"},null,"he","He","his","His",null,null,null,{"$f":"HLOOKUP(Report!AH35,Person!$H$2:$L$3,2,FALSE)","v":{"$error":"#N/A"}},{"$error":"#N/A"},{"$f":"IF(AH35=0,\"\",AJ35+VLOOKUP(AH35,Code!$B$2:$C$6,2,FALSE))","v":""},{"$f":"IF(AH35=0,\"\",IF(I35=\"F\",G35&\" \"&VLOOKUP(AK35,Person!D:I,2,FALSE),G35&\" \"&VLOOKUP(AK35,Person!D:I,4,FALSE)))","v":""},null,null,null,null,null,null,null,null,{"$f":"VLOOKUP(AT35,Code!$B$51:$D$55,2,FALSE)","v":{"$error":"#N/A"}},{"$f":"RANDBETWEEN(1,VLOOKUP(AT35,Code!$B$51:$D$55,3,FALSE))","v":{"$error":"#N/A"}},null,"",null,null,null,{"$f":"HLOOKUP(Report!BA35,Homework!$I$2:$L$3,2,FALSE)","v":{"$error":"#N/A"}},{"$error":"#N/A"},{"$f":"IF(BA35=0,\"\",BC35+VLOOKUP(BA35,Code!$B$2:$C$6,2,FALSE))","v":""},{"$f":"IF(AND(VLOOKUP(BD35,Homework!D:J,2,FALSE)=\"'s \",RIGHT(G35,1)=\"s\"),\"' \",IF(VLOOKUP(BD35,Homework!D:J,2,FALSE)=\"'s \",\"'s \",\" \"))","v":" "},{"$f":"IF(BA35=0,\"\",IF(I35=\"F\",\" \"&G35&BE35&VLOOKUP(BD35,Homework!D:J,3,FALSE),\" \"&G35&BE35&VLOOKUP(BD35,Homework!D:J,5,FALSE)))","v":""},null,null,null,null,null,null,null,null,null,{"$f":"VLOOKUP(BO35,Code!$B$45:$D$48,2,FALSE)","v":{"$error":"#N/A"}},{"$f":"VLOOKUP(BO35,Code!$B$45:$D$48,3,FALSE)","v":{"$error":"#N/A"}},{"$error":"#N/A"},null,"pen","pencil","ruler",null,null,"","","",null,27,{"$f":"HLOOKUP(Report!CC35,Behaviour!$H$2:$K$3,2,FALSE)","v":{"$error":"#N/A"}},{"$error":"#N/A"},{"$f":"CE35+VLOOKUP(CC35,Code!$B$2:$C$6,2,FALSE)","v":{"$error":"#N/A"}},{"$f":"IF(CC35=0,\"\",IF(I35=\"F\",AC35&\" \"&VLOOKUP(CF35,Behaviour!D:I,2,FALSE)&\" \",AC35&\" \"&VLOOKUP(CF35,Behaviour!D:I,4,FALSE)&\" \"))","v":{"$error":"#N/A"}},null,null,{"$f":"'Front Sheet'!CM39","v":0},{"$f":"'Front Sheet'!CI39","v":""},{"$f":"IF(CJ35=0,\"\",VLOOKUP(CJ35,Code!$B$59:$D$61,2,FALSE))","v":""},{"$f":"IF(CJ35=0,\"\",VLOOKUP(CJ35,Code!$B$59:$D$61,3,FALSE))","v":""},{"$error":"#VALUE!"},{"$error":"#VALUE!"},{"$error":"#VALUE!"},{"$error":"#VALUE!"},"",null,null,"",null,null,"",{"$error":"#VALUE!"},null,null,null,{"$error":"#VALUE!"},{"$f":"VLOOKUP(Report!DC35,Code!$B$24:$C$32,2,FALSE)","v":{"$error":"#VALUE!"}},{"$f":"VLOOKUP(Report!DC35,Code!$B$24:$D$32,3,FALSE)","v":{"$error":"#VALUE!"}},{"$error":"#VALUE!"},{"$error":"#VALUE!"}," ",null,null,null,null,null,null,null,{"$f":"VLOOKUP(Report!DO35,Code!$B$40:$D$42,2,FALSE)","v":{"$error":"#N/A"}},{"$f":"VLOOKUP(Report!DO35,Code!$B$40:$D$42,3,FALSE)","v":{"$error":"#N/A"}},{"$error":"#N/A"},null,{"$error":"#N/A"},"number","number","number","",null,null,null,null,"",{"$f":"EC35","v":""}]
[null,null,null,null,28,null,{"$f":"'Front Sheet'!AE40","v":""},{"$f":"'Front Sheet'!AF40","v":"  "},null,null,null,null,null,null,null,null,null,null,null,null,"Type_2",{"$f":"'Front Sheet'!AJ40","v":""},{"$error":"#N/A"},{"$f":"'Front Sheet'!AM40","v":""},{"$error":"#N/A"},{"$error":"#N/A"},null,"he","He","his","His",null,null,null,{"$f":"HLOOKUP(Report!AH36,Person!$H$2:$L$3,2,FALSE)","v":{"$error":"#N/A"}},{"$error":"#N/A"},{"$f":"IF(AH36=0,\"\",AJ36+VLOOKUP(AH36,Code!$B$2:$C$6,2,FALSE))","v":""},{"$f":"IF(AH36=0,\"\",IF(I36=\"F\",G36&\" \"&VLOOKUP(AK36,Person!D:I,2,FALSE),G36&\" \"&VLOOKUP(AK36,Person!D:I,4,FALSE)))","v":""},null,null,null,null,null,null,null,null,{"$f":"VLOOKUP(AT36,Code!$B$51:$D$55,2,FALSE)","v":{"$error":"#N/A"}},{"$f":"RANDBETWEEN(1,VLOOKUP(AT36,Code!$B$51:$D$55,3,FALSE))","v":{"$error":"#N/A"}},null,"",null,null,null,{"$f":"HLOOKUP(Report!BA36,Homework!$I$2:$L$3,2,FALSE)","v":{"$error":"#N/A"}},{"$error":"#N/A"},{"$f":"IF(BA36=0,\"\",BC36+VLOOKUP(BA36,Code!$B$2:$C$6,2,FALSE))","v":""},{"$f":"IF(AND(VLOOKUP(BD36,Homework!D:J,2,FALSE)=\"'s \",RIGHT(G36,1)=\"s\"),\"' \",IF(VLOOKUP(BD36,Homework!D:J,2,FALSE)=\"'s \",\"'s \",\" \"))","v":" "},{"$f":"IF(BA36=0,\"\",IF(I36=\"F\",\" \"&G36&BE36&VLOOKUP(BD36,Homework!D:J,3,FALSE),\" \"&G36&BE36&VLOOKUP(BD36,Homework!D:J,5,FALSE)))","v":""},null,null,null,null,null,null,null,null,null,{"$f":"VLOOKUP(BO36,Code!$B$45:$D$48,2,FALSE)","v":{"$error":"#N/A"}},{"$f":"VLOOKUP(BO36,Code!$B$45:$D$48,3,FALSE)","v":{"$error":"#N/A"}},{"$error":"#N/A"},null,"pen","pencil","ruler",null,null,"","","",null,28,{"$f":"HLOOKUP(Report!CC36,Behaviour!$H$2:$K$3,2,FALSE)","v":{"$error":"#N/A"}},{"$error":"#N/A"},{"$f":"CE36+VLOOKUP(CC36,Code!$B$2:$C$6,2,FALSE)","v":{"$error":"#N/A"}},{"$f":"IF(CC36=0,\"\",IF(I36=\"F\",AC36&\" \"&VLOOKUP(CF36,Behaviour!D:I,2,FALSE)&\" \",AC36&\" \"&VLOOKUP(CF36,Behaviour!D:I,4,FALSE)&\" \"))","v":{"$error":"#N/A"}},null,null,{"$f":"'Front Sheet'!CM40","v":0},{"$f":"'Front Sheet'!CI40","v":""},{"$f":"IF(CJ36=0,\"\",VLOOKUP(CJ36,Code!$B$59:$D$61,2,FALSE))","v":""},{"$f":"IF(CJ36=0,\"\",VLOOKUP(CJ36,Code!$B$59:$D$61,3,FALSE))","v":""},{"$error":"#VALUE!"},{"$error":"#VALUE!"},{"$error":"#VALUE!"},{"$error":"#VALUE!"},"",null,null,"",null,null,"",{"$error":"#VALUE!"},null,null,null,{"$error":"#VALUE!"},{"$f":"VLOOKUP(Report!DC36,Code!$B$24:$C$32,2,FALSE)","v":{"$error":"#VALUE!"}},{"$f":"VLOOKUP(Report!DC36,Code!$B$24:$D$32,3,FALSE)","v":{"$error":"#VALUE!"}},{"$error":"#VALUE!"},{"$error":"#VALUE!"}," ",null,null,null,null,null,null,null,{"$f":"VLOOKUP(Report!DO36,Code!$B$40:$D$42,2,FALSE)","v":{"$error":"#N/A"}},{"$f":"VLOOKUP(Report!DO36,Code!$B$40:$D$42,3,FALSE)","v":{"$error":"#N/A"}},{"$error":"#N/A"},null,{"$error":"#N/A"},"number","number","number","",null,null,null,null,"",""]
[null,null,null,null,29,null,{"$f":"'Front Sheet'!AE41","v":""},{"$f":"'Front Sheet'!AF41","v":"  "},null,null,null,null,null,null,null,null,null,null,null,null,"Type_2",{"$f":"'Front Sheet'!AJ41","v":""},{"$error":"#N/A"},{"$f":"'Front Sheet'!AM41","v":""},{"$error":"#N/A"},{"$error":"#N/A"},null,"he","He","his","His",null,null,null,{"$f":"HLOOKUP(Report!AH37,Person!$H$2:$L$3,2,FALSE)","v":{"$error":"#N/A"}},{"$error":"#N/A"},{"$f":"IF(AH37=0,\"\",AJ37+VLOOKUP(AH37,Code!$B$2:$C$6,2,FALSE))","v":""},{"$f":"IF(AH37=0,\"\",IF(I37=\"F\",G37&\" \"&VLOOKUP(AK37,Person!D:I,2,FALSE),G37&\" \"&VLOOKUP(AK37,Person!D:I,4,FALSE)))","v":""},null,null,null,null,null,null,null,null,{"$f":"VLOOKUP(AT37,Code!$B$51:$D$55,2,FALSE)","v":{"$error":"#N/A"}},{"$f":"RANDBETWEEN(1,VLOOKUP(AT37,Code!$B$51:$D$55,3,FALSE))","v":{"$error":"#N/A"}},null,"",null,null,null,{"$f":"HLOOKUP(Report!BA37,Homework!$I$2:$L$3,2,FALSE)","v":{"$error":"#N/A"}},{"$error":"#N/A"},{"$f":"IF(BA37=0,\"\",BC37+VLOOKUP(BA37,Code!$B$2:$C$6,2,FALSE))","v":""},{"$f":"IF(AND(VLOOKUP(BD37,Homework!D:J,2,FALSE)=\"'s \",RIGHT(G37,1)=\"s\"),\"' \",IF(VLOOKUP(BD37,Homework!D:J,2,FALSE)=\"'s \",\"'s \",\" \"))","v":" "},{"$f":"IF(BA37=0,\"\",IF(I37=\"F\",\" \"&G37&BE37&VLOOKUP(BD37,Homework!D:J,3,FALSE),\" \"&G37&BE37&VLOOKUP(BD37,Homework!D:J,5,FALSE)))","v":""},null,null,null,null,null,null,null,null,null,{"$f":"VLOOKUP(BO37,Code!$B$45:$D$48,2,FALSE)","v":{"$error":"#N/A"}},{"$f":"VLOOKUP(BO37,Code!$B$45:$D$48,3,FALSE)","v":{"$error":"#N/A"}},{"$error":"#N/A"},null,"pen","pencil","ruler",null,null,"","","",null,29,{"$f":"HLOOKUP(Report!CC37,Behaviour!$H$2:$K$3,2,FALSE)","v":{"$error":"#N/A"}},{"$error":"#N/A"},{"$f":"CE37+VLOOKUP(CC37,Code!$B$2:$C$6,2,FALSE)","v":{"$error":"#N/A"}},{"$f":"IF(CC37=0,\"\",IF(I37=\"F\",AC37&\" \"&VLOOKUP(CF37,Behaviour!D:I,2,FALSE)&\" \",AC37&\" \"&VLOOKUP(CF37,Behaviour!D:I,4,FALSE)&\" \"))","v":{"$error":"#N/A"}},null,null,{"$f":"'Front Sheet'!CM41","v":0},{"$f":"'Front Sheet'!CI41","v":""},{"$f":"IF(CJ37=0,\"\",VLOOKUP(CJ37,Code!$B$59:$D$61,2,FALSE))","v":""},{"$f":"IF(CJ37=0,\"\",VLOOKUP(CJ37,Code!$B$59:$D$61,3,FALSE))","v":""},{"$error":"#VALUE!"},{"$error":"#VALUE!"},{"$error":"#VALUE!"},{"$error":"#VALUE!"},"",null,null,"",null,null,"",{"$error":"#VALUE!"},null,null,null,{"$error":"#VALUE!"},{"$f":"VLOOKUP(Report!DC37,Code!$B$24:$C$32,2,FALSE)","v":{"$error":"#VALUE!"}},{"$f":"VLOOKUP(Report!DC37,Code!$B$24:$D$32,3,FALSE)","v":{"$error":"#VALUE!"}},{"$error":"#VALUE!"},{"$error":"#VALUE!"}," ",null,null,null,null,null,null,null,{"$f":"VLOOKUP(Report!DO37,Code!$B$40:$D$42,2,FALSE)","v":{"$error":"#N/A"}},{"$f":"VLOOKUP(Report!DO37,Code!$B$40:$D$42,3,FALSE)","v":{"$error":"#N/A"}},{"$error":"#N/A"},null,{"$error":"#N/A"},"number","number","number","",null,null,null,null,"",""]
[null,null,null,null,30,null,{"$f":"'Front Sheet'!AE42","v":""},{"$f":"'Front Sheet'!AF42","v":"  "},null,null,null,null,null,null,null,null,null,null,null,null,"Type_2",{"$f":"'Front Sheet'!AJ42","v":""},{"$error":"#N/A"},{"$f":"'Front Sheet'!AM42","v":""},{"$error":"#N/A"},{"$error":"#N/A"},null,"he","He","his","His",null,null,null,{"$f":"HLOOKUP(Report!AH38,Person!$H$2:$L$3,2,FALSE)","v":{"$error":"#N/A"}},{"$error":"#N/A"},{"$f":"IF(AH38=0,\"\",AJ38+VLOOKUP(AH38,Code!$B$2:$C$6,2,FALSE))","v":""},{"$f":"IF(AH38=0,\"\",IF(I38=\"F\",G38&\" \"&VLOOKUP(AK38,Person!D:I,2,FALSE),G38&\" \"&VLOOKUP(AK38,Person!D:I,4,FALSE)))","v":""},null,null,null,null,null,null,null,null,{"$f":"VLOOKUP(AT38,Code!$B$51:$D$55,2,FALSE)","v":{"$error":"#N/A"}},{"$f":"RANDBETWEEN(1,VLOOKUP(AT38,Code!$B$51:$D$55,3,FALSE))","v":{"$error":"#N/A"}},null,"",null,null,null,{"$f":"HLOOKUP(Report!BA38,Homework!$I$2:$L$3,2,FALSE)","v":{"$error":"#N/A"}},{"$error":"#N/A"},{"$f":"IF(BA38=0,\"\",BC38+VLOOKUP(BA38,Code!$B$2:$C$6,2,FALSE))","v":""},{"$f":"IF(AND(VLOOKUP(BD38,Homework!D:J,2,FALSE)=\"'s \",RIGHT(G38,1)=\"s\"),\"' \",IF(VLOOKUP(BD38,Homework!D:J,2,FALSE)=\"'s \",\"'s \",\" \"))","v":" "},{"$f":"IF(BA38=0,\"\",IF(I38=\"F\",\" \"&G38&BE38&VLOOKUP(BD38,Homework!D:J,3,FALSE),\" \"&G38&BE38&VLOOKUP(BD38,Homework!D:J,5,FALSE)))","v":""},null,null,null,null,null,null,null,null,null,{"$f":"VLOOKUP(BO38,Code!$B$45:$D$48,2,FALSE)","v":{"$error":"#N/A"}},{"$f":"VLOOKUP(BO38,Code!$B$45:$D$48,3,FALSE)","v":{"$error":"#N/A"}},{"$error":"#N/A"},null,"pen","pencil","ruler",null,null,"","","",null,30,{"$f":"HLOOKUP(Report!CC38,Behaviour!$H$2:$K$3,2,FALSE)","v":{"$error":"#N/A"}},{"$error":"#N/A"},{"$f":"CE38+VLOOKUP(CC38,Code!$B$2:$C$6,2,FALSE)","v":{"$error":"#N/A"}},{"$f":"IF(CC38=0,\"\",IF(I38=\"F\",AC38&\" \"&VLOOKUP(CF38,Behaviour!D:I,2,FALSE)&\" \",AC38&\" \"&VLOOKUP(CF38,Behaviour!D:I,4,FALSE)&\" \"))","v":{"$error":"#N/A"}},null,null,{"$f":"'Front Sheet'!CM42","v":0},{"$f":"'Front Sheet'!CI42","v":""},{"$f":"IF(CJ38=0,\"\",VLOOKUP(CJ38,Code!$B$59:$D$61,2,FALSE))","v":""},{"$f":"IF(CJ38=0,\"\",VLOOKUP(CJ38,Code!$B$59:$D$61,3,FALSE))","v":""},{"$error":"#VALUE!"},{"$error":"#VALUE!"},{"$error":"#VALUE!"},{"$error":"#VALUE!"},"",null,null,"",null,null,"",{"$error":"#VALUE!"},null,null,null,{"$error":"#VALUE!"},{"$f":"VLOOKUP(Report!DC38,Code!$B$24:$C$32,2,FALSE)","v":{"$error":"#VALUE!"}},{"$f":"VLOOKUP(Report!DC38,Code!$B$24:$D$32,3,FALSE)","v":{"$error":"#VALUE!"}},{"$error":"#VALUE!"},{"$error":"#VALUE!"}," ",null,null,null,null,null,null,null,{"$f":"VLOOKUP(Report!DO38,Code!$B$40:$D$42,2,FALSE)","v":{"$error":"#N/A"}},{"$f":"VLOOKUP(Report!DO38,Code!$B$40:$D$42,3,FALSE)","v":{"$error":"#N/A"}},{"$error":"#N/A"},null,{"$error":"#N/A"},"number","number","number","",null,null,null,null,"",""]
[null,null,null,null,31,null,{"$f":"'Front Sheet'!AE43","v":""},{"$f":"'Front Sheet'!AF43","v":"  "},null,null,null,null,null,null,null,null,null,null,null,null,"Type_2",{"$f":"'Front Sheet'!AJ43","v":""},{"$error":"#N/A"},{"$f":"'Front Sheet'!AM43","v":""},{"$error":"#N/A"},{"$error":"#N/A"},null,"he","He","his","His",null,null,null,{"$f":"HLOOKUP(Report!AH39,Person!$H$2:$L$3,2,FALSE)","v":{"$error":"#N/A"}},{"$error":"#N/A"},{"$f":"IF(AH39=0,\"\",AJ39+VLOOKUP(AH39,Code!$B$2:$C$6,2,FALSE))","v":""},{"$f":"IF(AH39=0,\"\",IF(I39=\"F\",G39&\" \"&VLOOKUP(AK39,Person!D:I,2,FALSE),G39&\" \"&VLOOKUP(AK39,Person!D:I,4,FALSE)))","v":""},null,null,null,null,null,null,null,null,{"$f":"VLOOKUP(AT39,Code!$B$51:$D$55,2,FALSE)","v":{"$error":"#N/A"}},{"$f":"RANDBETWEEN(1,VLOOKUP(AT39,Code!$B$51:$D$55,3,FALSE))","v":{"$error":"#N/A"}},null,"",null,null,null,{"$f":"HLOOKUP(Report!BA39,Homework!$I$2:$L$3,2,FALSE)","v":{"$error":"#N/A"}},{"$error":"#N/A"},{"$f":"IF(BA39=0,\"\",BC39+VLOOKUP(BA39,Code!$B$2:$C$6,2,FALSE))","v":""},{"$f":"IF(AND(VLOOKUP(BD39,Homework!D:J,2,FALSE)=\"'s \",RIGHT(G39,1)=\"s\"),\"' \",IF(VLOOKUP(BD39,Homework!D:J,2,FALSE)=\"'s \",\"'s \",\" \"))","v":" "},{"$f":"IF(BA39=0,\"\",IF(I39=\"F\",\" \"&G39&BE39&VLOOKUP(BD39,Homework!D:J,3,FALSE),\" \"&G39&BE39&VLOOKUP(BD39,Homework!D:J,5,FALSE)))","v":""},null,null,null,null,null,null,null,null,null,{"$f":"VLOOKUP(BO39,Code!$B$45:$D$48,2,FALSE)","v":{"$error":"#N/A"}},{"$f":"VLOOKUP(BO39,Code!$B$45:$D$48,3,FALSE)","v":{"$error":"#N/A"}},{"$error":"#N/A"},null,"pen","pencil","ruler",null,null,"","","",null,31,{"$f":"HLOOKUP(Report!CC39,Behaviour!$H$2:$K$3,2,FALSE)","v":{"$error":"#N/A"}},{"$error":"#N/A"},{"$f":"CE39+VLOOKUP(CC39,Code!$B$2:$C$6,2,FALSE)","v":{"$error":"#N/A"}},{"$f":"IF(CC39=0,\"\",IF(I39=\"F\",AC39&\" \"&VLOOKUP(CF39,Behaviour!D:I,2,FALSE)&\" \",AC39&\" \"&VLOOKUP(CF39,Behaviour!D:I,4,FALSE)&\" \"))","v":{"$error":"#N/A"}},null,null,{"$f":"'Front Sheet'!CM43","v":0},{"$f":"'Front Sheet'!CI43","v":""},{"$f":"IF(CJ39=0,\"\",VLOOKUP(CJ39,Code!$B$59:$D$61,2,FALSE))","v":""},{"$f":"IF(CJ39=0,\"\",VLOOKUP(CJ39,Code!$B$59:$D$61,3,FALSE))","v":""},{"$error":"#VALUE!"},{"$error":"#VALUE!"},{"$error":"#VALUE!"},{"$error":"#VALUE!"},"",null,null,"",null,null,"",{"$error":"#VALUE!"},null,null,null,{"$error":"#VALUE!"},{"$f":"VLOOKUP(Report!DC39,Code!$B$24:$C$32,2,FALSE)","v":{"$error":"#VALUE!"}},{"$f":"VLOOKUP(Report!DC39,Code!$B$24:$D$32,3,FALSE)","v":{"$error":"#VALUE!"}},{"$error":"#VALUE!"},{"$error":"#VALUE!"}," ",null,null,null,null,null,null,null,{"$f":"VLOOKUP(Report!DO39,Code!$B$40:$D$42,2,FALSE)","v":{"$error":"#N/A"}},{"$f":"VLOOKUP(Report!DO39,Code!$B$40:$D$42,3,FALSE)","v":{"$error":"#N/A"}},{"$error":"#N/A"},null,{"$error":"#N/A"},"number","number","number","",null,null,null,null,"",{"$f":"EC39","v":""}]
[null,null,null,null,32,null,{"$f":"'Front Sheet'!AE44","v":""},{"$f":"'Front Sheet'!AF44","v":"  "},null,null,null,null,null,null,null,null,null,null,null,null,"Type_2",{"$f":"'Front Sheet'!AJ44","v":""},{"$error":"#N/A"},{"$f":"'Front Sheet'!AM44","v":""},{"$error":"#N/A"},{"$error":"#N/A"},null,"he","He","his","His",null,null,null,{"$f":"HLOOKUP(Report!AH40,Person!$H$2:$L$3,2,FALSE)","v":{"$error":"#N/A"}},{"$error":"#N/A"},{"$f":"IF(AH40=0,\"\",AJ40+VLOOKUP(AH40,Code!$B$2:$C$6,2,FALSE))","v":""},{"$f":"IF(AH40=0,\"\",IF(I40=\"F\",G40&\" \"&VLOOKUP(AK40,Person!D:I,2,FALSE),G40&\" \"&VLOOKUP(AK40,Person!D:I,4,FALSE)))","v":""},null,null,null,null,null,null,null,null,{"$f":"VLOOKUP(AT40,Code!$B$51:$D$55,2,FALSE)","v":{"$error":"#N/A"}},{"$f":"RANDBETWEEN(1,VLOOKUP(AT40,Code!$B$51:$D$55,3,FALSE))","v":{"$error":"#N/A"}},null,"",null,null,null,{"$f":"HLOOKUP(Report!BA40,Homework!$I$2:$L$3,2,FALSE)","v":{"$error":"#N/A"}},{"$error":"#N/A"},{"$f":"IF(BA40=0,\"\",BC40+VLOOKUP(BA40,Code!$B$2:$C$6,2,FALSE))","v":""},{"$f":"IF(AND(VLOOKUP(BD40,Homework!D:J,2,FALSE)=\"'s \",RIGHT(G40,1)=\"s\"),\"' \",IF(VLOOKUP(BD40,Homework!D:J,2,FALSE)=\"'s \",\"'s \",\" \"))","v":" "},{"$f":"IF(BA40=0,\"\",IF(I40=\"F\",\" \"&G40&BE40&VLOOKUP(BD40,Homework!D:J,3,FALSE),\" \"&G40&BE40&VLOOKUP(BD40,Homework!D:J,5,FALSE)))","v":""},null,null,null,null,null,null,null,null,null,{"$f":"VLOOKUP(BO40,Code!$B$45:$D$48,2,FALSE)","v":{"$error":"#N/A"}},{"$f":"VLOOKUP(BO40,Code!$B$45:$D$48,3,FALSE)","v":{"$error":"#N/A"}},{"$error":"#N/A"},null,"pen","pencil","ruler",null,null,"","","",null,32,{"$f":"HLOOKUP(Report!CC40,Behaviour!$H$2:$K$3,2,FALSE)","v":{"$error":"#N/A"}},{"$error":"#N/A"},{"$f":"CE40+VLOOKUP(CC40,Code!$B$2:$C$6,2,FALSE)","v":{"$error":"#N/A"}},{"$f":"IF(CC40=0,\"\",IF(I40=\"F\",AC40&\" \"&VLOOKUP(CF40,Behaviour!D:I,2,FALSE)&\" \",AC40&\" \"&VLOOKUP(CF40,Behaviour!D:I,4,FALSE)&\" \"))","v":{"$error":"#N/A"}},null,null,{"$f":"'Front Sheet'!CM44","v":0},{"$f":"'Front Sheet'!CI44","v":""},{"$f":"IF(CJ40=0,\"\",VLOOKUP(CJ40,Code!$B$59:$D$61,2,FALSE))","v":""},{"$f":"IF(CJ40=0,\"\",VLOOKUP(CJ40,Code!$B$59:$D$61,3,FALSE))","v":""},{"$error":"#VALUE!"},{"$error":"#VALUE!"},{"$error":"#VALUE!"},{"$error":"#VALUE!"},"",null,null,"",null,null,"",{"$error":"#VALUE!"},null,null,null,{"$error":"#VALUE!"},{"$f":"VLOOKUP(Report!DC40,Code!$B$24:$C$32,2,FALSE)","v":{"$error":"#VALUE!"}},{"$f":"VLOOKUP(Report!DC40,Code!$B$24:$D$32,3,FALSE)","v":{"$error":"#VALUE!"}},{"$error":"#VALUE!"},{"$error":"#VALUE!"}," ",null,null,null,null,null,null,null,{"$f":"VLOOKUP(Report!DO40,Code!$B$40:$D$42,2,FALSE)","v":{"$error":"#N/A"}},{"$f":"VLOOKUP(Report!DO40,Code!$B$40:$D$42,3,FALSE)","v":{"$error":"#N/A"}},{"$error":"#N/A"},null,{"$error":"#N/A"},"number","number","number","",null,null,null,null,"",{"$f":"EC40","v":""}]
[null,null,null,null,33,null,{"$f":"'Front Sheet'!AE45","v":""},{"$f":"'Front Sheet'!AF45","v":"  "},null,null,null,null,null,null,null,null,null,null,null,null,"Type_2",{"$f":"'Front Sheet'!AJ45","v":""},{"$error":"#N/A"},{"$f":"'Front Sheet'!AM45","v":""},{"$error":"#N/A"},{"$error":"#N/A"},null,"he","He",{"$f":"IF(I41=\"F\",\"her\",\"his\")","v":"his"},{"$f":"IF(I41=\"F\",\"Her\",\"His\")","v":"His"},null,null,null,{"$f":"HLOOKUP(Report!AH41,Person!$H$2:$L$3,2,FALSE)","v":{"$error":"#N/A"}},{"$error":"#N/A"},{"$f":"IF(AH41=0,\"\",AJ41+VLOOKUP(AH41,Code!$B$2:$C$6,2,FALSE))","v":""},{"$f":"IF(AH41=0,\"\",IF(I41=\"F\",G41&\" \"&VLOOKUP(AK41,Person!D:I,2,FALSE),G41&\" \"&VLOOKUP(AK41,Person!D:I,4,FALSE)))","v":""},null,null,null,null,null,null,null,null,{"$f":"VLOOKUP(AT41,Code!$B$51:$D$55,2,FALSE)","v":{"$error":"#N/A"}},{"$f":"RANDBETWEEN(1,VLOOKUP(AT41,Code!$B$51:$D$55,3,FALSE))","v":{"$error":"#N/A"}},null,{"$f":"IF(AT41=0,\"\",IF(I41=\"F\",\" \"&VLOOKUP(AV41,INDIRECT(AU41),2,FALSE),\" \"&VLOOKUP(AV41,INDIRECT(AU41),4,FALSE)))","v":""},null,null,null,{"$f":"HLOOKUP(Report!BA41,Homework!$I$2:$L$3,2,FALSE)","v":{"$error":"#N/A"}},{"$error":"#N/A"},{"$f":"IF(BA41=0,\"\",BC41+VLOOKUP(BA41,Code!$B$2:$C$6,2,FALSE))","v":""},{"$f":"IF(AND(VLOOKUP(BD41,Homework!D:J,2,FALSE)=\"'s \",RIGHT(G41,1)=\"s\"),\"' \",IF(VLOOKUP(BD41,Homework!D:J,2,FALSE)=\"'s \",\"'s \",\" \"))","v":" "},{"$f":"IF(BA41=0,\"\",IF(I41=\"F\",\" \"&G41&BE41&VLOOKUP(BD41,Homework!D:J,3,FALSE),\" \"&G41&BE41&VLOOKUP(BD41,Homework!D:J,5,FALSE)))","v":""},null,null,null,null,null,null,null,null,null,{"$f":"VLOOKUP(BO41,Code!$B$45:$D$48,2,FALSE)","v":{"$error":"#N/A"}},{"$f":"VLOOKUP(BO41,Code!$B$45:$D$48,3,FALSE)","v":{"$error":"#N/A"}},{"$error":"#N/A"},null,"pen","pencil","ruler",null,null,"","",{"$f":"IF(BO41=0,\"\",IF(I41=\"F\",\" \"&BY41,\" \"&BZ41))","v":""},null,33,{"$f":"HLOOKUP(Report!CC41,Behaviour!$H$2:$K$3,2,FALSE)","v":{"$error":"#N/A"}},{"$error":"#N/A"},{"$f":"CE41+VLOOKUP(CC41,Code!$B$2:$C$6,2,FALSE)","v":{"$error":"#N/A"}},{"$f":"IF(CC41=0,\"\",IF(I41=\"F\",AC41&\" \"&VLOOKUP(CF41,Behaviour!D:I,2,FALSE)&\" \",AC41&\" \"&VLOOKUP(CF41,Behaviour!D:I,4,FALSE)&\" \"))","v":{"$error":"#N/A"}},null,null,{"$f":"'Front Sheet'!CM45","v":0},{"$f":"'Front Sheet'!CI45","v":""},{"$f":"IF(CJ41=0,\"\",VLOOKUP(CJ41,Code!$B$59:$D$61,2,FALSE))","v":""},{"$f":"IF(CJ41=0,\"\",VLOOKUP(CJ41,Code!$B$59:$D$61,3,FALSE))","v":""},{"$error":"#VALUE!"},{"$f":"IF(I41=\"F\",VLOOKUP(CN41,INDIRECT(CL41),2,FALSE),VLOOKUP(CN41,INDIRECT(CL41),5,FALSE))","v":{"$error":"#VALUE!"}},{"$f":"IF(I41=\"F\",VLOOKUP(CN41,INDIRECT(CL41),3,FALSE),VLOOKUP(CN41,INDIRECT(CL41),6,FALSE))","v":{"$error":"#VALUE!"}},{"$error":"#VALUE!"},"",null,null,"",null,null,"",{"$error":"#VALUE!"},null,null,null,{"$error":"#VALUE!"},{"$f":"VLOOKUP(Report!DC41,Code!$B$24:$C$32,2,FALSE)","v":{"$error":"#VALUE!"}},{"$f":"VLOOKUP(Report!DC41,Code!$B$24:$D$32,3,FALSE)","v":{"$error":"#VALUE!"}},{"$error":"#VALUE!"},{"$f":"IF(AND(VLOOKUP(DF41,INDIRECT(DD41),2,FALSE)=\"'s \",RIGHT(G41,1)=\"s\"),\"' \",IF(VLOOKUP(DF41,INDIRECT(DD41),2,FALSE)=\"'s \",\"'s \",\"\"))","v":{"$error":"#VALUE!"}},{"$f":"\" \"&IF(DB41=0,\"\",IF(I41=\"F\",G41&DG41&VLOOKUP(DF41,INDIRECT(DD41),3,FALSE),G41&DG41&VLOOKUP(DF41,INDIRECT(DD41),5,FALSE)))","v":" "},null,null,null,null,null,null,null,{"$f":"VLOOKUP(Report!DO41,Code!$B$40:$D$42,2,FALSE)","v":{"$error":"#N/A"}},{"$f":"VLOOKUP(Report!DO41,Code!$B$40:$D$42,3,FALSE)","v":{"$error":"#N/A"}},{"$error":"#N/A"},null,{"$error":"#N/A"},"number","number","number","",null,null,null,null,{"$f":"IF(LEN(G41)<1,\"\",IF(OR(I41=\"F\",I41=\"M\"),(IF(ISERROR(AL41&AX41&BF41&CA41&CR41&DH41&DX41),\"\",AL41&AX41&BF41&CA41&CR41&DH41&DX41)),\"\"))","v":""},{"$f":"EC41","v":""}]
[null,null,null,null,34,null,{"$f":"'Front Sheet'!AE46","v":""},{"$f":"'Front Sheet'!AF46","v":"  "},null,null,null,null,null,null,null,null,null,null,null,null,"Type_2",{"$f":"'Front Sheet'!AJ46","v":""},{"$error":"#N/A"},{"$f":"'Front Sheet'!AM46","v":""},{"$error":"#N/A"},{"$error":"#N/A"},null,"he","He","his","His",null,null,null,{"$f":"HLOOKUP(Report!AH42,Person!$H$2:$L$3,2,FALSE)","v":{"$error":"#N/A"}},{"$error":"#N/A"},{"$f":"IF(AH42=0,\"\",AJ42+VLOOKUP(AH42,Code!$B$2:$C$6,2,FALSE))","v":""},{"$f":"IF(AH42=0,\"\",IF(I42=\"F\",G42&\" \"&VLOOKUP(AK42,Person!D:I,2,FALSE),G42&\" \"&VLOOKUP(AK42,Person!D:I,4,FALSE)))","v":""},null,null,null,null,null,null,null,null,{"$f":"VLOOKUP(AT42,Code!$B$51:$D$55,2,FALSE)","v":{"$error":"#N/A"}},{"$f":"RANDBETWEEN(1,VLOOKUP(AT42,Code!$B$51:$D$55,3,FALSE))","v":{"$error":"#N/A"}},null,"",null,null,null,{"$f":"HLOOKUP(Report!BA42,Homework!$I$2:$L$3,2,FALSE)","v":{"$error":"#N/A"}},{"$error":"#N/A"},{"$f":"IF(BA42=0,\"\",BC42+VLOOKUP(BA42,Code!$B$2:$C$6,2,FALSE))","v":""},{"$f":"IF(AND(VLOOKUP(BD42,Homework!D:J,2,FALSE)=\"'s \",RIGHT(G42,1)=\"s\"),\"' \",IF(VLOOKUP(BD42,Homework!D:J,2,FALSE)=\"'s \",\"'s \",\" \"))","v":" "},{"$f":"IF(BA42=0,\"\",IF(I42=\"F\",\" \"&G42&BE42&VLOOKUP(BD42,Homework!D:J,3,FALSE),\" \"&G42&BE42&VLOOKUP(BD42,Homework!D:J,5,FALSE)))","v":""},null,null,null,null,null,null,null,null,null,{"$f":"VLOOKUP(BO42,Code!$B$45:$D$48,2,FALSE)","v":{"$error":"#N/A"}},{"$f":"VLOOKUP(BO42,Code!$B$45:$D$48,3,FALSE)","v":{"$error":"#N/A"}},{"$error":"#N/A"},null,"pen","pencil","ruler",null,null,"","","",null,34,{"$f":"HLOOKUP(Report!CC42,Behaviour!$H$2:$K$3,2,FALSE)","v":{"$error":"#N/A"}},{"$error":"#N/A"},{"$f":"CE42+VLOOKUP(CC42,Code!$B$2:$C$6,2,FALSE)","v":{"$error":"#N/A"}},{"$f":"IF(CC42=0,\"\",IF(I42=\"F\",AC42&\" \"&VLOOKUP(CF42,Behaviour!D:I,2,FALSE)&\" \",AC42&\" \"&VLOOKUP(CF42,Behaviour!D:I,4,FALSE)&\" \"))","v":{"$error":"#N/A"}},null,null,{"$f":"'Front Sheet'!CM46","v":0},{"$f":"'Front Sheet'!CI46","v":""},{"$f":"IF(CJ42=0,\"\",VLOOKUP(CJ42,Code!$B$59:$D$61,2,FALSE))","v":""},{"$f":"IF(CJ42=0,\"\",VLOOKUP(CJ42,Code!$B$59:$D$61,3,FALSE))","v":""},{"$error":"#VALUE!"},{"$error":"#VALUE!"},{"$error":"#VALUE!"},{"$error":"#VALUE!"},"",null,null,"",null,null,"",{"$error":"#VALUE!"},null,null,null,{"$error":"#VALUE!"},{"$f":"VLOOKUP(Report!DC42,Code!$B$24:$C$32,2,FALSE)","v":{"$error":"#VALUE!"}},{"$f":"VLOOKUP(Report!DC42,Code!$B$24:$D$32,3,FALSE)","v":{"$error":"#VALUE!"}},{"$error":"#VALUE!"},{"$error":"#VALUE!"}," ",null,null,null,null,null,null,null,{"$f":"VLOOKUP(Report!DO42,Code!$B$40:$D$42,2,FALSE)","v":{"$error":"#N/A"}},{"$f":"VLOOKUP(Report!DO42,Code!$B$40:$D$42,3,FALSE)","v":{"$error":"#N/A"}},{"$error":"#N/A"},null,{"$error":"#N/A"},"number","number","number","",null,null,null,null,"",{"$f":"EC42","v":""}]
[null,null,null,null,35,null,{"$f":"'Front Sheet'!AE47","v":""},{"$f":"'Front Sheet'!AF47","v":"  "},null,null,null,null,null,null,null,null,null,null,null,null,"Type_2",{"$f":"'Front Sheet'!AJ47","v":""},{"$error":"#N/A"},{"$f":"'Front Sheet'!AM47","v":""},{"$error":"#N/A"},{"$error":"#N/A"},null,"he","He","his","His",null,null,null,{"$f":"HLOOKUP(Report!AH43,Person!$H$2:$L$3,2,FALSE)","v":{"$error":"#N/A"}},{"$error":"#N/A"},{"$f":"IF(AH43=0,\"\",AJ43+VLOOKUP(AH43,Code!$B$2:$C$6,2,FALSE))","v":""},{"$f":"IF(AH43=0,\"\",IF(I43=\"F\",G43&\" \"&VLOOKUP(AK43,Person!D:I,2,FALSE),G43&\" \"&VLOOKUP(AK43,Person!D:I,4,FALSE)))","v":""},null,null,null,null,null,null,null,null,{"$f":"VLOOKUP(AT43,Code!$B$51:$D$55,2,FALSE)","v":{"$error":"#N/A"}},{"$f":"RANDBETWEEN(1,VLOOKUP(AT43,Code!$B$51:$D$55,3,FALSE))","v":{"$error":"#N/A"}},null,"",null,null,null,{"$f":"HLOOKUP(Report!BA43,Homework!$I$2:$L$3,2,FALSE)","v":{"$error":"#N/A"}},{"$error":"#N/A"},{"$f":"IF(BA43=0,\"\",BC43+VLOOKUP(BA43,Code!$B$2:$C$6,2,FALSE))","v":""},{"$f":"IF(AND(VLOOKUP(BD43,Homework!D:J,2,FALSE)=\"'s \",RIGHT(G43,1)=\"s\"),\"' \",IF(VLOOKUP(BD43,Homework!D:J,2,FALSE)=\"'s \",\"'s \",\" \"))","v":" "},{"$f":"IF(BA43=0,\"\",IF(I43=\"F\",\" \"&G43&BE43&VLOOKUP(BD43,Homework!D:J,3,FALSE),\" \"&G43&BE43&VLOOKUP(BD43,Homework!D:J,5,FALSE)))","v":""},null,null,null,null,null,null,null,null,null,{"$f":"VLOOKUP(BO43,Code!$B$45:$D$48,2,FALSE)","v":{"$error":"#N/A"}},{"$f":"VLOOKUP(BO43,Code!$B$45:$D$48,3,FALSE)","v":{"$error":"#N/A"}},{"$error":"#N/A"},null,"pen","pencil","ruler",null,null,"","","",null,35,{"$f":"HLOOKUP(Report!CC43,Behaviour!$H$2:$K$3,2,FALSE)","v":{"$error":"#N/A"}},{"$error":"#N/A"},{"$f":"CE43+VLOOKUP(CC43,Code!$B$2:$C$6,2,FALSE)","v":{"$error":"#N/A"}},{"$f":"IF(CC43=0,\"\",IF(I43=\"F\",AC43&\" \"&VLOOKUP(CF43,Behaviour!D:I,2,FALSE)&\" \",AC43&\" \"&VLOOKUP(CF43,Behaviour!D:I,4,FALSE)&\" \"))","v":{"$error":"#N/A"}},null,null,{"$f":"'Front Sheet'!CM47","v":0},{"$f":"'Front Sheet'!CI47","v":""},{"$f":"IF(CJ43=0,\"\",VLOOKUP(CJ43,Code!$B$59:$D$61,2,FALSE))","v":""},{"$f":"IF(CJ43=0,\"\",VLOOKUP(CJ43,Code!$B$59:$D$61,3,FALSE))","v":""},{"$error":"#VALUE!"},{"$error":"#VALUE!"},{"$error":"#VALUE!"},{"$error":"#VALUE!"},"",null,null,"",null,null,"",{"$error":"#VALUE!"},null,null,null,{"$error":"#VALUE!"},{"$f":"VLOOKUP(Report!DC43,Code!$B$24:$C$32,2,FALSE)","v":{"$error":"#VALUE!"}},{"$f":"VLOOKUP(Report!DC43,Code!$B$24:$D$32,3,FALSE)","v":{"$error":"#VALUE!"}},{"$error":"#VALUE!"},{"$error":"#VALUE!"}," ",null,null,null,null,null,null,null,{"$f":"VLOOKUP(Report!DO43,Code!$B$40:$D$42,2,FALSE)","v":{"$error":"#N/A"}},{"$f":"VLOOKUP(Report!DO43,Code!$B$40:$D$42,3,FALSE)","v":{"$error":"#N/A"}},{"$error":"#N/A"},null,{"$error":"#N/A"},"number","number","number","",null,null,null,null,"",{"$f":"EC43","v":""}]
[null,null,null,null,null,null,null,null,null,null,null,null,null,null,null,null,null,null,null,null,"Type_2",null,{"$f":"VLOOKUP(V44,INDIRECT(U44),2,FALSE)","v":{"$error":"#N/A"}},null,{"$f":"VLOOKUP(X44,INDIRECT(U44),2,FALSE)","v":{"$error":"#N/A"}},{"$f":"IF(W44=Y44,2,IF(W44<Y44,1,3))","v":{"$error":"#N/A"}},null,"he","He","his","His",null,null," ",{"$f":"HLOOKUP(Report!AH44,Person!$H$2:$L$3,2,FALSE)","v":{"$error":"#N/A"}},{"$error":"#N/A"},{"$f":"IF(AH44=0,\"\",AJ44+VLOOKUP(AH44,Code!$B$2:$C$6,2,FALSE))","v":{"$error":"#N/A"}},{"$f":"IF(AH44=0,\"\",IF(I44=\"F\",G44&\" \"&VLOOKUP(AK44,Person!D:I,2,FALSE),G44&\" \"&VLOOKUP(AK44,Person!D:I,4,FALSE)))","v":{"$error":"#N/A"}},null,null,null,null,null,null,null,null,{"$f":"VLOOKUP(AT44,Code!$B$51:$D$55,2,FALSE)","v":{"$error":"#N/A"}},{"$f":"RANDBETWEEN(1,VLOOKUP(AT44,Code!$B$51:$D$55,3,FALSE))","v":{"$error":"#N/A"}},null,"",null,null,null,{"$f":"HLOOKUP(Report!BA44,Homework!$I$2:$L$3,2,FALSE)","v":{"$error":"#N/A"}},{"$error":"#N/A"},{"$f":"IF(BA44=0,\"\",BC44+VLOOKUP(BA44,Code!$B$2:$C$6,2,FALSE))","v":""},{"$f":"IF(AND(VLOOKUP(BD44,Homework!D:J,2,FALSE)=\"'s \",RIGHT(G44,1)=\"s\"),\"' \",IF(VLOOKUP(BD44,Homework!D:J,2,FALSE)=\"'s \",\"'s \",\" \"))","v":" "},{"$f":"IF(BA44=0,\"\",IF(I44=\"F\",\" \"&G44&BE44&VLOOKUP(BD44,Homework!D:J,3,FALSE),\" \"&G44&BE44&VLOOKUP(BD44,Homework!D:J,5,FALSE)))","v":""},null,null,null,null,null,null,null,null,null,{"$f":"VLOOKUP(BO44,Code!$B$45:$D$48,2,FALSE)","v":{"$error":"#N/A"}},{"$f":"VLOOKUP(BO44,Code!$B$45:$D$48,3,FALSE)","v":{"$error":"#N/A"}},{"$error":"#N/A"},null,"pen","pen","pen",null,null,"","","",null,36,{"$f":"HLOOKUP(Report!CC44,Behaviour!$H$2:$K$3,2,FALSE)","v":{"$error":"#N/A"}},{"$error":"#N/A"},{"$f":"CE44+VLOOKUP(CC44,Code!$B$2:$C$6,2,FALSE)","v":{"$error":"#N/A"}},{"$f":"IF(CC44=0,\"\",IF(I44=\"F\",AC44&\" \"&VLOOKUP(CF44,Behaviour!D:I,2,FALSE)&\" \",AC44&\" \"&VLOOKUP(CF44,Behaviour!D:I,4,FALSE)&\" \"))","v":{"$error":"#N/A"}},null,null,{"$f":"'Front Sheet'!CM48","v":0},{"$f":"'Front Sheet'!CI48","v":0},{"$f":"IF(CJ44=0,\"\",VLOOKUP(CJ44,Code!$B$59:$D$61,2,FALSE))","v":""},{"$f":"IF(CJ44=0,\"\",VLOOKUP(CJ44,Code!$B$59:$D$61,3,FALSE))","v":""},{"$error":"#VALUE!"},{"$error":"#VALUE!"},{"$error":"#VALUE!"},{"$error":"#VALUE!"},"",null,null,"",null,null,"",{"$error":"#VALUE!"},null,null,null,{"$error":"#VALUE!"},{"$f":"VLOOKUP(Report!DC44,Code!$B$24:$C$32,2,FALSE)","v":{"$error":"#VALUE!"}},{"$f":"VLOOKUP(Report!DC44,Code!$B$24:$D$32,3,FALSE)","v":{"$error":"#VALUE!"}},{"$error":"#VALUE!"},{"$error":"#VALUE!"}," ",null,null,null,null,null,null,null,{"$f":"VLOOKUP(Report!DO44,Code!$B$40:$D$42,2,FALSE)","v":{"$error":"#N/A"}},{"$f":"VLOOKUP(Report!DO44,Code!$B$40:$D$42,3,FALSE)","v":{"$error":"#N/A"}},{"$error":"#N/A"},null,{"$error":"#N/A"},"number","number","number","",null,null,null,null,"",{"$f":"IF(LEN(G44)<1,\"\",IF(OR(I44=\"F\",I44=\"M\"),(IF(ISERROR(AL44&AX44&BF44&CA44&DH44&DX44),\"\",AL44&AX44&BF44&CA44&DH44&DX44)),\"\"))","v":""}]
[null,null,null,null,null,null,null,null,null,null,null,null,null,null,null,null,null,null,null,null,"Type_2",null,{"$error":"#N/A"},null,{"$error":"#N/A"},{"$error":"#N/A"},null,"he","He","his","His",null,null," ",{"$f":"HLOOKUP(Report!AH45,Person!$H$2:$L$3,2,FALSE)","v":{"$error":"#N/A"}},{"$error":"#N/A"},{"$f":"IF(AH45=0,\"\",AJ45+VLOOKUP(AH45,Code!$B$2:$C$6,2,FALSE))","v":{"$error":"#N/A"}},{"$f":"IF(AH45=0,\"\",IF(I45=\"F\",G45&\" \"&VLOOKUP(AK45,Person!D:I,2,FALSE),G45&\" \"&VLOOKUP(AK45,Person!D:I,4,FALSE)))","v":{"$error":"#N/A"}},null,null,null,null,null,null,null,null,{"$f":"VLOOKUP(AT45,Code!$B$51:$D$55,2,FALSE)","v":{"$error":"#N/A"}},{"$f":"RANDBETWEEN(1,VLOOKUP(AT45,Code!$B$51:$D$55,3,FALSE))","v":{"$error":"#N/A"}},null,"",null,null,null,{"$f":"HLOOKUP(Report!BA45,Homework!$I$2:$L$3,2,FALSE)","v":{"$error":"#N/A"}},{"$error":"#N/A"},{"$f":"IF(BA45=0,\"\",BC45+VLOOKUP(BA45,Code!$B$2:$C$6,2,FALSE))","v":""},{"$f":"IF(AND(VLOOKUP(BD45,Homework!D:J,2,FALSE)=\"'s \",RIGHT(G45,1)=\"s\"),\"' \",IF(VLOOKUP(BD45,Homework!D:J,2,FALSE)=\"'s \",\"'s \",\" \"))","v":" "},{"$f":"IF(BA45=0,\"\",IF(I45=\"F\",\" \"&G45&BE45&VLOOKUP(BD45,Homework!D:J,3,FALSE),\" \"&G45&BE45&VLOOKUP(BD45,Homework!D:J,5,FALSE)))","v":""},null,null,null,null,null,null,null,null,null,{"$f":"VLOOKUP(BO45,Code!$B$45:$D$48,2,FALSE)","v":{"$error":"#N/A"}},{"$f":"VLOOKUP(BO45,Code!$B$45:$D$48,3,FALSE)","v":{"$error":"#N/A"}},{"$error":"#N/A"},null,"pen","pen","pen",null,null,"","","",null,37,{"$f":"HLOOKUP(Report!CC45,Behaviour!$H$2:$K$3,2,FALSE)","v":{"$error":"#N/A"}},{"$error":"#N/A"},{"$f":"CE45+VLOOKUP(CC45,Code!$B$2:$C$6,2,FALSE)","v":{"$error":"#N/A"}},{"$f":"IF(CC45=0,\"\",IF(I45=\"F\",AC45&\" \"&VLOOKUP(CF45,Behaviour!D:I,2,FALSE)&\" \",AC45&\" \"&VLOOKUP(CF45,Behaviour!D:I,4,FALSE)&\" \"))","v":{"$error":"#N/A"}},null,null," ",null,{"$f":"IF(CJ45=0,\"\",VLOOKUP(CJ45,Code!$B$59:$D$61,2,FALSE))","v":{"$error":"#N/A"}},{"$f":"IF(CJ45=0,\"\",VLOOKUP(CJ45,Code!$B$59:$D$61,3,FALSE))","v":{"$error":"#N/A"}},{"$error":"#N/A"},{"$error":"#N/A"},{"$error":"#N/A"},{"$error":"#N/A"},"",null,null,"",null,null,1,10,null,null,null,10,{"$f":"VLOOKUP(Report!DC45,Code!$B$24:$C$32,2,FALSE)","v":{"$error":"#N/A"}},{"$f":"VLOOKUP(Report!DC45,Code!$B$24:$D$32,3,FALSE)","v":{"$error":"#N/A"}},{"$error":"#N/A"},{"$error":"#N/A"}," ",null,null,null,null,null,null,null,{"$f":"VLOOKUP(Report!DO45,Code!$B$40:$D$42,2,FALSE)","v":{"$error":"#N/A"}},{"$f":"VLOOKUP(Report!DO45,Code!$B$40:$D$42,3,FALSE)","v":{"$error":"#N/A"}},{"$error":"#N/A"},null,{"$error":"#N/A"},"number","number","number","",null,null,null,null,"",""]
[null,null,null,null,null,null,null,null,null,null,null,null,null,null,null,null,null,null,null,null,"Type_2",null,{"$error":"#N/A"},null,{"$error":"#N/A"},{"$error":"#N/A"},null,"he","He","his","His",null,null," ",{"$f":"HLOOKUP(Report!AH46,Person!$H$2:$L$3,2,FALSE)","v":{"$error":"#N/A"}},{"$error":"#N/A"},{"$f":"IF(AH46=0,\"\",AJ46+VLOOKUP(AH46,Code!$B$2:$C$6,2,FALSE))","v":{"$error":"#N/A"}},{"$f":"IF(AH46=0,\"\",IF(I46=\"F\",G46&\" \"&VLOOKUP(AK46,Person!D:I,2,FALSE),G46&\" \"&VLOOKUP(AK46,Person!D:I,4,FALSE)))","v":{"$error":"#N/A"}},null,null,null,null,null,null,null,null,{"$f":"VLOOKUP(AT46,Code!$B$51:$D$55,2,FALSE)","v":{"$error":"#N/A"}},{"$f":"RANDBETWEEN(1,VLOOKUP(AT46,Code!$B$51:$D$55,3,FALSE))","v":{"$error":"#N/A"}},null,"",null,null,null,{"$f":"HLOOKUP(Report!BA46,Homework!$I$2:$L$3,2,FALSE)","v":{"$error":"#N/A"}},{"$error":"#N/A"},{"$f":"IF(BA46=0,\"\",BC46+VLOOKUP(BA46,Code!$B$2:$C$6,2,FALSE))","v":""},{"$f":"IF(AND(VLOOKUP(BD46,Homework!D:J,2,FALSE)=\"'s \",RIGHT(G46,1)=\"s\"),\"' \",IF(VLOOKUP(BD46,Homework!D:J,2,FALSE)=\"'s \",\"'s \",\" \"))","v":" "},{"$f":"IF(BA46=0,\"\",IF(I46=\"F\",\" \"&G46&BE46&VLOOKUP(BD46,Homework!D:J,3,FALSE),\" \"&G46&BE46&VLOOKUP(BD46,Homework!D:J,5,FALSE)))","v":""},null,null,null,null,null,null,null,null,null,{"$f":"VLOOKUP(BO46,Code!$B$45:$D$48,2,FALSE)","v":{"$error":"#N/A"}},{"$f":"VLOOKUP(BO46,Code!$B$45:$D$48,3,FALSE)","v":{"$error":"#N/A"}},{"$error":"#N/A"},null,"pen","pen","pen",null,null,"","","",null,38,{"$f":"HLOOKUP(Report!CC46,Behaviour!$H$2:$K$3,2,FALSE)","v":{"$error":"#N/A"}},{"$error":"#N/A"},{"$f":"CE46+VLOOKUP(CC46,Code!$B$2:$C$6,2,FALSE)","v":{"$error":"#N/A"}},{"$f":"IF(CC46=0,\"\",IF(I46=\"F\",AC46&\" \"&VLOOKUP(CF46,Behaviour!D:I,2,FALSE)&\" \",AC46&\" \"&VLOOKUP(CF46,Behaviour!D:I,4,FALSE)&\" \"))","v":{"$error":"#N/A"}},null,null," ",null,{"$f":"IF(CJ46=0,\"\",VLOOKUP(CJ46,Code!$B$59:$D$61,2,FALSE))","v":{"$error":"#N/A"}},{"$f":"IF(CJ46=0,\"\",VLOOKUP(CJ46,Code!$B$59:$D$61,3,FALSE))","v":{"$error":"#N/A"}},{"$error":"#N/A"},{"$error":"#N/A"},{"$error":"#N/A"},{"$error":"#N/A"},"",null,null,"",null,null,1,10,null,null,null,10,{"$f":"VLOOKUP(Report!DC46,Code!$B$24:$C$32,2,FALSE)","v":{"$error":"#N/A"}},{"$f":"VLOOKUP(Report!DC46,Code!$B$24:$D$32,3,FALSE)","v":{"$error":"#N/A"}},{"$error":"#N/A"},{"$error":"#N/A"}," ",null,null,null,null,null,null,null,{"$f":"VLOOKUP(Report!DO46,Code!$B$40:$D$42,2,FALSE)","v":{"$error":"#N/A"}},{"$f":"VLOOKUP(Report!DO46,Code!$B$40:$D$42,3,FALSE)","v":{"$error":"#N/A"}},{"$error":"#N/A"},null,{"$error":"#N/A"},"number","number","number","",null,null,null,null,"",""]
[null,null,null,null,null,null,null,null,null,null,null,null,null,null,null,null,null,null,null,null,"Type_2",3,{"$error":"#N/A"},3,{"$f":"VLOOKUP(X47,INDIRECT(U47),2,FALSE)","v":{"$error":"#N/A"}},{"$f":"IF(W47=Y47,2,IF(W47<Y47,1,3))","v":{"$error":"#N/A"}},null,"he","He","his","His",null,null," ",{"$f":"HLOOKUP(Report!AH47,Person!$H$2:$L$3,2,FALSE)","v":{"$error":"#N/A"}},{"$error":"#N/A"},{"$f":"IF(AH47=0,\"\",AJ47+VLOOKUP(AH47,Code!$B$2:$C$6,2,FALSE))","v":{"$error":"#N/A"}},{"$f":"IF(AH47=0,\"\",IF(I47=\"F\",G47&\" \"&VLOOKUP(AK47,Person!D:I,2,FALSE),G47&\" \"&VLOOKUP(AK47,Person!D:I,4,FALSE)))","v":{"$error":"#N/A"}},null,null,null,null,null,null,null,null,{"$f":"VLOOKUP(AT47,Code!$B$51:$D$55,2,FALSE)","v":{"$error":"#N/A"}},{"$f":"RANDBETWEEN(1,VLOOKUP(AT47,Code!$B$51:$D$55,3,FALSE))","v":{"$error":"#N/A"}},null,"",null,null,null,{"$f":"HLOOKUP(Report!BA47,Homework!$I$2:$L$3,2,FALSE)","v":{"$error":"#N/A"}},{"$error":"#N/A"},{"$f":"IF(BA47=0,\"\",BC47+VLOOKUP(BA47,Code!$B$2:$C$6,2,FALSE))","v":""},{"$f":"IF(AND(VLOOKUP(BD47,Homework!D:J,2,FALSE)=\"'s \",RIGHT(G47,1)=\"s\"),\"' \",IF(VLOOKUP(BD47,Homework!D:J,2,FALSE)=\"'s \",\"'s \",\" \"))","v":" "},{"$f":"IF(BA47=0,\"\",IF(I47=\"F\",\" \"&G47&BE47&VLOOKUP(BD47,Homework!D:J,3,FALSE),\" \"&G47&BE47&VLOOKUP(BD47,Homework!D:J,5,FALSE)))","v":""},null,null,null,null,null,null,null,null," ",{"$f":"VLOOKUP(BO47,Code!$B$45:$D$48,2,FALSE)","v":{"$error":"#N/A"}},{"$f":"VLOOKUP(BO47,Code!$B$45:$D$48,3,FALSE)","v":{"$error":"#N/A"}},{"$error":"#N/A"},null,"pen","pen","pen",null,null,"",""," ",null,39,{"$f":"HLOOKUP(Report!CC47,Behaviour!$H$2:$K$3,2,FALSE)","v":{"$error":"#N/A"}},{"$error":"#N/A"},{"$f":"CE47+VLOOKUP(CC47,Code!$B$2:$C$6,2,FALSE)","v":{"$error":"#N/A"}},{"$f":"IF(CC47=0,\"\",IF(I47=\"F\",AC47&\" \"&VLOOKUP(CF47,Behaviour!D:I,2,FALSE)&\" \",AC47&\" \"&VLOOKUP(CF47,Behaviour!D:I,4,FALSE)&\" \"))","v":{"$error":"#N/A"}},null,null," ",null,{"$f":"IF(CJ47=0,\"\",VLOOKUP(CJ47,Code!$B$59:$D$61,2,FALSE))","v":{"$error":"#N/A"}},{"$f":"IF(CJ47=0,\"\",VLOOKUP(CJ47,Code!$B$59:$D$61,3,FALSE))","v":{"$error":"#N/A"}},{"$error":"#N/A"},{"$error":"#N/A"},{"$error":"#N/A"},{"$error":"#N/A"},"",null,null,"",null,null,1,10,null,null," ",{"$error":"#VALUE!"},{"$f":"VLOOKUP(Report!DC47,Code!$B$24:$C$32,2,FALSE)","v":{"$error":"#VALUE!"}},{"$f":"VLOOKUP(Report!DC47,Code!$B$24:$D$32,3,FALSE)","v":{"$error":"#VALUE!"}},{"$error":"#VALUE!"},{"$error":"#VALUE!"},{"$error":"#VALUE!"},null,null,null,null,null,null," ",{"$f":"VLOOKUP(Report!DO47,Code!$B$40:$D$42,2,FALSE)","v":{"$error":"#N/A"}},{"$f":"VLOOKUP(Report!DO47,Code!$B$40:$D$42,3,FALSE)","v":{"$error":"#N/A"}},{"$error":"#N/A"},null,{"$error":"#N/A"},"number","number","number","",null,null,null,null,"",""]
[null,null,null,null,null,null,null,null,null,null,null,null,null,null,null,null,null,null,null,null,"Type_2",null,{"$error":"#N/A"},null,{"$error":"#N/A"},{"$error":"#N/A"},null,{"$f":"IF(I48=\"F\",\"she\",\"he\")","v":"he"},{"$f":"IF(I48=\"F\",\"She\",\"He\")","v":"He"},"his","His",null,null," ",{"$f":"HLOOKUP(Report!AH48,Person!$H$2:$L$3,2,FALSE)","v":{"$error":"#N/A"}},{"$error":"#N/A"},{"$f":"IF(AH48=0,\"\",AJ48+VLOOKUP(AH48,Code!$B$2:$C$6,2,FALSE))","v":{"$error":"#N/A"}},{"$f":"IF(AH48=0,\"\",IF(I48=\"F\",G48&\" \"&VLOOKUP(AK48,Person!D:I,2,FALSE),G48&\" \"&VLOOKUP(AK48,Person!D:I,4,FALSE)))","v":{"$error":"#N/A"}},null,null,null,null,null,null,null,null,{"$f":"VLOOKUP(AT48,Code!$B$51:$D$55,2,FALSE)","v":{"$error":"#N/A"}},{"$f":"RANDBETWEEN(1,VLOOKUP(AT48,Code!$B$51:$D$55,3,FALSE))","v":{"$error":"#N/A"}},null,"",null,null,null,{"$f":"HLOOKUP(Report!BA48,Homework!$I$2:$L$3,2,FALSE)","v":{"$error":"#N/A"}},{"$error":"#N/A"},{"$f":"IF(BA48=0,\"\",BC48+VLOOKUP(BA48,Code!$B$2:$C$6,2,FALSE))","v":""},{"$f":"IF(AND(VLOOKUP(BD48,Homework!D:J,2,FALSE)=\"'s \",RIGHT(G48,1)=\"s\"),\"' \",IF(VLOOKUP(BD48,Homework!D:J,2,FALSE)=\"'s \",\"'s \",\" \"))","v":" "},{"$f":"IF(BA48=0,\"\",IF(I48=\"F\",\" \"&G48&BE48&VLOOKUP(BD48,Homework!D:J,3,FALSE),\" \"&G48&BE48&VLOOKUP(BD48,Homework!D:J,5,FALSE)))","v":""},null,null,null,null,null,null,null,null," ",{"$f":"VLOOKUP(BO48,Code!$B$45:$D$48,2,FALSE)","v":{"$error":"#N/A"}},{"$f":"VLOOKUP(BO48,Code!$B$45:$D$48,3,FALSE)","v":{"$error":"#N/A"}},{"$error":"#N/A"},null,"pen","pen","pen",null,null,"",""," ",null,40,{"$f":"HLOOKUP(Report!CC48,Behaviour!$H$2:$K$3,2,FALSE)","v":{"$error":"#N/A"}},{"$error":"#N/A"},{"$f":"CE48+VLOOKUP(CC48,Code!$B$2:$C$6,2,FALSE)","v":{"$error":"#N/A"}},{"$f":"IF(CC48=0,\"\",IF(I48=\"F\",AC48&\" \"&VLOOKUP(CF48,Behaviour!D:I,2,FALSE)&\" \",AC48&\" \"&VLOOKUP(CF48,Behaviour!D:I,4,FALSE)&\" \"))","v":{"$error":"#N/A"}},null,null," ",null,{"$f":"IF(CJ48=0,\"\",VLOOKUP(CJ48,Code!$B$59:$D$61,2,FALSE))","v":{"$error":"#N/A"}},{"$f":"IF(CJ48=0,\"\",VLOOKUP(CJ48,Code!$B$59:$D$61,3,FALSE))","v":{"$error":"#N/A"}},{"$error":"#N/A"},{"$error":"#N/A"},{"$error":"#N/A"},{"$error":"#N/A"},"",null,null,"",null,null,1,10,null,null," ",{"$error":"#VALUE!"},{"$f":"VLOOKUP(Report!DC48,Code!$B$24:$C$32,2,FALSE)","v":{"$error":"#VALUE!"}},{"$f":"VLOOKUP(Report!DC48,Code!$B$24:$D$32,3,FALSE)","v":{"$error":"#VALUE!"}},{"$error":"#VALUE!"},{"$error":"#VALUE!"},{"$error":"#VALUE!"},null,null,null,null,null,null," ",{"$f":"VLOOKUP(Report!DO48,Code!$B$40:$D$42,2,FALSE)","v":{"$error":"#N/A"}},{"$f":"VLOOKUP(Report!DO48,Code!$B$40:$D$42,3,FALSE)","v":{"$error":"#N/A"}},{"$error":"#N/A"},null,{"$error":"#N/A"},"number","number","number","",null,null,null,null,"",""]
[null,null,null,null,null,null,null,null,null,null,null,null,null,null,null,null,null,null,null,null,"Type_2",null,{"$error":"#N/A"},null,{"$error":"#N/A"},{"$error":"#N/A"},null,"he","He","his","His",null,null," ",{"$f":"HLOOKUP(Report!AH49,Person!$H$2:$L$3,2,FALSE)","v":{"$error":"#N/A"}},{"$error":"#N/A"},{"$f":"IF(AH49=0,\"\",AJ49+VLOOKUP(AH49,Code!$B$2:$C$6,2,FALSE))","v":{"$error":"#N/A"}},{"$f":"IF(AH49=0,\"\",IF(I49=\"F\",G49&\" \"&VLOOKUP(AK49,Person!D:I,2,FALSE),G49&\" \"&VLOOKUP(AK49,Person!D:I,4,FALSE)))","v":{"$error":"#N/A"}},null,null,null,null,null,null,null,2,{"$f":"VLOOKUP(AT49,Code!$B$51:$D$55,2,FALSE)","v":"Behaviour_1"},{"$f":"RANDBETWEEN(1,VLOOKUP(AT49,Code!$B$51:$D$55,3,FALSE))","v":2},null," d",null,null," ",{"$f":"HLOOKUP(Report!BA49,Homework!$I$2:$L$3,2,FALSE)","v":{"$error":"#N/A"}},{"$error":"#N/A"},{"$f":"IF(BA49=0,\"\",BC49+VLOOKUP(BA49,Code!$B$2:$C$6,2,FALSE))","v":{"$error":"#N/A"}},{"$f":"IF(AND(VLOOKUP(BD49,Homework!D:J,2,FALSE)=\"'s \",RIGHT(G49,1)=\"s\"),\"' \",IF(VLOOKUP(BD49,Homework!D:J,2,FALSE)=\"'s \",\"'s \",\" \"))","v":{"$error":"#N/A"}},{"$f":"IF(BA49=0,\"\",IF(I49=\"F\",\" \"&G49&BE49&VLOOKUP(BD49,Homework!D:J,3,FALSE),\" \"&G49&BE49&VLOOKUP(BD49,Homework!D:J,5,FALSE)))","v":{"$error":"#N/A"}},null,null,null,null,null,null,null,null," ",{"$f":"VLOOKUP(BO49,Code!$B$45:$D$48,2,FALSE)","v":{"$error":"#N/A"}},{"$f":"VLOOKUP(BO49,Code!$B$45:$D$48,3,FALSE)","v":{"$error":"#N/A"}},{"$error":"#N/A"},null,"pen","pen","pen",null,null,"",""," ",null,41,{"$f":"HLOOKUP(Report!CC49,Behaviour!$H$2:$K$3,2,FALSE)","v":{"$error":"#N/A"}},{"$error":"#N/A"},{"$f":"CE49+VLOOKUP(CC49,Code!$B$2:$C$6,2,FALSE)","v":{"$error":"#N/A"}},{"$f":"IF(CC49=0,\"\",IF(I49=\"F\",AC49&\" \"&VLOOKUP(CF49,Behaviour!D:I,2,FALSE)&\" \",AC49&\" \"&VLOOKUP(CF49,Behaviour!D:I,4,FALSE)&\" \"))","v":{"$error":"#N/A"}},null,null," ",null,{"$f":"IF(CJ49=0,\"\",VLOOKUP(CJ49,Code!$B$59:$D$61,2,FALSE))","v":{"$error":"#N/A"}},{"$f":"IF(CJ49=0,\"\",VLOOKUP(CJ49,Code!$B$59:$D$61,3,FALSE))","v":{"$error":"#N/A"}},{"$error":"#N/A"},{"$error":"#N/A"},{"$error":"#N/A"},{"$error":"#N/A"},"",null,null,"",null,null,1,10,null,null," ",{"$error":"#VALUE!"},{"$f":"VLOOKUP(Report!DC49,Code!$B$24:$C$32,2,FALSE)","v":{"$error":"#VALUE!"}},{"$f":"VLOOKUP(Report!DC49,Code!$B$24:$D$32,3,FALSE)","v":{"$error":"#VALUE!"}},{"$error":"#VALUE!"},{"$error":"#VALUE!"},{"$error":"#VALUE!"},null,null,null,null,null,null," ",{"$f":"VLOOKUP(Report!DO49,Code!$B$40:$D$42,2,FALSE)","v":{"$error":"#N/A"}},{"$f":"VLOOKUP(Report!DO49,Code!$B$40:$D$42,3,FALSE)","v":{"$error":"#N/A"}},{"$error":"#N/A"},null,{"$error":"#N/A"},"number","number","number","",null,null,null,null,"",""]
[null,null,null,null,null,null,null,null,null,null,null,null,null,null,null,null,null,null,null,null,"Type_2",null,{"$error":"#N/A"},null,{"$error":"#N/A"},{"$error":"#N/A"},null,"he","He","his","His",null,null," ",{"$f":"HLOOKUP(Report!AH50,Person!$H$2:$L$3,2,FALSE)","v":{"$error":"#N/A"}},{"$error":"#N/A"},{"$f":"IF(AH50=0,\"\",AJ50+VLOOKUP(AH50,Code!$B$2:$C$6,2,FALSE))","v":{"$error":"#N/A"}},{"$f":"IF(AH50=0,\"\",IF(I50=\"F\",G50&\" \"&VLOOKUP(AK50,Person!D:I,2,FALSE),G50&\" \"&VLOOKUP(AK50,Person!D:I,4,FALSE)))","v":{"$error":"#N/A"}},null,null,null,null,null,null,null,2,{"$f":"VLOOKUP(AT50,Code!$B$51:$D$55,2,FALSE)","v":"Behaviour_1"},{"$f":"RANDBETWEEN(1,VLOOKUP(AT50,Code!$B$51:$D$55,3,FALSE))","v":2},null," d",null,null," ",{"$f":"HLOOKUP(Report!BA50,Homework!$I$2:$L$3,2,FALSE)","v":{"$error":"#N/A"}},{"$error":"#N/A"},{"$f":"IF(BA50=0,\"\",BC50+VLOOKUP(BA50,Code!$B$2:$C$6,2,FALSE))","v":{"$error":"#N/A"}},{"$f":"IF(AND(VLOOKUP(BD50,Homework!D:J,2,FALSE)=\"'s \",RIGHT(G50,1)=\"s\"),\"' \",IF(VLOOKUP(BD50,Homework!D:J,2,FALSE)=\"'s \",\"'s \",\" \"))","v":{"$error":"#N/A"}},{"$f":"IF(BA50=0,\"\",IF(I50=\"F\",\" \"&G50&BE50&VLOOKUP(BD50,Homework!D:J,3,FALSE),\" \"&G50&BE50&VLOOKUP(BD50,Homework!D:J,5,FALSE)))","v":{"$error":"#N/A"}},null,null,null,null,null,null,null,null," ",{"$f":"VLOOKUP(BO50,Code!$B$45:$D$48,2,FALSE)","v":{"$error":"#N/A"}},{"$f":"VLOOKUP(BO50,Code!$B$45:$D$48,3,FALSE)","v":{"$error":"#N/A"}},{"$error":"#N/A"},null,"pen","pen","pen",null,null,"",""," ",null,42,{"$f":"HLOOKUP(Report!CC50,Behaviour!$H$2:$K$3,2,FALSE)","v":{"$error":"#N/A"}},{"$error":"#N/A"},{"$f":"CE50+VLOOKUP(CC50,Code!$B$2:$C$6,2,FALSE)","v":{"$error":"#N/A"}},{"$f":"IF(CC50=0,\"\",IF(I50=\"F\",AC50&\" \"&VLOOKUP(CF50,Behaviour!D:I,2,FALSE)&\" \",AC50&\" \"&VLOOKUP(CF50,Behaviour!D:I,4,FALSE)&\" \"))","v":{"$error":"#N/A"}},null,null," ",null,{"$f":"IF(CJ50=0,\"\",VLOOKUP(CJ50,Code!$B$59:$D$61,2,FALSE))","v":{"$error":"#N/A"}},{"$f":"IF(CJ50=0,\"\",VLOOKUP(CJ50,Code!$B$59:$D$61,3,FALSE))","v":{"$error":"#N/A"}},{"$error":"#N/A"},{"$error":"#N/A"},{"$error":"#N/A"},{"$error":"#N/A"},"",null,null,"",null,null,1,10,null,null," ",{"$error":"#VALUE!"},{"$f":"VLOOKUP(Report!DC50,Code!$B$24:$C$32,2,FALSE)","v":{"$error":"#VALUE!"}},{"$f":"VLOOKUP(Report!DC50,Code!$B$24:$D$32,3,FALSE)","v":{"$error":"#VALUE!"}},{"$error":"#VALUE!"},{"$error":"#VALUE!"},{"$error":"#VALUE!"},null,null,null,null,null,null," ",{"$f":"VLOOKUP(Report!DO50,Code!$B$40:$D$42,2,FALSE)","v":{"$error":"#N/A"}},{"$f":"VLOOKUP(Report!DO50,Code!$B$40:$D$42,3,FALSE)","v":{"$error":"#N/A"}},{"$error":"#N/A"},null,{"$error":"#N/A"},"number","number","number","",null,null,null,null,"",""]
[null,null,null,null,null,null,null,null,null,null,null,null,null,null,null,null,null,null,null,null,"Type_2",null,{"$error":"#N/A"},null,{"$error":"#N/A"},{"$error":"#N/A"},null,"he","He","his","His",null,null," ",{"$f":"HLOOKUP(Report!AH51,Person!$H$2:$L$3,2,FALSE)","v":{"$error":"#N/A"}},{"$error":"#N/A"},{"$f":"IF(AH51=0,\"\",AJ51+VLOOKUP(AH51,Code!$B$2:$C$6,2,FALSE))","v":{"$error":"#N/A"}},{"$f":"IF(AH51=0,\"\",IF(I51=\"F\",G51&\" \"&VLOOKUP(AK51,Person!D:I,2,FALSE),G51&\" \"&VLOOKUP(AK51,Person!D:I,4,FALSE)))","v":{"$error":"#N/A"}},null,null,null,null,null,null,null,2,{"$f":"VLOOKUP(AT51,Code!$B$51:$D$55,2,FALSE)","v":"Behaviour_1"},{"$f":"RANDBETWEEN(1,VLOOKUP(AT51,Code!$B$51:$D$55,3,FALSE))","v":2},null," d",null,null," ",{"$f":"HLOOKUP(Report!BA51,Homework!$I$2:$L$3,2,FALSE)","v":{"$error":"#N/A"}},{"$error":"#N/A"},{"$f":"IF(BA51=0,\"\",BC51+VLOOKUP(BA51,Code!$B$2:$C$6,2,FALSE))","v":{"$error":"#N/A"}},{"$f":"IF(AND(VLOOKUP(BD51,Homework!D:J,2,FALSE)=\"'s \",RIGHT(G51,1)=\"s\"),\"' \",IF(VLOOKUP(BD51,Homework!D:J,2,FALSE)=\"'s \",\"'s \",\" \"))","v":{"$error":"#N/A"}},{"$f":"IF(BA51=0,\"\",IF(I51=\"F\",\" \"&G51&BE51&VLOOKUP(BD51,Homework!D:J,3,FALSE),\" \"&G51&BE51&VLOOKUP(BD51,Homework!D:J,5,FALSE)))","v":{"$error":"#N/A"}},null,null,null,null,null,null,null,null," ",{"$f":"VLOOKUP(BO51,Code!$B$45:$D$48,2,FALSE)","v":{"$error":"#N/A"}},{"$f":"VLOOKUP(BO51,Code!$B$45:$D$48,3,FALSE)","v":{"$error":"#N/A"}},{"$error":"#N/A"},null,"pen","pen","pen",null,null,"",""," ",null,43,{"$f":"HLOOKUP(Report!CC51,Behaviour!$H$2:$K$3,2,FALSE)","v":{"$error":"#N/A"}},{"$error":"#N/A"},{"$f":"CE51+VLOOKUP(CC51,Code!$B$2:$C$6,2,FALSE)","v":{"$error":"#N/A"}},{"$f":"IF(CC51=0,\"\",IF(I51=\"F\",AC51&\" \"&VLOOKUP(CF51,Behaviour!D:I,2,FALSE)&\" \",AC51&\" \"&VLOOKUP(CF51,Behaviour!D:I,4,FALSE)&\" \"))","v":{"$error":"#N/A"}},null,null," ",null,{"$f":"IF(CJ51=0,\"\",VLOOKUP(CJ51,Code!$B$59:$D$61,2,FALSE))","v":{"$error":"#N/A"}},{"$f":"IF(CJ51=0,\"\",VLOOKUP(CJ51,Code!$B$59:$D$61,3,FALSE))","v":{"$error":"#N/A"}},{"$error":"#N/A"},{"$error":"#N/A"},{"$error":"#N/A"},{"$error":"#N/A"},"",null,null,"",null,null,1,10,null,null," ",{"$error":"#VALUE!"},{"$f":"VLOOKUP(Report!DC51,Code!$B$24:$C$32,2,FALSE)","v":{"$error":"#VALUE!"}},{"$f":"VLOOKUP(Report!DC51,Code!$B$24:$D$32,3,FALSE)","v":{"$error":"#VALUE!"}},{"$error":"#VALUE!"},{"$error":"#VALUE!"},{"$error":"#VALUE!"},null,null,null,null,null,null," ",{"$f":"VLOOKUP(Report!DO51,Code!$B$40:$D$42,2,FALSE)","v":{"$error":"#N/A"}},{"$f":"VLOOKUP(Report!DO51,Code!$B$40:$D$42,3,FALSE)","v":{"$error":"#N/A"}},{"$error":"#N/A"},null,{"$error":"#N/A"},"number","number","number","",null,null,null,null,"",""]
[null,null,null,null,null,null,null,null,null,null,null,null,null,null,null,null,null,null,null,null,"Type_2",null,{"$error":"#N/A"},null,{"$error":"#N/A"},{"$error":"#N/A"},null,"he","He","his","His",null,null," ",{"$f":"HLOOKUP(Report!AH52,Person!$H$2:$L$3,2,FALSE)","v":{"$error":"#N/A"}},{"$error":"#N/A"},{"$f":"IF(AH52=0,\"\",AJ52+VLOOKUP(AH52,Code!$B$2:$C$6,2,FALSE))","v":{"$error":"#N/A"}},{"$f":"IF(AH52=0,\"\",IF(I52=\"F\",G52&\" \"&VLOOKUP(AK52,Person!D:I,2,FALSE),G52&\" \"&VLOOKUP(AK52,Person!D:I,4,FALSE)))","v":{"$error":"#N/A"}},null,null,null,null,null,null,null,2,{"$f":"VLOOKUP(AT52,Code!$B$51:$D$55,2,FALSE)","v":"Behaviour_1"},{"$f":"RANDBETWEEN(1,VLOOKUP(AT52,Code!$B$51:$D$55,3,FALSE))","v":2},null," d",null,null," ",{"$f":"HLOOKUP(Report!BA52,Homework!$I$2:$L$3,2,FALSE)","v":{"$error":"#N/A"}},{"$error":"#N/A"},{"$f":"IF(BA52=0,\"\",BC52+VLOOKUP(BA52,Code!$B$2:$C$6,2,FALSE))","v":{"$error":"#N/A"}},{"$f":"IF(AND(VLOOKUP(BD52,Homework!D:J,2,FALSE)=\"'s \",RIGHT(G52,1)=\"s\"),\"' \",IF(VLOOKUP(BD52,Homework!D:J,2,FALSE)=\"'s \",\"'s \",\" \"))","v":{"$error":"#N/A"}},{"$f":"IF(BA52=0,\"\",IF(I52=\"F\",\" \"&G52&BE52&VLOOKUP(BD52,Homework!D:J,3,FALSE),\" \"&G52&BE52&VLOOKUP(BD52,Homework!D:J,5,FALSE)))","v":{"$error":"#N/A"}},null,null,null,null,null,null,null,null," ",{"$f":"VLOOKUP(BO52,Code!$B$45:$D$48,2,FALSE)","v":{"$error":"#N/A"}},{"$f":"VLOOKUP(BO52,Code!$B$45:$D$48,3,FALSE)","v":{"$error":"#N/A"}},{"$error":"#N/A"},null,"pen","pen","pen",null,null,"",""," ",null,44,{"$f":"HLOOKUP(Report!CC52,Behaviour!$H$2:$K$3,2,FALSE)","v":{"$error":"#N/A"}},{"$error":"#N/A"},{"$f":"CE52+VLOOKUP(CC52,Code!$B$2:$C$6,2,FALSE)","v":{"$error":"#N/A"}},{"$f":"IF(CC52=0,\"\",IF(I52=\"F\",AC52&\" \"&VLOOKUP(CF52,Behaviour!D:I,2,FALSE)&\" \",AC52&\" \"&VLOOKUP(CF52,Behaviour!D:I,4,FALSE)&\" \"))","v":{"$error":"#N/A"}},null,null," ",null,{"$f":"IF(CJ52=0,\"\",VLOOKUP(CJ52,Code!$B$59:$D$61,2,FALSE))","v":{"$error":"#N/A"}},{"$f":"IF(CJ52=0,\"\",VLOOKUP(CJ52,Code!$B$59:$D$61,3,FALSE))","v":{"$error":"#N/A"}},{"$error":"#N/A"},{"$error":"#N/A"},{"$error":"#N/A"},{"$error":"#N/A"},"",null,null,"",null,null,1,10,null,null," ",{"$error":"#VALUE!"},{"$f":"VLOOKUP(Report!DC52,Code!$B$24:$C$32,2,FALSE)","v":{"$error":"#VALUE!"}},{"$f":"VLOOKUP(Report!DC52,Code!$B$24:$D$32,3,FALSE)","v":{"$error":"#VALUE!"}},{"$error":"#VALUE!"},{"$error":"#VALUE!"},{"$error":"#VALUE!"},null,null,null,null,null,null," ",{"$f":"VLOOKUP(Report!DO52,Code!$B$40:$D$42,2,FALSE)","v":{"$error":"#N/A"}},{"$f":"VLOOKUP(Report!DO52,Code!$B$40:$D$42,3,FALSE)","v":{"$error":"#N/A"}},{"$error":"#N/A"},null,{"$error":"#N/A"},"number","number","number","",null,null,null,null,"",""]
[null,null,null,null,null,null,null,null,null,null,null,null,null,null,null,null,null,null,null,null,"Type_2",null,{"$error":"#N/A"},null,{"$error":"#N/A"},{"$error":"#N/A"},null,"he","He","his","His",null,null," ",{"$f":"HLOOKUP(Report!AH53,Person!$H$2:$L$3,2,FALSE)","v":{"$error":"#N/A"}},{"$error":"#N/A"},{"$f":"IF(AH53=0,\"\",AJ53+VLOOKUP(AH53,Code!$B$2:$C$6,2,FALSE))","v":{"$error":"#N/A"}},{"$f":"IF(AH53=0,\"\",IF(I53=\"F\",G53&\" \"&VLOOKUP(AK53,Person!D:I,2,FALSE),G53&\" \"&VLOOKUP(AK53,Person!D:I,4,FALSE)))","v":{"$error":"#N/A"}},null,null,null,null,null,null,null,2,{"$f":"VLOOKUP(AT53,Code!$B$51:$D$55,2,FALSE)","v":"Behaviour_1"},{"$f":"RANDBETWEEN(1,VLOOKUP(AT53,Code!$B$51:$D$55,3,FALSE))","v":2},null," d",null,null," ",{"$f":"HLOOKUP(Report!BA53,Homework!$I$2:$L$3,2,FALSE)","v":{"$error":"#N/A"}},{"$error":"#N/A"},{"$f":"IF(BA53=0,\"\",BC53+VLOOKUP(BA53,Code!$B$2:$C$6,2,FALSE))","v":{"$error":"#N/A"}},{"$f":"IF(AND(VLOOKUP(BD53,Homework!D:J,2,FALSE)=\"'s \",RIGHT(G53,1)=\"s\"),\"' \",IF(VLOOKUP(BD53,Homework!D:J,2,FALSE)=\"'s \",\"'s \",\" \"))","v":{"$error":"#N/A"}},{"$f":"IF(BA53=0,\"\",IF(I53=\"F\",\" \"&G53&BE53&VLOOKUP(BD53,Homework!D:J,3,FALSE),\" \"&G53&BE53&VLOOKUP(BD53,Homework!D:J,5,FALSE)))","v":{"$error":"#N/A"}},null,null,null,null,null,null,null,null," ",{"$f":"VLOOKUP(BO53,Code!$B$45:$D$48,2,FALSE)","v":{"$error":"#N/A"}},{"$f":"VLOOKUP(BO53,Code!$B$45:$D$48,3,FALSE)","v":{"$error":"#N/A"}},{"$error":"#N/A"},null,"pen","pen","pen",null,null,"",""," ",null,45,{"$f":"HLOOKUP(Report!CC53,Behaviour!$H$2:$K$3,2,FALSE)","v":{"$error":"#N/A"}},{"$error":"#N/A"},{"$f":"CE53+VLOOKUP(CC53,Code!$B$2:$C$6,2,FALSE)","v":{"$error":"#N/A"}},{"$f":"IF(CC53=0,\"\",IF(I53=\"F\",AC53&\" \"&VLOOKUP(CF53,Behaviour!D:I,2,FALSE)&\" \",AC53&\" \"&VLOOKUP(CF53,Behaviour!D:I,4,FALSE)&\" \"))","v":{"$error":"#N/A"}},null,null," ",null,{"$f":"IF(CJ53=0,\"\",VLOOKUP(CJ53,Code!$B$59:$D$61,2,FALSE))","v":{"$error":"#N/A"}},{"$f":"IF(CJ53=0,\"\",VLOOKUP(CJ53,Code!$B$59:$D$61,3,FALSE))","v":{"$error":"#N/A"}},{"$error":"#N/A"},{"$error":"#N/A"},{"$error":"#N/A"},{"$error":"#N/A"},"",null,null,"",null,null,1,10,null,null," ",{"$error":"#VALUE!"},{"$f":"VLOOKUP(Report!DC53,Code!$B$24:$C$32,2,FALSE)","v":{"$error":"#VALUE!"}},{"$f":"VLOOKUP(Report!DC53,Code!$B$24:$D$32,3,FALSE)","v":{"$error":"#VALUE!"}},{"$error":"#VALUE!"},{"$error":"#VALUE!"},{"$error":"#VALUE!"},null,null,null,null,null,null," ",{"$f":"VLOOKUP(Report!DO53,Code!$B$40:$D$42,2,FALSE)","v":{"$error":"#N/A"}},{"$f":"VLOOKUP(Report!DO53,Code!$B$40:$D$42,3,FALSE)","v":{"$error":"#N/A"}},{"$error":"#N/A"},null,{"$error":"#N/A"},"number","number","number","",null,null,null,null,"",""]
[null,null,null,null,null,null,null,null,null,null,null,null,null,null,null,null,null,null,null,null,"Type_2",null,{"$error":"#N/A"},null,{"$error":"#N/A"},{"$error":"#N/A"},null,"he","He","his","His",null,null," ",{"$f":"HLOOKUP(Report!AH54,Person!$H$2:$L$3,2,FALSE)","v":{"$error":"#N/A"}},{"$error":"#N/A"},{"$f":"IF(AH54=0,\"\",AJ54+VLOOKUP(AH54,Code!$B$2:$C$6,2,FALSE))","v":{"$error":"#N/A"}},{"$f":"IF(AH54=0,\"\",IF(I54=\"F\",G54&\" \"&VLOOKUP(AK54,Person!D:I,2,FALSE),G54&\" \"&VLOOKUP(AK54,Person!D:I,4,FALSE)))","v":{"$error":"#N/A"}},null,null,null,null,null,null,null,2,{"$f":"VLOOKUP(AT54,Code!$B$51:$D$55,2,FALSE)","v":"Behaviour_1"},{"$f":"RANDBETWEEN(1,VLOOKUP(AT54,Code!$B$51:$D$55,3,FALSE))","v":2},null," d",null,null," ",{"$f":"HLOOKUP(Report!BA54,Homework!$I$2:$L$3,2,FALSE)","v":{"$error":"#N/A"}},{"$error":"#N/A"},{"$f":"IF(BA54=0,\"\",BC54+VLOOKUP(BA54,Code!$B$2:$C$6,2,FALSE))","v":{"$error":"#N/A"}},{"$f":"IF(AND(VLOOKUP(BD54,Homework!D:J,2,FALSE)=\"'s \",RIGHT(G54,1)=\"s\"),\"' \",IF(VLOOKUP(BD54,Homework!D:J,2,FALSE)=\"'s \",\"'s \",\" \"))","v":{"$error":"#N/A"}},{"$f":"IF(BA54=0,\"\",IF(I54=\"F\",\" \"&G54&BE54&VLOOKUP(BD54,Homework!D:J,3,FALSE),\" \"&G54&BE54&VLOOKUP(BD54,Homework!D:J,5,FALSE)))","v":{"$error":"#N/A"}},null,null,null,null,null,null,null,null," ",{"$f":"VLOOKUP(BO54,Code!$B$45:$D$48,2,FALSE)","v":{"$error":"#N/A"}},{"$f":"VLOOKUP(BO54,Code!$B$45:$D$48,3,FALSE)","v":{"$error":"#N/A"}},{"$error":"#N/A"},null,"pen","pen","pen",null,null,"",""," ",null,46,{"$f":"HLOOKUP(Report!CC54,Behaviour!$H$2:$K$3,2,FALSE)","v":{"$error":"#N/A"}},{"$error":"#N/A"},{"$f":"CE54+VLOOKUP(CC54,Code!$B$2:$C$6,2,FALSE)","v":{"$error":"#N/A"}},{"$f":"IF(CC54=0,\"\",IF(I54=\"F\",AC54&\" \"&VLOOKUP(CF54,Behaviour!D:I,2,FALSE)&\" \",AC54&\" \"&VLOOKUP(CF54,Behaviour!D:I,4,FALSE)&\" \"))","v":{"$error":"#N/A"}},null,null," ",null,{"$f":"IF(CJ54=0,\"\",VLOOKUP(CJ54,Code!$B$59:$D$61,2,FALSE))","v":{"$error":"#N/A"}},{"$f":"IF(CJ54=0,\"\",VLOOKUP(CJ54,Code!$B$59:$D$61,3,FALSE))","v":{"$error":"#N/A"}},{"$error":"#N/A"},{"$error":"#N/A"},{"$error":"#N/A"},{"$error":"#N/A"},"",null,null,"",null,null,1,10,null,null," ",{"$error":"#VALUE!"},{"$f":"VLOOKUP(Report!DC54,Code!$B$24:$C$32,2,FALSE)","v":{"$error":"#VALUE!"}},{"$f":"VLOOKUP(Report!DC54,Code!$B$24:$D$32,3,FALSE)","v":{"$error":"#VALUE!"}},{"$error":"#VALUE!"},{"$error":"#VALUE!"},{"$error":"#VALUE!"},null,null,null,null,null,null," ",{"$f":"VLOOKUP(Report!DO54,Code!$B$40:$D$42,2,FALSE)","v":{"$error":"#N/A"}},{"$f":"VLOOKUP(Report!DO54,Code!$B$40:$D$42,3,FALSE)","v":{"$error":"#N/A"}},{"$error":"#N/A"},null,{"$error":"#N/A"},"number","number","number","",null,null,null,null,"",""]
[null,null,null,null,null,null,null,null,null,null,null,null,null,null,null,null,null,null,null,null,"Type_2",null,{"$error":"#N/A"},null,{"$error":"#N/A"},{"$error":"#N/A"},null,"he","He","his","His",null,null," ",{"$f":"HLOOKUP(Report!AH55,Person!$H$2:$L$3,2,FALSE)","v":{"$error":"#N/A"}},{"$error":"#N/A"},{"$f":"IF(AH55=0,\"\",AJ55+VLOOKUP(AH55,Code!$B$2:$C$6,2,FALSE))","v":{"$error":"#N/A"}},{"$f":"IF(AH55=0,\"\",IF(I55=\"F\",G55&\" \"&VLOOKUP(AK55,Person!D:I,2,FALSE),G55&\" \"&VLOOKUP(AK55,Person!D:I,4,FALSE)))","v":{"$error":"#N/A"}},null,null,null,null,null,null,null,2,{"$f":"VLOOKUP(AT55,Code!$B$51:$D$55,2,FALSE)","v":"Behaviour_1"},{"$f":"RANDBETWEEN(1,VLOOKUP(AT55,Code!$B$51:$D$55,3,FALSE))","v":2},null," d",null,null," ",{"$f":"HLOOKUP(Report!BA55,Homework!$I$2:$L$3,2,FALSE)","v":{"$error":"#N/A"}},{"$error":"#N/A"},{"$f":"IF(BA55=0,\"\",BC55+VLOOKUP(BA55,Code!$B$2:$C$6,2,FALSE))","v":{"$error":"#N/A"}},{"$f":"IF(AND(VLOOKUP(BD55,Homework!D:J,2,FALSE)=\"'s \",RIGHT(G55,1)=\"s\"),\"' \",IF(VLOOKUP(BD55,Homework!D:J,2,FALSE)=\"'s \",\"'s \",\" \"))","v":{"$error":"#N/A"}},{"$f":"IF(BA55=0,\"\",IF(I55=\"F\",\" \"&G55&BE55&VLOOKUP(BD55,Homework!D:J,3,FALSE),\" \"&G55&BE55&VLOOKUP(BD55,Homework!D:J,5,FALSE)))","v":{"$error":"#N/A"}},null,null,null,null,null,null,null,null," ",{"$f":"VLOOKUP(BO55,Code!$B$45:$D$48,2,FALSE)","v":{"$error":"#N/A"}},{"$f":"VLOOKUP(BO55,Code!$B$45:$D$48,3,FALSE)","v":{"$error":"#N/A"}},{"$error":"#N/A"},null,"pen","pen","pen",null,null,"",""," ",null,47,{"$f":"HLOOKUP(Report!CC55,Behaviour!$H$2:$K$3,2,FALSE)","v":{"$error":"#N/A"}},{"$error":"#N/A"},{"$f":"CE55+VLOOKUP(CC55,Code!$B$2:$C$6,2,FALSE)","v":{"$error":"#N/A"}},{"$f":"IF(CC55=0,\"\",IF(I55=\"F\",AC55&\" \"&VLOOKUP(CF55,Behaviour!D:I,2,FALSE)&\" \",AC55&\" \"&VLOOKUP(CF55,Behaviour!D:I,4,FALSE)&\" \"))","v":{"$error":"#N/A"}},null,null," ",null,{"$f":"IF(CJ55=0,\"\",VLOOKUP(CJ55,Code!$B$59:$D$61,2,FALSE))","v":{"$error":"#N/A"}},{"$f":"IF(CJ55=0,\"\",VLOOKUP(CJ55,Code!$B$59:$D$61,3,FALSE))","v":{"$error":"#N/A"}},{"$error":"#N/A"},{"$error":"#N/A"},{"$error":"#N/A"},{"$error":"#N/A"},"",null,null,"",null,null,1,10,null,null," ",{"$error":"#VALUE!"},{"$f":"VLOOKUP(Report!DC55,Code!$B$24:$C$32,2,FALSE)","v":{"$error":"#VALUE!"}},{"$f":"VLOOKUP(Report!DC55,Code!$B$24:$D$32,3,FALSE)","v":{"$error":"#VALUE!"}},{"$error":"#VALUE!"},{"$error":"#VALUE!"},{"$error":"#VALUE!"},null,null,null,null,null,null," ",{"$f":"VLOOKUP(Report!DO55,Code!$B$40:$D$42,2,FALSE)","v":{"$error":"#N/A"}},{"$f":"VLOOKUP(Report!DO55,Code!$B$40:$D$42,3,FALSE)","v":{"$error":"#N/A"}},{"$error":"#N/A"},null,{"$error":"#N/A"},"number","number","number","",null,null,null,null,"",""]
[null,null,null,null,null,null,null,null,null,null,null,null,null,null,null,null,null,null,null,null,"Type_2",null,{"$error":"#N/A"},null,{"$error":"#N/A"},{"$error":"#N/A"},null,"he","He","his","His",null,null," ",{"$f":"HLOOKUP(Report!AH56,Person!$H$2:$L$3,2,FALSE)","v":{"$error":"#N/A"}},{"$error":"#N/A"},{"$f":"IF(AH56=0,\"\",AJ56+VLOOKUP(AH56,Code!$B$2:$C$6,2,FALSE))","v":{"$error":"#N/A"}},{"$f":"IF(AH56=0,\"\",IF(I56=\"F\",G56&\" \"&VLOOKUP(AK56,Person!D:I,2,FALSE),G56&\" \"&VLOOKUP(AK56,Person!D:I,4,FALSE)))","v":{"$error":"#N/A"}},null,null,null,null,null,null,null,2,{"$f":"VLOOKUP(AT56,Code!$B$51:$D$55,2,FALSE)","v":"Behaviour_1"},{"$f":"RANDBETWEEN(1,VLOOKUP(AT56,Code!$B$51:$D$55,3,FALSE))","v":1},null," d",null,null," ",{"$f":"HLOOKUP(Report!BA56,Homework!$I$2:$L$3,2,FALSE)","v":{"$error":"#N/A"}},{"$error":"#N/A"},{"$f":"IF(BA56=0,\"\",BC56+VLOOKUP(BA56,Code!$B$2:$C$6,2,FALSE))","v":{"$error":"#N/A"}},{"$f":"IF(AND(VLOOKUP(BD56,Homework!D:J,2,FALSE)=\"'s \",RIGHT(G56,1)=\"s\"),\"' \",IF(VLOOKUP(BD56,Homework!D:J,2,FALSE)=\"'s \",\"'s \",\" \"))","v":{"$error":"#N/A"}},{"$f":"IF(BA56=0,\"\",IF(I56=\"F\",\" \"&G56&BE56&VLOOKUP(BD56,Homework!D:J,3,FALSE),\" \"&G56&BE56&VLOOKUP(BD56,Homework!D:J,5,FALSE)))","v":{"$error":"#N/A"}},null,null,null,null,null,null,null,null," ",{"$f":"VLOOKUP(BO56,Code!$B$45:$D$48,2,FALSE)","v":{"$error":"#N/A"}},{"$f":"VLOOKUP(BO56,Code!$B$45:$D$48,3,FALSE)","v":{"$error":"#N/A"}},{"$error":"#N/A"},null,"pen","pen","pen",null,null,"",""," ",null,48,{"$f":"HLOOKUP(Report!CC56,Behaviour!$H$2:$K$3,2,FALSE)","v":{"$error":"#N/A"}},{"$error":"#N/A"},{"$f":"CE56+VLOOKUP(CC56,Code!$B$2:$C$6,2,FALSE)","v":{"$error":"#N/A"}},{"$f":"IF(CC56=0,\"\",IF(I56=\"F\",AC56&\" \"&VLOOKUP(CF56,Behaviour!D:I,2,FALSE)&\" \",AC56&\" \"&VLOOKUP(CF56,Behaviour!D:I,4,FALSE)&\" \"))","v":{"$error":"#N/A"}},null,null," ",null,{"$f":"IF(CJ56=0,\"\",VLOOKUP(CJ56,Code!$B$59:$D$61,2,FALSE))","v":{"$error":"#N/A"}},{"$f":"IF(CJ56=0,\"\",VLOOKUP(CJ56,Code!$B$59:$D$61,3,FALSE))","v":{"$error":"#N/A"}},{"$error":"#N/A"},{"$error":"#N/A"},{"$error":"#N/A"},{"$error":"#N/A"},"",null,null,"",null,null,1,10,null,null," ",{"$error":"#VALUE!"},{"$f":"VLOOKUP(Report!DC56,Code!$B$24:$C$32,2,FALSE)","v":{"$error":"#VALUE!"}},{"$f":"VLOOKUP(Report!DC56,Code!$B$24:$D$32,3,FALSE)","v":{"$error":"#VALUE!"}},{"$error":"#VALUE!"},{"$error":"#VALUE!"},{"$error":"#VALUE!"},null,null,null,null,null,null," ",{"$f":"VLOOKUP(Report!DO56,Code!$B$40:$D$42,2,FALSE)","v":{"$error":"#N/A"}},{"$f":"VLOOKUP(Report!DO56,Code!$B$40:$D$42,3,FALSE)","v":{"$error":"#N/A"}},{"$error":"#N/A"},null,{"$error":"#N/A"},"number","number","number","",null,null,null,null,"",""]
[null,null,null,null,null,null,null,null,null,null,null,null,null,null,null,null,null,null,null,null,"Type_2",null,{"$error":"#N/A"},null,{"$error":"#N/A"},{"$error":"#N/A"},null,"he","He","his","His",null,null," ",{"$f":"HLOOKUP(Report!AH57,Person!$H$2:$L$3,2,FALSE)","v":{"$error":"#N/A"}},{"$error":"#N/A"},{"$f":"IF(AH57=0,\"\",AJ57+VLOOKUP(AH57,Code!$B$2:$C$6,2,FALSE))","v":{"$error":"#N/A"}},{"$f":"IF(AH57=0,\"\",IF(I57=\"F\",G57&\" \"&VLOOKUP(AK57,Person!D:I,2,FALSE),G57&\" \"&VLOOKUP(AK57,Person!D:I,4,FALSE)))","v":{"$error":"#N/A"}},null,null,null,null,null,null,null,2,{"$f":"VLOOKUP(AT57,Code!$B$51:$D$55,2,FALSE)","v":"Behaviour_1"},{"$f":"RANDBETWEEN(1,VLOOKUP(AT57,Code!$B$51:$D$55,3,FALSE))","v":2},null," d",null,null," ",{"$f":"HLOOKUP(Report!BA57,Homework!$I$2:$L$3,2,FALSE)","v":{"$error":"#N/A"}},{"$error":"#N/A"},{"$f":"IF(BA57=0,\"\",BC57+VLOOKUP(BA57,Code!$B$2:$C$6,2,FALSE))","v":{"$error":"#N/A"}},{"$f":"IF(AND(VLOOKUP(BD57,Homework!D:J,2,FALSE)=\"'s \",RIGHT(G57,1)=\"s\"),\"' \",IF(VLOOKUP(BD57,Homework!D:J,2,FALSE)=\"'s \",\"'s \",\" \"))","v":{"$error":"#N/A"}},{"$f":"IF(BA57=0,\"\",IF(I57=\"F\",\" \"&G57&BE57&VLOOKUP(BD57,Homework!D:J,3,FALSE),\" \"&G57&BE57&VLOOKUP(BD57,Homework!D:J,5,FALSE)))","v":{"$error":"#N/A"}},null,null,null,null,null,null,null,null," ",{"$f":"VLOOKUP(BO57,Code!$B$45:$D$48,2,FALSE)","v":{"$error":"#N/A"}},{"$f":"VLOOKUP(BO57,Code!$B$45:$D$48,3,FALSE)","v":{"$error":"#N/A"}},{"$error":"#N/A"},null,"pen","pen","pen",null,null,"",""," ",null,49,{"$f":"HLOOKUP(Report!CC57,Behaviour!$H$2:$K$3,2,FALSE)","v":{"$error":"#N/A"}},{"$error":"#N/A"},{"$f":"CE57+VLOOKUP(CC57,Code!$B$2:$C$6,2,FALSE)","v":{"$error":"#N/A"}},{"$f":"IF(CC57=0,\"\",IF(I57=\"F\",AC57&\" \"&VLOOKUP(CF57,Behaviour!D:I,2,FALSE)&\" \",AC57&\" \"&VLOOKUP(CF57,Behaviour!D:I,4,FALSE)&\" \"))","v":{"$error":"#N/A"}},null,null," ",null,{"$f":"IF(CJ57=0,\"\",VLOOKUP(CJ57,Code!$B$59:$D$61,2,FALSE))","v":{"$error":"#N/A"}},{"$f":"IF(CJ57=0,\"\",VLOOKUP(CJ57,Code!$B$59:$D$61,3,FALSE))","v":{"$error":"#N/A"}},{"$error":"#N/A"},{"$error":"#N/A"},{"$error":"#N/A"},{"$error":"#N/A"},"",null,null,"",null,null,{"$f":"CU57","v":""},{"$error":"#VALUE!"},null,null," ",{"$error":"#VALUE!"},{"$f":"VLOOKUP(Report!DC57,Code!$B$24:$C$32,2,FALSE)","v":{"$error":"#VALUE!"}},{"$f":"VLOOKUP(Report!DC57,Code!$B$24:$D$32,3,FALSE)","v":{"$error":"#VALUE!"}},{"$error":"#VALUE!"},{"$error":"#VALUE!"},{"$error":"#VALUE!"},null,null,null,null,null,null," ",{"$f":"VLOOKUP(Report!DO57,Code!$B$40:$D$42,2,FALSE)","v":{"$error":"#N/A"}},{"$f":"VLOOKUP(Report!DO57,Code!$B$40:$D$42,3,FALSE)","v":{"$error":"#N/A"}},{"$error":"#N/A"},null,{"$error":"#N/A"},"number","number","number","",null,null,null,null,"",""]
[null,null,null,null,null,null,null,null,null,null,null,null,null,null,null,null,null,null,null,null,"Type_2",null,{"$error":"#N/A"},null,{"$error":"#N/A"},{"$error":"#N/A"},null,"he","He","his","His",null,null," ",{"$f":"HLOOKUP(Report!AH58,Person!$H$2:$L$3,2,FALSE)","v":{"$error":"#N/A"}},{"$error":"#N/A"},{"$f":"IF(AH58=0,\"\",AJ58+VLOOKUP(AH58,Code!$B$2:$C$6,2,FALSE))","v":{"$error":"#N/A"}},{"$f":"IF(AH58=0,\"\",IF(I58=\"F\",G58&\" \"&VLOOKUP(AK58,Person!D:I,2,FALSE),G58&\" \"&VLOOKUP(AK58,Person!D:I,4,FALSE)))","v":{"$error":"#N/A"}},null,null,null,null,null,null,null,2,{"$f":"VLOOKUP(AT58,Code!$B$51:$D$55,2,FALSE)","v":"Behaviour_1"},{"$f":"RANDBETWEEN(1,VLOOKUP(AT58,Code!$B$51:$D$55,3,FALSE))","v":1},null," d",null,null," ",{"$f":"HLOOKUP(Report!BA58,Homework!$I$2:$L$3,2,FALSE)","v":{"$error":"#N/A"}},{"$error":"#N/A"},{"$f":"IF(BA58=0,\"\",BC58+VLOOKUP(BA58,Code!$B$2:$C$6,2,FALSE))","v":{"$error":"#N/A"}},{"$f":"IF(AND(VLOOKUP(BD58,Homework!D:J,2,FALSE)=\"'s \",RIGHT(G58,1)=\"s\"),\"' \",IF(VLOOKUP(BD58,Homework!D:J,2,FALSE)=\"'s \",\"'s \",\" \"))","v":{"$error":"#N/A"}},{"$f":"IF(BA58=0,\"\",IF(I58=\"F\",\" \"&G58&BE58&VLOOKUP(BD58,Homework!D:J,3,FALSE),\" \"&G58&BE58&VLOOKUP(BD58,Homework!D:J,5,FALSE)))","v":{"$error":"#N/A"}},null,null,null,null,null,null,null,null," ",{"$f":"VLOOKUP(BO58,Code!$B$45:$D$48,2,FALSE)","v":{"$error":"#N/A"}},{"$f":"VLOOKUP(BO58,Code!$B$45:$D$48,3,FALSE)","v":{"$error":"#N/A"}},{"$error":"#N/A"},null,"pen","pen","pen",null,null,"",""," ",null,50,{"$f":"HLOOKUP(Report!CC58,Behaviour!$H$2:$K$3,2,FALSE)","v":{"$error":"#N/A"}},{"$error":"#N/A"},{"$f":"CE58+VLOOKUP(CC58,Code!$B$2:$C$6,2,FALSE)","v":{"$error":"#N/A"}},{"$f":"IF(CC58=0,\"\",IF(I58=\"F\",AC58&\" \"&VLOOKUP(CF58,Behaviour!D:I,2,FALSE)&\" \",AC58&\" \"&VLOOKUP(CF58,Behaviour!D:I,4,FALSE)&\" \"))","v":{"$error":"#N/A"}},null,null," ",null,{"$f":"IF(CJ58=0,\"\",VLOOKUP(CJ58,Code!$B$59:$D$61,2,FALSE))","v":{"$error":"#N/A"}},{"$f":"IF(CJ58=0,\"\",VLOOKUP(CJ58,Code!$B$59:$D$61,3,FALSE))","v":{"$error":"#N/A"}},{"$error":"#N/A"},{"$error":"#N/A"},{"$error":"#N/A"},{"$error":"#N/A"},"",null,null,"",null,null,"",{"$error":"#VALUE!"},null,null," ",{"$error":"#VALUE!"},{"$f":"VLOOKUP(Report!DC58,Code!$B$24:$C$32,2,FALSE)","v":{"$error":"#VALUE!"}},{"$f":"VLOOKUP(Report!DC58,Code!$B$24:$D$32,3,FALSE)","v":{"$error":"#VALUE!"}},{"$error":"#VALUE!"},{"$error":"#VALUE!"},{"$error":"#VALUE!"},null,null,null,null,null,null," ",{"$f":"VLOOKUP(Report!DO58,Code!$B$40:$D$42,2,FALSE)","v":{"$error":"#N/A"}},{"$f":"VLOOKUP(Report!DO58,Code!$B$40:$D$42,3,FALSE)","v":{"$error":"#N/A"}},{"$error":"#N/A"},null,{"$error":"#N/A"},"number","number","number","",null,null,null,null,"",""]
[null,null,null,null,null,null,null,null,null,null,null,null,null,null,null,null,null,null,null,null,"Type_2",null,{"$error":"#N/A"},null,{"$error":"#N/A"},{"$error":"#N/A"},null,"he","He","his","His",null,null," ",{"$f":"HLOOKUP(Report!AH59,Person!$H$2:$L$3,2,FALSE)","v":{"$error":"#N/A"}},{"$error":"#N/A"},{"$f":"IF(AH59=0,\"\",AJ59+VLOOKUP(AH59,Code!$B$2:$C$6,2,FALSE))","v":{"$error":"#N/A"}},{"$f":"IF(AH59=0,\"\",IF(I59=\"F\",G59&\" \"&VLOOKUP(AK59,Person!D:I,2,FALSE),G59&\" \"&VLOOKUP(AK59,Person!D:I,4,FALSE)))","v":{"$error":"#N/A"}},null,null,null,null,null,null,null,2,{"$f":"VLOOKUP(AT59,Code!$B$51:$D$55,2,FALSE)","v":"Behaviour_1"},{"$f":"RANDBETWEEN(1,VLOOKUP(AT59,Code!$B$51:$D$55,3,FALSE))","v":2},null," d",null,null," ",{"$f":"HLOOKUP(Report!BA59,Homework!$I$2:$L$3,2,FALSE)","v":{"$error":"#N/A"}},{"$error":"#N/A"},{"$f":"IF(BA59=0,\"\",BC59+VLOOKUP(BA59,Code!$B$2:$C$6,2,FALSE))","v":{"$error":"#N/A"}},{"$f":"IF(AND(VLOOKUP(BD59,Homework!D:J,2,FALSE)=\"'s \",RIGHT(G59,1)=\"s\"),\"' \",IF(VLOOKUP(BD59,Homework!D:J,2,FALSE)=\"'s \",\"'s \",\" \"))","v":{"$error":"#N/A"}},{"$f":"IF(BA59=0,\"\",IF(I59=\"F\",\" \"&G59&BE59&VLOOKUP(BD59,Homework!D:J,3,FALSE),\" \"&G59&BE59&VLOOKUP(BD59,Homework!D:J,5,FALSE)))","v":{"$error":"#N/A"}},null,null,null,null,null,null,null,null," ",{"$f":"VLOOKUP(BO59,Code!$B$45:$D$48,2,FALSE)","v":{"$error":"#N/A"}},{"$f":"VLOOKUP(BO59,Code!$B$45:$D$48,3,FALSE)","v":{"$error":"#N/A"}},{"$error":"#N/A"},null,"pen","pen","pen",null,null,"",""," ",null,51,{"$f":"HLOOKUP(Report!CC59,Behaviour!$H$2:$K$3,2,FALSE)","v":{"$error":"#N/A"}},{"$error":"#N/A"},{"$f":"CE59+VLOOKUP(CC59,Code!$B$2:$C$6,2,FALSE)","v":{"$error":"#N/A"}},{"$f":"IF(CC59=0,\"\",IF(I59=\"F\",AC59&\" \"&VLOOKUP(CF59,Behaviour!D:I,2,FALSE)&\" \",AC59&\" \"&VLOOKUP(CF59,Behaviour!D:I,4,FALSE)&\" \"))","v":{"$error":"#N/A"}},null,null," ",null,{"$f":"IF(CJ59=0,\"\",VLOOKUP(CJ59,Code!$B$59:$D$61,2,FALSE))","v":{"$error":"#N/A"}},{"$f":"IF(CJ59=0,\"\",VLOOKUP(CJ59,Code!$B$59:$D$61,3,FALSE))","v":{"$error":"#N/A"}},{"$error":"#N/A"},{"$error":"#N/A"},{"$error":"#N/A"},{"$error":"#N/A"},"",null,null,"",null,null,"",{"$error":"#VALUE!"},null,null," ",{"$error":"#VALUE!"},{"$f":"VLOOKUP(Report!DC59,Code!$B$24:$C$32,2,FALSE)","v":{"$error":"#VALUE!"}},{"$f":"VLOOKUP(Report!DC59,Code!$B$24:$D$32,3,FALSE)","v":{"$error":"#VALUE!"}},{"$error":"#VALUE!"},{"$error":"#VALUE!"},{"$error":"#VALUE!"},null,null,null,null,null,null," ",{"$f":"VLOOKUP(Report!DO59,Code!$B$40:$D$42,2,FALSE)","v":{"$error":"#N/A"}},{"$f":"VLOOKUP(Report!DO59,Code!$B$40:$D$42,3,FALSE)","v":{"$error":"#N/A"}},{"$error":"#N/A"},null,{"$error":"#N/A"},"number","number","number","",null,null,null,null,"",""]
[null,null,null,null,null,null,null,null,null,null,null,null,null,null,null,null,null,null,null,null,"Type_2",null,{"$error":"#N/A"},null,{"$error":"#N/A"},{"$error":"#N/A"},null,"he","He","his","His",null,null," ",{"$f":"HLOOKUP(Report!AH60,Person!$H$2:$L$3,2,FALSE)","v":{"$error":"#N/A"}},{"$error":"#N/A"},{"$f":"IF(AH60=0,\"\",AJ60+VLOOKUP(AH60,Code!$B$2:$C$6,2,FALSE))","v":{"$error":"#N/A"}},{"$f":"IF(AH60=0,\"\",IF(I60=\"F\",G60&\" \"&VLOOKUP(AK60,Person!D:I,2,FALSE),G60&\" \"&VLOOKUP(AK60,Person!D:I,4,FALSE)))","v":{"$error":"#N/A"}},null,null,null,null,null,null,null,2,{"$f":"VLOOKUP(AT60,Code!$B$51:$D$55,2,FALSE)","v":"Behaviour_1"},{"$f":"RANDBETWEEN(1,VLOOKUP(AT60,Code!$B$51:$D$55,3,FALSE))","v":1},null," d",null,null," ",{"$f":"HLOOKUP(Report!BA60,Homework!$I$2:$L$3,2,FALSE)","v":{"$error":"#N/A"}},{"$error":"#N/A"},{"$f":"IF(BA60=0,\"\",BC60+VLOOKUP(BA60,Code!$B$2:$C$6,2,FALSE))","v":{"$error":"#N/A"}},{"$f":"IF(AND(VLOOKUP(BD60,Homework!D:J,2,FALSE)=\"'s \",RIGHT(G60,1)=\"s\"),\"' \",IF(VLOOKUP(BD60,Homework!D:J,2,FALSE)=\"'s \",\"'s \",\" \"))","v":{"$error":"#N/A"}},{"$f":"IF(BA60=0,\"\",IF(I60=\"F\",\" \"&G60&BE60&VLOOKUP(BD60,Homework!D:J,3,FALSE),\" \"&G60&BE60&VLOOKUP(BD60,Homework!D:J,5,FALSE)))","v":{"$error":"#N/A"}},null,null,null,null,null,null,null,null," ",{"$f":"VLOOKUP(BO60,Code!$B$45:$D$48,2,FALSE)","v":{"$error":"#N/A"}},{"$f":"VLOOKUP(BO60,Code!$B$45:$D$48,3,FALSE)","v":{"$error":"#N/A"}},{"$error":"#N/A"},null,"pen","pen","pen",null,null,"",""," ",null,52,{"$f":"HLOOKUP(Report!CC60,Behaviour!$H$2:$K$3,2,FALSE)","v":{"$error":"#N/A"}},{"$error":"#N/A"},{"$f":"CE60+VLOOKUP(CC60,Code!$B$2:$C$6,2,FALSE)","v":{"$error":"#N/A"}},{"$f":"IF(CC60=0,\"\",IF(I60=\"F\",AC60&\" \"&VLOOKUP(CF60,Behaviour!D:I,2,FALSE)&\" \",AC60&\" \"&VLOOKUP(CF60,Behaviour!D:I,4,FALSE)&\" \"))","v":{"$error":"#N/A"}},null,null," ",null,{"$f":"IF(CJ60=0,\"\",VLOOKUP(CJ60,Code!$B$59:$D$61,2,FALSE))","v":{"$error":"#N/A"}},{"$f":"IF(CJ60=0,\"\",VLOOKUP(CJ60,Code!$B$59:$D$61,3,FALSE))","v":{"$error":"#N/A"}},{"$error":"#N/A"},{"$error":"#N/A"},{"$error":"#N/A"},{"$error":"#N/A"},"",null,null,"",null,null,"",{"$error":"#VALUE!"},null,null," ",{"$error":"#VALUE!"},{"$f":"VLOOKUP(Report!DC60,Code!$B$24:$C$32,2,FALSE)","v":{"$error":"#VALUE!"}},{"$f":"VLOOKUP(Report!DC60,Code!$B$24:$D$32,3,FALSE)","v":{"$error":"#VALUE!"}},{"$error":"#VALUE!"},{"$error":"#VALUE!"},{"$error":"#VALUE!"},null,null,null,null,null,null," ",{"$f":"VLOOKUP(Report!DO60,Code!$B$40:$D$42,2,FALSE)","v":{"$error":"#N/A"}},{"$f":"VLOOKUP(Report!DO60,Code!$B$40:$D$42,3,FALSE)","v":{"$error":"#N/A"}},{"$error":"#N/A"},null,{"$error":"#N/A"},"number","number","number","",null,null,null,null,"",""]
[null,null,null,null,null,null,null,null,null,null,null,null,null,null,null,null,null,null,null,null,"Type_2",null,{"$error":"#N/A"},null,{"$error":"#N/A"},{"$error":"#N/A"},null,"he","He","his","His",null,null," ",{"$f":"HLOOKUP(Report!AH61,Person!$H$2:$L$3,2,FALSE)","v":{"$error":"#N/A"}},{"$error":"#N/A"},{"$f":"IF(AH61=0,\"\",AJ61+VLOOKUP(AH61,Code!$B$2:$C$6,2,FALSE))","v":{"$error":"#N/A"}},{"$f":"IF(AH61=0,\"\",IF(I61=\"F\",G61&\" \"&VLOOKUP(AK61,Person!D:I,2,FALSE),G61&\" \"&VLOOKUP(AK61,Person!D:I,4,FALSE)))","v":{"$error":"#N/A"}},null,null,null,null,null,null,null,2,{"$f":"VLOOKUP(AT61,Code!$B$51:$D$55,2,FALSE)","v":"Behaviour_1"},{"$f":"RANDBETWEEN(1,VLOOKUP(AT61,Code!$B$51:$D$55,3,FALSE))","v":1},null," d",null,null," ",{"$f":"HLOOKUP(Report!BA61,Homework!$I$2:$L$3,2,FALSE)","v":{"$error":"#N/A"}},{"$error":"#N/A"},{"$f":"IF(BA61=0,\"\",BC61+VLOOKUP(BA61,Code!$B$2:$C$6,2,FALSE))","v":{"$error":"#N/A"}},{"$f":"IF(AND(VLOOKUP(BD61,Homework!D:J,2,FALSE)=\"'s \",RIGHT(G61,1)=\"s\"),\"' \",IF(VLOOKUP(BD61,Homework!D:J,2,FALSE)=\"'s \",\"'s \",\" \"))","v":{"$error":"#N/A"}},{"$f":"IF(BA61=0,\"\",IF(I61=\"F\",\" \"&G61&BE61&VLOOKUP(BD61,Homework!D:J,3,FALSE),\" \"&G61&BE61&VLOOKUP(BD61,Homework!D:J,5,FALSE)))","v":{"$error":"#N/A"}},null,null,null,null,null,null,null,null," ",{"$f":"VLOOKUP(BO61,Code!$B$45:$D$48,2,FALSE)","v":{"$error":"#N/A"}},{"$f":"VLOOKUP(BO61,Code!$B$45:$D$48,3,FALSE)","v":{"$error":"#N/A"}},{"$error":"#N/A"},null,"pen","pen","pen",null,null,"",""," ",null,53,{"$f":"HLOOKUP(Report!CC61,Behaviour!$H$2:$K$3,2,FALSE)","v":{"$error":"#N/A"}},{"$error":"#N/A"},{"$f":"CE61+VLOOKUP(CC61,Code!$B$2:$C$6,2,FALSE)","v":{"$error":"#N/A"}},{"$f":"IF(CC61=0,\"\",IF(I61=\"F\",AC61&\" \"&VLOOKUP(CF61,Behaviour!D:I,2,FALSE)&\" \",AC61&\" \"&VLOOKUP(CF61,Behaviour!D:I,4,FALSE)&\" \"))","v":{"$error":"#N/A"}},null,null," ",null,{"$f":"IF(CJ61=0,\"\",VLOOKUP(CJ61,Code!$B$59:$D$61,2,FALSE))","v":{"$error":"#N/A"}},{"$f":"IF(CJ61=0,\"\",VLOOKUP(CJ61,Code!$B$59:$D$61,3,FALSE))","v":{"$error":"#N/A"}},{"$error":"#N/A"},{"$error":"#N/A"},{"$error":"#N/A"},{"$error":"#N/A"},"",null,null,"",null,null,"",{"$error":"#VALUE!"},null,null," ",{"$error":"#VALUE!"},{"$f":"VLOOKUP(Report!DC61,Code!$B$24:$C$32,2,FALSE)","v":{"$error":"#VALUE!"}},{"$f":"VLOOKUP(Report!DC61,Code!$B$24:$D$32,3,FALSE)","v":{"$error":"#VALUE!"}},{"$error":"#VALUE!"},{"$error":"#VALUE!"},{"$error":"#VALUE!"},null,null,null,null,null,null," ",{"$f":"VLOOKUP(Report!DO61,Code!$B$40:$D$42,2,FALSE)","v":{"$error":"#N/A"}},{"$f":"VLOOKUP(Report!DO61,Code!$B$40:$D$42,3,FALSE)","v":{"$error":"#N/A"}},{"$error":"#N/A"},null,{"$error":"#N/A"},"number","number","number","",null,null,null,null,"",""]
[null,null,null,null,null,null,null,null,null,null,null,null,null,null,null,null,null,null,null,null,"Type_2",null,{"$error":"#N/A"},null,{"$error":"#N/A"},{"$error":"#N/A"},null,"he","He","his","His",null,null," ",{"$f":"HLOOKUP(Report!AH62,Person!$H$2:$L$3,2,FALSE)","v":{"$error":"#N/A"}},{"$error":"#N/A"},{"$f":"IF(AH62=0,\"\",AJ62+VLOOKUP(AH62,Code!$B$2:$C$6,2,FALSE))","v":{"$error":"#N/A"}},{"$f":"IF(AH62=0,\"\",IF(I62=\"F\",G62&\" \"&VLOOKUP(AK62,Person!D:I,2,FALSE),G62&\" \"&VLOOKUP(AK62,Person!D:I,4,FALSE)))","v":{"$error":"#N/A"}},null,null,null,null,null,null,null,2,{"$f":"VLOOKUP(AT62,Code!$B$51:$D$55,2,FALSE)","v":"Behaviour_1"},{"$f":"RANDBETWEEN(1,VLOOKUP(AT62,Code!$B$51:$D$55,3,FALSE))","v":1},null," d",null,null," ",{"$f":"HLOOKUP(Report!BA62,Homework!$I$2:$L$3,2,FALSE)","v":{"$error":"#N/A"}},{"$error":"#N/A"},{"$f":"IF(BA62=0,\"\",BC62+VLOOKUP(BA62,Code!$B$2:$C$6,2,FALSE))","v":{"$error":"#N/A"}},{"$f":"IF(AND(VLOOKUP(BD62,Homework!D:J,2,FALSE)=\"'s \",RIGHT(G62,1)=\"s\"),\"' \",IF(VLOOKUP(BD62,Homework!D:J,2,FALSE)=\"'s \",\"'s \",\" \"))","v":{"$error":"#N/A"}},{"$f":"IF(BA62=0,\"\",IF(I62=\"F\",\" \"&G62&BE62&VLOOKUP(BD62,Homework!D:J,3,FALSE),\" \"&G62&BE62&VLOOKUP(BD62,Homework!D:J,5,FALSE)))","v":{"$error":"#N/A"}},null,null,null,null,null,null,null,null," ",{"$f":"VLOOKUP(BO62,Code!$B$45:$D$48,2,FALSE)","v":{"$error":"#N/A"}},{"$f":"VLOOKUP(BO62,Code!$B$45:$D$48,3,FALSE)","v":{"$error":"#N/A"}},{"$error":"#N/A"},null,"pen","pen","pen",null,null,"",""," ",null,54,{"$f":"HLOOKUP(Report!CC62,Behaviour!$H$2:$K$3,2,FALSE)","v":{"$error":"#N/A"}},{"$error":"#N/A"},{"$f":"CE62+VLOOKUP(CC62,Code!$B$2:$C$6,2,FALSE)","v":{"$error":"#N/A"}},{"$f":"IF(CC62=0,\"\",IF(I62=\"F\",AC62&\" \"&VLOOKUP(CF62,Behaviour!D:I,2,FALSE)&\" \",AC62&\" \"&VLOOKUP(CF62,Behaviour!D:I,4,FALSE)&\" \"))","v":{"$error":"#N/A"}},null,null," ",null,{"$f":"IF(CJ62=0,\"\",VLOOKUP(CJ62,Code!$B$59:$D$61,2,FALSE))","v":{"$error":"#N/A"}},{"$f":"IF(CJ62=0,\"\",VLOOKUP(CJ62,Code!$B$59:$D$61,3,FALSE))","v":{"$error":"#N/A"}},{"$error":"#N/A"},{"$error":"#N/A"},{"$error":"#N/A"},{"$error":"#N/A"},"",null,null,"",null,null,"",{"$error":"#VALUE!"},null,null," ",{"$error":"#VALUE!"},{"$f":"VLOOKUP(Report!DC62,Code!$B$24:$C$32,2,FALSE)","v":{"$error":"#VALUE!"}},{"$f":"VLOOKUP(Report!DC62,Code!$B$24:$D$32,3,FALSE)","v":{"$error":"#VALUE!"}},{"$error":"#VALUE!"},{"$error":"#VALUE!"},{"$error":"#VALUE!"},null,null,null,null,null,null," ",{"$f":"VLOOKUP(Report!DO62,Code!$B$40:$D$42,2,FALSE)","v":{"$error":"#N/A"}},{"$f":"VLOOKUP(Report!DO62,Code!$B$40:$D$42,3,FALSE)","v":{"$error":"#N/A"}},{"$error":"#N/A"},null,{"$error":"#N/A"},"number","number","number","",null,null,null,null,"",""]
[null,null,null,null,null,null,null,null,null,null,null,null,null,null,null,null,null,null,null,null,"Type_2",null,{"$error":"#N/A"},null,{"$error":"#N/A"},{"$error":"#N/A"},null,"he","He","his","His",null,null," ",{"$f":"HLOOKUP(Report!AH63,Person!$H$2:$L$3,2,FALSE)","v":{"$error":"#N/A"}},{"$error":"#N/A"},{"$f":"IF(AH63=0,\"\",AJ63+VLOOKUP(AH63,Code!$B$2:$C$6,2,FALSE))","v":{"$error":"#N/A"}},{"$f":"IF(AH63=0,\"\",IF(I63=\"F\",G63&\" \"&VLOOKUP(AK63,Person!D:I,2,FALSE),G63&\" \"&VLOOKUP(AK63,Person!D:I,4,FALSE)))","v":{"$error":"#N/A"}},null,null,null,null,null,null,null,2,{"$f":"VLOOKUP(AT63,Code!$B$51:$D$55,2,FALSE)","v":"Behaviour_1"},{"$f":"RANDBETWEEN(1,VLOOKUP(AT63,Code!$B$51:$D$55,3,FALSE))","v":1},null," d",null,null," ",{"$f":"HLOOKUP(Report!BA63,Homework!$I$2:$L$3,2,FALSE)","v":{"$error":"#N/A"}},{"$error":"#N/A"},{"$f":"IF(BA63=0,\"\",BC63+VLOOKUP(BA63,Code!$B$2:$C$6,2,FALSE))","v":{"$error":"#N/A"}},{"$f":"IF(AND(VLOOKUP(BD63,Homework!D:J,2,FALSE)=\"'s \",RIGHT(G63,1)=\"s\"),\"' \",IF(VLOOKUP(BD63,Homework!D:J,2,FALSE)=\"'s \",\"'s \",\" \"))","v":{"$error":"#N/A"}},{"$f":"IF(BA63=0,\"\",IF(I63=\"F\",\" \"&G63&BE63&VLOOKUP(BD63,Homework!D:J,3,FALSE),\" \"&G63&BE63&VLOOKUP(BD63,Homework!D:J,5,FALSE)))","v":{"$error":"#N/A"}},null,null,null,null,null,null,null,null," ",{"$f":"VLOOKUP(BO63,Code!$B$45:$D$48,2,FALSE)","v":{"$error":"#N/A"}},{"$f":"VLOOKUP(BO63,Code!$B$45:$D$48,3,FALSE)","v":{"$error":"#N/A"}},{"$error":"#N/A"},null,"pen","pen","pen",null,null,"",""," ",null,55,{"$f":"HLOOKUP(Report!CC63,Behaviour!$H$2:$K$3,2,FALSE)","v":{"$error":"#N/A"}},{"$error":"#N/A"},{"$f":"CE63+VLOOKUP(CC63,Code!$B$2:$C$6,2,FALSE)","v":{"$error":"#N/A"}},{"$f":"IF(CC63=0,\"\",IF(I63=\"F\",AC63&\" \"&VLOOKUP(CF63,Behaviour!D:I,2,FALSE)&\" \",AC63&\" \"&VLOOKUP(CF63,Behaviour!D:I,4,FALSE)&\" \"))","v":{"$error":"#N/A"}},null,null," ",null,{"$f":"IF(CJ63=0,\"\",VLOOKUP(CJ63,Code!$B$59:$D$61,2,FALSE))","v":{"$error":"#N/A"}},{"$f":"IF(CJ63=0,\"\",VLOOKUP(CJ63,Code!$B$59:$D$61,3,FALSE))","v":{"$error":"#N/A"}},{"$error":"#N/A"},{"$error":"#N/A"},{"$error":"#N/A"},{"$error":"#N/A"},"",null,null,"",null,null,"",{"$error":"#VALUE!"},null,null," ",{"$error":"#VALUE!"},{"$f":"VLOOKUP(Report!DC63,Code!$B$24:$C$32,2,FALSE)","v":{"$error":"#VALUE!"}},{"$f":"VLOOKUP(Report!DC63,Code!$B$24:$D$32,3,FALSE)","v":{"$error":"#VALUE!"}},{"$error":"#VALUE!"},{"$error":"#VALUE!"},{"$error":"#VALUE!"},null,null,null,null,null,null," ",{"$f":"VLOOKUP(Report!DO63,Code!$B$40:$D$42,2,FALSE)","v":{"$error":"#N/A"}},{"$f":"VLOOKUP(Report!DO63,Code!$B$40:$D$42,3,FALSE)","v":{"$error":"#N/A"}},{"$error":"#N/A"},null,{"$error":"#N/A"},"number","number","number","",null,null,null,null,"",""]
[null,null,null,null,null,null,null,null,null,null,null,null,null,null,null,null,null,null,null,null,"Type_2",null,{"$error":"#N/A"},null,{"$error":"#N/A"},{"$error":"#N/A"},null,"he","He","his","His",null,null," ",{"$f":"HLOOKUP(Report!AH64,Person!$H$2:$L$3,2,FALSE)","v":{"$error":"#N/A"}},{"$error":"#N/A"},{"$f":"IF(AH64=0,\"\",AJ64+VLOOKUP(AH64,Code!$B$2:$C$6,2,FALSE))","v":{"$error":"#N/A"}},{"$f":"IF(AH64=0,\"\",IF(I64=\"F\",G64&\" \"&VLOOKUP(AK64,Person!D:I,2,FALSE),G64&\" \"&VLOOKUP(AK64,Person!D:I,4,FALSE)))","v":{"$error":"#N/A"}},null,null,null,null,null,null,null,2,{"$f":"VLOOKUP(AT64,Code!$B$51:$D$55,2,FALSE)","v":"Behaviour_1"},{"$f":"RANDBETWEEN(1,VLOOKUP(AT64,Code!$B$51:$D$55,3,FALSE))","v":1},null," d",null,null," ",{"$f":"HLOOKUP(Report!BA64,Homework!$I$2:$L$3,2,FALSE)","v":{"$error":"#N/A"}},{"$error":"#N/A"},{"$f":"IF(BA64=0,\"\",BC64+VLOOKUP(BA64,Code!$B$2:$C$6,2,FALSE))","v":{"$error":"#N/A"}},{"$f":"IF(AND(VLOOKUP(BD64,Homework!D:J,2,FALSE)=\"'s \",RIGHT(G64,1)=\"s\"),\"' \",IF(VLOOKUP(BD64,Homework!D:J,2,FALSE)=\"'s \",\"'s \",\" \"))","v":{"$error":"#N/A"}},{"$f":"IF(BA64=0,\"\",IF(I64=\"F\",\" \"&G64&BE64&VLOOKUP(BD64,Homework!D:J,3,FALSE),\" \"&G64&BE64&VLOOKUP(BD64,Homework!D:J,5,FALSE)))","v":{"$error":"#N/A"}},null,null,null,null,null,null,null,null," ",{"$f":"VLOOKUP(BO64,Code!$B$45:$D$48,2,FALSE)","v":{"$error":"#N/A"}},{"$f":"VLOOKUP(BO64,Code!$B$45:$D$48,3,FALSE)","v":{"$error":"#N/A"}},{"$error":"#N/A"},null,"pen","pen","pen",null,null,"",""," ",null,56,{"$f":"HLOOKUP(Report!CC64,Behaviour!$H$2:$K$3,2,FALSE)","v":{"$error":"#N/A"}},{"$error":"#N/A"},{"$f":"CE64+VLOOKUP(CC64,Code!$B$2:$C$6,2,FALSE)","v":{"$error":"#N/A"}},{"$f":"IF(CC64=0,\"\",IF(I64=\"F\",AC64&\" \"&VLOOKUP(CF64,Behaviour!D:I,2,FALSE)&\" \",AC64&\" \"&VLOOKUP(CF64,Behaviour!D:I,4,FALSE)&\" \"))","v":{"$error":"#N/A"}},null,null," ",null,{"$f":"IF(CJ64=0,\"\",VLOOKUP(CJ64,Code!$B$59:$D$61,2,FALSE))","v":{"$error":"#N/A"}},{"$f":"IF(CJ64=0,\"\",VLOOKUP(CJ64,Code!$B$59:$D$61,3,FALSE))","v":{"$error":"#N/A"}},{"$error":"#N/A"},{"$error":"#N/A"},{"$error":"#N/A"},{"$error":"#N/A"},"",null,null,"",null,null,"",{"$error":"#VALUE!"},null,null," ",{"$error":"#VALUE!"},{"$f":"VLOOKUP(Report!DC64,Code!$B$24:$C$32,2,FALSE)","v":{"$error":"#VALUE!"}},{"$f":"VLOOKUP(Report!DC64,Code!$B$24:$D$32,3,FALSE)","v":{"$error":"#VALUE!"}},{"$error":"#VALUE!"},{"$error":"#VALUE!"},{"$error":"#VALUE!"},null,null,null,null,null,null," ",{"$f":"VLOOKUP(Report!DO64,Code!$B$40:$D$42,2,FALSE)","v":{"$error":"#N/A"}},{"$f":"VLOOKUP(Report!DO64,Code!$B$40:$D$42,3,FALSE)","v":{"$error":"#N/A"}},{"$error":"#N/A"},null,{"$error":"#N/A"},"number","number","number","",null,null,null,null,"",""]
[null,null,null,null,null,null,null,null,null,null,null,null,null,null,null,null,null,null,null,null,"Type_2",null,{"$error":"#N/A"},null,{"$error":"#N/A"},{"$error":"#N/A"},null,"he","He","his","His",null,null," ",{"$f":"HLOOKUP(Report!AH65,Person!$H$2:$L$3,2,FALSE)","v":{"$error":"#N/A"}},{"$error":"#N/A"},{"$f":"IF(AH65=0,\"\",AJ65+VLOOKUP(AH65,Code!$B$2:$C$6,2,FALSE))","v":{"$error":"#N/A"}},{"$f":"IF(AH65=0,\"\",IF(I65=\"F\",G65&\" \"&VLOOKUP(AK65,Person!D:I,2,FALSE),G65&\" \"&VLOOKUP(AK65,Person!D:I,4,FALSE)))","v":{"$error":"#N/A"}},null,null,null,null,null,null,null,2,{"$f":"VLOOKUP(AT65,Code!$B$51:$D$55,2,FALSE)","v":"Behaviour_1"},{"$f":"RANDBETWEEN(1,VLOOKUP(AT65,Code!$B$51:$D$55,3,FALSE))","v":2},null," d",null,null," ",{"$f":"HLOOKUP(Report!BA65,Homework!$I$2:$L$3,2,FALSE)","v":{"$error":"#N/A"}},{"$error":"#N/A"},{"$f":"IF(BA65=0,\"\",BC65+VLOOKUP(BA65,Code!$B$2:$C$6,2,FALSE))","v":{"$error":"#N/A"}},{"$f":"IF(AND(VLOOKUP(BD65,Homework!D:J,2,FALSE)=\"'s \",RIGHT(G65,1)=\"s\"),\"' \",IF(VLOOKUP(BD65,Homework!D:J,2,FALSE)=\"'s \",\"'s \",\" \"))","v":{"$error":"#N/A"}},{"$f":"IF(BA65=0,\"\",IF(I65=\"F\",\" \"&G65&BE65&VLOOKUP(BD65,Homework!D:J,3,FALSE),\" \"&G65&BE65&VLOOKUP(BD65,Homework!D:J,5,FALSE)))","v":{"$error":"#N/A"}},null,null,null,null,null,null,null,null," ",{"$f":"VLOOKUP(BO65,Code!$B$45:$D$48,2,FALSE)","v":{"$error":"#N/A"}},{"$f":"VLOOKUP(BO65,Code!$B$45:$D$48,3,FALSE)","v":{"$error":"#N/A"}},{"$error":"#N/A"},null,"pen","pen","pen",null,null,"",""," ",null,57,{"$f":"HLOOKUP(Report!CC65,Behaviour!$H$2:$K$3,2,FALSE)","v":{"$error":"#N/A"}},{"$error":"#N/A"},{"$f":"CE65+VLOOKUP(CC65,Code!$B$2:$C$6,2,FALSE)","v":{"$error":"#N/A"}},{"$f":"IF(CC65=0,\"\",IF(I65=\"F\",AC65&\" \"&VLOOKUP(CF65,Behaviour!D:I,2,FALSE)&\" \",AC65&\" \"&VLOOKUP(CF65,Behaviour!D:I,4,FALSE)&\" \"))","v":{"$error":"#N/A"}},null,null," ",null,{"$f":"IF(CJ65=0,\"\",VLOOKUP(CJ65,Code!$B$59:$D$61,2,FALSE))","v":{"$error":"#N/A"}},{"$f":"IF(CJ65=0,\"\",VLOOKUP(CJ65,Code!$B$59:$D$61,3,FALSE))","v":{"$error":"#N/A"}},{"$error":"#N/A"},{"$error":"#N/A"},{"$error":"#N/A"},{"$error":"#N/A"},"",null,null,"",null,null,"",{"$error":"#VALUE!"},null,null," ",{"$error":"#VALUE!"},{"$f":"VLOOKUP(Report!DC65,Code!$B$24:$C$32,2,FALSE)","v":{"$error":"#VALUE!"}},{"$f":"VLOOKUP(Report!DC65,Code!$B$24:$D$32,3,FALSE)","v":{"$error":"#VALUE!"}},{"$error":"#VALUE!"},{"$error":"#VALUE!"},{"$error":"#VALUE!"},null,null,null,null,null,null," ",{"$f":"VLOOKUP(Report!DO65,Code!$B$40:$D$42,2,FALSE)","v":{"$error":"#N/A"}},{"$f":"VLOOKUP(Report!DO65,Code!$B$40:$D$42,3,FALSE)","v":{"$error":"#N/A"}},{"$error":"#N/A"},null,{"$error":"#N/A"},"number","number","number","",null,null,null,null,"",""]
[null,null,null,null,null,null,null,null,null,null,null,null,null,null,null,null,null,null,null,null,"Type_2",null,{"$error":"#N/A"},null,{"$error":"#N/A"},{"$error":"#N/A"},null,"he","He","his","His",null,null," ",{"$f":"HLOOKUP(Report!AH66,Person!$H$2:$L$3,2,FALSE)","v":{"$error":"#N/A"}},{"$error":"#N/A"},{"$f":"IF(AH66=0,\"\",AJ66+VLOOKUP(AH66,Code!$B$2:$C$6,2,FALSE))","v":{"$error":"#N/A"}},{"$f":"IF(AH66=0,\"\",IF(I66=\"F\",G66&\" \"&VLOOKUP(AK66,Person!D:I,2,FALSE),G66&\" \"&VLOOKUP(AK66,Person!D:I,4,FALSE)))","v":{"$error":"#N/A"}},null,null,null,null,null,null,null,2,{"$f":"VLOOKUP(AT66,Code!$B$51:$D$55,2,FALSE)","v":"Behaviour_1"},{"$f":"RANDBETWEEN(1,VLOOKUP(AT66,Code!$B$51:$D$55,3,FALSE))","v":2},null," d",null,null," ",{"$f":"HLOOKUP(Report!BA66,Homework!$I$2:$L$3,2,FALSE)","v":{"$error":"#N/A"}},{"$error":"#N/A"},{"$f":"IF(BA66=0,\"\",BC66+VLOOKUP(BA66,Code!$B$2:$C$6,2,FALSE))","v":{"$error":"#N/A"}},{"$f":"IF(AND(VLOOKUP(BD66,Homework!D:J,2,FALSE)=\"'s \",RIGHT(G66,1)=\"s\"),\"' \",IF(VLOOKUP(BD66,Homework!D:J,2,FALSE)=\"'s \",\"'s \",\" \"))","v":{"$error":"#N/A"}},{"$f":"IF(BA66=0,\"\",IF(I66=\"F\",\" \"&G66&BE66&VLOOKUP(BD66,Homework!D:J,3,FALSE),\" \"&G66&BE66&VLOOKUP(BD66,Homework!D:J,5,FALSE)))","v":{"$error":"#N/A"}},null,null,null,null,null,null,null,null," ",{"$f":"VLOOKUP(BO66,Code!$B$45:$D$48,2,FALSE)","v":{"$error":"#N/A"}},{"$f":"VLOOKUP(BO66,Code!$B$45:$D$48,3,FALSE)","v":{"$error":"#N/A"}},{"$error":"#N/A"},null,"pen","pen","pen",null,null,"",""," ",null,58,{"$f":"HLOOKUP(Report!CC66,Behaviour!$H$2:$K$3,2,FALSE)","v":{"$error":"#N/A"}},{"$error":"#N/A"},{"$f":"CE66+VLOOKUP(CC66,Code!$B$2:$C$6,2,FALSE)","v":{"$error":"#N/A"}},{"$f":"IF(CC66=0,\"\",IF(I66=\"F\",AC66&\" \"&VLOOKUP(CF66,Behaviour!D:I,2,FALSE)&\" \",AC66&\" \"&VLOOKUP(CF66,Behaviour!D:I,4,FALSE)&\" \"))","v":{"$error":"#N/A"}},null,null," ",null,{"$f":"IF(CJ66=0,\"\",VLOOKUP(CJ66,Code!$B$59:$D$61,2,FALSE))","v":{"$error":"#N/A"}},{"$f":"IF(CJ66=0,\"\",VLOOKUP(CJ66,Code!$B$59:$D$61,3,FALSE))","v":{"$error":"#N/A"}},{"$error":"#N/A"},{"$error":"#N/A"},{"$error":"#N/A"},{"$error":"#N/A"},"",null,null,"",null,null,"",{"$error":"#VALUE!"},null,null," ",{"$error":"#VALUE!"},{"$f":"VLOOKUP(Report!DC66,Code!$B$24:$C$32,2,FALSE)","v":{"$error":"#VALUE!"}},{"$f":"VLOOKUP(Report!DC66,Code!$B$24:$D$32,3,FALSE)","v":{"$error":"#VALUE!"}},{"$error":"#VALUE!"},{"$error":"#VALUE!"},{"$error":"#VALUE!"},null,null,null,null,null,null," ",{"$f":"VLOOKUP(Report!DO66,Code!$B$40:$D$42,2,FALSE)","v":{"$error":"#N/A"}},{"$f":"VLOOKUP(Report!DO66,Code!$B$40:$D$42,3,FALSE)","v":{"$error":"#N/A"}},{"$error":"#N/A"},null,{"$error":"#N/A"},"number","number","number","",null,null,null,null,"",""]
[null,null,null,null,null,null,null,null,null,null,null,null,null,null,null,null,null,null,null,null,"Type_2",null,{"$error":"#N/A"},null,{"$error":"#N/A"},{"$error":"#N/A"},null,"he","He","his","His",null,null," ",{"$f":"HLOOKUP(Report!AH67,Person!$H$2:$L$3,2,FALSE)","v":{"$error":"#N/A"}},{"$error":"#N/A"},{"$f":"IF(AH67=0,\"\",AJ67+VLOOKUP(AH67,Code!$B$2:$C$6,2,FALSE))","v":{"$error":"#N/A"}},{"$f":"IF(AH67=0,\"\",IF(I67=\"F\",G67&\" \"&VLOOKUP(AK67,Person!D:I,2,FALSE),G67&\" \"&VLOOKUP(AK67,Person!D:I,4,FALSE)))","v":{"$error":"#N/A"}},null,null,null,null,null,null,null,2,{"$f":"VLOOKUP(AT67,Code!$B$51:$D$55,2,FALSE)","v":"Behaviour_1"},{"$f":"RANDBETWEEN(1,VLOOKUP(AT67,Code!$B$51:$D$55,3,FALSE))","v":2},null," d",null,null," ",{"$f":"HLOOKUP(Report!BA67,Homework!$I$2:$L$3,2,FALSE)","v":{"$error":"#N/A"}},{"$error":"#N/A"},{"$f":"IF(BA67=0,\"\",BC67+VLOOKUP(BA67,Code!$B$2:$C$6,2,FALSE))","v":{"$error":"#N/A"}},{"$f":"IF(AND(VLOOKUP(BD67,Homework!D:J,2,FALSE)=\"'s \",RIGHT(G67,1)=\"s\"),\"' \",IF(VLOOKUP(BD67,Homework!D:J,2,FALSE)=\"'s \",\"'s \",\" \"))","v":{"$error":"#N/A"}},{"$f":"IF(BA67=0,\"\",IF(I67=\"F\",\" \"&G67&BE67&VLOOKUP(BD67,Homework!D:J,3,FALSE),\" \"&G67&BE67&VLOOKUP(BD67,Homework!D:J,5,FALSE)))","v":{"$error":"#N/A"}},null,null,null,null,null,null,null,null," ",{"$f":"VLOOKUP(BO67,Code!$B$45:$D$48,2,FALSE)","v":{"$error":"#N/A"}},{"$f":"VLOOKUP(BO67,Code!$B$45:$D$48,3,FALSE)","v":{"$error":"#N/A"}},{"$error":"#N/A"},null,"pen","pen","pen",null,null,"",""," ",null,59,{"$f":"HLOOKUP(Report!CC67,Behaviour!$H$2:$K$3,2,FALSE)","v":{"$error":"#N/A"}},{"$error":"#N/A"},{"$f":"CE67+VLOOKUP(CC67,Code!$B$2:$C$6,2,FALSE)","v":{"$error":"#N/A"}},{"$f":"IF(CC67=0,\"\",IF(I67=\"F\",AC67&\" \"&VLOOKUP(CF67,Behaviour!D:I,2,FALSE)&\" \",AC67&\" \"&VLOOKUP(CF67,Behaviour!D:I,4,FALSE)&\" \"))","v":{"$error":"#N/A"}},null,null," ",null,{"$f":"IF(CJ67=0,\"\",VLOOKUP(CJ67,Code!$B$59:$D$61,2,FALSE))","v":{"$error":"#N/A"}},{"$f":"IF(CJ67=0,\"\",VLOOKUP(CJ67,Code!$B$59:$D$61,3,FALSE))","v":{"$error":"#N/A"}},{"$error":"#N/A"},{"$error":"#N/A"},{"$error":"#N/A"},{"$error":"#N/A"},"",null,null,"",null,null,"",{"$error":"#VALUE!"},null,null," ",{"$error":"#VALUE!"},{"$f":"VLOOKUP(Report!DC67,Code!$B$24:$C$32,2,FALSE)","v":{"$error":"#VALUE!"}},{"$f":"VLOOKUP(Report!DC67,Code!$B$24:$D$32,3,FALSE)","v":{"$error":"#VALUE!"}},{"$error":"#VALUE!"},{"$error":"#VALUE!"},{"$error":"#VALUE!"},null,null,null,null,null,null," ",{"$f":"VLOOKUP(Report!DO67,Code!$B$40:$D$42,2,FALSE)","v":{"$error":"#N/A"}},{"$f":"VLOOKUP(Report!DO67,Code!$B$40:$D$42,3,FALSE)","v":{"$error":"#N/A"}},{"$error":"#N/A"},null,{"$error":"#N/A"},"number","number","number","",null,null,null,null,"",""]
[null,null,null,null,null,null,null,null,null,null,null,null,null,null,null,null,null,null,null,null,"Type_2",null,{"$error":"#N/A"},null,{"$error":"#N/A"},{"$error":"#N/A"},null,"he","He","his","His",null,null," ",{"$f":"HLOOKUP(Report!AH68,Person!$H$2:$L$3,2,FALSE)","v":{"$error":"#N/A"}},{"$error":"#N/A"},{"$f":"IF(AH68=0,\"\",AJ68+VLOOKUP(AH68,Code!$B$2:$C$6,2,FALSE))","v":{"$error":"#N/A"}},{"$f":"IF(AH68=0,\"\",IF(I68=\"F\",G68&\" \"&VLOOKUP(AK68,Person!D:I,2,FALSE),G68&\" \"&VLOOKUP(AK68,Person!D:I,4,FALSE)))","v":{"$error":"#N/A"}},null,null,null,null,null,null,null,2,{"$f":"VLOOKUP(AT68,Code!$B$51:$D$55,2,FALSE)","v":"Behaviour_1"},{"$f":"RANDBETWEEN(1,VLOOKUP(AT68,Code!$B$51:$D$55,3,FALSE))","v":1},null," d",null,null," ",{"$f":"HLOOKUP(Report!BA68,Homework!$I$2:$L$3,2,FALSE)","v":{"$error":"#N/A"}},{"$error":"#N/A"},{"$f":"IF(BA68=0,\"\",BC68+VLOOKUP(BA68,Code!$B$2:$C$6,2,FALSE))","v":{"$error":"#N/A"}},{"$f":"IF(AND(VLOOKUP(BD68,Homework!D:J,2,FALSE)=\"'s \",RIGHT(G68,1)=\"s\"),\"' \",IF(VLOOKUP(BD68,Homework!D:J,2,FALSE)=\"'s \",\"'s \",\" \"))","v":{"$error":"#N/A"}},{"$f":"IF(BA68=0,\"\",IF(I68=\"F\",\" \"&G68&BE68&VLOOKUP(BD68,Homework!D:J,3,FALSE),\" \"&G68&BE68&VLOOKUP(BD68,Homework!D:J,5,FALSE)))","v":{"$error":"#N/A"}},null,null,null,null,null,null,null,null," ",{"$f":"VLOOKUP(BO68,Code!$B$45:$D$48,2,FALSE)","v":{"$error":"#N/A"}},{"$f":"VLOOKUP(BO68,Code!$B$45:$D$48,3,FALSE)","v":{"$error":"#N/A"}},{"$error":"#N/A"},null,"pen","pen","pen",null,null,"",""," ",null,60,{"$f":"HLOOKUP(Report!CC68,Behaviour!$H$2:$K$3,2,FALSE)","v":{"$error":"#N/A"}},{"$error":"#N/A"},{"$f":"CE68+VLOOKUP(CC68,Code!$B$2:$C$6,2,FALSE)","v":{"$error":"#N/A"}},{"$f":"IF(CC68=0,\"\",IF(I68=\"F\",AC68&\" \"&VLOOKUP(CF68,Behaviour!D:I,2,FALSE)&\" \",AC68&\" \"&VLOOKUP(CF68,Behaviour!D:I,4,FALSE)&\" \"))","v":{"$error":"#N/A"}},null,null," ",null,{"$f":"IF(CJ68=0,\"\",VLOOKUP(CJ68,Code!$B$59:$D$61,2,FALSE))","v":{"$error":"#N/A"}},{"$f":"IF(CJ68=0,\"\",VLOOKUP(CJ68,Code!$B$59:$D$61,3,FALSE))","v":{"$error":"#N/A"}},{"$error":"#N/A"},{"$error":"#N/A"},{"$error":"#N/A"},{"$error":"#N/A"},"",null,null,"",null,null,"",{"$error":"#VALUE!"},null,null," ",{"$error":"#VALUE!"},{"$f":"VLOOKUP(Report!DC68,Code!$B$24:$C$32,2,FALSE)","v":{"$error":"#VALUE!"}},{"$f":"VLOOKUP(Report!DC68,Code!$B$24:$D$32,3,FALSE)","v":{"$error":"#VALUE!"}},{"$error":"#VALUE!"},{"$error":"#VALUE!"},{"$error":"#VALUE!"},null,null,null,null,null,null," ",{"$f":"VLOOKUP(Report!DO68,Code!$B$40:$D$42,2,FALSE)","v":{"$error":"#N/A"}},{"$f":"VLOOKUP(Report!DO68,Code!$B$40:$D$42,3,FALSE)","v":{"$error":"#N/A"}},{"$error":"#N/A"},null,{"$error":"#N/A"},"number","number","number","",null,null,null,null,"",""]
[null,null,null,null,null,null,null,null,null,null,null,null,null,null,null,null,null,null,null,null,"Type_2",null,{"$error":"#N/A"},null,{"$error":"#N/A"},{"$error":"#N/A"},null,"he","He","his","His",null,null," ",{"$f":"HLOOKUP(Report!AH69,Person!$H$2:$L$3,2,FALSE)","v":{"$error":"#N/A"}},{"$error":"#N/A"},{"$f":"IF(AH69=0,\"\",AJ69+VLOOKUP(AH69,Code!$B$2:$C$6,2,FALSE))","v":{"$error":"#N/A"}},{"$f":"IF(AH69=0,\"\",IF(I69=\"F\",G69&\" \"&VLOOKUP(AK69,Person!D:I,2,FALSE),G69&\" \"&VLOOKUP(AK69,Person!D:I,4,FALSE)))","v":{"$error":"#N/A"}},null,null,null,null,null,null,null,2,{"$f":"VLOOKUP(AT69,Code!$B$51:$D$55,2,FALSE)","v":"Behaviour_1"},{"$f":"RANDBETWEEN(1,VLOOKUP(AT69,Code!$B$51:$D$55,3,FALSE))","v":1},null," d",null,null," ",{"$f":"HLOOKUP(Report!BA69,Homework!$I$2:$L$3,2,FALSE)","v":{"$error":"#N/A"}},{"$error":"#N/A"},{"$f":"IF(BA69=0,\"\",BC69+VLOOKUP(BA69,Code!$B$2:$C$6,2,FALSE))","v":{"$error":"#N/A"}},{"$f":"IF(AND(VLOOKUP(BD69,Homework!D:J,2,FALSE)=\"'s \",RIGHT(G69,1)=\"s\"),\"' \",IF(VLOOKUP(BD69,Homework!D:J,2,FALSE)=\"'s \",\"'s \",\" \"))","v":{"$error":"#N/A"}},{"$f":"IF(BA69=0,\"\",IF(I69=\"F\",\" \"&G69&BE69&VLOOKUP(BD69,Homework!D:J,3,FALSE),\" \"&G69&BE69&VLOOKUP(BD69,Homework!D:J,5,FALSE)))","v":{"$error":"#N/A"}},null,null,null,null,null,null,null,null," ",{"$f":"VLOOKUP(BO69,Code!$B$45:$D$48,2,FALSE)","v":{"$error":"#N/A"}},{"$f":"VLOOKUP(BO69,Code!$B$45:$D$48,3,FALSE)","v":{"$error":"#N/A"}},{"$error":"#N/A"},null,"pen","pen","pen",null,null,"",""," ",null,61,{"$f":"HLOOKUP(Report!CC69,Behaviour!$H$2:$K$3,2,FALSE)","v":{"$error":"#N/A"}},{"$error":"#N/A"},{"$f":"CE69+VLOOKUP(CC69,Code!$B$2:$C$6,2,FALSE)","v":{"$error":"#N/A"}},{"$f":"IF(CC69=0,\"\",IF(I69=\"F\",AC69&\" \"&VLOOKUP(CF69,Behaviour!D:I,2,FALSE)&\" \",AC69&\" \"&VLOOKUP(CF69,Behaviour!D:I,4,FALSE)&\" \"))","v":{"$error":"#N/A"}},null,null," ",null,{"$f":"IF(CJ69=0,\"\",VLOOKUP(CJ69,Code!$B$59:$D$61,2,FALSE))","v":{"$error":"#N/A"}},{"$f":"IF(CJ69=0,\"\",VLOOKUP(CJ69,Code!$B$59:$D$61,3,FALSE))","v":{"$error":"#N/A"}},{"$error":"#N/A"},{"$error":"#N/A"},{"$error":"#N/A"},{"$error":"#N/A"},"",null,null,"",null,null,"",{"$error":"#VALUE!"},null,null," ",{"$error":"#VALUE!"},{"$f":"VLOOKUP(Report!DC69,Code!$B$24:$C$32,2,FALSE)","v":{"$error":"#VALUE!"}},{"$f":"VLOOKUP(Report!DC69,Code!$B$24:$D$32,3,FALSE)","v":{"$error":"#VALUE!"}},{"$error":"#VALUE!"},{"$error":"#VALUE!"},{"$error":"#VALUE!"},null,null,null,null,null,null," ",{"$f":"VLOOKUP(Report!DO69,Code!$B$40:$D$42,2,FALSE)","v":{"$error":"#N/A"}},{"$f":"VLOOKUP(Report!DO69,Code!$B$40:$D$42,3,FALSE)","v":{"$error":"#N/A"}},{"$error":"#N/A"},null,{"$error":"#N/A"},"number","number","number","",null,null,null,null,"",""]
[null,null,null,null,null,null,null,null,null,null,null,null,null,null,null,null,null,null,null,null,"Type_2",null,{"$error":"#N/A"},null,{"$error":"#N/A"},{"$error":"#N/A"},null,"he","He","his","His",null,null," ",{"$f":"HLOOKUP(Report!AH70,Person!$H$2:$L$3,2,FALSE)","v":{"$error":"#N/A"}},{"$error":"#N/A"},{"$f":"IF(AH70=0,\"\",AJ70+VLOOKUP(AH70,Code!$B$2:$C$6,2,FALSE))","v":{"$error":"#N/A"}},{"$f":"IF(AH70=0,\"\",IF(I70=\"F\",G70&\" \"&VLOOKUP(AK70,Person!D:I,2,FALSE),G70&\" \"&VLOOKUP(AK70,Person!D:I,4,FALSE)))","v":{"$error":"#N/A"}},null,null,null,null,null,null,null,2,{"$f":"VLOOKUP(AT70,Code!$B$51:$D$55,2,FALSE)","v":"Behaviour_1"},{"$f":"RANDBETWEEN(1,VLOOKUP(AT70,Code!$B$51:$D$55,3,FALSE))","v":2},null," d",null,null," ",{"$f":"HLOOKUP(Report!BA70,Homework!$I$2:$L$3,2,FALSE)","v":{"$error":"#N/A"}},{"$error":"#N/A"},{"$f":"IF(BA70=0,\"\",BC70+VLOOKUP(BA70,Code!$B$2:$C$6,2,FALSE))","v":{"$error":"#N/A"}},{"$f":"IF(AND(VLOOKUP(BD70,Homework!D:J,2,FALSE)=\"'s \",RIGHT(G70,1)=\"s\"),\"' \",IF(VLOOKUP(BD70,Homework!D:J,2,FALSE)=\"'s \",\"'s \",\" \"))","v":{"$error":"#N/A"}},{"$f":"IF(BA70=0,\"\",IF(I70=\"F\",\" \"&G70&BE70&VLOOKUP(BD70,Homework!D:J,3,FALSE),\" \"&G70&BE70&VLOOKUP(BD70,Homework!D:J,5,FALSE)))","v":{"$error":"#N/A"}},null,null,null,null,null,null,null,null," ",{"$f":"VLOOKUP(BO70,Code!$B$45:$D$48,2,FALSE)","v":{"$error":"#N/A"}},{"$f":"VLOOKUP(BO70,Code!$B$45:$D$48,3,FALSE)","v":{"$error":"#N/A"}},{"$error":"#N/A"},null,"pen","pen","pen",null,null,"",""," ",null,62,{"$f":"HLOOKUP(Report!CC70,Behaviour!$H$2:$K$3,2,FALSE)","v":{"$error":"#N/A"}},{"$error":"#N/A"},{"$f":"CE70+VLOOKUP(CC70,Code!$B$2:$C$6,2,FALSE)","v":{"$error":"#N/A"}},{"$f":"IF(CC70=0,\"\",IF(I70=\"F\",AC70&\" \"&VLOOKUP(CF70,Behaviour!D:I,2,FALSE)&\" \",AC70&\" \"&VLOOKUP(CF70,Behaviour!D:I,4,FALSE)&\" \"))","v":{"$error":"#N/A"}},null,null," ",null,{"$f":"IF(CJ70=0,\"\",VLOOKUP(CJ70,Code!$B$59:$D$61,2,FALSE))","v":{"$error":"#N/A"}},{"$f":"IF(CJ70=0,\"\",VLOOKUP(CJ70,Code!$B$59:$D$61,3,FALSE))","v":{"$error":"#N/A"}},{"$error":"#N/A"},{"$error":"#N/A"},{"$error":"#N/A"},{"$error":"#N/A"},"",null,null,"",null,null,"",{"$error":"#VALUE!"},null,null," ",{"$error":"#VALUE!"},{"$f":"VLOOKUP(Report!DC70,Code!$B$24:$C$32,2,FALSE)","v":{"$error":"#VALUE!"}},{"$f":"VLOOKUP(Report!DC70,Code!$B$24:$D$32,3,FALSE)","v":{"$error":"#VALUE!"}},{"$error":"#VALUE!"},{"$error":"#VALUE!"},{"$error":"#VALUE!"},null,null,null,null,null,null," ",{"$f":"VLOOKUP(Report!DO70,Code!$B$40:$D$42,2,FALSE)","v":{"$error":"#N/A"}},{"$f":"VLOOKUP(Report!DO70,Code!$B$40:$D$42,3,FALSE)","v":{"$error":"#N/A"}},{"$error":"#N/A"},null,{"$error":"#N/A"},"number","number","number","",null,null,null,null,"",""]
[null,null,null,null,null,null,null,null,null,null,null,null,null,null,null,null,null,null,null,null,"Type_2",null,{"$error":"#N/A"},null,{"$error":"#N/A"},{"$error":"#N/A"},null,"he","He","his","His",null,null," ",{"$f":"HLOOKUP(Report!AH71,Person!$H$2:$L$3,2,FALSE)","v":{"$error":"#N/A"}},{"$error":"#N/A"},{"$f":"IF(AH71=0,\"\",AJ71+VLOOKUP(AH71,Code!$B$2:$C$6,2,FALSE))","v":{"$error":"#N/A"}},{"$f":"IF(AH71=0,\"\",IF(I71=\"F\",G71&\" \"&VLOOKUP(AK71,Person!D:I,2,FALSE),G71&\" \"&VLOOKUP(AK71,Person!D:I,4,FALSE)))","v":{"$error":"#N/A"}},null,null,null,null,null,null,null,2,{"$f":"VLOOKUP(AT71,Code!$B$51:$D$55,2,FALSE)","v":"Behaviour_1"},{"$f":"RANDBETWEEN(1,VLOOKUP(AT71,Code!$B$51:$D$55,3,FALSE))","v":1},null," d",null,null," ",{"$f":"HLOOKUP(Report!BA71,Homework!$I$2:$L$3,2,FALSE)","v":{"$error":"#N/A"}},{"$error":"#N/A"},{"$f":"IF(BA71=0,\"\",BC71+VLOOKUP(BA71,Code!$B$2:$C$6,2,FALSE))","v":{"$error":"#N/A"}},{"$f":"IF(AND(VLOOKUP(BD71,Homework!D:J,2,FALSE)=\"'s \",RIGHT(G71,1)=\"s\"),\"' \",IF(VLOOKUP(BD71,Homework!D:J,2,FALSE)=\"'s \",\"'s \",\" \"))","v":{"$error":"#N/A"}},{"$f":"IF(BA71=0,\"\",IF(I71=\"F\",\" \"&G71&BE71&VLOOKUP(BD71,Homework!D:J,3,FALSE),\" \"&G71&BE71&VLOOKUP(BD71,Homework!D:J,5,FALSE)))","v":{"$error":"#N/A"}},null,null,null,null,null,null,null,null," ",{"$f":"VLOOKUP(BO71,Code!$B$45:$D$48,2,FALSE)","v":{"$error":"#N/A"}},{"$f":"VLOOKUP(BO71,Code!$B$45:$D$48,3,FALSE)","v":{"$error":"#N/A"}},{"$error":"#N/A"},null,"pen","pen","pen",null,null,"",""," ",null,63,{"$f":"HLOOKUP(Report!CC71,Behaviour!$H$2:$K$3,2,FALSE)","v":{"$error":"#N/A"}},{"$error":"#N/A"},{"$f":"CE71+VLOOKUP(CC71,Code!$B$2:$C$6,2,FALSE)","v":{"$error":"#N/A"}},{"$f":"IF(CC71=0,\"\",IF(I71=\"F\",AC71&\" \"&VLOOKUP(CF71,Behaviour!D:I,2,FALSE)&\" \",AC71&\" \"&VLOOKUP(CF71,Behaviour!D:I,4,FALSE)&\" \"))","v":{"$error":"#N/A"}},null,null," ",null,{"$f":"IF(CJ71=0,\"\",VLOOKUP(CJ71,Code!$B$59:$D$61,2,FALSE))","v":{"$error":"#N/A"}},{"$f":"IF(CJ71=0,\"\",VLOOKUP(CJ71,Code!$B$59:$D$61,3,FALSE))","v":{"$error":"#N/A"}},{"$error":"#N/A"},{"$error":"#N/A"},{"$error":"#N/A"},{"$error":"#N/A"},"",null,null,"",null,null,"",{"$error":"#VALUE!"},null,null," ",{"$error":"#VALUE!"},{"$f":"VLOOKUP(Report!DC71,Code!$B$24:$C$32,2,FALSE)","v":{"$error":"#VALUE!"}},{"$f":"VLOOKUP(Report!DC71,Code!$B$24:$D$32,3,FALSE)","v":{"$error":"#VALUE!"}},{"$error":"#VALUE!"},{"$error":"#VALUE!"},{"$error":"#VALUE!"},null,null,null,null,null,null," ",{"$f":"VLOOKUP(Report!DO71,Code!$B$40:$D$42,2,FALSE)","v":{"$error":"#N/A"}},{"$f":"VLOOKUP(Report!DO71,Code!$B$40:$D$42,3,FALSE)","v":{"$error":"#N/A"}},{"$error":"#N/A"},null,{"$error":"#N/A"},"number","number","number","",null,null,null,null,"",""]
[null,null,null,null,null,null,null,null,null,null,null,null,null,null,null,null,null,null,null,null,"Type_2",null,{"$error":"#N/A"},null,{"$error":"#N/A"},{"$error":"#N/A"},null,"he","He","his","His",null,null," ",{"$f":"HLOOKUP(Report!AH72,Person!$H$2:$L$3,2,FALSE)","v":{"$error":"#N/A"}},{"$error":"#N/A"},{"$f":"IF(AH72=0,\"\",AJ72+VLOOKUP(AH72,Code!$B$2:$C$6,2,FALSE))","v":{"$error":"#N/A"}},{"$f":"IF(AH72=0,\"\",IF(I72=\"F\",G72&\" \"&VLOOKUP(AK72,Person!D:I,2,FALSE),G72&\" \"&VLOOKUP(AK72,Person!D:I,4,FALSE)))","v":{"$error":"#N/A"}},null,null,null,null,null,null,null,2,{"$f":"VLOOKUP(AT72,Code!$B$51:$D$55,2,FALSE)","v":"Behaviour_1"},{"$f":"RANDBETWEEN(1,VLOOKUP(AT72,Code!$B$51:$D$55,3,FALSE))","v":2},null," d",null,null," ",{"$f":"HLOOKUP(Report!BA72,Homework!$I$2:$L$3,2,FALSE)","v":{"$error":"#N/A"}},{"$error":"#N/A"},{"$f":"IF(BA72=0,\"\",BC72+VLOOKUP(BA72,Code!$B$2:$C$6,2,FALSE))","v":{"$error":"#N/A"}},{"$f":"IF(AND(VLOOKUP(BD72,Homework!D:J,2,FALSE)=\"'s \",RIGHT(G72,1)=\"s\"),\"' \",IF(VLOOKUP(BD72,Homework!D:J,2,FALSE)=\"'s \",\"'s \",\" \"))","v":{"$error":"#N/A"}},{"$f":"IF(BA72=0,\"\",IF(I72=\"F\",\" \"&G72&BE72&VLOOKUP(BD72,Homework!D:J,3,FALSE),\" \"&G72&BE72&VLOOKUP(BD72,Homework!D:J,5,FALSE)))","v":{"$error":"#N/A"}},null,null,null,null,null,null,null,null," ",{"$f":"VLOOKUP(BO72,Code!$B$45:$D$48,2,FALSE)","v":{"$error":"#N/A"}},{"$f":"VLOOKUP(BO72,Code!$B$45:$D$48,3,FALSE)","v":{"$error":"#N/A"}},{"$error":"#N/A"},null,"pen","pencil","ruler",null,null,"",""," ",null,64,{"$f":"HLOOKUP(Report!CC72,Behaviour!$H$2:$K$3,2,FALSE)","v":{"$error":"#N/A"}},{"$error":"#N/A"},{"$f":"CE72+VLOOKUP(CC72,Code!$B$2:$C$6,2,FALSE)","v":{"$error":"#N/A"}},{"$f":"IF(CC72=0,\"\",IF(I72=\"F\",AC72&\" \"&VLOOKUP(CF72,Behaviour!D:I,2,FALSE)&\" \",AC72&\" \"&VLOOKUP(CF72,Behaviour!D:I,4,FALSE)&\" \"))","v":{"$error":"#N/A"}},null,null," ",null,{"$f":"IF(CJ72=0,\"\",VLOOKUP(CJ72,Code!$B$59:$D$61,2,FALSE))","v":{"$error":"#N/A"}},{"$f":"IF(CJ72=0,\"\",VLOOKUP(CJ72,Code!$B$59:$D$61,3,FALSE))","v":{"$error":"#N/A"}},{"$error":"#N/A"},{"$error":"#N/A"},{"$error":"#N/A"},{"$error":"#N/A"},"",null,null,"",null,null,"",{"$error":"#VALUE!"},null,null," ",{"$error":"#VALUE!"},{"$f":"VLOOKUP(Report!DC72,Code!$B$24:$C$32,2,FALSE)","v":{"$error":"#VALUE!"}},{"$f":"VLOOKUP(Report!DC72,Code!$B$24:$D$32,3,FALSE)","v":{"$error":"#VALUE!"}},{"$error":"#VALUE!"},{"$error":"#VALUE!"},{"$error":"#VALUE!"},null,null,null,null,null,null," ",{"$f":"VLOOKUP(Report!DO72,Code!$B$40:$D$42,2,FALSE)","v":{"$error":"#N/A"}},{"$f":"VLOOKUP(Report!DO72,Code!$B$40:$D$42,3,FALSE)","v":{"$error":"#N/A"}},{"$error":"#N/A"},null,{"$error":"#N/A"},"number","number","number","",null,null,null,null,"",""]
[null,null,null,null,null,null,null,null,null,null,null,null,null,null,null,null,null,null,null,null,"Type_2",null,{"$error":"#N/A"},null,{"$error":"#N/A"},{"$error":"#N/A"},null,{"$f":"IF(I73=\"F\",\"she\",\"he\")","v":"he"},{"$f":"IF(I73=\"F\",\"She\",\"He\")","v":"He"},{"$f":"IF(I73=\"F\",\"her\",\"his\")","v":"his"},{"$f":"IF(I73=\"F\",\"Her\",\"His\")","v":"His"},null,null," ",{"$f":"HLOOKUP(Report!AH73,Person!$H$2:$L$3,2,FALSE)","v":{"$error":"#N/A"}},{"$error":"#N/A"},{"$f":"IF(AH73=0,\"\",AJ73+VLOOKUP(AH73,Code!$B$2:$C$6,2,FALSE))","v":{"$error":"#N/A"}},{"$f":"IF(AH73=0,\"\",IF(I73=\"F\",G73&\" \"&VLOOKUP(AK73,Person!D:I,2,FALSE),G73&\" \"&VLOOKUP(AK73,Person!D:I,4,FALSE)))","v":{"$error":"#N/A"}},null,null,null,null,null,null,null,2,{"$f":"VLOOKUP(AT73,Code!$B$51:$D$55,2,FALSE)","v":"Behaviour_1"},{"$f":"RANDBETWEEN(1,VLOOKUP(AT73,Code!$B$51:$D$55,3,FALSE))","v":1},null,{"$f":"IF(AT73=0,\"\",IF(I73=\"F\",\" \"&VLOOKUP(AV73,INDIRECT(AU73),2,FALSE),\" \"&VLOOKUP(AV73,INDIRECT(AU73),4,FALSE)))","v":" d"},null,null," ",{"$f":"HLOOKUP(Report!BA73,Homework!$I$2:$L$3,2,FALSE)","v":{"$error":"#N/A"}},{"$error":"#N/A"},{"$f":"IF(BA73=0,\"\",BC73+VLOOKUP(BA73,Code!$B$2:$C$6,2,FALSE))","v":{"$error":"#N/A"}},{"$f":"IF(AND(VLOOKUP(BD73,Homework!D:J,2,FALSE)=\"'s \",RIGHT(G73,1)=\"s\"),\"' \",IF(VLOOKUP(BD73,Homework!D:J,2,FALSE)=\"'s \",\"'s \",\" \"))","v":{"$error":"#N/A"}},{"$f":"IF(BA73=0,\"\",IF(I73=\"F\",\" \"&G73&BE73&VLOOKUP(BD73,Homework!D:J,3,FALSE),\" \"&G73&BE73&VLOOKUP(BD73,Homework!D:J,5,FALSE)))","v":{"$error":"#N/A"}},null,null,null,null,null,null,null,null," ",{"$f":"VLOOKUP(BO73,Code!$B$45:$D$48,2,FALSE)","v":{"$error":"#N/A"}},{"$f":"VLOOKUP(BO73,Code!$B$45:$D$48,3,FALSE)","v":{"$error":"#N/A"}},{"$error":"#N/A"},null,"pen","pencil","ruler",null,null,"","",{"$f":"IF(BO73=0,\"\",IF(I73=\"F\",\" \"&BY73,\" \"&BZ73))","v":" "},null,65,{"$f":"HLOOKUP(Report!CC73,Behaviour!$H$2:$K$3,2,FALSE)","v":{"$error":"#N/A"}},{"$error":"#N/A"},{"$f":"CE73+VLOOKUP(CC73,Code!$B$2:$C$6,2,FALSE)","v":{"$error":"#N/A"}},{"$f":"IF(CC73=0,\"\",IF(I73=\"F\",AC73&\" \"&VLOOKUP(CF73,Behaviour!D:I,2,FALSE)&\" \",AC73&\" \"&VLOOKUP(CF73,Behaviour!D:I,4,FALSE)&\" \"))","v":{"$error":"#N/A"}},null,null," ",null,{"$f":"IF(CJ73=0,\"\",VLOOKUP(CJ73,Code!$B$59:$D$61,2,FALSE))","v":{"$error":"#N/A"}},{"$f":"IF(CJ73=0,\"\",VLOOKUP(CJ73,Code!$B$59:$D$61,3,FALSE))","v":{"$error":"#N/A"}},{"$error":"#N/A"},{"$f":"IF(I73=\"F\",VLOOKUP(CN73,INDIRECT(CL73),2,FALSE),VLOOKUP(CN73,INDIRECT(CL73),5,FALSE))","v":{"$error":"#N/A"}},{"$f":"IF(I73=\"F\",VLOOKUP(CN73,INDIRECT(CL73),3,FALSE),VLOOKUP(CN73,INDIRECT(CL73),6,FALSE))","v":{"$error":"#N/A"}},{"$error":"#N/A"},"",null,null,"",null,null,"",{"$error":"#VALUE!"},null,null," ",{"$error":"#VALUE!"},{"$f":"VLOOKUP(Report!DC73,Code!$B$24:$C$32,2,FALSE)","v":{"$error":"#VALUE!"}},{"$f":"VLOOKUP(Report!DC73,Code!$B$24:$D$32,3,FALSE)","v":{"$error":"#VALUE!"}},{"$error":"#VALUE!"},{"$f":"IF(AND(VLOOKUP(DF73,INDIRECT(DD73),2,FALSE)=\"'s \",RIGHT(G73,1)=\"s\"),\"' \",IF(VLOOKUP(DF73,INDIRECT(DD73),2,FALSE)=\"'s \",\"'s \",\"\"))","v":{"$error":"#VALUE!"}},{"$f":"\" \"&IF(DB73=0,\"\",IF(I73=\"F\",G73&DG73&VLOOKUP(DF73,INDIRECT(DD73),3,FALSE),G73&DG73&VLOOKUP(DF73,INDIRECT(DD73),5,FALSE)))","v":{"$error":"#VALUE!"}},null,null,null,null,null,null," ",{"$f":"VLOOKUP(Report!DO73,Code!$B$40:$D$42,2,FALSE)","v":{"$error":"#N/A"}},{"$f":"VLOOKUP(Report!DO73,Code!$B$40:$D$42,3,FALSE)","v":{"$error":"#N/A"}},{"$error":"#N/A"},null,{"$error":"#N/A"},"number","number","number","",null,null,null,null,{"$f":"IF(LEN(G73)<1,\"\",IF(OR(I73=\"F\",I73=\"M\"),(IF(ISERROR(AL73&AX73&BF73&CA73&CR73&DH73&DX73),\"\",AL73&AX73&BF73&CA73&CR73&DH73&DX73)),\"\"))","v":""},""]
[null,null,null,null,null,null,null,null,null,null,null,null,null,null,null,null,null,null,null,null,{"$f":"$V$3","v":"Type_2"},null,{"$f":"VLOOKUP(V74,INDIRECT(U74),2,FALSE)","v":{"$error":"#N/A"}},null,{"$f":"VLOOKUP(X74,INDIRECT(U74),2,FALSE)","v":{"$error":"#N/A"}},{"$f":"IF(W74=Y74,2,IF(W74<Y74,1,3))","v":{"$error":"#N/A"}},null,"he","He","his","His",null,null," ",{"$f":"HLOOKUP(Report!AH74,Person!$H$2:$L$3,2,FALSE)","v":{"$error":"#N/A"}},{"$f":"RANDBETWEEN(1,AI74)","v":{"$error":"#N/A"}},{"$f":"IF(AH74=0,\"\",AJ74+VLOOKUP(AH74,Code!$B$2:$C$6,2,FALSE))","v":{"$error":"#N/A"}},{"$f":"IF(AH74=0,\"\",IF(I74=\"F\",G74&\" \"&VLOOKUP(AK74,Person!D:I,2,FALSE),G74&\" \"&VLOOKUP(AK74,Person!D:I,4,FALSE)))","v":{"$error":"#N/A"}},null,null,null,null,null,null,null,2,{"$f":"VLOOKUP(AT74,Code!$B$51:$D$55,2,FALSE)","v":"Behaviour_1"},{"$f":"RANDBETWEEN(1,VLOOKUP(AT74,Code!$B$51:$D$55,3,FALSE))","v":2},null," d",null,null," ",{"$f":"HLOOKUP(Report!BA74,Homework!$I$2:$L$3,2,FALSE)","v":{"$error":"#N/A"}},{"$f":"RANDBETWEEN(1,BB74)","v":{"$error":"#N/A"}},{"$f":"IF(BA74=0,\"\",BC74+VLOOKUP(BA74,Code!$B$2:$C$6,2,FALSE))","v":{"$error":"#N/A"}},{"$f":"IF(AND(VLOOKUP(BD74,Homework!D:J,2,FALSE)=\"'s \",RIGHT(G74,1)=\"s\"),\"' \",IF(VLOOKUP(BD74,Homework!D:J,2,FALSE)=\"'s \",\"'s \",\" \"))","v":{"$error":"#N/A"}},{"$f":"IF(BA74=0,\"\",IF(I74=\"F\",\" \"&G74&BE74&VLOOKUP(BD74,Homework!D:J,3,FALSE),\" \"&G74&BE74&VLOOKUP(BD74,Homework!D:J,5,FALSE)))","v":{"$error":"#N/A"}},null,null,null,null,null,null,null,null," ",{"$f":"VLOOKUP(BO74,Code!$B$45:$D$48,2,FALSE)","v":{"$error":"#N/A"}},{"$f":"VLOOKUP(BO74,Code!$B$45:$D$48,3,FALSE)","v":{"$error":"#N/A"}},{"$f":"RANDBETWEEN(1,BQ74)","v":{"$error":"#N/A"}},null,"pen","pencil","ruler",null,null,{"$f":"IF(BO74=1,(VLOOKUP(BR74,INDIRECT(BP74),2,FALSE)&\" \"&BT74&\".\"),IF(BO74=2,(VLOOKUP(BR74,INDIRECT(BP74),2,FALSE)&\" \"&BT74&\" and \"&BU74&\".\"),IF(BO74=3,(VLOOKUP(BR74,INDIRECT(BP74),2,FALSE)&\" \"&BT74&\", \"&BU74&\" and \"&BV74&\".\"),IF(BO74=4,VLOOKUP(BR74,INDIRECT(BP74),2,FALSE)& \".\",\"\"))))","v":""},{"$f":"IF(BO74=1,(VLOOKUP(BR74,INDIRECT(BP74),4,FALSE)&\" \"&BT74&\".\"),IF(BO74=2,(VLOOKUP(BR74,INDIRECT(BP74),4,FALSE)&\" \"&BT74&\" and \"&BU74&\".\"),IF(BO74=3,(VLOOKUP(BR74,INDIRECT(BP74),4,FALSE)&\" \"&BT74&\", \"&BU74&\" and \"&BV74&\".\"),IF(BO74=4,VLOOKUP(BR74,INDIRECT(BP74),4,FALSE)&\".\",\"\"))))","v":""}," ",null,66,{"$f":"HLOOKUP(Report!CC74,Behaviour!$H$2:$K$3,2,FALSE)","v":{"$error":"#N/A"}},{"$f":"RANDBETWEEN(1,CD74)","v":{"$error":"#N/A"}},{"$f":"CE74+VLOOKUP(CC74,Code!$B$2:$C$6,2,FALSE)","v":{"$error":"#N/A"}},{"$f":"IF(CC74=0,\"\",IF(I74=\"F\",AC74&\" \"&VLOOKUP(CF74,Behaviour!D:I,2,FALSE)&\" \",AC74&\" \"&VLOOKUP(CF74,Behaviour!D:I,4,FALSE)&\" \"))","v":{"$error":"#N/A"}},null,null," ",null,{"$f":"IF(CJ74=0,\"\",VLOOKUP(CJ74,Code!$B$59:$D$61,2,FALSE))","v":{"$error":"#N/A"}},{"$f":"IF(CJ74=0,\"\",VLOOKUP(CJ74,Code!$B$59:$D$61,3,FALSE))","v":{"$error":"#N/A"}},{"$f":"RANDBETWEEN(1,CM74)","v":{"$error":"#N/A"}},{"$error":"#N/A"},{"$error":"#N/A"},{"$f":"IF(RIGHT(CK74,1)=\"%\",CO74&\" \"&CK74*100&\"%\"&CP74,CO74&\" a \"&CK74&CP74)","v":{"$error":"#N/A"}},{"$f":"IF(OR(ISERROR(CQ74),CK74=\"\",CJ74=\"\"),\"\",\" \"&CQ74)","v":""},null,null,{"$f":"IF(ISERROR(Z74),\"\",Z74)","v":""},null,null,{"$f":"CU74","v":""},{"$f":"CX74*10","v":{"$error":"#VALUE!"}},null,null," ",{"$f":"CY74+DB74","v":{"$error":"#VALUE!"}},{"$f":"VLOOKUP(Report!DC74,Code!$B$24:$C$32,2,FALSE)","v":{"$error":"#VALUE!"}},{"$f":"VLOOKUP(Report!DC74,Code!$B$24:$D$32,3,FALSE)","v":{"$error":"#VALUE!"}},{"$f":"RANDBETWEEN(1,DE74)","v":{"$error":"#VALUE!"}},{"$error":"#VALUE!"},{"$error":"#VALUE!"},null,null,null,null,null,null," ",{"$f":"VLOOKUP(Report!DO74,Code!$B$40:$D$42,2,FALSE)","v":{"$error":"#N/A"}},{"$f":"VLOOKUP(Report!DO74,Code!$B$40:$D$42,3,FALSE)","v":{"$error":"#N/A"}},{"$error":"#N/A"},null,{"$f":"VLOOKUP(DR74,INDIRECT(DP74),2,FALSE)","v":{"$error":"#N/A"}},"number","number","number",{"$f":"IF(DO74=3,(\" \"&DT74&\" \"&DU74&\", \"&DV74&\" and \"&DW74&\".\"),IF(DO74=2,(\" \"&DT74&\" \"&DU74&\" and \"&DV74&\".\"),IF(DO74=1,(\" \"&DT74&\" \"&DU74&\".\"),\"\")))","v":""},null,null,null,null,"",""]
[null,null,null,null,null,null,null,null,null,null,null,null,null,null,null,null,null,null,null,null,"Type_2",null,{"$error":"#N/A"},null,{"$error":"#N/A"},{"$error":"#N/A"},null,"he","He","his","His",null,null," ",{"$f":"HLOOKUP(Report!AH75,Person!$H$2:$L$3,2,FALSE)","v":{"$error":"#N/A"}},{"$error":"#N/A"},{"$f":"IF(AH75=0,\"\",AJ75+VLOOKUP(AH75,Code!$B$2:$C$6,2,FALSE))","v":{"$error":"#N/A"}},{"$f":"IF(AH75=0,\"\",IF(I75=\"F\",G75&\" \"&VLOOKUP(AK75,Person!D:I,2,FALSE),G75&\" \"&VLOOKUP(AK75,Person!D:I,4,FALSE)))","v":{"$error":"#N/A"}},null,null,null,null,null,null,null,2,{"$f":"VLOOKUP(AT75,Code!$B$51:$D$55,2,FALSE)","v":"Behaviour_1"},{"$f":"RANDBETWEEN(1,VLOOKUP(AT75,Code!$B$51:$D$55,3,FALSE))","v":1},null," d",null,null," ",{"$f":"HLOOKUP(Report!BA75,Homework!$I$2:$L$3,2,FALSE)","v":{"$error":"#N/A"}},{"$error":"#N/A"},{"$f":"IF(BA75=0,\"\",BC75+VLOOKUP(BA75,Code!$B$2:$C$6,2,FALSE))","v":{"$error":"#N/A"}},{"$f":"IF(AND(VLOOKUP(BD75,Homework!D:J,2,FALSE)=\"'s \",RIGHT(G75,1)=\"s\"),\"' \",IF(VLOOKUP(BD75,Homework!D:J,2,FALSE)=\"'s \",\"'s \",\" \"))","v":{"$error":"#N/A"}},{"$f":"IF(BA75=0,\"\",IF(I75=\"F\",\" \"&G75&BE75&VLOOKUP(BD75,Homework!D:J,3,FALSE),\" \"&G75&BE75&VLOOKUP(BD75,Homework!D:J,5,FALSE)))","v":{"$error":"#N/A"}},null,null,null,null,null,null,null,null," ",{"$f":"VLOOKUP(BO75,Code!$B$45:$D$48,2,FALSE)","v":{"$error":"#N/A"}},{"$f":"VLOOKUP(BO75,Code!$B$45:$D$48,3,FALSE)","v":{"$error":"#N/A"}},{"$error":"#N/A"},null,"pen","pencil","ruler",null,null,"",""," ",null,67,{"$f":"HLOOKUP(Report!CC75,Behaviour!$H$2:$K$3,2,FALSE)","v":{"$error":"#N/A"}},{"$error":"#N/A"},{"$f":"CE75+VLOOKUP(CC75,Code!$B$2:$C$6,2,FALSE)","v":{"$error":"#N/A"}},{"$f":"IF(CC75=0,\"\",IF(I75=\"F\",AC75&\" \"&VLOOKUP(CF75,Behaviour!D:I,2,FALSE)&\" \",AC75&\" \"&VLOOKUP(CF75,Behaviour!D:I,4,FALSE)&\" \"))","v":{"$error":"#N/A"}},null,null," ",null,{"$f":"IF(CJ75=0,\"\",VLOOKUP(CJ75,Code!$B$59:$D$61,2,FALSE))","v":{"$error":"#N/A"}},{"$f":"IF(CJ75=0,\"\",VLOOKUP(CJ75,Code!$B$59:$D$61,3,FALSE))","v":{"$error":"#N/A"}},{"$error":"#N/A"},{"$error":"#N/A"},{"$error":"#N/A"},{"$error":"#N/A"},"",null,null,"",null,null,"",{"$error":"#VALUE!"},null,null," ",{"$error":"#VALUE!"},{"$f":"VLOOKUP(Report!DC75,Code!$B$24:$C$32,2,FALSE)","v":{"$error":"#VALUE!"}},{"$f":"VLOOKUP(Report!DC75,Code!$B$24:$D$32,3,FALSE)","v":{"$error":"#VALUE!"}},{"$error":"#VALUE!"},{"$error":"#VALUE!"},{"$error":"#VALUE!"},null,null,null,null,null,null," ",{"$f":"VLOOKUP(Report!DO75,Code!$B$40:$D$42,2,FALSE)","v":{"$error":"#N/A"}},{"$f":"VLOOKUP(Report!DO75,Code!$B$40:$D$42,3,FALSE)","v":{"$error":"#N/A"}},{"$f":"RANDBETWEEN(1,DQ75)","v":{"$error":"#N/A"}},null,{"$error":"#N/A"},"number","number","number","",null,null,null,null,"",""]
[null,null,null,null,null,null,null,null,null,null,null,null,null,null,null,null,null,null,null,null,"Type_2",null,{"$error":"#N/A"},null,{"$error":"#N/A"},{"$error":"#N/A"},null,"he","He","his","His",null,null," ",{"$f":"HLOOKUP(Report!AH76,Person!$H$2:$L$3,2,FALSE)","v":{"$error":"#N/A"}},{"$error":"#N/A"},{"$f":"IF(AH76=0,\"\",AJ76+VLOOKUP(AH76,Code!$B$2:$C$6,2,FALSE))","v":{"$error":"#N/A"}},{"$f":"IF(AH76=0,\"\",IF(I76=\"F\",G76&\" \"&VLOOKUP(AK76,Person!D:I,2,FALSE),G76&\" \"&VLOOKUP(AK76,Person!D:I,4,FALSE)))","v":{"$error":"#N/A"}},null,null,null,null,null,null,null,2,{"$f":"VLOOKUP(AT76,Code!$B$51:$D$55,2,FALSE)","v":"Behaviour_1"},{"$f":"RANDBETWEEN(1,VLOOKUP(AT76,Code!$B$51:$D$55,3,FALSE))","v":2},null," d",null,null," ",{"$f":"HLOOKUP(Report!BA76,Homework!$I$2:$L$3,2,FALSE)","v":{"$error":"#N/A"}},{"$error":"#N/A"},{"$f":"IF(BA76=0,\"\",BC76+VLOOKUP(BA76,Code!$B$2:$C$6,2,FALSE))","v":{"$error":"#N/A"}},{"$f":"IF(AND(VLOOKUP(BD76,Homework!D:J,2,FALSE)=\"'s \",RIGHT(G76,1)=\"s\"),\"' \",IF(VLOOKUP(BD76,Homework!D:J,2,FALSE)=\"'s \",\"'s \",\" \"))","v":{"$error":"#N/A"}},{"$f":"IF(BA76=0,\"\",IF(I76=\"F\",\" \"&G76&BE76&VLOOKUP(BD76,Homework!D:J,3,FALSE),\" \"&G76&BE76&VLOOKUP(BD76,Homework!D:J,5,FALSE)))","v":{"$error":"#N/A"}},null,null,null,null,null,null,null,null," ",{"$f":"VLOOKUP(BO76,Code!$B$45:$D$48,2,FALSE)","v":{"$error":"#N/A"}},{"$f":"VLOOKUP(BO76,Code!$B$45:$D$48,3,FALSE)","v":{"$error":"#N/A"}},{"$error":"#N/A"},null,"pen","pencil","ruler",null,null,"",""," ",null,68,{"$f":"HLOOKUP(Report!CC76,Behaviour!$H$2:$K$3,2,FALSE)","v":{"$error":"#N/A"}},{"$error":"#N/A"},{"$f":"CE76+VLOOKUP(CC76,Code!$B$2:$C$6,2,FALSE)","v":{"$error":"#N/A"}},{"$f":"IF(CC76=0,\"\",IF(I76=\"F\",AC76&\" \"&VLOOKUP(CF76,Behaviour!D:I,2,FALSE)&\" \",AC76&\" \"&VLOOKUP(CF76,Behaviour!D:I,4,FALSE)&\" \"))","v":{"$error":"#N/A"}},null,null," ",null,{"$f":"IF(CJ76=0,\"\",VLOOKUP(CJ76,Code!$B$59:$D$61,2,FALSE))","v":{"$error":"#N/A"}},{"$f":"IF(CJ76=0,\"\",VLOOKUP(CJ76,Code!$B$59:$D$61,3,FALSE))","v":{"$error":"#N/A"}},{"$error":"#N/A"},{"$error":"#N/A"},{"$error":"#N/A"},{"$error":"#N/A"},"",null,null,"",null,null,"",{"$error":"#VALUE!"},null,null," ",{"$error":"#VALUE!"},{"$f":"VLOOKUP(Report!DC76,Code!$B$24:$C$32,2,FALSE)","v":{"$error":"#VALUE!"}},{"$f":"VLOOKUP(Report!DC76,Code!$B$24:$D$32,3,FALSE)","v":{"$error":"#VALUE!"}},{"$error":"#VALUE!"},{"$error":"#VALUE!"},{"$error":"#VALUE!"},null,null,null,null,null,null," ",{"$f":"VLOOKUP(Report!DO76,Code!$B$40:$D$42,2,FALSE)","v":{"$error":"#N/A"}},{"$f":"VLOOKUP(Report!DO76,Code!$B$40:$D$42,3,FALSE)","v":{"$error":"#N/A"}},{"$error":"#N/A"},null,{"$error":"#N/A"},"number","number","number","",null,null,null,null,"",{"$f":"IF(LEN(G76)<1,\"\",IF(OR(I76=\"F\",I76=\"M\"),(IF(ISERROR(AL76&AX76&BF76&CA76&DH76&DX76),\"\",AL76&AX76&BF76&CA76&DH76&DX76)),\"\"))","v":""}]
[null,null,null,null,null,null,null,null,null,null,null,null,null,null,null,null,null,null,null,null,"Type_2",null,{"$error":"#N/A"},null,{"$error":"#N/A"},{"$error":"#N/A"},null,"he","He","his","His",null,null," ",{"$f":"HLOOKUP(Report!AH77,Person!$H$2:$L$3,2,FALSE)","v":{"$error":"#N/A"}},{"$error":"#N/A"},{"$f":"IF(AH77=0,\"\",AJ77+VLOOKUP(AH77,Code!$B$2:$C$6,2,FALSE))","v":{"$error":"#N/A"}},{"$f":"IF(AH77=0,\"\",IF(I77=\"F\",G77&\" \"&VLOOKUP(AK77,Person!D:I,2,FALSE),G77&\" \"&VLOOKUP(AK77,Person!D:I,4,FALSE)))","v":{"$error":"#N/A"}},null,null,null,null,null,null,null,2,{"$f":"VLOOKUP(AT77,Code!$B$51:$D$55,2,FALSE)","v":"Behaviour_1"},{"$f":"RANDBETWEEN(1,VLOOKUP(AT77,Code!$B$51:$D$55,3,FALSE))","v":1},null," d",null,null," ",{"$f":"HLOOKUP(Report!BA77,Homework!$I$2:$L$3,2,FALSE)","v":{"$error":"#N/A"}},{"$error":"#N/A"},{"$f":"IF(BA77=0,\"\",BC77+VLOOKUP(BA77,Code!$B$2:$C$6,2,FALSE))","v":{"$error":"#N/A"}},{"$f":"IF(AND(VLOOKUP(BD77,Homework!D:J,2,FALSE)=\"'s \",RIGHT(G77,1)=\"s\"),\"' \",IF(VLOOKUP(BD77,Homework!D:J,2,FALSE)=\"'s \",\"'s \",\" \"))","v":{"$error":"#N/A"}},{"$f":"IF(BA77=0,\"\",IF(I77=\"F\",\" \"&G77&BE77&VLOOKUP(BD77,Homework!D:J,3,FALSE),\" \"&G77&BE77&VLOOKUP(BD77,Homework!D:J,5,FALSE)))","v":{"$error":"#N/A"}},null,null,null,null,null,null,null,null," ",{"$f":"VLOOKUP(BO77,Code!$B$45:$D$48,2,FALSE)","v":{"$error":"#N/A"}},{"$f":"VLOOKUP(BO77,Code!$B$45:$D$48,3,FALSE)","v":{"$error":"#N/A"}},{"$error":"#N/A"},null,"pen","pencil","ruler",null,null,"",""," ",null,69,{"$f":"HLOOKUP(Report!CC77,Behaviour!$H$2:$K$3,2,FALSE)","v":{"$error":"#N/A"}},{"$error":"#N/A"},{"$f":"CE77+VLOOKUP(CC77,Code!$B$2:$C$6,2,FALSE)","v":{"$error":"#N/A"}},{"$f":"IF(CC77=0,\"\",IF(I77=\"F\",AC77&\" \"&VLOOKUP(CF77,Behaviour!D:I,2,FALSE)&\" \",AC77&\" \"&VLOOKUP(CF77,Behaviour!D:I,4,FALSE)&\" \"))","v":{"$error":"#N/A"}},null,null," ",null,{"$f":"IF(CJ77=0,\"\",VLOOKUP(CJ77,Code!$B$59:$D$61,2,FALSE))","v":{"$error":"#N/A"}},{"$f":"IF(CJ77=0,\"\",VLOOKUP(CJ77,Code!$B$59:$D$61,3,FALSE))","v":{"$error":"#N/A"}},{"$error":"#N/A"},{"$error":"#N/A"},{"$error":"#N/A"},{"$error":"#N/A"},"",null,null,"",null,null,"",{"$error":"#VALUE!"},null,null," ",{"$error":"#VALUE!"},{"$f":"VLOOKUP(Report!DC77,Code!$B$24:$C$32,2,FALSE)","v":{"$error":"#VALUE!"}},{"$f":"VLOOKUP(Report!DC77,Code!$B$24:$D$32,3,FALSE)","v":{"$error":"#VALUE!"}},{"$error":"#VALUE!"},{"$error":"#VALUE!"},{"$error":"#VALUE!"},null,null,null,null,null,null," ",{"$f":"VLOOKUP(Report!DO77,Code!$B$40:$D$42,2,FALSE)","v":{"$error":"#N/A"}},{"$f":"VLOOKUP(Report!DO77,Code!$B$40:$D$42,3,FALSE)","v":{"$error":"#N/A"}},{"$error":"#N/A"},null,{"$error":"#N/A"},"number","number","number","",null,null,null,null,"",""]
[null,null,null,null,null,null,null,null,null,null,null,null,null,null,null,null,null,null,null,null,"Type_2",null,{"$error":"#N/A"},null,{"$error":"#N/A"},{"$error":"#N/A"},null,"he","He","his","His",null,null," ",{"$f":"HLOOKUP(Report!AH78,Person!$H$2:$L$3,2,FALSE)","v":{"$error":"#N/A"}},{"$error":"#N/A"},{"$f":"IF(AH78=0,\"\",AJ78+VLOOKUP(AH78,Code!$B$2:$C$6,2,FALSE))","v":{"$error":"#N/A"}},{"$f":"IF(AH78=0,\"\",IF(I78=\"F\",G78&\" \"&VLOOKUP(AK78,Person!D:I,2,FALSE),G78&\" \"&VLOOKUP(AK78,Person!D:I,4,FALSE)))","v":{"$error":"#N/A"}},null,null,null,null,null,null,null,2,{"$f":"VLOOKUP(AT78,Code!$B$51:$D$55,2,FALSE)","v":"Behaviour_1"},{"$f":"RANDBETWEEN(1,VLOOKUP(AT78,Code!$B$51:$D$55,3,FALSE))","v":2},null," d",null,null," ",{"$f":"HLOOKUP(Report!BA78,Homework!$I$2:$L$3,2,FALSE)","v":{"$error":"#N/A"}},{"$error":"#N/A"},{"$f":"IF(BA78=0,\"\",BC78+VLOOKUP(BA78,Code!$B$2:$C$6,2,FALSE))","v":{"$error":"#N/A"}},{"$f":"IF(AND(VLOOKUP(BD78,Homework!D:J,2,FALSE)=\"'s \",RIGHT(G78,1)=\"s\"),\"' \",IF(VLOOKUP(BD78,Homework!D:J,2,FALSE)=\"'s \",\"'s \",\" \"))","v":{"$error":"#N/A"}},{"$f":"IF(BA78=0,\"\",IF(I78=\"F\",\" \"&G78&BE78&VLOOKUP(BD78,Homework!D:J,3,FALSE),\" \"&G78&BE78&VLOOKUP(BD78,Homework!D:J,5,FALSE)))","v":{"$error":"#N/A"}},null,null,null,null,null,null,null,null," ",{"$f":"VLOOKUP(BO78,Code!$B$45:$D$48,2,FALSE)","v":{"$error":"#N/A"}},{"$f":"VLOOKUP(BO78,Code!$B$45:$D$48,3,FALSE)","v":{"$error":"#N/A"}},{"$error":"#N/A"},null,"pen","pencil","ruler",null,null,"",""," ",null,70,{"$f":"HLOOKUP(Report!CC78,Behaviour!$H$2:$K$3,2,FALSE)","v":{"$error":"#N/A"}},{"$error":"#N/A"},{"$f":"CE78+VLOOKUP(CC78,Code!$B$2:$C$6,2,FALSE)","v":{"$error":"#N/A"}},{"$f":"IF(CC78=0,\"\",IF(I78=\"F\",AC78&\" \"&VLOOKUP(CF78,Behaviour!D:I,2,FALSE)&\" \",AC78&\" \"&VLOOKUP(CF78,Behaviour!D:I,4,FALSE)&\" \"))","v":{"$error":"#N/A"}},null,null," ",null,{"$f":"IF(CJ78=0,\"\",VLOOKUP(CJ78,Code!$B$59:$D$61,2,FALSE))","v":{"$error":"#N/A"}},{"$f":"IF(CJ78=0,\"\",VLOOKUP(CJ78,Code!$B$59:$D$61,3,FALSE))","v":{"$error":"#N/A"}},{"$error":"#N/A"},{"$error":"#N/A"},{"$error":"#N/A"},{"$error":"#N/A"},"",null,null,"",null,null,"",{"$error":"#VALUE!"},null,null," ",{"$error":"#VALUE!"},{"$f":"VLOOKUP(Report!DC78,Code!$B$24:$C$32,2,FALSE)","v":{"$error":"#VALUE!"}},{"$f":"VLOOKUP(Report!DC78,Code!$B$24:$D$32,3,FALSE)","v":{"$error":"#VALUE!"}},{"$error":"#VALUE!"},{"$error":"#VALUE!"},{"$error":"#VALUE!"},null,null,null,null,null,null," ",{"$f":"VLOOKUP(Report!DO78,Code!$B$40:$D$42,2,FALSE)","v":{"$error":"#N/A"}},{"$f":"VLOOKUP(Report!DO78,Code!$B$40:$D$42,3,FALSE)","v":{"$error":"#N/A"}},{"$error":"#N/A"},null,{"$error":"#N/A"},"number","number","number","",null,null,null,null,"",""]
[null,null,null,null,null,null,null,null,null,null,null,null,null,null,null,null,null,null,null,null,"Type_2",null,{"$error":"#N/A"},null,{"$error":"#N/A"},{"$error":"#N/A"},null,"he","He","his","His",null,null," ",{"$f":"HLOOKUP(Report!AH79,Person!$H$2:$L$3,2,FALSE)","v":{"$error":"#N/A"}},{"$error":"#N/A"},{"$f":"IF(AH79=0,\"\",AJ79+VLOOKUP(AH79,Code!$B$2:$C$6,2,FALSE))","v":{"$error":"#N/A"}},{"$f":"IF(AH79=0,\"\",IF(I79=\"F\",G79&\" \"&VLOOKUP(AK79,Person!D:I,2,FALSE),G79&\" \"&VLOOKUP(AK79,Person!D:I,4,FALSE)))","v":{"$error":"#N/A"}},null,null,null,null,null,null,null,2,{"$f":"VLOOKUP(AT79,Code!$B$51:$D$55,2,FALSE)","v":"Behaviour_1"},{"$f":"RANDBETWEEN(1,VLOOKUP(AT79,Code!$B$51:$D$55,3,FALSE))","v":1},null," d",null,null," ",{"$f":"HLOOKUP(Report!BA79,Homework!$I$2:$L$3,2,FALSE)","v":{"$error":"#N/A"}},{"$error":"#N/A"},{"$f":"IF(BA79=0,\"\",BC79+VLOOKUP(BA79,Code!$B$2:$C$6,2,FALSE))","v":{"$error":"#N/A"}},{"$f":"IF(AND(VLOOKUP(BD79,Homework!D:J,2,FALSE)=\"'s \",RIGHT(G79,1)=\"s\"),\"' \",IF(VLOOKUP(BD79,Homework!D:J,2,FALSE)=\"'s \",\"'s \",\" \"))","v":{"$error":"#N/A"}},{"$f":"IF(BA79=0,\"\",IF(I79=\"F\",\" \"&G79&BE79&VLOOKUP(BD79,Homework!D:J,3,FALSE),\" \"&G79&BE79&VLOOKUP(BD79,Homework!D:J,5,FALSE)))","v":{"$error":"#N/A"}},null,null,null,null,null,null,null,null," ",{"$f":"VLOOKUP(BO79,Code!$B$45:$D$48,2,FALSE)","v":{"$error":"#N/A"}},{"$f":"VLOOKUP(BO79,Code!$B$45:$D$48,3,FALSE)","v":{"$error":"#N/A"}},{"$error":"#N/A"},null,"pen","pencil","ruler",null,null,"",""," ",null,71,{"$f":"HLOOKUP(Report!CC79,Behaviour!$H$2:$K$3,2,FALSE)","v":{"$error":"#N/A"}},{"$error":"#N/A"},{"$f":"CE79+VLOOKUP(CC79,Code!$B$2:$C$6,2,FALSE)","v":{"$error":"#N/A"}},{"$f":"IF(CC79=0,\"\",IF(I79=\"F\",AC79&\" \"&VLOOKUP(CF79,Behaviour!D:I,2,FALSE)&\" \",AC79&\" \"&VLOOKUP(CF79,Behaviour!D:I,4,FALSE)&\" \"))","v":{"$error":"#N/A"}},null,null," ",null,{"$f":"IF(CJ79=0,\"\",VLOOKUP(CJ79,Code!$B$59:$D$61,2,FALSE))","v":{"$error":"#N/A"}},{"$f":"IF(CJ79=0,\"\",VLOOKUP(CJ79,Code!$B$59:$D$61,3,FALSE))","v":{"$error":"#N/A"}},{"$error":"#N/A"},{"$error":"#N/A"},{"$error":"#N/A"},{"$error":"#N/A"},"",null,null,"",null,null,"",{"$error":"#VALUE!"},null,null," ",{"$error":"#VALUE!"},{"$f":"VLOOKUP(Report!DC79,Code!$B$24:$C$32,2,FALSE)","v":{"$error":"#VALUE!"}},{"$f":"VLOOKUP(Report!DC79,Code!$B$24:$D$32,3,FALSE)","v":{"$error":"#VALUE!"}},{"$error":"#VALUE!"},{"$error":"#VALUE!"},{"$error":"#VALUE!"},null,null,null,null,null,null," ",{"$f":"VLOOKUP(Report!DO79,Code!$B$40:$D$42,2,FALSE)","v":{"$error":"#N/A"}},{"$f":"VLOOKUP(Report!DO79,Code!$B$40:$D$42,3,FALSE)","v":{"$error":"#N/A"}},{"$error":"#N/A"},null,{"$error":"#N/A"},"number","number","number","",null,null,null,null,"",""]
[null,null,null,null,null,null,null,null,null,null,null,null,null,null,null,null,null,null,null,null,"Type_2",null,{"$error":"#N/A"},null,{"$error":"#N/A"},{"$error":"#N/A"},null,"he","He","his","His",null,null," ",{"$f":"HLOOKUP(Report!AH80,Person!$H$2:$L$3,2,FALSE)","v":{"$error":"#N/A"}},{"$error":"#N/A"},{"$f":"IF(AH80=0,\"\",AJ80+VLOOKUP(AH80,Code!$B$2:$C$6,2,FALSE))","v":{"$error":"#N/A"}},{"$f":"IF(AH80=0,\"\",IF(I80=\"F\",G80&\" \"&VLOOKUP(AK80,Person!D:I,2,FALSE),G80&\" \"&VLOOKUP(AK80,Person!D:I,4,FALSE)))","v":{"$error":"#N/A"}},null,null,null,null,null,null,null,2,{"$f":"VLOOKUP(AT80,Code!$B$51:$D$55,2,FALSE)","v":"Behaviour_1"},{"$f":"RANDBETWEEN(1,VLOOKUP(AT80,Code!$B$51:$D$55,3,FALSE))","v":1},null," d",null,null," ",{"$f":"HLOOKUP(Report!BA80,Homework!$I$2:$L$3,2,FALSE)","v":{"$error":"#N/A"}},{"$error":"#N/A"},{"$f":"IF(BA80=0,\"\",BC80+VLOOKUP(BA80,Code!$B$2:$C$6,2,FALSE))","v":{"$error":"#N/A"}},{"$f":"IF(AND(VLOOKUP(BD80,Homework!D:J,2,FALSE)=\"'s \",RIGHT(G80,1)=\"s\"),\"' \",IF(VLOOKUP(BD80,Homework!D:J,2,FALSE)=\"'s \",\"'s \",\" \"))","v":{"$error":"#N/A"}},{"$f":"IF(BA80=0,\"\",IF(I80=\"F\",\" \"&G80&BE80&VLOOKUP(BD80,Homework!D:J,3,FALSE),\" \"&G80&BE80&VLOOKUP(BD80,Homework!D:J,5,FALSE)))","v":{"$error":"#N/A"}},null,null,null,null,null,null,null,null," ",{"$f":"VLOOKUP(BO80,Code!$B$45:$D$48,2,FALSE)","v":{"$error":"#N/A"}},{"$f":"VLOOKUP(BO80,Code!$B$45:$D$48,3,FALSE)","v":{"$error":"#N/A"}},{"$error":"#N/A"},null,"pen","pencil","ruler",null,null,"",""," ",null,72,{"$f":"HLOOKUP(Report!CC80,Behaviour!$H$2:$K$3,2,FALSE)","v":{"$error":"#N/A"}},{"$error":"#N/A"},{"$f":"CE80+VLOOKUP(CC80,Code!$B$2:$C$6,2,FALSE)","v":{"$error":"#N/A"}},{"$f":"IF(CC80=0,\"\",IF(I80=\"F\",AC80&\" \"&VLOOKUP(CF80,Behaviour!D:I,2,FALSE)&\" \",AC80&\" \"&VLOOKUP(CF80,Behaviour!D:I,4,FALSE)&\" \"))","v":{"$error":"#N/A"}},null,null," ",null,{"$f":"IF(CJ80=0,\"\",VLOOKUP(CJ80,Code!$B$59:$D$61,2,FALSE))","v":{"$error":"#N/A"}},{"$f":"IF(CJ80=0,\"\",VLOOKUP(CJ80,Code!$B$59:$D$61,3,FALSE))","v":{"$error":"#N/A"}},{"$error":"#N/A"},{"$error":"#N/A"},{"$error":"#N/A"},{"$error":"#N/A"},"",null,null,"",null,null,"",{"$error":"#VALUE!"},null,null," ",{"$error":"#VALUE!"},{"$f":"VLOOKUP(Report!DC80,Code!$B$24:$C$32,2,FALSE)","v":{"$error":"#VALUE!"}},{"$f":"VLOOKUP(Report!DC80,Code!$B$24:$D$32,3,FALSE)","v":{"$error":"#VALUE!"}},{"$error":"#VALUE!"},{"$error":"#VALUE!"},{"$error":"#VALUE!"},null,null,null,null,null,null," ",{"$f":"VLOOKUP(Report!DO80,Code!$B$40:$D$42,2,FALSE)","v":{"$error":"#N/A"}},{"$f":"VLOOKUP(Report!DO80,Code!$B$40:$D$42,3,FALSE)","v":{"$error":"#N/A"}},{"$error":"#N/A"},null,{"$error":"#N/A"},"number","number","number","",null,null,null,null,"",""]
[null,null,null,null,null,null,null,null,null,null,null,null,null,null,null,null,null,null,null,null,"Type_2",null,{"$error":"#N/A"},null,{"$error":"#N/A"},{"$error":"#N/A"},null,"he","He","his","His",null,null," ",{"$f":"HLOOKUP(Report!AH81,Person!$H$2:$L$3,2,FALSE)","v":{"$error":"#N/A"}},{"$error":"#N/A"},{"$f":"IF(AH81=0,\"\",AJ81+VLOOKUP(AH81,Code!$B$2:$C$6,2,FALSE))","v":{"$error":"#N/A"}},{"$f":"IF(AH81=0,\"\",IF(I81=\"F\",G81&\" \"&VLOOKUP(AK81,Person!D:I,2,FALSE),G81&\" \"&VLOOKUP(AK81,Person!D:I,4,FALSE)))","v":{"$error":"#N/A"}},null,null,null,null,null,null,null,2,{"$f":"VLOOKUP(AT81,Code!$B$51:$D$55,2,FALSE)","v":"Behaviour_1"},{"$f":"RANDBETWEEN(1,VLOOKUP(AT81,Code!$B$51:$D$55,3,FALSE))","v":2},null," d",null,null," ",{"$f":"HLOOKUP(Report!BA81,Homework!$I$2:$L$3,2,FALSE)","v":{"$error":"#N/A"}},{"$error":"#N/A"},{"$f":"IF(BA81=0,\"\",BC81+VLOOKUP(BA81,Code!$B$2:$C$6,2,FALSE))","v":{"$error":"#N/A"}},{"$f":"IF(AND(VLOOKUP(BD81,Homework!D:J,2,FALSE)=\"'s \",RIGHT(G81,1)=\"s\"),\"' \",IF(VLOOKUP(BD81,Homework!D:J,2,FALSE)=\"'s \",\"'s \",\" \"))","v":{"$error":"#N/A"}},{"$f":"IF(BA81=0,\"\",IF(I81=\"F\",\" \"&G81&BE81&VLOOKUP(BD81,Homework!D:J,3,FALSE),\" \"&G81&BE81&VLOOKUP(BD81,Homework!D:J,5,FALSE)))","v":{"$error":"#N/A"}},null,null,null,null,null,null,null,null," ",{"$f":"VLOOKUP(BO81,Code!$B$45:$D$48,2,FALSE)","v":{"$error":"#N/A"}},{"$f":"VLOOKUP(BO81,Code!$B$45:$D$48,3,FALSE)","v":{"$error":"#N/A"}},{"$error":"#N/A"},null,"pen","pencil","ruler",null,null,"",""," ",null,73,{"$f":"HLOOKUP(Report!CC81,Behaviour!$H$2:$K$3,2,FALSE)","v":{"$error":"#N/A"}},{"$error":"#N/A"},{"$f":"CE81+VLOOKUP(CC81,Code!$B$2:$C$6,2,FALSE)","v":{"$error":"#N/A"}},{"$f":"IF(CC81=0,\"\",IF(I81=\"F\",AC81&\" \"&VLOOKUP(CF81,Behaviour!D:I,2,FALSE)&\" \",AC81&\" \"&VLOOKUP(CF81,Behaviour!D:I,4,FALSE)&\" \"))","v":{"$error":"#N/A"}},null,null," ",null,{"$f":"IF(CJ81=0,\"\",VLOOKUP(CJ81,Code!$B$59:$D$61,2,FALSE))","v":{"$error":"#N/A"}},{"$f":"IF(CJ81=0,\"\",VLOOKUP(CJ81,Code!$B$59:$D$61,3,FALSE))","v":{"$error":"#N/A"}},{"$error":"#N/A"},{"$error":"#N/A"},{"$error":"#N/A"},{"$error":"#N/A"},"",null,null,"",null,null,"",{"$error":"#VALUE!"},null,null," ",{"$error":"#VALUE!"},{"$f":"VLOOKUP(Report!DC81,Code!$B$24:$C$32,2,FALSE)","v":{"$error":"#VALUE!"}},{"$f":"VLOOKUP(Report!DC81,Code!$B$24:$D$32,3,FALSE)","v":{"$error":"#VALUE!"}},{"$error":"#VALUE!"},{"$error":"#VALUE!"},{"$error":"#VALUE!"},null,null,null,null,null,null," ",{"$f":"VLOOKUP(Report!DO81,Code!$B$40:$D$42,2,FALSE)","v":{"$error":"#N/A"}},{"$f":"VLOOKUP(Report!DO81,Code!$B$40:$D$42,3,FALSE)","v":{"$error":"#N/A"}},{"$f":"RANDBETWEEN(1,DQ81)","v":{"$error":"#N/A"}},null,{"$error":"#N/A"},"number","number","number","",null,null,null,null,"",""]
[null,null,null,null,null,null,null,null,null,null,null,null,null,null,null,null,null,null,null,null,"Type_2",null,{"$error":"#N/A"},null,{"$error":"#N/A"},{"$error":"#N/A"},null,"he","He","his","His",null,null," ",{"$f":"HLOOKUP(Report!AH82,Person!$H$2:$L$3,2,FALSE)","v":{"$error":"#N/A"}},{"$error":"#N/A"},{"$f":"IF(AH82=0,\"\",AJ82+VLOOKUP(AH82,Code!$B$2:$C$6,2,FALSE))","v":{"$error":"#N/A"}},{"$f":"IF(AH82=0,\"\",IF(I82=\"F\",G82&\" \"&VLOOKUP(AK82,Person!D:I,2,FALSE),G82&\" \"&VLOOKUP(AK82,Person!D:I,4,FALSE)))","v":{"$error":"#N/A"}},null,null,null,null,null,null,null,2,{"$f":"VLOOKUP(AT82,Code!$B$51:$D$55,2,FALSE)","v":"Behaviour_1"},{"$f":"RANDBETWEEN(1,VLOOKUP(AT82,Code!$B$51:$D$55,3,FALSE))","v":1},null," d",null,null," ",{"$f":"HLOOKUP(Report!BA82,Homework!$I$2:$L$3,2,FALSE)","v":{"$error":"#N/A"}},{"$error":"#N/A"},{"$f":"IF(BA82=0,\"\",BC82+VLOOKUP(BA82,Code!$B$2:$C$6,2,FALSE))","v":{"$error":"#N/A"}},{"$f":"IF(AND(VLOOKUP(BD82,Homework!D:J,2,FALSE)=\"'s \",RIGHT(G82,1)=\"s\"),\"' \",IF(VLOOKUP(BD82,Homework!D:J,2,FALSE)=\"'s \",\"'s \",\" \"))","v":{"$error":"#N/A"}},{"$f":"IF(BA82=0,\"\",IF(I82=\"F\",\" \"&G82&BE82&VLOOKUP(BD82,Homework!D:J,3,FALSE),\" \"&G82&BE82&VLOOKUP(BD82,Homework!D:J,5,FALSE)))","v":{"$error":"#N/A"}},null,null,null,null,null,null,null,null," ",{"$f":"VLOOKUP(BO82,Code!$B$45:$D$48,2,FALSE)","v":{"$error":"#N/A"}},{"$f":"VLOOKUP(BO82,Code!$B$45:$D$48,3,FALSE)","v":{"$error":"#N/A"}},{"$error":"#N/A"},null,"pen","pencil","ruler",null,null,"",""," ",null,74,{"$f":"HLOOKUP(Report!CC82,Behaviour!$H$2:$K$3,2,FALSE)","v":{"$error":"#N/A"}},{"$error":"#N/A"},{"$f":"CE82+VLOOKUP(CC82,Code!$B$2:$C$6,2,FALSE)","v":{"$error":"#N/A"}},{"$f":"IF(CC82=0,\"\",IF(I82=\"F\",AC82&\" \"&VLOOKUP(CF82,Behaviour!D:I,2,FALSE)&\" \",AC82&\" \"&VLOOKUP(CF82,Behaviour!D:I,4,FALSE)&\" \"))","v":{"$error":"#N/A"}},null,null," ",null,{"$f":"IF(CJ82=0,\"\",VLOOKUP(CJ82,Code!$B$59:$D$61,2,FALSE))","v":{"$error":"#N/A"}},{"$f":"IF(CJ82=0,\"\",VLOOKUP(CJ82,Code!$B$59:$D$61,3,FALSE))","v":{"$error":"#N/A"}},{"$error":"#N/A"},{"$error":"#N/A"},{"$error":"#N/A"},{"$error":"#N/A"},"",null,null,"",null,null,"",{"$error":"#VALUE!"},null,null," ",{"$error":"#VALUE!"},{"$f":"VLOOKUP(Report!DC82,Code!$B$24:$C$32,2,FALSE)","v":{"$error":"#VALUE!"}},{"$f":"VLOOKUP(Report!DC82,Code!$B$24:$D$32,3,FALSE)","v":{"$error":"#VALUE!"}},{"$error":"#VALUE!"},{"$error":"#VALUE!"},{"$error":"#VALUE!"},null,null,null,null,null,null," ",{"$f":"VLOOKUP(Report!DO82,Code!$B$40:$D$42,2,FALSE)","v":{"$error":"#N/A"}},{"$f":"VLOOKUP(Report!DO82,Code!$B$40:$D$42,3,FALSE)","v":{"$error":"#N/A"}},{"$error":"#N/A"},null,{"$error":"#N/A"},"number","number","number","",null,null,null,null,"",""]
[null,null,null,null,null,null,null,null,null,null,null,null,null,null,null,null,null,null,null,null,"Type_2",null,{"$error":"#N/A"},null,{"$error":"#N/A"},{"$error":"#N/A"},null,"he","He","his","His",null,null," ",{"$f":"HLOOKUP(Report!AH83,Person!$H$2:$L$3,2,FALSE)","v":{"$error":"#N/A"}},{"$error":"#N/A"},{"$f":"IF(AH83=0,\"\",AJ83+VLOOKUP(AH83,Code!$B$2:$C$6,2,FALSE))","v":{"$error":"#N/A"}},{"$f":"IF(AH83=0,\"\",IF(I83=\"F\",G83&\" \"&VLOOKUP(AK83,Person!D:I,2,FALSE),G83&\" \"&VLOOKUP(AK83,Person!D:I,4,FALSE)))","v":{"$error":"#N/A"}},null,null,null,null,null,null,null,2,{"$f":"VLOOKUP(AT83,Code!$B$51:$D$55,2,FALSE)","v":"Behaviour_1"},{"$f":"RANDBETWEEN(1,VLOOKUP(AT83,Code!$B$51:$D$55,3,FALSE))","v":1},null," d",null,null," ",{"$f":"HLOOKUP(Report!BA83,Homework!$I$2:$L$3,2,FALSE)","v":{"$error":"#N/A"}},{"$error":"#N/A"},{"$f":"IF(BA83=0,\"\",BC83+VLOOKUP(BA83,Code!$B$2:$C$6,2,FALSE))","v":{"$error":"#N/A"}},{"$f":"IF(AND(VLOOKUP(BD83,Homework!D:J,2,FALSE)=\"'s \",RIGHT(G83,1)=\"s\"),\"' \",IF(VLOOKUP(BD83,Homework!D:J,2,FALSE)=\"'s \",\"'s \",\" \"))","v":{"$error":"#N/A"}},{"$f":"IF(BA83=0,\"\",IF(I83=\"F\",\" \"&G83&BE83&VLOOKUP(BD83,Homework!D:J,3,FALSE),\" \"&G83&BE83&VLOOKUP(BD83,Homework!D:J,5,FALSE)))","v":{"$error":"#N/A"}},null,null,null,null,null,null,null,null," ",{"$f":"VLOOKUP(BO83,Code!$B$45:$D$48,2,FALSE)","v":{"$error":"#N/A"}},{"$f":"VLOOKUP(BO83,Code!$B$45:$D$48,3,FALSE)","v":{"$error":"#N/A"}},{"$error":"#N/A"},null,"pen","pencil","ruler",null,null,"",""," ",null,75,{"$f":"HLOOKUP(Report!CC83,Behaviour!$H$2:$K$3,2,FALSE)","v":{"$error":"#N/A"}},{"$error":"#N/A"},{"$f":"CE83+VLOOKUP(CC83,Code!$B$2:$C$6,2,FALSE)","v":{"$error":"#N/A"}},{"$f":"IF(CC83=0,\"\",IF(I83=\"F\",AC83&\" \"&VLOOKUP(CF83,Behaviour!D:I,2,FALSE)&\" \",AC83&\" \"&VLOOKUP(CF83,Behaviour!D:I,4,FALSE)&\" \"))","v":{"$error":"#N/A"}},null,null," ",null,{"$f":"IF(CJ83=0,\"\",VLOOKUP(CJ83,Code!$B$59:$D$61,2,FALSE))","v":{"$error":"#N/A"}},{"$f":"IF(CJ83=0,\"\",VLOOKUP(CJ83,Code!$B$59:$D$61,3,FALSE))","v":{"$error":"#N/A"}},{"$error":"#N/A"},{"$error":"#N/A"},{"$error":"#N/A"},{"$error":"#N/A"},"",null,null,"",null,null,"",{"$error":"#VALUE!"},null,null," ",{"$error":"#VALUE!"},{"$f":"VLOOKUP(Report!DC83,Code!$B$24:$C$32,2,FALSE)","v":{"$error":"#VALUE!"}},{"$f":"VLOOKUP(Report!DC83,Code!$B$24:$D$32,3,FALSE)","v":{"$error":"#VALUE!"}},{"$error":"#VALUE!"},{"$error":"#VALUE!"},{"$error":"#VALUE!"},null,null,null,null,null,null," ",{"$f":"VLOOKUP(Report!DO83,Code!$B$40:$D$42,2,FALSE)","v":{"$error":"#N/A"}},{"$f":"VLOOKUP(Report!DO83,Code!$B$40:$D$42,3,FALSE)","v":{"$error":"#N/A"}},{"$error":"#N/A"},null,{"$error":"#N/A"},"number","number","number","",null,null,null,null,"",""]
[null,null,null,null,null,null,null,null,null,null,null,null,null,null,null,null,null,null,null,null,"Type_2",null,{"$error":"#N/A"},null,{"$error":"#N/A"},{"$error":"#N/A"},null,"he","He","his","His",null,null," ",{"$f":"HLOOKUP(Report!AH84,Person!$H$2:$L$3,2,FALSE)","v":{"$error":"#N/A"}},{"$error":"#N/A"},{"$f":"IF(AH84=0,\"\",AJ84+VLOOKUP(AH84,Code!$B$2:$C$6,2,FALSE))","v":{"$error":"#N/A"}},{"$f":"IF(AH84=0,\"\",IF(I84=\"F\",G84&\" \"&VLOOKUP(AK84,Person!D:I,2,FALSE),G84&\" \"&VLOOKUP(AK84,Person!D:I,4,FALSE)))","v":{"$error":"#N/A"}},null,null,null,null,null,null,null,2,{"$f":"VLOOKUP(AT84,Code!$B$51:$D$55,2,FALSE)","v":"Behaviour_1"},{"$f":"RANDBETWEEN(1,VLOOKUP(AT84,Code!$B$51:$D$55,3,FALSE))","v":1},null," d",null,null," ",{"$f":"HLOOKUP(Report!BA84,Homework!$I$2:$L$3,2,FALSE)","v":{"$error":"#N/A"}},{"$error":"#N/A"},{"$f":"IF(BA84=0,\"\",BC84+VLOOKUP(BA84,Code!$B$2:$C$6,2,FALSE))","v":{"$error":"#N/A"}},{"$f":"IF(AND(VLOOKUP(BD84,Homework!D:J,2,FALSE)=\"'s \",RIGHT(G84,1)=\"s\"),\"' \",IF(VLOOKUP(BD84,Homework!D:J,2,FALSE)=\"'s \",\"'s \",\" \"))","v":{"$error":"#N/A"}},{"$f":"IF(BA84=0,\"\",IF(I84=\"F\",\" \"&G84&BE84&VLOOKUP(BD84,Homework!D:J,3,FALSE),\" \"&G84&BE84&VLOOKUP(BD84,Homework!D:J,5,FALSE)))","v":{"$error":"#N/A"}},null,null,null,null,null,null,null,null," ",{"$f":"VLOOKUP(BO84,Code!$B$45:$D$48,2,FALSE)","v":{"$error":"#N/A"}},{"$f":"VLOOKUP(BO84,Code!$B$45:$D$48,3,FALSE)","v":{"$error":"#N/A"}},{"$error":"#N/A"},null,"pen","pencil","ruler",null,null,"",""," ",null,76,{"$f":"HLOOKUP(Report!CC84,Behaviour!$H$2:$K$3,2,FALSE)","v":{"$error":"#N/A"}},{"$error":"#N/A"},{"$f":"CE84+VLOOKUP(CC84,Code!$B$2:$C$6,2,FALSE)","v":{"$error":"#N/A"}},{"$f":"IF(CC84=0,\"\",IF(I84=\"F\",AC84&\" \"&VLOOKUP(CF84,Behaviour!D:I,2,FALSE)&\" \",AC84&\" \"&VLOOKUP(CF84,Behaviour!D:I,4,FALSE)&\" \"))","v":{"$error":"#N/A"}},null,null," ",null,{"$f":"IF(CJ84=0,\"\",VLOOKUP(CJ84,Code!$B$59:$D$61,2,FALSE))","v":{"$error":"#N/A"}},{"$f":"IF(CJ84=0,\"\",VLOOKUP(CJ84,Code!$B$59:$D$61,3,FALSE))","v":{"$error":"#N/A"}},{"$error":"#N/A"},{"$error":"#N/A"},{"$error":"#N/A"},{"$error":"#N/A"},"",null,null,"",null,null,"",{"$error":"#VALUE!"},null,null," ",{"$error":"#VALUE!"},{"$f":"VLOOKUP(Report!DC84,Code!$B$24:$C$32,2,FALSE)","v":{"$error":"#VALUE!"}},{"$f":"VLOOKUP(Report!DC84,Code!$B$24:$D$32,3,FALSE)","v":{"$error":"#VALUE!"}},{"$error":"#VALUE!"},{"$error":"#VALUE!"},{"$error":"#VALUE!"},null,null,null,null,null,null," ",{"$f":"VLOOKUP(Report!DO84,Code!$B$40:$D$42,2,FALSE)","v":{"$error":"#N/A"}},{"$f":"VLOOKUP(Report!DO84,Code!$B$40:$D$42,3,FALSE)","v":{"$error":"#N/A"}},{"$error":"#N/A"},null,{"$error":"#N/A"},"number","number","number","",null,null,null,null,"",""]
[null,null,null,null,null,null,null,null,null,null,null,null,null,null,null,null,null,null,null,null,"Type_2",null,{"$error":"#N/A"},null,{"$error":"#N/A"},{"$error":"#N/A"},null,"he","He","his","His",null,null," ",{"$f":"HLOOKUP(Report!AH85,Person!$H$2:$L$3,2,FALSE)","v":{"$error":"#N/A"}},{"$error":"#N/A"},{"$f":"IF(AH85=0,\"\",AJ85+VLOOKUP(AH85,Code!$B$2:$C$6,2,FALSE))","v":{"$error":"#N/A"}},{"$f":"IF(AH85=0,\"\",IF(I85=\"F\",G85&\" \"&VLOOKUP(AK85,Person!D:I,2,FALSE),G85&\" \"&VLOOKUP(AK85,Person!D:I,4,FALSE)))","v":{"$error":"#N/A"}},null,null,null,null,null,null,null,2,{"$f":"VLOOKUP(AT85,Code!$B$51:$D$55,2,FALSE)","v":"Behaviour_1"},{"$f":"RANDBETWEEN(1,VLOOKUP(AT85,Code!$B$51:$D$55,3,FALSE))","v":2},null," d",null,null," ",{"$f":"HLOOKUP(Report!BA85,Homework!$I$2:$L$3,2,FALSE)","v":{"$error":"#N/A"}},{"$error":"#N/A"},{"$f":"IF(BA85=0,\"\",BC85+VLOOKUP(BA85,Code!$B$2:$C$6,2,FALSE))","v":{"$error":"#N/A"}},{"$f":"IF(AND(VLOOKUP(BD85,Homework!D:J,2,FALSE)=\"'s \",RIGHT(G85,1)=\"s\"),\"' \",IF(VLOOKUP(BD85,Homework!D:J,2,FALSE)=\"'s \",\"'s \",\" \"))","v":{"$error":"#N/A"}},{"$f":"IF(BA85=0,\"\",IF(I85=\"F\",\" \"&G85&BE85&VLOOKUP(BD85,Homework!D:J,3,FALSE),\" \"&G85&BE85&VLOOKUP(BD85,Homework!D:J,5,FALSE)))","v":{"$error":"#N/A"}},null,null,null,null,null,null,null,null," ",{"$f":"VLOOKUP(BO85,Code!$B$45:$D$48,2,FALSE)","v":{"$error":"#N/A"}},{"$f":"VLOOKUP(BO85,Code!$B$45:$D$48,3,FALSE)","v":{"$error":"#N/A"}},{"$error":"#N/A"},null,"pen","pencil","ruler",null,null,"",""," ",null,77,{"$f":"HLOOKUP(Report!CC85,Behaviour!$H$2:$K$3,2,FALSE)","v":{"$error":"#N/A"}},{"$error":"#N/A"},{"$f":"CE85+VLOOKUP(CC85,Code!$B$2:$C$6,2,FALSE)","v":{"$error":"#N/A"}},{"$f":"IF(CC85=0,\"\",IF(I85=\"F\",AC85&\" \"&VLOOKUP(CF85,Behaviour!D:I,2,FALSE)&\" \",AC85&\" \"&VLOOKUP(CF85,Behaviour!D:I,4,FALSE)&\" \"))","v":{"$error":"#N/A"}},null,null," ",null,{"$f":"IF(CJ85=0,\"\",VLOOKUP(CJ85,Code!$B$59:$D$61,2,FALSE))","v":{"$error":"#N/A"}},{"$f":"IF(CJ85=0,\"\",VLOOKUP(CJ85,Code!$B$59:$D$61,3,FALSE))","v":{"$error":"#N/A"}},{"$error":"#N/A"},{"$error":"#N/A"},{"$error":"#N/A"},{"$error":"#N/A"},"",null,null,"",null,null,"",{"$error":"#VALUE!"},null,null," ",{"$error":"#VALUE!"},{"$f":"VLOOKUP(Report!DC85,Code!$B$24:$C$32,2,FALSE)","v":{"$error":"#VALUE!"}},{"$f":"VLOOKUP(Report!DC85,Code!$B$24:$D$32,3,FALSE)","v":{"$error":"#VALUE!"}},{"$error":"#VALUE!"},{"$error":"#VALUE!"},{"$error":"#VALUE!"},null,null,null,null,null,null," ",{"$f":"VLOOKUP(Report!DO85,Code!$B$40:$D$42,2,FALSE)","v":{"$error":"#N/A"}},{"$f":"VLOOKUP(Report!DO85,Code!$B$40:$D$42,3,FALSE)","v":{"$error":"#N/A"}},{"$error":"#N/A"},null,{"$error":"#N/A"},"number","number","number","",null,null,null,null,"",""]
[null,null,null,null,null,null,null,null,null,null,null,null,null,null,null,null,null,null,null,null,"Type_2",null,{"$error":"#N/A"},null,{"$error":"#N/A"},{"$error":"#N/A"},null,"he","He","his","His",null,null," ",{"$f":"HLOOKUP(Report!AH86,Person!$H$2:$L$3,2,FALSE)","v":{"$error":"#N/A"}},{"$error":"#N/A"},{"$f":"IF(AH86=0,\"\",AJ86+VLOOKUP(AH86,Code!$B$2:$C$6,2,FALSE))","v":{"$error":"#N/A"}},{"$f":"IF(AH86=0,\"\",IF(I86=\"F\",G86&\" \"&VLOOKUP(AK86,Person!D:I,2,FALSE),G86&\" \"&VLOOKUP(AK86,Person!D:I,4,FALSE)))","v":{"$error":"#N/A"}},null,null,null,null,null,null,null,2,{"$f":"VLOOKUP(AT86,Code!$B$51:$D$55,2,FALSE)","v":"Behaviour_1"},{"$f":"RANDBETWEEN(1,VLOOKUP(AT86,Code!$B$51:$D$55,3,FALSE))","v":2},null," d",null,null," ",{"$f":"HLOOKUP(Report!BA86,Homework!$I$2:$L$3,2,FALSE)","v":{"$error":"#N/A"}},{"$error":"#N/A"},{"$f":"IF(BA86=0,\"\",BC86+VLOOKUP(BA86,Code!$B$2:$C$6,2,FALSE))","v":{"$error":"#N/A"}},{"$f":"IF(AND(VLOOKUP(BD86,Homework!D:J,2,FALSE)=\"'s \",RIGHT(G86,1)=\"s\"),\"' \",IF(VLOOKUP(BD86,Homework!D:J,2,FALSE)=\"'s \",\"'s \",\" \"))","v":{"$error":"#N/A"}},{"$f":"IF(BA86=0,\"\",IF(I86=\"F\",\" \"&G86&BE86&VLOOKUP(BD86,Homework!D:J,3,FALSE),\" \"&G86&BE86&VLOOKUP(BD86,Homework!D:J,5,FALSE)))","v":{"$error":"#N/A"}},null,null,null,null,null,null,null,null," ",{"$f":"VLOOKUP(BO86,Code!$B$45:$D$48,2,FALSE)","v":{"$error":"#N/A"}},{"$f":"VLOOKUP(BO86,Code!$B$45:$D$48,3,FALSE)","v":{"$error":"#N/A"}},{"$error":"#N/A"},null,"pen","pencil","ruler",null,null,"",""," ",null,78,{"$f":"HLOOKUP(Report!CC86,Behaviour!$H$2:$K$3,2,FALSE)","v":{"$error":"#N/A"}},{"$error":"#N/A"},{"$f":"CE86+VLOOKUP(CC86,Code!$B$2:$C$6,2,FALSE)","v":{"$error":"#N/A"}},{"$f":"IF(CC86=0,\"\",IF(I86=\"F\",AC86&\" \"&VLOOKUP(CF86,Behaviour!D:I,2,FALSE)&\" \",AC86&\" \"&VLOOKUP(CF86,Behaviour!D:I,4,FALSE)&\" \"))","v":{"$error":"#N/A"}},null,null," ",null,{"$f":"IF(CJ86=0,\"\",VLOOKUP(CJ86,Code!$B$59:$D$61,2,FALSE))","v":{"$error":"#N/A"}},{"$f":"IF(CJ86=0,\"\",VLOOKUP(CJ86,Code!$B$59:$D$61,3,FALSE))","v":{"$error":"#N/A"}},{"$error":"#N/A"},{"$error":"#N/A"},{"$error":"#N/A"},{"$error":"#N/A"},"",null,null,"",null,null,"",{"$error":"#VALUE!"},null,null," ",{"$error":"#VALUE!"},{"$f":"VLOOKUP(Report!DC86,Code!$B$24:$C$32,2,FALSE)","v":{"$error":"#VALUE!"}},{"$f":"VLOOKUP(Report!DC86,Code!$B$24:$D$32,3,FALSE)","v":{"$error":"#VALUE!"}},{"$error":"#VALUE!"},{"$error":"#VALUE!"},{"$error":"#VALUE!"},null,null,null,null,null,null," ",{"$f":"VLOOKUP(Report!DO86,Code!$B$40:$D$42,2,FALSE)","v":{"$error":"#N/A"}},{"$f":"VLOOKUP(Report!DO86,Code!$B$40:$D$42,3,FALSE)","v":{"$error":"#N/A"}},{"$error":"#N/A"},null,{"$error":"#N/A"},"number","number","number","",null,null,null,null,"",""]
[null,null,null,null,null,null,null,null,null,null,null,null,null,null,null,null,null,null,null,null,"Type_2",null,{"$error":"#N/A"},null,{"$error":"#N/A"},{"$error":"#N/A"},null,"he","He","his","His",null,null," ",{"$f":"HLOOKUP(Report!AH87,Person!$H$2:$L$3,2,FALSE)","v":{"$error":"#N/A"}},{"$error":"#N/A"},{"$f":"IF(AH87=0,\"\",AJ87+VLOOKUP(AH87,Code!$B$2:$C$6,2,FALSE))","v":{"$error":"#N/A"}},{"$f":"IF(AH87=0,\"\",IF(I87=\"F\",G87&\" \"&VLOOKUP(AK87,Person!D:I,2,FALSE),G87&\" \"&VLOOKUP(AK87,Person!D:I,4,FALSE)))","v":{"$error":"#N/A"}},null,null,null,null,null,null,null,2,{"$f":"VLOOKUP(AT87,Code!$B$51:$D$55,2,FALSE)","v":"Behaviour_1"},{"$f":"RANDBETWEEN(1,VLOOKUP(AT87,Code!$B$51:$D$55,3,FALSE))","v":1},null," d",null,null," ",{"$f":"HLOOKUP(Report!BA87,Homework!$I$2:$L$3,2,FALSE)","v":{"$error":"#N/A"}},{"$error":"#N/A"},{"$f":"IF(BA87=0,\"\",BC87+VLOOKUP(BA87,Code!$B$2:$C$6,2,FALSE))","v":{"$error":"#N/A"}},{"$f":"IF(AND(VLOOKUP(BD87,Homework!D:J,2,FALSE)=\"'s \",RIGHT(G87,1)=\"s\"),\"' \",IF(VLOOKUP(BD87,Homework!D:J,2,FALSE)=\"'s \",\"'s \",\" \"))","v":{"$error":"#N/A"}},{"$f":"IF(BA87=0,\"\",IF(I87=\"F\",\" \"&G87&BE87&VLOOKUP(BD87,Homework!D:J,3,FALSE),\" \"&G87&BE87&VLOOKUP(BD87,Homework!D:J,5,FALSE)))","v":{"$error":"#N/A"}},null,null,null,null,null,null,null,null," ",{"$f":"VLOOKUP(BO87,Code!$B$45:$D$48,2,FALSE)","v":{"$error":"#N/A"}},{"$f":"VLOOKUP(BO87,Code!$B$45:$D$48,3,FALSE)","v":{"$error":"#N/A"}},{"$error":"#N/A"},null,"pen","pencil","ruler",null,null,"",""," ",null,79,{"$f":"HLOOKUP(Report!CC87,Behaviour!$H$2:$K$3,2,FALSE)","v":{"$error":"#N/A"}},{"$error":"#N/A"},{"$f":"CE87+VLOOKUP(CC87,Code!$B$2:$C$6,2,FALSE)","v":{"$error":"#N/A"}},{"$f":"IF(CC87=0,\"\",IF(I87=\"F\",AC87&\" \"&VLOOKUP(CF87,Behaviour!D:I,2,FALSE)&\" \",AC87&\" \"&VLOOKUP(CF87,Behaviour!D:I,4,FALSE)&\" \"))","v":{"$error":"#N/A"}},null,null," ",null,{"$f":"IF(CJ87=0,\"\",VLOOKUP(CJ87,Code!$B$59:$D$61,2,FALSE))","v":{"$error":"#N/A"}},{"$f":"IF(CJ87=0,\"\",VLOOKUP(CJ87,Code!$B$59:$D$61,3,FALSE))","v":{"$error":"#N/A"}},{"$error":"#N/A"},{"$error":"#N/A"},{"$error":"#N/A"},{"$error":"#N/A"},"",null,null,"",null,null,"",{"$error":"#VALUE!"},null,null," ",{"$error":"#VALUE!"},{"$f":"VLOOKUP(Report!DC87,Code!$B$24:$C$32,2,FALSE)","v":{"$error":"#VALUE!"}},{"$f":"VLOOKUP(Report!DC87,Code!$B$24:$D$32,3,FALSE)","v":{"$error":"#VALUE!"}},{"$error":"#VALUE!"},{"$error":"#VALUE!"},{"$error":"#VALUE!"},null,null,null,null,null,null," ",{"$f":"VLOOKUP(Report!DO87,Code!$B$40:$D$42,2,FALSE)","v":{"$error":"#N/A"}},{"$f":"VLOOKUP(Report!DO87,Code!$B$40:$D$42,3,FALSE)","v":{"$error":"#N/A"}},{"$error":"#N/A"},null,{"$error":"#N/A"},"number","number","number","",null,null,null,null,"",""]
[null,null,null,null,null,null,null,null,null,null,null,null,null,null,null,null,null,null,null,null,"Type_2",null,{"$error":"#N/A"},null,{"$error":"#N/A"},{"$error":"#N/A"},null,"he","He","his","His",null,null," ",{"$f":"HLOOKUP(Report!AH88,Person!$H$2:$L$3,2,FALSE)","v":{"$error":"#N/A"}},{"$error":"#N/A"},{"$f":"IF(AH88=0,\"\",AJ88+VLOOKUP(AH88,Code!$B$2:$C$6,2,FALSE))","v":{"$error":"#N/A"}},{"$f":"IF(AH88=0,\"\",IF(I88=\"F\",G88&\" \"&VLOOKUP(AK88,Person!D:I,2,FALSE),G88&\" \"&VLOOKUP(AK88,Person!D:I,4,FALSE)))","v":{"$error":"#N/A"}},null,null,null,null,null,null,null,2,{"$f":"VLOOKUP(AT88,Code!$B$51:$D$55,2,FALSE)","v":"Behaviour_1"},{"$f":"RANDBETWEEN(1,VLOOKUP(AT88,Code!$B$51:$D$55,3,FALSE))","v":1},null," d",null,null," ",{"$f":"HLOOKUP(Report!BA88,Homework!$I$2:$L$3,2,FALSE)","v":{"$error":"#N/A"}},{"$error":"#N/A"},{"$f":"IF(BA88=0,\"\",BC88+VLOOKUP(BA88,Code!$B$2:$C$6,2,FALSE))","v":{"$error":"#N/A"}},{"$f":"IF(AND(VLOOKUP(BD88,Homework!D:J,2,FALSE)=\"'s \",RIGHT(G88,1)=\"s\"),\"' \",IF(VLOOKUP(BD88,Homework!D:J,2,FALSE)=\"'s \",\"'s \",\" \"))","v":{"$error":"#N/A"}},{"$f":"IF(BA88=0,\"\",IF(I88=\"F\",\" \"&G88&BE88&VLOOKUP(BD88,Homework!D:J,3,FALSE),\" \"&G88&BE88&VLOOKUP(BD88,Homework!D:J,5,FALSE)))","v":{"$error":"#N/A"}},null,null,null,null,null,null,null,null," ",{"$f":"VLOOKUP(BO88,Code!$B$45:$D$48,2,FALSE)","v":{"$error":"#N/A"}},{"$f":"VLOOKUP(BO88,Code!$B$45:$D$48,3,FALSE)","v":{"$error":"#N/A"}},{"$error":"#N/A"},null,"pen","pencil","ruler",null,null,"",""," ",null,80,{"$f":"HLOOKUP(Report!CC88,Behaviour!$H$2:$K$3,2,FALSE)","v":{"$error":"#N/A"}},{"$error":"#N/A"},{"$f":"CE88+VLOOKUP(CC88,Code!$B$2:$C$6,2,FALSE)","v":{"$error":"#N/A"}},{"$f":"IF(CC88=0,\"\",IF(I88=\"F\",AC88&\" \"&VLOOKUP(CF88,Behaviour!D:I,2,FALSE)&\" \",AC88&\" \"&VLOOKUP(CF88,Behaviour!D:I,4,FALSE)&\" \"))","v":{"$error":"#N/A"}},null,null," ",null,{"$f":"IF(CJ88=0,\"\",VLOOKUP(CJ88,Code!$B$59:$D$61,2,FALSE))","v":{"$error":"#N/A"}},{"$f":"IF(CJ88=0,\"\",VLOOKUP(CJ88,Code!$B$59:$D$61,3,FALSE))","v":{"$error":"#N/A"}},{"$error":"#N/A"},{"$error":"#N/A"},{"$error":"#N/A"},{"$error":"#N/A"},"",null,null,"",null,null,"",{"$error":"#VALUE!"},null,null," ",{"$error":"#VALUE!"},{"$f":"VLOOKUP(Report!DC88,Code!$B$24:$C$32,2,FALSE)","v":{"$error":"#VALUE!"}},{"$f":"VLOOKUP(Report!DC88,Code!$B$24:$D$32,3,FALSE)","v":{"$error":"#VALUE!"}},{"$error":"#VALUE!"},{"$error":"#VALUE!"},{"$error":"#VALUE!"},null,null,null,null,null,null," ",{"$f":"VLOOKUP(Report!DO88,Code!$B$40:$D$42,2,FALSE)","v":{"$error":"#N/A"}},{"$f":"VLOOKUP(Report!DO88,Code!$B$40:$D$42,3,FALSE)","v":{"$error":"#N/A"}},{"$error":"#N/A"},null,{"$error":"#N/A"},"number","number","number","",null,null,null,null,"",""]
[null,null,null,null,null,null,null,null,null,null,null,null,null,null,null,null,null,null,null,null,"Type_2",null,{"$error":"#N/A"},null,{"$error":"#N/A"},{"$error":"#N/A"},null,"he","He","his","His",null,null," ",{"$f":"HLOOKUP(Report!AH89,Person!$H$2:$L$3,2,FALSE)","v":{"$error":"#N/A"}},{"$error":"#N/A"},{"$f":"IF(AH89=0,\"\",AJ89+VLOOKUP(AH89,Code!$B$2:$C$6,2,FALSE))","v":{"$error":"#N/A"}},{"$f":"IF(AH89=0,\"\",IF(I89=\"F\",G89&\" \"&VLOOKUP(AK89,Person!D:I,2,FALSE),G89&\" \"&VLOOKUP(AK89,Person!D:I,4,FALSE)))","v":{"$error":"#N/A"}},null,null,null,null,null,null,null,2,{"$f":"VLOOKUP(AT89,Code!$B$51:$D$55,2,FALSE)","v":"Behaviour_1"},{"$f":"RANDBETWEEN(1,VLOOKUP(AT89,Code!$B$51:$D$55,3,FALSE))","v":1},null," d",null,null," ",{"$f":"HLOOKUP(Report!BA89,Homework!$I$2:$L$3,2,FALSE)","v":{"$error":"#N/A"}},{"$error":"#N/A"},{"$f":"IF(BA89=0,\"\",BC89+VLOOKUP(BA89,Code!$B$2:$C$6,2,FALSE))","v":{"$error":"#N/A"}},{"$f":"IF(AND(VLOOKUP(BD89,Homework!D:J,2,FALSE)=\"'s \",RIGHT(G89,1)=\"s\"),\"' \",IF(VLOOKUP(BD89,Homework!D:J,2,FALSE)=\"'s \",\"'s \",\" \"))","v":{"$error":"#N/A"}},{"$f":"IF(BA89=0,\"\",IF(I89=\"F\",\" \"&G89&BE89&VLOOKUP(BD89,Homework!D:J,3,FALSE),\" \"&G89&BE89&VLOOKUP(BD89,Homework!D:J,5,FALSE)))","v":{"$error":"#N/A"}},null,null,null,null,null,null,null,null," ",{"$f":"VLOOKUP(BO89,Code!$B$45:$D$48,2,FALSE)","v":{"$error":"#N/A"}},{"$f":"VLOOKUP(BO89,Code!$B$45:$D$48,3,FALSE)","v":{"$error":"#N/A"}},{"$error":"#N/A"},null,"pen","pencil","ruler",null,null,"",""," ",null,81,{"$f":"HLOOKUP(Report!CC89,Behaviour!$H$2:$K$3,2,FALSE)","v":{"$error":"#N/A"}},{"$error":"#N/A"},{"$f":"CE89+VLOOKUP(CC89,Code!$B$2:$C$6,2,FALSE)","v":{"$error":"#N/A"}},{"$f":"IF(CC89=0,\"\",IF(I89=\"F\",AC89&\" \"&VLOOKUP(CF89,Behaviour!D:I,2,FALSE)&\" \",AC89&\" \"&VLOOKUP(CF89,Behaviour!D:I,4,FALSE)&\" \"))","v":{"$error":"#N/A"}},null,null," ",null,{"$f":"IF(CJ89=0,\"\",VLOOKUP(CJ89,Code!$B$59:$D$61,2,FALSE))","v":{"$error":"#N/A"}},{"$f":"IF(CJ89=0,\"\",VLOOKUP(CJ89,Code!$B$59:$D$61,3,FALSE))","v":{"$error":"#N/A"}},{"$error":"#N/A"},{"$error":"#N/A"},{"$error":"#N/A"},{"$error":"#N/A"},"",null,null,"",null,null,"",{"$error":"#VALUE!"},null,null," ",{"$error":"#VALUE!"},{"$f":"VLOOKUP(Report!DC89,Code!$B$24:$C$32,2,FALSE)","v":{"$error":"#VALUE!"}},{"$f":"VLOOKUP(Report!DC89,Code!$B$24:$D$32,3,FALSE)","v":{"$error":"#VALUE!"}},{"$error":"#VALUE!"},{"$error":"#VALUE!"},{"$error":"#VALUE!"},null,null,null,null,null,null," ",{"$f":"VLOOKUP(Report!DO89,Code!$B$40:$D$42,2,FALSE)","v":{"$error":"#N/A"}},{"$f":"VLOOKUP(Report!DO89,Code!$B$40:$D$42,3,FALSE)","v":{"$error":"#N/A"}},{"$error":"#N/A"},null,{"$error":"#N/A"},"number","number","number","",null,null,null,null,"",""]
[null,null,null,null,null,null,null,null,null,null,null,null,null,null,null,null,null,null,null,null,"Type_2",null,{"$error":"#N/A"},null,{"$error":"#N/A"},{"$error":"#N/A"},null,"he","He","his","His",null,null," ",{"$f":"HLOOKUP(Report!AH90,Person!$H$2:$L$3,2,FALSE)","v":{"$error":"#N/A"}},{"$error":"#N/A"},{"$f":"IF(AH90=0,\"\",AJ90+VLOOKUP(AH90,Code!$B$2:$C$6,2,FALSE))","v":{"$error":"#N/A"}},{"$f":"IF(AH90=0,\"\",IF(I90=\"F\",G90&\" \"&VLOOKUP(AK90,Person!D:I,2,FALSE),G90&\" \"&VLOOKUP(AK90,Person!D:I,4,FALSE)))","v":{"$error":"#N/A"}},null,null,null,null,null,null,null,2,{"$f":"VLOOKUP(AT90,Code!$B$51:$D$55,2,FALSE)","v":"Behaviour_1"},{"$f":"RANDBETWEEN(1,VLOOKUP(AT90,Code!$B$51:$D$55,3,FALSE))","v":1},null," d",null,null," ",{"$f":"HLOOKUP(Report!BA90,Homework!$I$2:$L$3,2,FALSE)","v":{"$error":"#N/A"}},{"$error":"#N/A"},{"$f":"IF(BA90=0,\"\",BC90+VLOOKUP(BA90,Code!$B$2:$C$6,2,FALSE))","v":{"$error":"#N/A"}},{"$f":"IF(AND(VLOOKUP(BD90,Homework!D:J,2,FALSE)=\"'s \",RIGHT(G90,1)=\"s\"),\"' \",IF(VLOOKUP(BD90,Homework!D:J,2,FALSE)=\"'s \",\"'s \",\" \"))","v":{"$error":"#N/A"}},{"$f":"IF(BA90=0,\"\",IF(I90=\"F\",\" \"&G90&BE90&VLOOKUP(BD90,Homework!D:J,3,FALSE),\" \"&G90&BE90&VLOOKUP(BD90,Homework!D:J,5,FALSE)))","v":{"$error":"#N/A"}},null,null,null,null,null,null,null,null," ",{"$f":"VLOOKUP(BO90,Code!$B$45:$D$48,2,FALSE)","v":{"$error":"#N/A"}},{"$f":"VLOOKUP(BO90,Code!$B$45:$D$48,3,FALSE)","v":{"$error":"#N/A"}},{"$error":"#N/A"},null,"pen","pencil","ruler",null,null,"",""," ",null,82,{"$f":"HLOOKUP(Report!CC90,Behaviour!$H$2:$K$3,2,FALSE)","v":{"$error":"#N/A"}},{"$error":"#N/A"},{"$f":"CE90+VLOOKUP(CC90,Code!$B$2:$C$6,2,FALSE)","v":{"$error":"#N/A"}},{"$f":"IF(CC90=0,\"\",IF(I90=\"F\",AC90&\" \"&VLOOKUP(CF90,Behaviour!D:I,2,FALSE)&\" \",AC90&\" \"&VLOOKUP(CF90,Behaviour!D:I,4,FALSE)&\" \"))","v":{"$error":"#N/A"}},null,null," ",null,{"$f":"IF(CJ90=0,\"\",VLOOKUP(CJ90,Code!$B$59:$D$61,2,FALSE))","v":{"$error":"#N/A"}},{"$f":"IF(CJ90=0,\"\",VLOOKUP(CJ90,Code!$B$59:$D$61,3,FALSE))","v":{"$error":"#N/A"}},{"$error":"#N/A"},{"$error":"#N/A"},{"$error":"#N/A"},{"$error":"#N/A"},"",null,null,"",null,null,"",{"$error":"#VALUE!"},null,null," ",{"$error":"#VALUE!"},{"$f":"VLOOKUP(Report!DC90,Code!$B$24:$C$32,2,FALSE)","v":{"$error":"#VALUE!"}},{"$f":"VLOOKUP(Report!DC90,Code!$B$24:$D$32,3,FALSE)","v":{"$error":"#VALUE!"}},{"$error":"#VALUE!"},{"$error":"#VALUE!"},{"$error":"#VALUE!"},null,null,null,null,null,null," ",{"$f":"VLOOKUP(Report!DO90,Code!$B$40:$D$42,2,FALSE)","v":{"$error":"#N/A"}},{"$f":"VLOOKUP(Report!DO90,Code!$B$40:$D$42,3,FALSE)","v":{"$error":"#N/A"}},{"$error":"#N/A"},null,{"$error":"#N/A"},"number","number","number","",null,null,null,null,"",""]
[null,null,null,null,null,null,null,null,null,null,null,null,null,null,null,null,null,null,null,null,"Type_2",null,{"$error":"#N/A"},null,{"$error":"#N/A"},{"$error":"#N/A"},null,"he","He","his","His",null,null," ",{"$f":"HLOOKUP(Report!AH91,Person!$H$2:$L$3,2,FALSE)","v":{"$error":"#N/A"}},{"$error":"#N/A"},{"$f":"IF(AH91=0,\"\",AJ91+VLOOKUP(AH91,Code!$B$2:$C$6,2,FALSE))","v":{"$error":"#N/A"}},{"$f":"IF(AH91=0,\"\",IF(I91=\"F\",G91&\" \"&VLOOKUP(AK91,Person!D:I,2,FALSE),G91&\" \"&VLOOKUP(AK91,Person!D:I,4,FALSE)))","v":{"$error":"#N/A"}},null,null,null,null,null,null,null,2,{"$f":"VLOOKUP(AT91,Code!$B$51:$D$55,2,FALSE)","v":"Behaviour_1"},{"$f":"RANDBETWEEN(1,VLOOKUP(AT91,Code!$B$51:$D$55,3,FALSE))","v":1},null," d",null,null," ",{"$f":"HLOOKUP(Report!BA91,Homework!$I$2:$L$3,2,FALSE)","v":{"$error":"#N/A"}},{"$error":"#N/A"},{"$f":"IF(BA91=0,\"\",BC91+VLOOKUP(BA91,Code!$B$2:$C$6,2,FALSE))","v":{"$error":"#N/A"}},{"$f":"IF(AND(VLOOKUP(BD91,Homework!D:J,2,FALSE)=\"'s \",RIGHT(G91,1)=\"s\"),\"' \",IF(VLOOKUP(BD91,Homework!D:J,2,FALSE)=\"'s \",\"'s \",\" \"))","v":{"$error":"#N/A"}},{"$f":"IF(BA91=0,\"\",IF(I91=\"F\",\" \"&G91&BE91&VLOOKUP(BD91,Homework!D:J,3,FALSE),\" \"&G91&BE91&VLOOKUP(BD91,Homework!D:J,5,FALSE)))","v":{"$error":"#N/A"}},null,null,null,null,null,null,null,null," ",{"$f":"VLOOKUP(BO91,Code!$B$45:$D$48,2,FALSE)","v":{"$error":"#N/A"}},{"$f":"VLOOKUP(BO91,Code!$B$45:$D$48,3,FALSE)","v":{"$error":"#N/A"}},{"$error":"#N/A"},null,"pen","pencil","ruler",null,null,"",""," ",null,83,{"$f":"HLOOKUP(Report!CC91,Behaviour!$H$2:$K$3,2,FALSE)","v":{"$error":"#N/A"}},{"$error":"#N/A"},{"$f":"CE91+VLOOKUP(CC91,Code!$B$2:$C$6,2,FALSE)","v":{"$error":"#N/A"}},{"$f":"IF(CC91=0,\"\",IF(I91=\"F\",AC91&\" \"&VLOOKUP(CF91,Behaviour!D:I,2,FALSE)&\" \",AC91&\" \"&VLOOKUP(CF91,Behaviour!D:I,4,FALSE)&\" \"))","v":{"$error":"#N/A"}},null,null," ",null,{"$f":"IF(CJ91=0,\"\",VLOOKUP(CJ91,Code!$B$59:$D$61,2,FALSE))","v":{"$error":"#N/A"}},{"$f":"IF(CJ91=0,\"\",VLOOKUP(CJ91,Code!$B$59:$D$61,3,FALSE))","v":{"$error":"#N/A"}},{"$error":"#N/A"},{"$error":"#N/A"},{"$error":"#N/A"},{"$error":"#N/A"},"",null,null,"",null,null,"",{"$error":"#VALUE!"},null,null," ",{"$error":"#VALUE!"},{"$f":"VLOOKUP(Report!DC91,Code!$B$24:$C$32,2,FALSE)","v":{"$error":"#VALUE!"}},{"$f":"VLOOKUP(Report!DC91,Code!$B$24:$D$32,3,FALSE)","v":{"$error":"#VALUE!"}},{"$error":"#VALUE!"},{"$error":"#VALUE!"},{"$error":"#VALUE!"},null,null,null,null,null,null," ",{"$f":"VLOOKUP(Report!DO91,Code!$B$40:$D$42,2,FALSE)","v":{"$error":"#N/A"}},{"$f":"VLOOKUP(Report!DO91,Code!$B$40:$D$42,3,FALSE)","v":{"$error":"#N/A"}},{"$error":"#N/A"},null,{"$error":"#N/A"},"number","number","number","",null,null,null,null,"",""]
[null,null,null,null,null,null,null,null,null,null,null,null,null,null,null,null,null,null,null,null,"Type_2",null,{"$error":"#N/A"},null,{"$error":"#N/A"},{"$error":"#N/A"},null,"he","He","his","His",null,null," ",{"$f":"HLOOKUP(Report!AH92,Person!$H$2:$L$3,2,FALSE)","v":{"$error":"#N/A"}},{"$error":"#N/A"},{"$f":"IF(AH92=0,\"\",AJ92+VLOOKUP(AH92,Code!$B$2:$C$6,2,FALSE))","v":{"$error":"#N/A"}},{"$f":"IF(AH92=0,\"\",IF(I92=\"F\",G92&\" \"&VLOOKUP(AK92,Person!D:I,2,FALSE),G92&\" \"&VLOOKUP(AK92,Person!D:I,4,FALSE)))","v":{"$error":"#N/A"}},null,null,null,null,null,null,null,2,{"$f":"VLOOKUP(AT92,Code!$B$51:$D$55,2,FALSE)","v":"Behaviour_1"},{"$f":"RANDBETWEEN(1,VLOOKUP(AT92,Code!$B$51:$D$55,3,FALSE))","v":2},null," d",null,null," ",{"$f":"HLOOKUP(Report!BA92,Homework!$I$2:$L$3,2,FALSE)","v":{"$error":"#N/A"}},{"$error":"#N/A"},{"$f":"IF(BA92=0,\"\",BC92+VLOOKUP(BA92,Code!$B$2:$C$6,2,FALSE))","v":{"$error":"#N/A"}},{"$f":"IF(AND(VLOOKUP(BD92,Homework!D:J,2,FALSE)=\"'s \",RIGHT(G92,1)=\"s\"),\"' \",IF(VLOOKUP(BD92,Homework!D:J,2,FALSE)=\"'s \",\"'s \",\" \"))","v":{"$error":"#N/A"}},{"$f":"IF(BA92=0,\"\",IF(I92=\"F\",\" \"&G92&BE92&VLOOKUP(BD92,Homework!D:J,3,FALSE),\" \"&G92&BE92&VLOOKUP(BD92,Homework!D:J,5,FALSE)))","v":{"$error":"#N/A"}},null,null,null,null,null,null,null,null," ",{"$f":"VLOOKUP(BO92,Code!$B$45:$D$48,2,FALSE)","v":{"$error":"#N/A"}},{"$f":"VLOOKUP(BO92,Code!$B$45:$D$48,3,FALSE)","v":{"$error":"#N/A"}},{"$error":"#N/A"},null,"pen","pencil","ruler",null,null,"",""," ",null,84,{"$f":"HLOOKUP(Report!CC92,Behaviour!$H$2:$K$3,2,FALSE)","v":{"$error":"#N/A"}},{"$error":"#N/A"},{"$f":"CE92+VLOOKUP(CC92,Code!$B$2:$C$6,2,FALSE)","v":{"$error":"#N/A"}},{"$f":"IF(CC92=0,\"\",IF(I92=\"F\",AC92&\" \"&VLOOKUP(CF92,Behaviour!D:I,2,FALSE)&\" \",AC92&\" \"&VLOOKUP(CF92,Behaviour!D:I,4,FALSE)&\" \"))","v":{"$error":"#N/A"}},null,null," ",null,{"$f":"IF(CJ92=0,\"\",VLOOKUP(CJ92,Code!$B$59:$D$61,2,FALSE))","v":{"$error":"#N/A"}},{"$f":"IF(CJ92=0,\"\",VLOOKUP(CJ92,Code!$B$59:$D$61,3,FALSE))","v":{"$error":"#N/A"}},{"$error":"#N/A"},{"$error":"#N/A"},{"$error":"#N/A"},{"$error":"#N/A"},"",null,null,"",null,null,"",{"$error":"#VALUE!"},null,null," ",{"$error":"#VALUE!"},{"$f":"VLOOKUP(Report!DC92,Code!$B$24:$C$32,2,FALSE)","v":{"$error":"#VALUE!"}},{"$f":"VLOOKUP(Report!DC92,Code!$B$24:$D$32,3,FALSE)","v":{"$error":"#VALUE!"}},{"$error":"#VALUE!"},{"$error":"#VALUE!"},{"$error":"#VALUE!"},null,null,null,null,null,null," ",{"$f":"VLOOKUP(Report!DO92,Code!$B$40:$D$42,2,FALSE)","v":{"$error":"#N/A"}},{"$f":"VLOOKUP(Report!DO92,Code!$B$40:$D$42,3,FALSE)","v":{"$error":"#N/A"}},{"$error":"#N/A"},null,{"$error":"#N/A"},"number","number","number","",null,null,null,null,"",""]
[null,null,null,null,null,null,null,null,null,null,null,null,null,null,null,null,null,null,null,null,"Type_2",null,{"$error":"#N/A"},null,{"$error":"#N/A"},{"$error":"#N/A"},null,"he","He","his","His",null,null," ",{"$f":"HLOOKUP(Report!AH93,Person!$H$2:$L$3,2,FALSE)","v":{"$error":"#N/A"}},{"$error":"#N/A"},{"$f":"IF(AH93=0,\"\",AJ93+VLOOKUP(AH93,Code!$B$2:$C$6,2,FALSE))","v":{"$error":"#N/A"}},{"$f":"IF(AH93=0,\"\",IF(I93=\"F\",G93&\" \"&VLOOKUP(AK93,Person!D:I,2,FALSE),G93&\" \"&VLOOKUP(AK93,Person!D:I,4,FALSE)))","v":{"$error":"#N/A"}},null,null,null,null,null,null,null,2,{"$f":"VLOOKUP(AT93,Code!$B$51:$D$55,2,FALSE)","v":"Behaviour_1"},{"$f":"RANDBETWEEN(1,VLOOKUP(AT93,Code!$B$51:$D$55,3,FALSE))","v":2},null," d",null,null," ",{"$f":"HLOOKUP(Report!BA93,Homework!$I$2:$L$3,2,FALSE)","v":{"$error":"#N/A"}},{"$error":"#N/A"},{"$f":"IF(BA93=0,\"\",BC93+VLOOKUP(BA93,Code!$B$2:$C$6,2,FALSE))","v":{"$error":"#N/A"}},{"$f":"IF(AND(VLOOKUP(BD93,Homework!D:J,2,FALSE)=\"'s \",RIGHT(G93,1)=\"s\"),\"' \",IF(VLOOKUP(BD93,Homework!D:J,2,FALSE)=\"'s \",\"'s \",\" \"))","v":{"$error":"#N/A"}},{"$f":"IF(BA93=0,\"\",IF(I93=\"F\",\" \"&G93&BE93&VLOOKUP(BD93,Homework!D:J,3,FALSE),\" \"&G93&BE93&VLOOKUP(BD93,Homework!D:J,5,FALSE)))","v":{"$error":"#N/A"}},null,null,null,null,null,null,null,null," ",{"$f":"VLOOKUP(BO93,Code!$B$45:$D$48,2,FALSE)","v":{"$error":"#N/A"}},{"$f":"VLOOKUP(BO93,Code!$B$45:$D$48,3,FALSE)","v":{"$error":"#N/A"}},{"$error":"#N/A"},null,"pen","pencil","ruler",null,null,"",""," ",null,85,{"$f":"HLOOKUP(Report!CC93,Behaviour!$H$2:$K$3,2,FALSE)","v":{"$error":"#N/A"}},{"$error":"#N/A"},{"$f":"CE93+VLOOKUP(CC93,Code!$B$2:$C$6,2,FALSE)","v":{"$error":"#N/A"}},{"$f":"IF(CC93=0,\"\",IF(I93=\"F\",AC93&\" \"&VLOOKUP(CF93,Behaviour!D:I,2,FALSE)&\" \",AC93&\" \"&VLOOKUP(CF93,Behaviour!D:I,4,FALSE)&\" \"))","v":{"$error":"#N/A"}},null,null," ",null,{"$f":"IF(CJ93=0,\"\",VLOOKUP(CJ93,Code!$B$59:$D$61,2,FALSE))","v":{"$error":"#N/A"}},{"$f":"IF(CJ93=0,\"\",VLOOKUP(CJ93,Code!$B$59:$D$61,3,FALSE))","v":{"$error":"#N/A"}},{"$error":"#N/A"},{"$error":"#N/A"},{"$error":"#N/A"},{"$error":"#N/A"},"",null,null,"",null,null,"",{"$error":"#VALUE!"},null,null," ",{"$error":"#VALUE!"},{"$f":"VLOOKUP(Report!DC93,Code!$B$24:$C$32,2,FALSE)","v":{"$error":"#VALUE!"}},{"$f":"VLOOKUP(Report!DC93,Code!$B$24:$D$32,3,FALSE)","v":{"$error":"#VALUE!"}},{"$error":"#VALUE!"},{"$error":"#VALUE!"},{"$error":"#VALUE!"},null,null,null,null,null,null," ",{"$f":"VLOOKUP(Report!DO93,Code!$B$40:$D$42,2,FALSE)","v":{"$error":"#N/A"}},{"$f":"VLOOKUP(Report!DO93,Code!$B$40:$D$42,3,FALSE)","v":{"$error":"#N/A"}},{"$error":"#N/A"},null,{"$error":"#N/A"},"number","number","number","",null,null,null,null,"",""]
[null,null,null,null,null,null,null,null,null,null,null,null,null,null,null,null,null,null,null,null,"Type_2",null,{"$error":"#N/A"},null,{"$error":"#N/A"},{"$error":"#N/A"},null,"he","He","his","His",null,null," ",{"$f":"HLOOKUP(Report!AH94,Person!$H$2:$L$3,2,FALSE)","v":{"$error":"#N/A"}},{"$error":"#N/A"},{"$f":"IF(AH94=0,\"\",AJ94+VLOOKUP(AH94,Code!$B$2:$C$6,2,FALSE))","v":{"$error":"#N/A"}},{"$f":"IF(AH94=0,\"\",IF(I94=\"F\",G94&\" \"&VLOOKUP(AK94,Person!D:I,2,FALSE),G94&\" \"&VLOOKUP(AK94,Person!D:I,4,FALSE)))","v":{"$error":"#N/A"}},null,null,null,null,null,null,null,2,{"$f":"VLOOKUP(AT94,Code!$B$51:$D$55,2,FALSE)","v":"Behaviour_1"},{"$f":"RANDBETWEEN(1,VLOOKUP(AT94,Code!$B$51:$D$55,3,FALSE))","v":2},null," d",null,null," ",{"$f":"HLOOKUP(Report!BA94,Homework!$I$2:$L$3,2,FALSE)","v":{"$error":"#N/A"}},{"$error":"#N/A"},{"$f":"IF(BA94=0,\"\",BC94+VLOOKUP(BA94,Code!$B$2:$C$6,2,FALSE))","v":{"$error":"#N/A"}},{"$f":"IF(AND(VLOOKUP(BD94,Homework!D:J,2,FALSE)=\"'s \",RIGHT(G94,1)=\"s\"),\"' \",IF(VLOOKUP(BD94,Homework!D:J,2,FALSE)=\"'s \",\"'s \",\" \"))","v":{"$error":"#N/A"}},{"$f":"IF(BA94=0,\"\",IF(I94=\"F\",\" \"&G94&BE94&VLOOKUP(BD94,Homework!D:J,3,FALSE),\" \"&G94&BE94&VLOOKUP(BD94,Homework!D:J,5,FALSE)))","v":{"$error":"#N/A"}},null,null,null,null,null,null,null,null," ",{"$f":"VLOOKUP(BO94,Code!$B$45:$D$48,2,FALSE)","v":{"$error":"#N/A"}},{"$f":"VLOOKUP(BO94,Code!$B$45:$D$48,3,FALSE)","v":{"$error":"#N/A"}},{"$error":"#N/A"},null,"pen","pencil","ruler",null,null,"",""," ",null,86,{"$f":"HLOOKUP(Report!CC94,Behaviour!$H$2:$K$3,2,FALSE)","v":{"$error":"#N/A"}},{"$error":"#N/A"},{"$f":"CE94+VLOOKUP(CC94,Code!$B$2:$C$6,2,FALSE)","v":{"$error":"#N/A"}},{"$f":"IF(CC94=0,\"\",IF(I94=\"F\",AC94&\" \"&VLOOKUP(CF94,Behaviour!D:I,2,FALSE)&\" \",AC94&\" \"&VLOOKUP(CF94,Behaviour!D:I,4,FALSE)&\" \"))","v":{"$error":"#N/A"}},null,null," ",null,{"$f":"IF(CJ94=0,\"\",VLOOKUP(CJ94,Code!$B$59:$D$61,2,FALSE))","v":{"$error":"#N/A"}},{"$f":"IF(CJ94=0,\"\",VLOOKUP(CJ94,Code!$B$59:$D$61,3,FALSE))","v":{"$error":"#N/A"}},{"$error":"#N/A"},{"$error":"#N/A"},{"$error":"#N/A"},{"$error":"#N/A"},"",null,null,"",null,null,"",{"$error":"#VALUE!"},null,null," ",{"$error":"#VALUE!"},{"$f":"VLOOKUP(Report!DC94,Code!$B$24:$C$32,2,FALSE)","v":{"$error":"#VALUE!"}},{"$f":"VLOOKUP(Report!DC94,Code!$B$24:$D$32,3,FALSE)","v":{"$error":"#VALUE!"}},{"$error":"#VALUE!"},{"$error":"#VALUE!"},{"$error":"#VALUE!"},null,null,null,null,null,null," ",{"$f":"VLOOKUP(Report!DO94,Code!$B$40:$D$42,2,FALSE)","v":{"$error":"#N/A"}},{"$f":"VLOOKUP(Report!DO94,Code!$B$40:$D$42,3,FALSE)","v":{"$error":"#N/A"}},{"$error":"#N/A"},null,{"$error":"#N/A"},"number","number","number","",null,null,null,null,"",""]
[null,null,null,null,null,null,null,null,null,null,null,null,null,null,null,null,null,null,null,null,"Type_2",null,{"$error":"#N/A"},null,{"$error":"#N/A"},{"$error":"#N/A"},null,"he","He","his","His",null,null," ",{"$f":"HLOOKUP(Report!AH95,Person!$H$2:$L$3,2,FALSE)","v":{"$error":"#N/A"}},{"$error":"#N/A"},{"$f":"IF(AH95=0,\"\",AJ95+VLOOKUP(AH95,Code!$B$2:$C$6,2,FALSE))","v":{"$error":"#N/A"}},{"$f":"IF(AH95=0,\"\",IF(I95=\"F\",G95&\" \"&VLOOKUP(AK95,Person!D:I,2,FALSE),G95&\" \"&VLOOKUP(AK95,Person!D:I,4,FALSE)))","v":{"$error":"#N/A"}},null,null,null,null,null,null,null,2,{"$f":"VLOOKUP(AT95,Code!$B$51:$D$55,2,FALSE)","v":"Behaviour_1"},{"$f":"RANDBETWEEN(1,VLOOKUP(AT95,Code!$B$51:$D$55,3,FALSE))","v":1},null," d",null,null," ",{"$f":"HLOOKUP(Report!BA95,Homework!$I$2:$L$3,2,FALSE)","v":{"$error":"#N/A"}},{"$error":"#N/A"},{"$f":"IF(BA95=0,\"\",BC95+VLOOKUP(BA95,Code!$B$2:$C$6,2,FALSE))","v":{"$error":"#N/A"}},{"$f":"IF(AND(VLOOKUP(BD95,Homework!D:J,2,FALSE)=\"'s \",RIGHT(G95,1)=\"s\"),\"' \",IF(VLOOKUP(BD95,Homework!D:J,2,FALSE)=\"'s \",\"'s \",\" \"))","v":{"$error":"#N/A"}},{"$f":"IF(BA95=0,\"\",IF(I95=\"F\",\" \"&G95&BE95&VLOOKUP(BD95,Homework!D:J,3,FALSE),\" \"&G95&BE95&VLOOKUP(BD95,Homework!D:J,5,FALSE)))","v":{"$error":"#N/A"}},null,null,null,null,null,null,null,null," ",{"$f":"VLOOKUP(BO95,Code!$B$45:$D$48,2,FALSE)","v":{"$error":"#N/A"}},{"$f":"VLOOKUP(BO95,Code!$B$45:$D$48,3,FALSE)","v":{"$error":"#N/A"}},{"$error":"#N/A"},null,"pen","pencil","ruler",null,null,"",""," ",null,87,{"$f":"HLOOKUP(Report!CC95,Behaviour!$H$2:$K$3,2,FALSE)","v":{"$error":"#N/A"}},{"$error":"#N/A"},{"$f":"CE95+VLOOKUP(CC95,Code!$B$2:$C$6,2,FALSE)","v":{"$error":"#N/A"}},{"$f":"IF(CC95=0,\"\",IF(I95=\"F\",AC95&\" \"&VLOOKUP(CF95,Behaviour!D:I,2,FALSE)&\" \",AC95&\" \"&VLOOKUP(CF95,Behaviour!D:I,4,FALSE)&\" \"))","v":{"$error":"#N/A"}},null,null," ",null,{"$f":"IF(CJ95=0,\"\",VLOOKUP(CJ95,Code!$B$59:$D$61,2,FALSE))","v":{"$error":"#N/A"}},{"$f":"IF(CJ95=0,\"\",VLOOKUP(CJ95,Code!$B$59:$D$61,3,FALSE))","v":{"$error":"#N/A"}},{"$error":"#N/A"},{"$error":"#N/A"},{"$error":"#N/A"},{"$error":"#N/A"},"",null,null,"",null,null,"",{"$error":"#VALUE!"},null,null," ",{"$error":"#VALUE!"},{"$f":"VLOOKUP(Report!DC95,Code!$B$24:$C$32,2,FALSE)","v":{"$error":"#VALUE!"}},{"$f":"VLOOKUP(Report!DC95,Code!$B$24:$D$32,3,FALSE)","v":{"$error":"#VALUE!"}},{"$error":"#VALUE!"},{"$error":"#VALUE!"},{"$error":"#VALUE!"},null,null,null,null,null,null," ",{"$f":"VLOOKUP(Report!DO95,Code!$B$40:$D$42,2,FALSE)","v":{"$error":"#N/A"}},{"$f":"VLOOKUP(Report!DO95,Code!$B$40:$D$42,3,FALSE)","v":{"$error":"#N/A"}},{"$error":"#N/A"},null,{"$error":"#N/A"},"number","number","number","",null,null,null,null,"",""]
[null,null,null,null,null,null,null,null,null,null,null,null,null,null,null,null,null,null,null,null,"Type_2",null,{"$error":"#N/A"},null,{"$error":"#N/A"},{"$error":"#N/A"},null,"he","He","his","His",null,null," ",{"$f":"HLOOKUP(Report!AH96,Person!$H$2:$L$3,2,FALSE)","v":{"$error":"#N/A"}},{"$error":"#N/A"},{"$f":"IF(AH96=0,\"\",AJ96+VLOOKUP(AH96,Code!$B$2:$C$6,2,FALSE))","v":{"$error":"#N/A"}},{"$f":"IF(AH96=0,\"\",IF(I96=\"F\",G96&\" \"&VLOOKUP(AK96,Person!D:I,2,FALSE),G96&\" \"&VLOOKUP(AK96,Person!D:I,4,FALSE)))","v":{"$error":"#N/A"}},null,null,null,null,null,null,null,2,{"$f":"VLOOKUP(AT96,Code!$B$51:$D$55,2,FALSE)","v":"Behaviour_1"},{"$f":"RANDBETWEEN(1,VLOOKUP(AT96,Code!$B$51:$D$55,3,FALSE))","v":1},null," d",null,null," ",{"$f":"HLOOKUP(Report!BA96,Homework!$I$2:$L$3,2,FALSE)","v":{"$error":"#N/A"}},{"$error":"#N/A"},{"$f":"IF(BA96=0,\"\",BC96+VLOOKUP(BA96,Code!$B$2:$C$6,2,FALSE))","v":{"$error":"#N/A"}},{"$f":"IF(AND(VLOOKUP(BD96,Homework!D:J,2,FALSE)=\"'s \",RIGHT(G96,1)=\"s\"),\"' \",IF(VLOOKUP(BD96,Homework!D:J,2,FALSE)=\"'s \",\"'s \",\" \"))","v":{"$error":"#N/A"}},{"$f":"IF(BA96=0,\"\",IF(I96=\"F\",\" \"&G96&BE96&VLOOKUP(BD96,Homework!D:J,3,FALSE),\" \"&G96&BE96&VLOOKUP(BD96,Homework!D:J,5,FALSE)))","v":{"$error":"#N/A"}},null,null,null,null,null,null,null,null," ",{"$f":"VLOOKUP(BO96,Code!$B$45:$D$48,2,FALSE)","v":{"$error":"#N/A"}},{"$f":"VLOOKUP(BO96,Code!$B$45:$D$48,3,FALSE)","v":{"$error":"#N/A"}},{"$error":"#N/A"},null,"pen","pencil","ruler",null,null,"",""," ",null,88,{"$f":"HLOOKUP(Report!CC96,Behaviour!$H$2:$K$3,2,FALSE)","v":{"$error":"#N/A"}},{"$error":"#N/A"},{"$f":"CE96+VLOOKUP(CC96,Code!$B$2:$C$6,2,FALSE)","v":{"$error":"#N/A"}},{"$f":"IF(CC96=0,\"\",IF(I96=\"F\",AC96&\" \"&VLOOKUP(CF96,Behaviour!D:I,2,FALSE)&\" \",AC96&\" \"&VLOOKUP(CF96,Behaviour!D:I,4,FALSE)&\" \"))","v":{"$error":"#N/A"}},null,null," ",null,{"$f":"IF(CJ96=0,\"\",VLOOKUP(CJ96,Code!$B$59:$D$61,2,FALSE))","v":{"$error":"#N/A"}},{"$f":"IF(CJ96=0,\"\",VLOOKUP(CJ96,Code!$B$59:$D$61,3,FALSE))","v":{"$error":"#N/A"}},{"$error":"#N/A"},{"$error":"#N/A"},{"$error":"#N/A"},{"$error":"#N/A"},"",null,null,"",null,null,"",{"$error":"#VALUE!"},null,null," ",{"$error":"#VALUE!"},{"$f":"VLOOKUP(Report!DC96,Code!$B$24:$C$32,2,FALSE)","v":{"$error":"#VALUE!"}},{"$f":"VLOOKUP(Report!DC96,Code!$B$24:$D$32,3,FALSE)","v":{"$error":"#VALUE!"}},{"$error":"#VALUE!"},{"$error":"#VALUE!"},{"$error":"#VALUE!"},null,null,null,null,null,null," ",{"$f":"VLOOKUP(Report!DO96,Code!$B$40:$D$42,2,FALSE)","v":{"$error":"#N/A"}},{"$f":"VLOOKUP(Report!DO96,Code!$B$40:$D$42,3,FALSE)","v":{"$error":"#N/A"}},{"$error":"#N/A"},null,{"$error":"#N/A"},"number","number","number","",null,null,null,null,"",""]
[null,null,null,null,null,null,null,null,null,null,null,null,null,null,null,null,null,null,null,null,"Type_2",null,{"$error":"#N/A"},null,{"$error":"#N/A"},{"$error":"#N/A"},null,"he","He","his","His",null,null," ",{"$f":"HLOOKUP(Report!AH97,Person!$H$2:$L$3,2,FALSE)","v":{"$error":"#N/A"}},{"$error":"#N/A"},{"$f":"IF(AH97=0,\"\",AJ97+VLOOKUP(AH97,Code!$B$2:$C$6,2,FALSE))","v":{"$error":"#N/A"}},{"$f":"IF(AH97=0,\"\",IF(I97=\"F\",G97&\" \"&VLOOKUP(AK97,Person!D:I,2,FALSE),G97&\" \"&VLOOKUP(AK97,Person!D:I,4,FALSE)))","v":{"$error":"#N/A"}},null,null,null,null,null,null,null,2,{"$f":"VLOOKUP(AT97,Code!$B$51:$D$55,2,FALSE)","v":"Behaviour_1"},{"$f":"RANDBETWEEN(1,VLOOKUP(AT97,Code!$B$51:$D$55,3,FALSE))","v":2},null," d",null,null," ",{"$f":"HLOOKUP(Report!BA97,Homework!$I$2:$L$3,2,FALSE)","v":{"$error":"#N/A"}},{"$error":"#N/A"},{"$f":"IF(BA97=0,\"\",BC97+VLOOKUP(BA97,Code!$B$2:$C$6,2,FALSE))","v":{"$error":"#N/A"}},{"$f":"IF(AND(VLOOKUP(BD97,Homework!D:J,2,FALSE)=\"'s \",RIGHT(G97,1)=\"s\"),\"' \",IF(VLOOKUP(BD97,Homework!D:J,2,FALSE)=\"'s \",\"'s \",\" \"))","v":{"$error":"#N/A"}},{"$f":"IF(BA97=0,\"\",IF(I97=\"F\",\" \"&G97&BE97&VLOOKUP(BD97,Homework!D:J,3,FALSE),\" \"&G97&BE97&VLOOKUP(BD97,Homework!D:J,5,FALSE)))","v":{"$error":"#N/A"}},null,null,null,null,null,null,null,null," ",{"$f":"VLOOKUP(BO97,Code!$B$45:$D$48,2,FALSE)","v":{"$error":"#N/A"}},{"$f":"VLOOKUP(BO97,Code!$B$45:$D$48,3,FALSE)","v":{"$error":"#N/A"}},{"$error":"#N/A"},null,"pen","pencil","ruler",null,null,"",""," ",null,89,{"$f":"HLOOKUP(Report!CC97,Behaviour!$H$2:$K$3,2,FALSE)","v":{"$error":"#N/A"}},{"$error":"#N/A"},{"$f":"CE97+VLOOKUP(CC97,Code!$B$2:$C$6,2,FALSE)","v":{"$error":"#N/A"}},{"$f":"IF(CC97=0,\"\",IF(I97=\"F\",AC97&\" \"&VLOOKUP(CF97,Behaviour!D:I,2,FALSE)&\" \",AC97&\" \"&VLOOKUP(CF97,Behaviour!D:I,4,FALSE)&\" \"))","v":{"$error":"#N/A"}},null,null," ",null,{"$f":"IF(CJ97=0,\"\",VLOOKUP(CJ97,Code!$B$59:$D$61,2,FALSE))","v":{"$error":"#N/A"}},{"$f":"IF(CJ97=0,\"\",VLOOKUP(CJ97,Code!$B$59:$D$61,3,FALSE))","v":{"$error":"#N/A"}},{"$error":"#N/A"},{"$error":"#N/A"},{"$error":"#N/A"},{"$error":"#N/A"},"",null,null,"",null,null,"",{"$error":"#VALUE!"},null,null," ",{"$error":"#VALUE!"},{"$f":"VLOOKUP(Report!DC97,Code!$B$24:$C$32,2,FALSE)","v":{"$error":"#VALUE!"}},{"$f":"VLOOKUP(Report!DC97,Code!$B$24:$D$32,3,FALSE)","v":{"$error":"#VALUE!"}},{"$error":"#VALUE!"},{"$error":"#VALUE!"},{"$error":"#VALUE!"},null,null,null,null,null,null," ",{"$f":"VLOOKUP(Report!DO97,Code!$B$40:$D$42,2,FALSE)","v":{"$error":"#N/A"}},{"$f":"VLOOKUP(Report!DO97,Code!$B$40:$D$42,3,FALSE)","v":{"$error":"#N/A"}},{"$error":"#N/A"},null,{"$error":"#N/A"},"number","number","number","",null,null,null,null,"",""]
[null,null,null,null,null,null,null,null,null,null,null,null,null,null,null,null,null,null,null,null,"Type_2",null,{"$error":"#N/A"},null,{"$error":"#N/A"},{"$error":"#N/A"},null,"he","He","his","His",null,null," ",{"$f":"HLOOKUP(Report!AH98,Person!$H$2:$L$3,2,FALSE)","v":{"$error":"#N/A"}},{"$error":"#N/A"},{"$f":"IF(AH98=0,\"\",AJ98+VLOOKUP(AH98,Code!$B$2:$C$6,2,FALSE))","v":{"$error":"#N/A"}},{"$f":"IF(AH98=0,\"\",IF(I98=\"F\",G98&\" \"&VLOOKUP(AK98,Person!D:I,2,FALSE),G98&\" \"&VLOOKUP(AK98,Person!D:I,4,FALSE)))","v":{"$error":"#N/A"}},null,null,null,null,null,null,null,2,{"$f":"VLOOKUP(AT98,Code!$B$51:$D$55,2,FALSE)","v":"Behaviour_1"},{"$f":"RANDBETWEEN(1,VLOOKUP(AT98,Code!$B$51:$D$55,3,FALSE))","v":1},null," d",null,null," ",{"$f":"HLOOKUP(Report!BA98,Homework!$I$2:$L$3,2,FALSE)","v":{"$error":"#N/A"}},{"$error":"#N/A"},{"$f":"IF(BA98=0,\"\",BC98+VLOOKUP(BA98,Code!$B$2:$C$6,2,FALSE))","v":{"$error":"#N/A"}},{"$f":"IF(AND(VLOOKUP(BD98,Homework!D:J,2,FALSE)=\"'s \",RIGHT(G98,1)=\"s\"),\"' \",IF(VLOOKUP(BD98,Homework!D:J,2,FALSE)=\"'s \",\"'s \",\" \"))","v":{"$error":"#N/A"}},{"$f":"IF(BA98=0,\"\",IF(I98=\"F\",\" \"&G98&BE98&VLOOKUP(BD98,Homework!D:J,3,FALSE),\" \"&G98&BE98&VLOOKUP(BD98,Homework!D:J,5,FALSE)))","v":{"$error":"#N/A"}},null,null,null,null,null,null,null,null," ",{"$f":"VLOOKUP(BO98,Code!$B$45:$D$48,2,FALSE)","v":{"$error":"#N/A"}},{"$f":"VLOOKUP(BO98,Code!$B$45:$D$48,3,FALSE)","v":{"$error":"#N/A"}},{"$error":"#N/A"},null,"pen","pencil","ruler",null,null,"",""," ",null,90,{"$f":"HLOOKUP(Report!CC98,Behaviour!$H$2:$K$3,2,FALSE)","v":{"$error":"#N/A"}},{"$error":"#N/A"},{"$f":"CE98+VLOOKUP(CC98,Code!$B$2:$C$6,2,FALSE)","v":{"$error":"#N/A"}},{"$f":"IF(CC98=0,\"\",IF(I98=\"F\",AC98&\" \"&VLOOKUP(CF98,Behaviour!D:I,2,FALSE)&\" \",AC98&\" \"&VLOOKUP(CF98,Behaviour!D:I,4,FALSE)&\" \"))","v":{"$error":"#N/A"}},null,null," ",null,{"$f":"IF(CJ98=0,\"\",VLOOKUP(CJ98,Code!$B$59:$D$61,2,FALSE))","v":{"$error":"#N/A"}},{"$f":"IF(CJ98=0,\"\",VLOOKUP(CJ98,Code!$B$59:$D$61,3,FALSE))","v":{"$error":"#N/A"}},{"$error":"#N/A"},{"$error":"#N/A"},{"$error":"#N/A"},{"$error":"#N/A"},"",null,null,"",null,null,"",{"$error":"#VALUE!"},null,null," ",{"$error":"#VALUE!"},{"$f":"VLOOKUP(Report!DC98,Code!$B$24:$C$32,2,FALSE)","v":{"$error":"#VALUE!"}},{"$f":"VLOOKUP(Report!DC98,Code!$B$24:$D$32,3,FALSE)","v":{"$error":"#VALUE!"}},{"$error":"#VALUE!"},{"$error":"#VALUE!"},{"$error":"#VALUE!"},null,null,null,null,null,null," ",{"$f":"VLOOKUP(Report!DO98,Code!$B$40:$D$42,2,FALSE)","v":{"$error":"#N/A"}},{"$f":"VLOOKUP(Report!DO98,Code!$B$40:$D$42,3,FALSE)","v":{"$error":"#N/A"}},{"$error":"#N/A"},null,{"$error":"#N/A"},"number","number","number","",null,null,null,null,"",""]
[null,null,null,null,null,null,null,null,null,null,null,null,null,null,null,null,null,null,null,null,"Type_2",null,{"$error":"#N/A"},null,{"$error":"#N/A"},{"$error":"#N/A"},null,"he","He","his","His",null,null," ",{"$f":"HLOOKUP(Report!AH99,Person!$H$2:$L$3,2,FALSE)","v":{"$error":"#N/A"}},{"$error":"#N/A"},{"$f":"IF(AH99=0,\"\",AJ99+VLOOKUP(AH99,Code!$B$2:$C$6,2,FALSE))","v":{"$error":"#N/A"}},{"$f":"IF(AH99=0,\"\",IF(I99=\"F\",G99&\" \"&VLOOKUP(AK99,Person!D:I,2,FALSE),G99&\" \"&VLOOKUP(AK99,Person!D:I,4,FALSE)))","v":{"$error":"#N/A"}},null,null,null,null,null,null,null,2,{"$f":"VLOOKUP(AT99,Code!$B$51:$D$55,2,FALSE)","v":"Behaviour_1"},{"$f":"RANDBETWEEN(1,VLOOKUP(AT99,Code!$B$51:$D$55,3,FALSE))","v":1},null," d",null,null," ",{"$f":"HLOOKUP(Report!BA99,Homework!$I$2:$L$3,2,FALSE)","v":{"$error":"#N/A"}},{"$error":"#N/A"},{"$f":"IF(BA99=0,\"\",BC99+VLOOKUP(BA99,Code!$B$2:$C$6,2,FALSE))","v":{"$error":"#N/A"}},{"$f":"IF(AND(VLOOKUP(BD99,Homework!D:J,2,FALSE)=\"'s \",RIGHT(G99,1)=\"s\"),\"' \",IF(VLOOKUP(BD99,Homework!D:J,2,FALSE)=\"'s \",\"'s \",\" \"))","v":{"$error":"#N/A"}},{"$f":"IF(BA99=0,\"\",IF(I99=\"F\",\" \"&G99&BE99&VLOOKUP(BD99,Homework!D:J,3,FALSE),\" \"&G99&BE99&VLOOKUP(BD99,Homework!D:J,5,FALSE)))","v":{"$error":"#N/A"}},null,null,null,null,null,null,null,null," ",{"$f":"VLOOKUP(BO99,Code!$B$45:$D$48,2,FALSE)","v":{"$error":"#N/A"}},{"$f":"VLOOKUP(BO99,Code!$B$45:$D$48,3,FALSE)","v":{"$error":"#N/A"}},{"$error":"#N/A"},null,"pen","pencil","ruler",null,null,"",""," ",null,91,{"$f":"HLOOKUP(Report!CC99,Behaviour!$H$2:$K$3,2,FALSE)","v":{"$error":"#N/A"}},{"$error":"#N/A"},{"$f":"CE99+VLOOKUP(CC99,Code!$B$2:$C$6,2,FALSE)","v":{"$error":"#N/A"}},{"$f":"IF(CC99=0,\"\",IF(I99=\"F\",AC99&\" \"&VLOOKUP(CF99,Behaviour!D:I,2,FALSE)&\" \",AC99&\" \"&VLOOKUP(CF99,Behaviour!D:I,4,FALSE)&\" \"))","v":{"$error":"#N/A"}},null,null," ",null,{"$f":"IF(CJ99=0,\"\",VLOOKUP(CJ99,Code!$B$59:$D$61,2,FALSE))","v":{"$error":"#N/A"}},{"$f":"IF(CJ99=0,\"\",VLOOKUP(CJ99,Code!$B$59:$D$61,3,FALSE))","v":{"$error":"#N/A"}},{"$error":"#N/A"},{"$error":"#N/A"},{"$error":"#N/A"},{"$error":"#N/A"},"",null,null,"",null,null,"",{"$error":"#VALUE!"},null,null," ",{"$error":"#VALUE!"},{"$f":"VLOOKUP(Report!DC99,Code!$B$24:$C$32,2,FALSE)","v":{"$error":"#VALUE!"}},{"$f":"VLOOKUP(Report!DC99,Code!$B$24:$D$32,3,FALSE)","v":{"$error":"#VALUE!"}},{"$error":"#VALUE!"},{"$error":"#VALUE!"},{"$error":"#VALUE!"},null,null,null,null,null,null," ",{"$f":"VLOOKUP(Report!DO99,Code!$B$40:$D$42,2,FALSE)","v":{"$error":"#N/A"}},{"$f":"VLOOKUP(Report!DO99,Code!$B$40:$D$42,3,FALSE)","v":{"$error":"#N/A"}},{"$error":"#N/A"},null,{"$error":"#N/A"},"number","number","number","",null,null,null,null,"",""]
[null,null,null,null,null,null,null,null,null,null,null,null,null,null,null,null,null,null,null,null,"Type_2",null,{"$error":"#N/A"},null,{"$error":"#N/A"},{"$error":"#N/A"},null,"he","He","his","His",null,null," ",{"$f":"HLOOKUP(Report!AH100,Person!$H$2:$L$3,2,FALSE)","v":{"$error":"#N/A"}},{"$error":"#N/A"},{"$f":"IF(AH100=0,\"\",AJ100+VLOOKUP(AH100,Code!$B$2:$C$6,2,FALSE))","v":{"$error":"#N/A"}},{"$f":"IF(AH100=0,\"\",IF(I100=\"F\",G100&\" \"&VLOOKUP(AK100,Person!D:I,2,FALSE),G100&\" \"&VLOOKUP(AK100,Person!D:I,4,FALSE)))","v":{"$error":"#N/A"}},null,null,null,null,null,null,null,2,{"$f":"VLOOKUP(AT100,Code!$B$51:$D$55,2,FALSE)","v":"Behaviour_1"},{"$f":"RANDBETWEEN(1,VLOOKUP(AT100,Code!$B$51:$D$55,3,FALSE))","v":1},null," d",null,null," ",{"$f":"HLOOKUP(Report!BA100,Homework!$I$2:$L$3,2,FALSE)","v":{"$error":"#N/A"}},{"$error":"#N/A"},{"$f":"IF(BA100=0,\"\",BC100+VLOOKUP(BA100,Code!$B$2:$C$6,2,FALSE))","v":{"$error":"#N/A"}},{"$f":"IF(AND(VLOOKUP(BD100,Homework!D:J,2,FALSE)=\"'s \",RIGHT(G100,1)=\"s\"),\"' \",IF(VLOOKUP(BD100,Homework!D:J,2,FALSE)=\"'s \",\"'s \",\" \"))","v":{"$error":"#N/A"}},{"$f":"IF(BA100=0,\"\",IF(I100=\"F\",\" \"&G100&BE100&VLOOKUP(BD100,Homework!D:J,3,FALSE),\" \"&G100&BE100&VLOOKUP(BD100,Homework!D:J,5,FALSE)))","v":{"$error":"#N/A"}},null,null,null,null,null,null,null,null," ",{"$f":"VLOOKUP(BO100,Code!$B$45:$D$48,2,FALSE)","v":{"$error":"#N/A"}},{"$f":"VLOOKUP(BO100,Code!$B$45:$D$48,3,FALSE)","v":{"$error":"#N/A"}},{"$error":"#N/A"},null,"pen","pencil","ruler",null,null,"",""," ",null,92,{"$f":"HLOOKUP(Report!CC100,Behaviour!$H$2:$K$3,2,FALSE)","v":{"$error":"#N/A"}},{"$error":"#N/A"},{"$f":"CE100+VLOOKUP(CC100,Code!$B$2:$C$6,2,FALSE)","v":{"$error":"#N/A"}},{"$f":"IF(CC100=0,\"\",IF(I100=\"F\",AC100&\" \"&VLOOKUP(CF100,Behaviour!D:I,2,FALSE)&\" \",AC100&\" \"&VLOOKUP(CF100,Behaviour!D:I,4,FALSE)&\" \"))","v":{"$error":"#N/A"}},null,null," ",null,{"$f":"IF(CJ100=0,\"\",VLOOKUP(CJ100,Code!$B$59:$D$61,2,FALSE))","v":{"$error":"#N/A"}},{"$f":"IF(CJ100=0,\"\",VLOOKUP(CJ100,Code!$B$59:$D$61,3,FALSE))","v":{"$error":"#N/A"}},{"$error":"#N/A"},{"$error":"#N/A"},{"$error":"#N/A"},{"$error":"#N/A"},"",null,null,"",null,null,"",{"$error":"#VALUE!"},null,null," ",{"$error":"#VALUE!"},{"$f":"VLOOKUP(Report!DC100,Code!$B$24:$C$32,2,FALSE)","v":{"$error":"#VALUE!"}},{"$f":"VLOOKUP(Report!DC100,Code!$B$24:$D$32,3,FALSE)","v":{"$error":"#VALUE!"}},{"$error":"#VALUE!"},{"$error":"#VALUE!"},{"$error":"#VALUE!"},null,null,null,null,null,null," ",{"$f":"VLOOKUP(Report!DO100,Code!$B$40:$D$42,2,FALSE)","v":{"$error":"#N/A"}},{"$f":"VLOOKUP(Report!DO100,Code!$B$40:$D$42,3,FALSE)","v":{"$error":"#N/A"}},{"$error":"#N/A"},null,{"$error":"#N/A"},"number","number","number","",null,null,null,null,"",""]
[null,null,null,null,null,null,null,null,null,null,null,null,null,null,null,null,null,null,null,null,"Type_2",null,{"$error":"#N/A"},null,{"$error":"#N/A"},{"$error":"#N/A"},null,"he","He","his","His",null,null," ",{"$f":"HLOOKUP(Report!AH101,Person!$H$2:$L$3,2,FALSE)","v":{"$error":"#N/A"}},{"$error":"#N/A"},{"$f":"IF(AH101=0,\"\",AJ101+VLOOKUP(AH101,Code!$B$2:$C$6,2,FALSE))","v":{"$error":"#N/A"}},{"$f":"IF(AH101=0,\"\",IF(I101=\"F\",G101&\" \"&VLOOKUP(AK101,Person!D:I,2,FALSE),G101&\" \"&VLOOKUP(AK101,Person!D:I,4,FALSE)))","v":{"$error":"#N/A"}},null,null,null,null,null,null,null,2,{"$f":"VLOOKUP(AT101,Code!$B$51:$D$55,2,FALSE)","v":"Behaviour_1"},{"$f":"RANDBETWEEN(1,VLOOKUP(AT101,Code!$B$51:$D$55,3,FALSE))","v":1},null," d",null,null," ",{"$f":"HLOOKUP(Report!BA101,Homework!$I$2:$L$3,2,FALSE)","v":{"$error":"#N/A"}},{"$error":"#N/A"},{"$f":"IF(BA101=0,\"\",BC101+VLOOKUP(BA101,Code!$B$2:$C$6,2,FALSE))","v":{"$error":"#N/A"}},{"$f":"IF(AND(VLOOKUP(BD101,Homework!D:J,2,FALSE)=\"'s \",RIGHT(G101,1)=\"s\"),\"' \",IF(VLOOKUP(BD101,Homework!D:J,2,FALSE)=\"'s \",\"'s \",\" \"))","v":{"$error":"#N/A"}},{"$f":"IF(BA101=0,\"\",IF(I101=\"F\",\" \"&G101&BE101&VLOOKUP(BD101,Homework!D:J,3,FALSE),\" \"&G101&BE101&VLOOKUP(BD101,Homework!D:J,5,FALSE)))","v":{"$error":"#N/A"}},null,null,null,null,null,null,null,null," ",{"$f":"VLOOKUP(BO101,Code!$B$45:$D$48,2,FALSE)","v":{"$error":"#N/A"}},{"$f":"VLOOKUP(BO101,Code!$B$45:$D$48,3,FALSE)","v":{"$error":"#N/A"}},{"$error":"#N/A"},null,"pen","pencil","ruler",null,null,"",""," ",null,93,{"$f":"HLOOKUP(Report!CC101,Behaviour!$H$2:$K$3,2,FALSE)","v":{"$error":"#N/A"}},{"$error":"#N/A"},{"$f":"CE101+VLOOKUP(CC101,Code!$B$2:$C$6,2,FALSE)","v":{"$error":"#N/A"}},{"$f":"IF(CC101=0,\"\",IF(I101=\"F\",AC101&\" \"&VLOOKUP(CF101,Behaviour!D:I,2,FALSE)&\" \",AC101&\" \"&VLOOKUP(CF101,Behaviour!D:I,4,FALSE)&\" \"))","v":{"$error":"#N/A"}},null,null," ",null,{"$f":"IF(CJ101=0,\"\",VLOOKUP(CJ101,Code!$B$59:$D$61,2,FALSE))","v":{"$error":"#N/A"}},{"$f":"IF(CJ101=0,\"\",VLOOKUP(CJ101,Code!$B$59:$D$61,3,FALSE))","v":{"$error":"#N/A"}},{"$error":"#N/A"},{"$error":"#N/A"},{"$error":"#N/A"},{"$error":"#N/A"},"",null,null,"",null,null,"",{"$error":"#VALUE!"},null,null," ",{"$error":"#VALUE!"},{"$f":"VLOOKUP(Report!DC101,Code!$B$24:$C$32,2,FALSE)","v":{"$error":"#VALUE!"}},{"$f":"VLOOKUP(Report!DC101,Code!$B$24:$D$32,3,FALSE)","v":{"$error":"#VALUE!"}},{"$error":"#VALUE!"},{"$error":"#VALUE!"},{"$error":"#VALUE!"},null,null,null,null,null,null," ",{"$f":"VLOOKUP(Report!DO101,Code!$B$40:$D$42,2,FALSE)","v":{"$error":"#N/A"}},{"$f":"VLOOKUP(Report!DO101,Code!$B$40:$D$42,3,FALSE)","v":{"$error":"#N/A"}},{"$error":"#N/A"},null,{"$error":"#N/A"},"number","number","number","",null,null,null,null,"",""]
[null,null,null,null,null,null,null,null,null,null,null,null,null,null,null,null,null,null,null,null,"Type_2",null,{"$error":"#N/A"},null,{"$error":"#N/A"},{"$error":"#N/A"},null,"he","He","his","His",null,null," ",{"$f":"HLOOKUP(Report!AH102,Person!$H$2:$L$3,2,FALSE)","v":{"$error":"#N/A"}},{"$error":"#N/A"},{"$f":"IF(AH102=0,\"\",AJ102+VLOOKUP(AH102,Code!$B$2:$C$6,2,FALSE))","v":{"$error":"#N/A"}},{"$f":"IF(AH102=0,\"\",IF(I102=\"F\",G102&\" \"&VLOOKUP(AK102,Person!D:I,2,FALSE),G102&\" \"&VLOOKUP(AK102,Person!D:I,4,FALSE)))","v":{"$error":"#N/A"}},null,null,null,null,null,null,null,2,{"$f":"VLOOKUP(AT102,Code!$B$51:$D$55,2,FALSE)","v":"Behaviour_1"},{"$f":"RANDBETWEEN(1,VLOOKUP(AT102,Code!$B$51:$D$55,3,FALSE))","v":1},null," d",null,null," ",{"$f":"HLOOKUP(Report!BA102,Homework!$I$2:$L$3,2,FALSE)","v":{"$error":"#N/A"}},{"$error":"#N/A"},{"$f":"IF(BA102=0,\"\",BC102+VLOOKUP(BA102,Code!$B$2:$C$6,2,FALSE))","v":{"$error":"#N/A"}},{"$f":"IF(AND(VLOOKUP(BD102,Homework!D:J,2,FALSE)=\"'s \",RIGHT(G102,1)=\"s\"),\"' \",IF(VLOOKUP(BD102,Homework!D:J,2,FALSE)=\"'s \",\"'s \",\" \"))","v":{"$error":"#N/A"}},{"$f":"IF(BA102=0,\"\",IF(I102=\"F\",\" \"&G102&BE102&VLOOKUP(BD102,Homework!D:J,3,FALSE),\" \"&G102&BE102&VLOOKUP(BD102,Homework!D:J,5,FALSE)))","v":{"$error":"#N/A"}},null,null,null,null,null,null,null,null," ",{"$f":"VLOOKUP(BO102,Code!$B$45:$D$48,2,FALSE)","v":{"$error":"#N/A"}},{"$f":"VLOOKUP(BO102,Code!$B$45:$D$48,3,FALSE)","v":{"$error":"#N/A"}},{"$error":"#N/A"},null,"pen","pencil","ruler",null,null,"",""," ",null,94,{"$f":"HLOOKUP(Report!CC102,Behaviour!$H$2:$K$3,2,FALSE)","v":{"$error":"#N/A"}},{"$error":"#N/A"},{"$f":"CE102+VLOOKUP(CC102,Code!$B$2:$C$6,2,FALSE)","v":{"$error":"#N/A"}},{"$f":"IF(CC102=0,\"\",IF(I102=\"F\",AC102&\" \"&VLOOKUP(CF102,Behaviour!D:I,2,FALSE)&\" \",AC102&\" \"&VLOOKUP(CF102,Behaviour!D:I,4,FALSE)&\" \"))","v":{"$error":"#N/A"}},null,null," ",null,{"$f":"IF(CJ102=0,\"\",VLOOKUP(CJ102,Code!$B$59:$D$61,2,FALSE))","v":{"$error":"#N/A"}},{"$f":"IF(CJ102=0,\"\",VLOOKUP(CJ102,Code!$B$59:$D$61,3,FALSE))","v":{"$error":"#N/A"}},{"$error":"#N/A"},{"$error":"#N/A"},{"$error":"#N/A"},{"$error":"#N/A"},"",null,null,"",null,null,"",{"$error":"#VALUE!"},null,null," ",{"$error":"#VALUE!"},{"$f":"VLOOKUP(Report!DC102,Code!$B$24:$C$32,2,FALSE)","v":{"$error":"#VALUE!"}},{"$f":"VLOOKUP(Report!DC102,Code!$B$24:$D$32,3,FALSE)","v":{"$error":"#VALUE!"}},{"$error":"#VALUE!"},{"$error":"#VALUE!"},{"$error":"#VALUE!"},null,null,null,null,null,null," ",{"$f":"VLOOKUP(Report!DO102,Code!$B$40:$D$42,2,FALSE)","v":{"$error":"#N/A"}},{"$f":"VLOOKUP(Report!DO102,Code!$B$40:$D$42,3,FALSE)","v":{"$error":"#N/A"}},{"$error":"#N/A"},null,{"$error":"#N/A"},"number","number","number","",null,null,null,null,"",""]
[null,null,null,null,null,null,null,null,null,null,null,null,null,null,null,null,null,null,null,null,"Type_2",null,{"$error":"#N/A"},null,{"$error":"#N/A"},{"$error":"#N/A"},null,"he","He","his","His",null,null," ",{"$f":"HLOOKUP(Report!AH103,Person!$H$2:$L$3,2,FALSE)","v":{"$error":"#N/A"}},{"$error":"#N/A"},{"$f":"IF(AH103=0,\"\",AJ103+VLOOKUP(AH103,Code!$B$2:$C$6,2,FALSE))","v":{"$error":"#N/A"}},{"$f":"IF(AH103=0,\"\",IF(I103=\"F\",G103&\" \"&VLOOKUP(AK103,Person!D:I,2,FALSE),G103&\" \"&VLOOKUP(AK103,Person!D:I,4,FALSE)))","v":{"$error":"#N/A"}},null,null,null,null,null,null,null,2,{"$f":"VLOOKUP(AT103,Code!$B$51:$D$55,2,FALSE)","v":"Behaviour_1"},{"$f":"RANDBETWEEN(1,VLOOKUP(AT103,Code!$B$51:$D$55,3,FALSE))","v":1},null," d",null,null," ",{"$f":"HLOOKUP(Report!BA103,Homework!$I$2:$L$3,2,FALSE)","v":{"$error":"#N/A"}},{"$error":"#N/A"},{"$f":"IF(BA103=0,\"\",BC103+VLOOKUP(BA103,Code!$B$2:$C$6,2,FALSE))","v":{"$error":"#N/A"}},{"$f":"IF(AND(VLOOKUP(BD103,Homework!D:J,2,FALSE)=\"'s \",RIGHT(G103,1)=\"s\"),\"' \",IF(VLOOKUP(BD103,Homework!D:J,2,FALSE)=\"'s \",\"'s \",\" \"))","v":{"$error":"#N/A"}},{"$f":"IF(BA103=0,\"\",IF(I103=\"F\",\" \"&G103&BE103&VLOOKUP(BD103,Homework!D:J,3,FALSE),\" \"&G103&BE103&VLOOKUP(BD103,Homework!D:J,5,FALSE)))","v":{"$error":"#N/A"}},null,null,null,null,null,null,null,null," ",{"$f":"VLOOKUP(BO103,Code!$B$45:$D$48,2,FALSE)","v":{"$error":"#N/A"}},{"$f":"VLOOKUP(BO103,Code!$B$45:$D$48,3,FALSE)","v":{"$error":"#N/A"}},{"$error":"#N/A"},null,"pen","pencil","ruler",null,null,"",""," ",null,95,{"$f":"HLOOKUP(Report!CC103,Behaviour!$H$2:$K$3,2,FALSE)","v":{"$error":"#N/A"}},{"$error":"#N/A"},{"$f":"CE103+VLOOKUP(CC103,Code!$B$2:$C$6,2,FALSE)","v":{"$error":"#N/A"}},{"$f":"IF(CC103=0,\"\",IF(I103=\"F\",AC103&\" \"&VLOOKUP(CF103,Behaviour!D:I,2,FALSE)&\" \",AC103&\" \"&VLOOKUP(CF103,Behaviour!D:I,4,FALSE)&\" \"))","v":{"$error":"#N/A"}},null,null," ",null,{"$f":"IF(CJ103=0,\"\",VLOOKUP(CJ103,Code!$B$59:$D$61,2,FALSE))","v":{"$error":"#N/A"}},{"$f":"IF(CJ103=0,\"\",VLOOKUP(CJ103,Code!$B$59:$D$61,3,FALSE))","v":{"$error":"#N/A"}},{"$error":"#N/A"},{"$error":"#N/A"},{"$error":"#N/A"},{"$error":"#N/A"},"",null,null,"",null,null,"",{"$error":"#VALUE!"},null,null," ",{"$error":"#VALUE!"},{"$f":"VLOOKUP(Report!DC103,Code!$B$24:$C$32,2,FALSE)","v":{"$error":"#VALUE!"}},{"$f":"VLOOKUP(Report!DC103,Code!$B$24:$D$32,3,FALSE)","v":{"$error":"#VALUE!"}},{"$error":"#VALUE!"},{"$error":"#VALUE!"},{"$error":"#VALUE!"},null,null,null,null,null,null," ",{"$f":"VLOOKUP(Report!DO103,Code!$B$40:$D$42,2,FALSE)","v":{"$error":"#N/A"}},{"$f":"VLOOKUP(Report!DO103,Code!$B$40:$D$42,3,FALSE)","v":{"$error":"#N/A"}},{"$error":"#N/A"},null,{"$error":"#N/A"},"number","number","number","",null,null,null,null,"",""]
[null,null,null,null,null,null,null,null,null,null,null,null,null,null,null,null,null,null,null,null,"Type_2",null,{"$error":"#N/A"},null,{"$error":"#N/A"},{"$error":"#N/A"},null,"he","He","his","His",null,null," ",{"$f":"HLOOKUP(Report!AH104,Person!$H$2:$L$3,2,FALSE)","v":{"$error":"#N/A"}},{"$error":"#N/A"},{"$f":"IF(AH104=0,\"\",AJ104+VLOOKUP(AH104,Code!$B$2:$C$6,2,FALSE))","v":{"$error":"#N/A"}},{"$f":"IF(AH104=0,\"\",IF(I104=\"F\",G104&\" \"&VLOOKUP(AK104,Person!D:I,2,FALSE),G104&\" \"&VLOOKUP(AK104,Person!D:I,4,FALSE)))","v":{"$error":"#N/A"}},null,null,null,null,null,null,null,2,{"$f":"VLOOKUP(AT104,Code!$B$51:$D$55,2,FALSE)","v":"Behaviour_1"},{"$f":"RANDBETWEEN(1,VLOOKUP(AT104,Code!$B$51:$D$55,3,FALSE))","v":2},null," d",null,null," ",{"$f":"HLOOKUP(Report!BA104,Homework!$I$2:$L$3,2,FALSE)","v":{"$error":"#N/A"}},{"$error":"#N/A"},{"$f":"IF(BA104=0,\"\",BC104+VLOOKUP(BA104,Code!$B$2:$C$6,2,FALSE))","v":{"$error":"#N/A"}},{"$f":"IF(AND(VLOOKUP(BD104,Homework!D:J,2,FALSE)=\"'s \",RIGHT(G104,1)=\"s\"),\"' \",IF(VLOOKUP(BD104,Homework!D:J,2,FALSE)=\"'s \",\"'s \",\" \"))","v":{"$error":"#N/A"}},{"$f":"IF(BA104=0,\"\",IF(I104=\"F\",\" \"&G104&BE104&VLOOKUP(BD104,Homework!D:J,3,FALSE),\" \"&G104&BE104&VLOOKUP(BD104,Homework!D:J,5,FALSE)))","v":{"$error":"#N/A"}},null,null,null,null,null,null,null,null," ",{"$f":"VLOOKUP(BO104,Code!$B$45:$D$48,2,FALSE)","v":{"$error":"#N/A"}},{"$f":"VLOOKUP(BO104,Code!$B$45:$D$48,3,FALSE)","v":{"$error":"#N/A"}},{"$error":"#N/A"},null,"pen","pencil","ruler",null,null,"",""," ",null,96,{"$f":"HLOOKUP(Report!CC104,Behaviour!$H$2:$K$3,2,FALSE)","v":{"$error":"#N/A"}},{"$error":"#N/A"},{"$f":"CE104+VLOOKUP(CC104,Code!$B$2:$C$6,2,FALSE)","v":{"$error":"#N/A"}},{"$f":"IF(CC104=0,\"\",IF(I104=\"F\",AC104&\" \"&VLOOKUP(CF104,Behaviour!D:I,2,FALSE)&\" \",AC104&\" \"&VLOOKUP(CF104,Behaviour!D:I,4,FALSE)&\" \"))","v":{"$error":"#N/A"}},null,null," ",null,{"$f":"IF(CJ104=0,\"\",VLOOKUP(CJ104,Code!$B$59:$D$61,2,FALSE))","v":{"$error":"#N/A"}},{"$f":"IF(CJ104=0,\"\",VLOOKUP(CJ104,Code!$B$59:$D$61,3,FALSE))","v":{"$error":"#N/A"}},{"$error":"#N/A"},{"$error":"#N/A"},{"$error":"#N/A"},{"$error":"#N/A"},"",null,null,"",null,null,"",{"$error":"#VALUE!"},null,null," ",{"$error":"#VALUE!"},{"$f":"VLOOKUP(Report!DC104,Code!$B$24:$C$32,2,FALSE)","v":{"$error":"#VALUE!"}},{"$f":"VLOOKUP(Report!DC104,Code!$B$24:$D$32,3,FALSE)","v":{"$error":"#VALUE!"}},{"$error":"#VALUE!"},{"$error":"#VALUE!"},{"$error":"#VALUE!"},null,null,null,null,null,null," ",{"$f":"VLOOKUP(Report!DO104,Code!$B$40:$D$42,2,FALSE)","v":{"$error":"#N/A"}},{"$f":"VLOOKUP(Report!DO104,Code!$B$40:$D$42,3,FALSE)","v":{"$error":"#N/A"}},{"$error":"#N/A"},null,{"$error":"#N/A"},"number","number","number","",null,null,null,null,"",""]
[null,null,null,null,null,null,null,null,null,null,null,null,null,null,null,null,null,null,null,null,"Type_2",null,{"$error":"#N/A"},null,{"$error":"#N/A"},{"$error":"#N/A"},null,{"$f":"IF(I105=\"F\",\"she\",\"he\")","v":"he"},{"$f":"IF(I105=\"F\",\"She\",\"He\")","v":"He"},{"$f":"IF(I105=\"F\",\"her\",\"his\")","v":"his"},{"$f":"IF(I105=\"F\",\"Her\",\"His\")","v":"His"},null,null," ",{"$f":"HLOOKUP(Report!AH105,Person!$H$2:$L$3,2,FALSE)","v":{"$error":"#N/A"}},{"$error":"#N/A"},{"$f":"IF(AH105=0,\"\",AJ105+VLOOKUP(AH105,Code!$B$2:$C$6,2,FALSE))","v":{"$error":"#N/A"}},{"$f":"IF(AH105=0,\"\",IF(I105=\"F\",G105&\" \"&VLOOKUP(AK105,Person!D:I,2,FALSE),G105&\" \"&VLOOKUP(AK105,Person!D:I,4,FALSE)))","v":{"$error":"#N/A"}},null,null,null,null,null,null,null,2,{"$f":"VLOOKUP(AT105,Code!$B$51:$D$55,2,FALSE)","v":"Behaviour_1"},{"$f":"RANDBETWEEN(1,VLOOKUP(AT105,Code!$B$51:$D$55,3,FALSE))","v":1},null,{"$f":"IF(AT105=0,\"\",IF(I105=\"F\",\" \"&VLOOKUP(AV105,INDIRECT(AU105),2,FALSE),\" \"&VLOOKUP(AV105,INDIRECT(AU105),4,FALSE)))","v":" d"},null,null," ",{"$f":"HLOOKUP(Report!BA105,Homework!$I$2:$L$3,2,FALSE)","v":{"$error":"#N/A"}},{"$error":"#N/A"},{"$f":"IF(BA105=0,\"\",BC105+VLOOKUP(BA105,Code!$B$2:$C$6,2,FALSE))","v":{"$error":"#N/A"}},{"$f":"IF(AND(VLOOKUP(BD105,Homework!D:J,2,FALSE)=\"'s \",RIGHT(G105,1)=\"s\"),\"' \",IF(VLOOKUP(BD105,Homework!D:J,2,FALSE)=\"'s \",\"'s \",\" \"))","v":{"$error":"#N/A"}},{"$f":"IF(BA105=0,\"\",IF(I105=\"F\",\" \"&G105&BE105&VLOOKUP(BD105,Homework!D:J,3,FALSE),\" \"&G105&BE105&VLOOKUP(BD105,Homework!D:J,5,FALSE)))","v":{"$error":"#N/A"}},null,null,null,null,null,null,null,null," ",{"$f":"VLOOKUP(BO105,Code!$B$45:$D$48,2,FALSE)","v":{"$error":"#N/A"}},{"$f":"VLOOKUP(BO105,Code!$B$45:$D$48,3,FALSE)","v":{"$error":"#N/A"}},{"$error":"#N/A"},null,"pen","pencil","ruler",null,null,"","",{"$f":"IF(BO105=0,\"\",IF(I105=\"F\",\" \"&BY105,\" \"&BZ105))","v":" "},null,97,{"$f":"HLOOKUP(Report!CC105,Behaviour!$H$2:$K$3,2,FALSE)","v":{"$error":"#N/A"}},{"$error":"#N/A"},{"$f":"CE105+VLOOKUP(CC105,Code!$B$2:$C$6,2,FALSE)","v":{"$error":"#N/A"}},{"$f":"IF(CC105=0,\"\",IF(I105=\"F\",AC105&\" \"&VLOOKUP(CF105,Behaviour!D:I,2,FALSE)&\" \",AC105&\" \"&VLOOKUP(CF105,Behaviour!D:I,4,FALSE)&\" \"))","v":{"$error":"#N/A"}},null,null," ",null,{"$f":"IF(CJ105=0,\"\",VLOOKUP(CJ105,Code!$B$59:$D$61,2,FALSE))","v":{"$error":"#N/A"}},{"$f":"IF(CJ105=0,\"\",VLOOKUP(CJ105,Code!$B$59:$D$61,3,FALSE))","v":{"$error":"#N/A"}},{"$error":"#N/A"},{"$f":"IF(I105=\"F\",VLOOKUP(CN105,INDIRECT(CL105),2,FALSE),VLOOKUP(CN105,INDIRECT(CL105),5,FALSE))","v":{"$error":"#N/A"}},{"$f":"IF(I105=\"F\",VLOOKUP(CN105,INDIRECT(CL105),3,FALSE),VLOOKUP(CN105,INDIRECT(CL105),6,FALSE))","v":{"$error":"#N/A"}},{"$error":"#N/A"},"",null,null,"",null,null,"",{"$error":"#VALUE!"},null,null," ",{"$error":"#VALUE!"},{"$f":"VLOOKUP(Report!DC105,Code!$B$24:$C$32,2,FALSE)","v":{"$error":"#VALUE!"}},{"$f":"VLOOKUP(Report!DC105,Code!$B$24:$D$32,3,FALSE)","v":{"$error":"#VALUE!"}},{"$error":"#VALUE!"},{"$f":"IF(AND(VLOOKUP(DF105,INDIRECT(DD105),2,FALSE)=\"'s \",RIGHT(G105,1)=\"s\"),\"' \",IF(VLOOKUP(DF105,INDIRECT(DD105),2,FALSE)=\"'s \",\"'s \",\"\"))","v":{"$error":"#VALUE!"}},{"$f":"\" \"&IF(DB105=0,\"\",IF(I105=\"F\",G105&DG105&VLOOKUP(DF105,INDIRECT(DD105),3,FALSE),G105&DG105&VLOOKUP(DF105,INDIRECT(DD105),5,FALSE)))","v":{"$error":"#VALUE!"}},null,null,null,null,null,null," ",{"$f":"VLOOKUP(Report!DO105,Code!$B$40:$D$42,2,FALSE)","v":{"$error":"#N/A"}},{"$f":"VLOOKUP(Report!DO105,Code!$B$40:$D$42,3,FALSE)","v":{"$error":"#N/A"}},{"$error":"#N/A"},null,{"$error":"#N/A"},"number","number","number","",null,null,null,null,{"$f":"IF(LEN(G105)<1,\"\",IF(OR(I105=\"F\",I105=\"M\"),(IF(ISERROR(AL105&AX105&BF105&CA105&CR105&DH105&DX105),\"\",AL105&AX105&BF105&CA105&CR105&DH105&DX105)),\"\"))","v":""},""]
[null,null,null,null,null,null,null,null,null,null,null,null,null,null,null,null,null,null,null,null,"Type_2",null,{"$error":"#N/A"},null,{"$error":"#N/A"},{"$error":"#N/A"},null,"he","He","his","His",null,null," ",{"$f":"HLOOKUP(Report!AH106,Person!$H$2:$L$3,2,FALSE)","v":{"$error":"#N/A"}},{"$error":"#N/A"},{"$f":"IF(AH106=0,\"\",AJ106+VLOOKUP(AH106,Code!$B$2:$C$6,2,FALSE))","v":{"$error":"#N/A"}},{"$f":"IF(AH106=0,\"\",IF(I106=\"F\",G106&\" \"&VLOOKUP(AK106,Person!D:I,2,FALSE),G106&\" \"&VLOOKUP(AK106,Person!D:I,4,FALSE)))","v":{"$error":"#N/A"}},null,null,null,null,null,null,null,2,{"$f":"VLOOKUP(AT106,Code!$B$51:$D$55,2,FALSE)","v":"Behaviour_1"},{"$f":"RANDBETWEEN(1,VLOOKUP(AT106,Code!$B$51:$D$55,3,FALSE))","v":1},null," d",null,null," ",{"$f":"HLOOKUP(Report!BA106,Homework!$I$2:$L$3,2,FALSE)","v":{"$error":"#N/A"}},{"$error":"#N/A"},{"$f":"IF(BA106=0,\"\",BC106+VLOOKUP(BA106,Code!$B$2:$C$6,2,FALSE))","v":{"$error":"#N/A"}},{"$f":"IF(AND(VLOOKUP(BD106,Homework!D:J,2,FALSE)=\"'s \",RIGHT(G106,1)=\"s\"),\"' \",IF(VLOOKUP(BD106,Homework!D:J,2,FALSE)=\"'s \",\"'s \",\" \"))","v":{"$error":"#N/A"}},{"$f":"IF(BA106=0,\"\",IF(I106=\"F\",\" \"&G106&BE106&VLOOKUP(BD106,Homework!D:J,3,FALSE),\" \"&G106&BE106&VLOOKUP(BD106,Homework!D:J,5,FALSE)))","v":{"$error":"#N/A"}},null,null,null,null,null,null,null,null," ",{"$f":"VLOOKUP(BO106,Code!$B$45:$D$48,2,FALSE)","v":{"$error":"#N/A"}},{"$f":"VLOOKUP(BO106,Code!$B$45:$D$48,3,FALSE)","v":{"$error":"#N/A"}},{"$error":"#N/A"},null,"pen","pencil","ruler",null,null,"",""," ",null,98,{"$f":"HLOOKUP(Report!CC106,Behaviour!$H$2:$K$3,2,FALSE)","v":{"$error":"#N/A"}},{"$error":"#N/A"},{"$f":"CE106+VLOOKUP(CC106,Code!$B$2:$C$6,2,FALSE)","v":{"$error":"#N/A"}},{"$f":"IF(CC106=0,\"\",IF(I106=\"F\",AC106&\" \"&VLOOKUP(CF106,Behaviour!D:I,2,FALSE)&\" \",AC106&\" \"&VLOOKUP(CF106,Behaviour!D:I,4,FALSE)&\" \"))","v":{"$error":"#N/A"}},null,null," ",null,{"$f":"IF(CJ106=0,\"\",VLOOKUP(CJ106,Code!$B$59:$D$61,2,FALSE))","v":{"$error":"#N/A"}},{"$f":"IF(CJ106=0,\"\",VLOOKUP(CJ106,Code!$B$59:$D$61,3,FALSE))","v":{"$error":"#N/A"}},{"$error":"#N/A"},{"$error":"#N/A"},{"$error":"#N/A"},{"$error":"#N/A"},"",null,null,"",null,null,"",{"$error":"#VALUE!"},null,null," ",{"$error":"#VALUE!"},{"$f":"VLOOKUP(Report!DC106,Code!$B$24:$C$32,2,FALSE)","v":{"$error":"#VALUE!"}},{"$f":"VLOOKUP(Report!DC106,Code!$B$24:$D$32,3,FALSE)","v":{"$error":"#VALUE!"}},{"$error":"#VALUE!"},{"$error":"#VALUE!"},{"$error":"#VALUE!"},null,null,null,null,null,null," ",{"$f":"VLOOKUP(Report!DO106,Code!$B$40:$D$42,2,FALSE)","v":{"$error":"#N/A"}},{"$f":"VLOOKUP(Report!DO106,Code!$B$40:$D$42,3,FALSE)","v":{"$error":"#N/A"}},{"$error":"#N/A"},null,{"$error":"#N/A"},"number","number","number","",null,null,null,null,"",""]
[null,null,null,null,null,null,null,null,null,null,null,null,null,null,null,null,null,null,null,null,"Type_2",null,{"$error":"#N/A"},null,{"$error":"#N/A"},{"$error":"#N/A"},null,"he","He","his","His",null,null," ",{"$f":"HLOOKUP(Report!AH107,Person!$H$2:$L$3,2,FALSE)","v":{"$error":"#N/A"}},{"$error":"#N/A"},{"$f":"IF(AH107=0,\"\",AJ107+VLOOKUP(AH107,Code!$B$2:$C$6,2,FALSE))","v":{"$error":"#N/A"}},{"$f":"IF(AH107=0,\"\",IF(I107=\"F\",G107&\" \"&VLOOKUP(AK107,Person!D:I,2,FALSE),G107&\" \"&VLOOKUP(AK107,Person!D:I,4,FALSE)))","v":{"$error":"#N/A"}},null,null,null,null,null,null,null,2,{"$f":"VLOOKUP(AT107,Code!$B$51:$D$55,2,FALSE)","v":"Behaviour_1"},{"$f":"RANDBETWEEN(1,VLOOKUP(AT107,Code!$B$51:$D$55,3,FALSE))","v":1},null," d",null,null," ",{"$f":"HLOOKUP(Report!BA107,Homework!$I$2:$L$3,2,FALSE)","v":{"$error":"#N/A"}},{"$error":"#N/A"},{"$f":"IF(BA107=0,\"\",BC107+VLOOKUP(BA107,Code!$B$2:$C$6,2,FALSE))","v":{"$error":"#N/A"}},{"$f":"IF(AND(VLOOKUP(BD107,Homework!D:J,2,FALSE)=\"'s \",RIGHT(G107,1)=\"s\"),\"' \",IF(VLOOKUP(BD107,Homework!D:J,2,FALSE)=\"'s \",\"'s \",\" \"))","v":{"$error":"#N/A"}},{"$f":"IF(BA107=0,\"\",IF(I107=\"F\",\" \"&G107&BE107&VLOOKUP(BD107,Homework!D:J,3,FALSE),\" \"&G107&BE107&VLOOKUP(BD107,Homework!D:J,5,FALSE)))","v":{"$error":"#N/A"}},null,null,null,null,null,null,null,null," ",{"$f":"VLOOKUP(BO107,Code!$B$45:$D$48,2,FALSE)","v":{"$error":"#N/A"}},{"$f":"VLOOKUP(BO107,Code!$B$45:$D$48,3,FALSE)","v":{"$error":"#N/A"}},{"$error":"#N/A"},null,"pen","pencil","ruler",null,null,"",""," ",null,99,{"$f":"HLOOKUP(Report!CC107,Behaviour!$H$2:$K$3,2,FALSE)","v":{"$error":"#N/A"}},{"$error":"#N/A"},{"$f":"CE107+VLOOKUP(CC107,Code!$B$2:$C$6,2,FALSE)","v":{"$error":"#N/A"}},{"$f":"IF(CC107=0,\"\",IF(I107=\"F\",AC107&\" \"&VLOOKUP(CF107,Behaviour!D:I,2,FALSE)&\" \",AC107&\" \"&VLOOKUP(CF107,Behaviour!D:I,4,FALSE)&\" \"))","v":{"$error":"#N/A"}},null,null," ",null,{"$f":"IF(CJ107=0,\"\",VLOOKUP(CJ107,Code!$B$59:$D$61,2,FALSE))","v":{"$error":"#N/A"}},{"$f":"IF(CJ107=0,\"\",VLOOKUP(CJ107,Code!$B$59:$D$61,3,FALSE))","v":{"$error":"#N/A"}},{"$error":"#N/A"},{"$error":"#N/A"},{"$error":"#N/A"},{"$error":"#N/A"},"",null,null,"",null,null,"",{"$error":"#VALUE!"},null,null," ",{"$error":"#VALUE!"},{"$f":"VLOOKUP(Report!DC107,Code!$B$24:$C$32,2,FALSE)","v":{"$error":"#VALUE!"}},{"$f":"VLOOKUP(Report!DC107,Code!$B$24:$D$32,3,FALSE)","v":{"$error":"#VALUE!"}},{"$error":"#VALUE!"},{"$error":"#VALUE!"},{"$error":"#VALUE!"},null,null,null,null,null,null," ",{"$f":"VLOOKUP(Report!DO107,Code!$B$40:$D$42,2,FALSE)","v":{"$error":"#N/A"}},{"$f":"VLOOKUP(Report!DO107,Code!$B$40:$D$42,3,FALSE)","v":{"$error":"#N/A"}},{"$error":"#N/A"},null,{"$error":"#N/A"},"number","number","number","",null,null,null,null,"",""]
[null,null,null,null,null,null,null,null,null,null,null,null,null,null,null,null,null,null,null,null,"Type_2",null,{"$error":"#N/A"},null,{"$error":"#N/A"},{"$error":"#N/A"},null,"he","He","his","His",null,null," ",{"$f":"HLOOKUP(Report!AH108,Person!$H$2:$L$3,2,FALSE)","v":{"$error":"#N/A"}},{"$error":"#N/A"},{"$f":"IF(AH108=0,\"\",AJ108+VLOOKUP(AH108,Code!$B$2:$C$6,2,FALSE))","v":{"$error":"#N/A"}},{"$f":"IF(AH108=0,\"\",IF(I108=\"F\",G108&\" \"&VLOOKUP(AK108,Person!D:I,2,FALSE),G108&\" \"&VLOOKUP(AK108,Person!D:I,4,FALSE)))","v":{"$error":"#N/A"}},null,null,null,null,null,null,null,2,{"$f":"VLOOKUP(AT108,Code!$B$51:$D$55,2,FALSE)","v":"Behaviour_1"},{"$f":"RANDBETWEEN(1,VLOOKUP(AT108,Code!$B$51:$D$55,3,FALSE))","v":2},null," d",null,null," ",{"$f":"HLOOKUP(Report!BA108,Homework!$I$2:$L$3,2,FALSE)","v":{"$error":"#N/A"}},{"$error":"#N/A"},{"$f":"IF(BA108=0,\"\",BC108+VLOOKUP(BA108,Code!$B$2:$C$6,2,FALSE))","v":{"$error":"#N/A"}},{"$f":"IF(AND(VLOOKUP(BD108,Homework!D:J,2,FALSE)=\"'s \",RIGHT(G108,1)=\"s\"),\"' \",IF(VLOOKUP(BD108,Homework!D:J,2,FALSE)=\"'s \",\"'s \",\" \"))","v":{"$error":"#N/A"}},{"$f":"IF(BA108=0,\"\",IF(I108=\"F\",\" \"&G108&BE108&VLOOKUP(BD108,Homework!D:J,3,FALSE),\" \"&G108&BE108&VLOOKUP(BD108,Homework!D:J,5,FALSE)))","v":{"$error":"#N/A"}},null,null,null,null,null,null,null,null," ",{"$f":"VLOOKUP(BO108,Code!$B$45:$D$48,2,FALSE)","v":{"$error":"#N/A"}},{"$f":"VLOOKUP(BO108,Code!$B$45:$D$48,3,FALSE)","v":{"$error":"#N/A"}},{"$error":"#N/A"},null,"pen","pencil","ruler",null,null,"",""," ",null,100,{"$f":"HLOOKUP(Report!CC108,Behaviour!$H$2:$K$3,2,FALSE)","v":{"$error":"#N/A"}},{"$error":"#N/A"},{"$f":"CE108+VLOOKUP(CC108,Code!$B$2:$C$6,2,FALSE)","v":{"$error":"#N/A"}},{"$f":"IF(CC108=0,\"\",IF(I108=\"F\",AC108&\" \"&VLOOKUP(CF108,Behaviour!D:I,2,FALSE)&\" \",AC108&\" \"&VLOOKUP(CF108,Behaviour!D:I,4,FALSE)&\" \"))","v":{"$error":"#N/A"}},null,null," ",null,{"$f":"IF(CJ108=0,\"\",VLOOKUP(CJ108,Code!$B$59:$D$61,2,FALSE))","v":{"$error":"#N/A"}},{"$f":"IF(CJ108=0,\"\",VLOOKUP(CJ108,Code!$B$59:$D$61,3,FALSE))","v":{"$error":"#N/A"}},{"$error":"#N/A"},{"$error":"#N/A"},{"$error":"#N/A"},{"$error":"#N/A"},"",null,null,"",null,null,"",{"$error":"#VALUE!"},null,null," ",{"$error":"#VALUE!"},{"$f":"VLOOKUP(Report!DC108,Code!$B$24:$C$32,2,FALSE)","v":{"$error":"#VALUE!"}},{"$f":"VLOOKUP(Report!DC108,Code!$B$24:$D$32,3,FALSE)","v":{"$error":"#VALUE!"}},{"$error":"#VALUE!"},{"$error":"#VALUE!"},{"$error":"#VALUE!"},null,null,null,null,null,null," ",{"$f":"VLOOKUP(Report!DO108,Code!$B$40:$D$42,2,FALSE)","v":{"$error":"#N/A"}},{"$f":"VLOOKUP(Report!DO108,Code!$B$40:$D$42,3,FALSE)","v":{"$error":"#N/A"}},{"$error":"#N/A"},null,{"$error":"#N/A"},"number","number","number","",null,null,null,null,"",{"$f":"IF(LEN(G108)<1,\"\",IF(OR(I108=\"F\",I108=\"M\"),(IF(ISERROR(AL108&AX108&BF108&CA108&DH108&DX108),\"\",AL108&AX108&BF108&CA108&DH108&DX108)),\"\"))","v":""}]
[null,null,null,null,null,null,null,null,null,null,null,null,null,null,null,null,null,null,null,null,"Type_2",null,{"$error":"#N/A"},null,{"$error":"#N/A"},{"$error":"#N/A"},null,"he","He","his","His",null,null," ",{"$f":"HLOOKUP(Report!AH109,Person!$H$2:$L$3,2,FALSE)","v":{"$error":"#N/A"}},{"$error":"#N/A"},{"$f":"IF(AH109=0,\"\",AJ109+VLOOKUP(AH109,Code!$B$2:$C$6,2,FALSE))","v":{"$error":"#N/A"}},{"$f":"IF(AH109=0,\"\",IF(I109=\"F\",G109&\" \"&VLOOKUP(AK109,Person!D:I,2,FALSE),G109&\" \"&VLOOKUP(AK109,Person!D:I,4,FALSE)))","v":{"$error":"#N/A"}},null,null,null,null,null,null,null,2,{"$f":"VLOOKUP(AT109,Code!$B$51:$D$55,2,FALSE)","v":"Behaviour_1"},{"$f":"RANDBETWEEN(1,VLOOKUP(AT109,Code!$B$51:$D$55,3,FALSE))","v":1},null," d",null,null," ",{"$f":"HLOOKUP(Report!BA109,Homework!$I$2:$L$3,2,FALSE)","v":{"$error":"#N/A"}},{"$error":"#N/A"},{"$f":"IF(BA109=0,\"\",BC109+VLOOKUP(BA109,Code!$B$2:$C$6,2,FALSE))","v":{"$error":"#N/A"}},{"$f":"IF(AND(VLOOKUP(BD109,Homework!D:J,2,FALSE)=\"'s \",RIGHT(G109,1)=\"s\"),\"' \",IF(VLOOKUP(BD109,Homework!D:J,2,FALSE)=\"'s \",\"'s \",\" \"))","v":{"$error":"#N/A"}},{"$f":"IF(BA109=0,\"\",IF(I109=\"F\",\" \"&G109&BE109&VLOOKUP(BD109,Homework!D:J,3,FALSE),\" \"&G109&BE109&VLOOKUP(BD109,Homework!D:J,5,FALSE)))","v":{"$error":"#N/A"}},null,null,null,null,null,null,null,null," ",{"$f":"VLOOKUP(BO109,Code!$B$45:$D$48,2,FALSE)","v":{"$error":"#N/A"}},{"$f":"VLOOKUP(BO109,Code!$B$45:$D$48,3,FALSE)","v":{"$error":"#N/A"}},{"$error":"#N/A"},null,"pen","pencil","ruler",null,null,"",""," ",null,101,{"$f":"HLOOKUP(Report!CC109,Behaviour!$H$2:$K$3,2,FALSE)","v":{"$error":"#N/A"}},{"$error":"#N/A"},{"$f":"CE109+VLOOKUP(CC109,Code!$B$2:$C$6,2,FALSE)","v":{"$error":"#N/A"}},{"$f":"IF(CC109=0,\"\",IF(I109=\"F\",AC109&\" \"&VLOOKUP(CF109,Behaviour!D:I,2,FALSE)&\" \",AC109&\" \"&VLOOKUP(CF109,Behaviour!D:I,4,FALSE)&\" \"))","v":{"$error":"#N/A"}},null,null," ",null,{"$f":"IF(CJ109=0,\"\",VLOOKUP(CJ109,Code!$B$59:$D$61,2,FALSE))","v":{"$error":"#N/A"}},{"$f":"IF(CJ109=0,\"\",VLOOKUP(CJ109,Code!$B$59:$D$61,3,FALSE))","v":{"$error":"#N/A"}},{"$error":"#N/A"},{"$error":"#N/A"},{"$error":"#N/A"},{"$error":"#N/A"},"",null,null,"",null,null,"",{"$error":"#VALUE!"},null,null," ",{"$error":"#VALUE!"},{"$f":"VLOOKUP(Report!DC109,Code!$B$24:$C$32,2,FALSE)","v":{"$error":"#VALUE!"}},{"$f":"VLOOKUP(Report!DC109,Code!$B$24:$D$32,3,FALSE)","v":{"$error":"#VALUE!"}},{"$error":"#VALUE!"},{"$error":"#VALUE!"},{"$error":"#VALUE!"},null,null,null,null,null,null," ",{"$f":"VLOOKUP(Report!DO109,Code!$B$40:$D$42,2,FALSE)","v":{"$error":"#N/A"}},{"$f":"VLOOKUP(Report!DO109,Code!$B$40:$D$42,3,FALSE)","v":{"$error":"#N/A"}},{"$error":"#N/A"},null,{"$error":"#N/A"},"number","number","number","",null,null,null,null,"",""]
[null,null,null,null,null,null,null,null,null,null,null,null,null,null,null,null,null,null,null,null,"Type_2",null,{"$error":"#N/A"},null,{"$error":"#N/A"},{"$error":"#N/A"},null,"he","He","his","His",null,null," ",{"$f":"HLOOKUP(Report!AH110,Person!$H$2:$L$3,2,FALSE)","v":{"$error":"#N/A"}},{"$error":"#N/A"},{"$f":"IF(AH110=0,\"\",AJ110+VLOOKUP(AH110,Code!$B$2:$C$6,2,FALSE))","v":{"$error":"#N/A"}},{"$f":"IF(AH110=0,\"\",IF(I110=\"F\",G110&\" \"&VLOOKUP(AK110,Person!D:I,2,FALSE),G110&\" \"&VLOOKUP(AK110,Person!D:I,4,FALSE)))","v":{"$error":"#N/A"}},null,null,null,null,null,null,null,2,{"$f":"VLOOKUP(AT110,Code!$B$51:$D$55,2,FALSE)","v":"Behaviour_1"},{"$f":"RANDBETWEEN(1,VLOOKUP(AT110,Code!$B$51:$D$55,3,FALSE))","v":1},null," d",null,null," ",{"$f":"HLOOKUP(Report!BA110,Homework!$I$2:$L$3,2,FALSE)","v":{"$error":"#N/A"}},{"$error":"#N/A"},{"$f":"IF(BA110=0,\"\",BC110+VLOOKUP(BA110,Code!$B$2:$C$6,2,FALSE))","v":{"$error":"#N/A"}},{"$f":"IF(AND(VLOOKUP(BD110,Homework!D:J,2,FALSE)=\"'s \",RIGHT(G110,1)=\"s\"),\"' \",IF(VLOOKUP(BD110,Homework!D:J,2,FALSE)=\"'s \",\"'s \",\" \"))","v":{"$error":"#N/A"}},{"$f":"IF(BA110=0,\"\",IF(I110=\"F\",\" \"&G110&BE110&VLOOKUP(BD110,Homework!D:J,3,FALSE),\" \"&G110&BE110&VLOOKUP(BD110,Homework!D:J,5,FALSE)))","v":{"$error":"#N/A"}},null,null,null,null,null,null,null,null," ",{"$f":"VLOOKUP(BO110,Code!$B$45:$D$48,2,FALSE)","v":{"$error":"#N/A"}},{"$f":"VLOOKUP(BO110,Code!$B$45:$D$48,3,FALSE)","v":{"$error":"#N/A"}},{"$error":"#N/A"},null,"pen","pencil","ruler",null,null,"",""," ",null,102,{"$f":"HLOOKUP(Report!CC110,Behaviour!$H$2:$K$3,2,FALSE)","v":{"$error":"#N/A"}},{"$error":"#N/A"},{"$f":"CE110+VLOOKUP(CC110,Code!$B$2:$C$6,2,FALSE)","v":{"$error":"#N/A"}},{"$f":"IF(CC110=0,\"\",IF(I110=\"F\",AC110&\" \"&VLOOKUP(CF110,Behaviour!D:I,2,FALSE)&\" \",AC110&\" \"&VLOOKUP(CF110,Behaviour!D:I,4,FALSE)&\" \"))","v":{"$error":"#N/A"}},null,null," ",null,{"$f":"IF(CJ110=0,\"\",VLOOKUP(CJ110,Code!$B$59:$D$61,2,FALSE))","v":{"$error":"#N/A"}},{"$f":"IF(CJ110=0,\"\",VLOOKUP(CJ110,Code!$B$59:$D$61,3,FALSE))","v":{"$error":"#N/A"}},{"$error":"#N/A"},{"$error":"#N/A"},{"$error":"#N/A"},{"$error":"#N/A"},"",null,null,"",null,null,"",{"$error":"#VALUE!"},null,null," ",{"$error":"#VALUE!"},{"$f":"VLOOKUP(Report!DC110,Code!$B$24:$C$32,2,FALSE)","v":{"$error":"#VALUE!"}},{"$f":"VLOOKUP(Report!DC110,Code!$B$24:$D$32,3,FALSE)","v":{"$error":"#VALUE!"}},{"$error":"#VALUE!"},{"$error":"#VALUE!"},{"$error":"#VALUE!"},null,null,null,null,null,null," ",{"$f":"VLOOKUP(Report!DO110,Code!$B$40:$D$42,2,FALSE)","v":{"$error":"#N/A"}},{"$f":"VLOOKUP(Report!DO110,Code!$B$40:$D$42,3,FALSE)","v":{"$error":"#N/A"}},{"$error":"#N/A"},null,{"$error":"#N/A"},"number","number","number","",null,null,null,null,"",""]
[null,null,null,null,null,null,null,null,null,null,null,null,null,null,null,null,null,null,null,null,"Type_2",null,{"$error":"#N/A"},null,{"$error":"#N/A"},{"$error":"#N/A"},null,"he","He","his","His",null,null," ",{"$f":"HLOOKUP(Report!AH111,Person!$H$2:$L$3,2,FALSE)","v":{"$error":"#N/A"}},{"$error":"#N/A"},{"$f":"IF(AH111=0,\"\",AJ111+VLOOKUP(AH111,Code!$B$2:$C$6,2,FALSE))","v":{"$error":"#N/A"}},{"$f":"IF(AH111=0,\"\",IF(I111=\"F\",G111&\" \"&VLOOKUP(AK111,Person!D:I,2,FALSE),G111&\" \"&VLOOKUP(AK111,Person!D:I,4,FALSE)))","v":{"$error":"#N/A"}},null,null,null,null,null,null,null,2,{"$f":"VLOOKUP(AT111,Code!$B$51:$D$55,2,FALSE)","v":"Behaviour_1"},{"$f":"RANDBETWEEN(1,VLOOKUP(AT111,Code!$B$51:$D$55,3,FALSE))","v":2},null," d",null,null," ",{"$f":"HLOOKUP(Report!BA111,Homework!$I$2:$L$3,2,FALSE)","v":{"$error":"#N/A"}},{"$error":"#N/A"},{"$f":"IF(BA111=0,\"\",BC111+VLOOKUP(BA111,Code!$B$2:$C$6,2,FALSE))","v":{"$error":"#N/A"}},{"$f":"IF(AND(VLOOKUP(BD111,Homework!D:J,2,FALSE)=\"'s \",RIGHT(G111,1)=\"s\"),\"' \",IF(VLOOKUP(BD111,Homework!D:J,2,FALSE)=\"'s \",\"'s \",\" \"))","v":{"$error":"#N/A"}},{"$f":"IF(BA111=0,\"\",IF(I111=\"F\",\" \"&G111&BE111&VLOOKUP(BD111,Homework!D:J,3,FALSE),\" \"&G111&BE111&VLOOKUP(BD111,Homework!D:J,5,FALSE)))","v":{"$error":"#N/A"}},null,null,null,null,null,null,null,null," ",{"$f":"VLOOKUP(BO111,Code!$B$45:$D$48,2,FALSE)","v":{"$error":"#N/A"}},{"$f":"VLOOKUP(BO111,Code!$B$45:$D$48,3,FALSE)","v":{"$error":"#N/A"}},{"$error":"#N/A"},null,"pen","pencil","ruler",null,null,"",""," ",null,103,{"$f":"HLOOKUP(Report!CC111,Behaviour!$H$2:$K$3,2,FALSE)","v":{"$error":"#N/A"}},{"$error":"#N/A"},{"$f":"CE111+VLOOKUP(CC111,Code!$B$2:$C$6,2,FALSE)","v":{"$error":"#N/A"}},{"$f":"IF(CC111=0,\"\",IF(I111=\"F\",AC111&\" \"&VLOOKUP(CF111,Behaviour!D:I,2,FALSE)&\" \",AC111&\" \"&VLOOKUP(CF111,Behaviour!D:I,4,FALSE)&\" \"))","v":{"$error":"#N/A"}},null,null," ",null,{"$f":"IF(CJ111=0,\"\",VLOOKUP(CJ111,Code!$B$59:$D$61,2,FALSE))","v":{"$error":"#N/A"}},{"$f":"IF(CJ111=0,\"\",VLOOKUP(CJ111,Code!$B$59:$D$61,3,FALSE))","v":{"$error":"#N/A"}},{"$error":"#N/A"},{"$error":"#N/A"},{"$error":"#N/A"},{"$error":"#N/A"},"",null,null,"",null,null,"",{"$error":"#VALUE!"},null,null," ",{"$error":"#VALUE!"},{"$f":"VLOOKUP(Report!DC111,Code!$B$24:$C$32,2,FALSE)","v":{"$error":"#VALUE!"}},{"$f":"VLOOKUP(Report!DC111,Code!$B$24:$D$32,3,FALSE)","v":{"$error":"#VALUE!"}},{"$error":"#VALUE!"},{"$error":"#VALUE!"},{"$error":"#VALUE!"},null,null,null,null,null,null," ",{"$f":"VLOOKUP(Report!DO111,Code!$B$40:$D$42,2,FALSE)","v":{"$error":"#N/A"}},{"$f":"VLOOKUP(Report!DO111,Code!$B$40:$D$42,3,FALSE)","v":{"$error":"#N/A"}},{"$error":"#N/A"},null,{"$error":"#N/A"},"number","number","number","",null,null,null,null,"",""]
[null,null,null,null,null,null,null,null,null,null,null,null,null,null,null,null,null,null,null,null,"Type_2",null,{"$error":"#N/A"},null,{"$error":"#N/A"},{"$error":"#N/A"},null,"he","He","his","His",null,null," ",{"$f":"HLOOKUP(Report!AH112,Person!$H$2:$L$3,2,FALSE)","v":{"$error":"#N/A"}},{"$error":"#N/A"},{"$f":"IF(AH112=0,\"\",AJ112+VLOOKUP(AH112,Code!$B$2:$C$6,2,FALSE))","v":{"$error":"#N/A"}},{"$f":"IF(AH112=0,\"\",IF(I112=\"F\",G112&\" \"&VLOOKUP(AK112,Person!D:I,2,FALSE),G112&\" \"&VLOOKUP(AK112,Person!D:I,4,FALSE)))","v":{"$error":"#N/A"}},null,null,null,null,null,null,null,2,{"$f":"VLOOKUP(AT112,Code!$B$51:$D$55,2,FALSE)","v":"Behaviour_1"},{"$f":"RANDBETWEEN(1,VLOOKUP(AT112,Code!$B$51:$D$55,3,FALSE))","v":1},null," d",null,null," ",{"$f":"HLOOKUP(Report!BA112,Homework!$I$2:$L$3,2,FALSE)","v":{"$error":"#N/A"}},{"$error":"#N/A"},{"$f":"IF(BA112=0,\"\",BC112+VLOOKUP(BA112,Code!$B$2:$C$6,2,FALSE))","v":{"$error":"#N/A"}},{"$f":"IF(AND(VLOOKUP(BD112,Homework!D:J,2,FALSE)=\"'s \",RIGHT(G112,1)=\"s\"),\"' \",IF(VLOOKUP(BD112,Homework!D:J,2,FALSE)=\"'s \",\"'s \",\" \"))","v":{"$error":"#N/A"}},{"$f":"IF(BA112=0,\"\",IF(I112=\"F\",\" \"&G112&BE112&VLOOKUP(BD112,Homework!D:J,3,FALSE),\" \"&G112&BE112&VLOOKUP(BD112,Homework!D:J,5,FALSE)))","v":{"$error":"#N/A"}},null,null,null,null,null,null,null,null," ",{"$f":"VLOOKUP(BO112,Code!$B$45:$D$48,2,FALSE)","v":{"$error":"#N/A"}},{"$f":"VLOOKUP(BO112,Code!$B$45:$D$48,3,FALSE)","v":{"$error":"#N/A"}},{"$error":"#N/A"},null,"pen","pencil","ruler",null,null,"",""," ",null,104,{"$f":"HLOOKUP(Report!CC112,Behaviour!$H$2:$K$3,2,FALSE)","v":{"$error":"#N/A"}},{"$error":"#N/A"},{"$f":"CE112+VLOOKUP(CC112,Code!$B$2:$C$6,2,FALSE)","v":{"$error":"#N/A"}},{"$f":"IF(CC112=0,\"\",IF(I112=\"F\",AC112&\" \"&VLOOKUP(CF112,Behaviour!D:I,2,FALSE)&\" \",AC112&\" \"&VLOOKUP(CF112,Behaviour!D:I,4,FALSE)&\" \"))","v":{"$error":"#N/A"}},null,null," ",null,{"$f":"IF(CJ112=0,\"\",VLOOKUP(CJ112,Code!$B$59:$D$61,2,FALSE))","v":{"$error":"#N/A"}},{"$f":"IF(CJ112=0,\"\",VLOOKUP(CJ112,Code!$B$59:$D$61,3,FALSE))","v":{"$error":"#N/A"}},{"$error":"#N/A"},{"$error":"#N/A"},{"$error":"#N/A"},{"$error":"#N/A"},"",null,null,"",null,null,"",{"$error":"#VALUE!"},null,null," ",{"$error":"#VALUE!"},{"$f":"VLOOKUP(Report!DC112,Code!$B$24:$C$32,2,FALSE)","v":{"$error":"#VALUE!"}},{"$f":"VLOOKUP(Report!DC112,Code!$B$24:$D$32,3,FALSE)","v":{"$error":"#VALUE!"}},{"$error":"#VALUE!"},{"$error":"#VALUE!"},{"$error":"#VALUE!"},null,null,null,null,null,null," ",{"$f":"VLOOKUP(Report!DO112,Code!$B$40:$D$42,2,FALSE)","v":{"$error":"#N/A"}},{"$f":"VLOOKUP(Report!DO112,Code!$B$40:$D$42,3,FALSE)","v":{"$error":"#N/A"}},{"$error":"#N/A"},null,{"$error":"#N/A"},"number","number","number","",null,null,null,null,"",""]
[null,null,null,null,null,null,null,null,null,null,null,null,null,null,null,null,null,null,null,null,"Type_2",null,{"$error":"#N/A"},null,{"$error":"#N/A"},{"$error":"#N/A"},null,"he","He","his","His",null,null," ",{"$f":"HLOOKUP(Report!AH113,Person!$H$2:$L$3,2,FALSE)","v":{"$error":"#N/A"}},{"$error":"#N/A"},{"$f":"IF(AH113=0,\"\",AJ113+VLOOKUP(AH113,Code!$B$2:$C$6,2,FALSE))","v":{"$error":"#N/A"}},{"$f":"IF(AH113=0,\"\",IF(I113=\"F\",G113&\" \"&VLOOKUP(AK113,Person!D:I,2,FALSE),G113&\" \"&VLOOKUP(AK113,Person!D:I,4,FALSE)))","v":{"$error":"#N/A"}},null,null,null,null,null,null,null,2,{"$f":"VLOOKUP(AT113,Code!$B$51:$D$55,2,FALSE)","v":"Behaviour_1"},{"$f":"RANDBETWEEN(1,VLOOKUP(AT113,Code!$B$51:$D$55,3,FALSE))","v":1},null," d",null,null," ",{"$f":"HLOOKUP(Report!BA113,Homework!$I$2:$L$3,2,FALSE)","v":{"$error":"#N/A"}},{"$error":"#N/A"},{"$f":"IF(BA113=0,\"\",BC113+VLOOKUP(BA113,Code!$B$2:$C$6,2,FALSE))","v":{"$error":"#N/A"}},{"$f":"IF(AND(VLOOKUP(BD113,Homework!D:J,2,FALSE)=\"'s \",RIGHT(G113,1)=\"s\"),\"' \",IF(VLOOKUP(BD113,Homework!D:J,2,FALSE)=\"'s \",\"'s \",\" \"))","v":{"$error":"#N/A"}},{"$f":"IF(BA113=0,\"\",IF(I113=\"F\",\" \"&G113&BE113&VLOOKUP(BD113,Homework!D:J,3,FALSE),\" \"&G113&BE113&VLOOKUP(BD113,Homework!D:J,5,FALSE)))","v":{"$error":"#N/A"}},null,null,null,null,null,null,null,null," ",{"$f":"VLOOKUP(BO113,Code!$B$45:$D$48,2,FALSE)","v":{"$error":"#N/A"}},{"$f":"VLOOKUP(BO113,Code!$B$45:$D$48,3,FALSE)","v":{"$error":"#N/A"}},{"$error":"#N/A"},null,"pen","pencil","ruler",null,null,"",""," ",null,105,{"$f":"HLOOKUP(Report!CC113,Behaviour!$H$2:$K$3,2,FALSE)","v":{"$error":"#N/A"}},{"$error":"#N/A"},{"$f":"CE113+VLOOKUP(CC113,Code!$B$2:$C$6,2,FALSE)","v":{"$error":"#N/A"}},{"$f":"IF(CC113=0,\"\",IF(I113=\"F\",AC113&\" \"&VLOOKUP(CF113,Behaviour!D:I,2,FALSE)&\" \",AC113&\" \"&VLOOKUP(CF113,Behaviour!D:I,4,FALSE)&\" \"))","v":{"$error":"#N/A"}},null,null," ",null,{"$f":"IF(CJ113=0,\"\",VLOOKUP(CJ113,Code!$B$59:$D$61,2,FALSE))","v":{"$error":"#N/A"}},{"$f":"IF(CJ113=0,\"\",VLOOKUP(CJ113,Code!$B$59:$D$61,3,FALSE))","v":{"$error":"#N/A"}},{"$error":"#N/A"},{"$error":"#N/A"},{"$error":"#N/A"},{"$error":"#N/A"},"",null,null,"",null,null,"",{"$error":"#VALUE!"},null,null," ",{"$error":"#VALUE!"},{"$f":"VLOOKUP(Report!DC113,Code!$B$24:$C$32,2,FALSE)","v":{"$error":"#VALUE!"}},{"$f":"VLOOKUP(Report!DC113,Code!$B$24:$D$32,3,FALSE)","v":{"$error":"#VALUE!"}},{"$error":"#VALUE!"},{"$error":"#VALUE!"},{"$error":"#VALUE!"},null,null,null,null,null,null," ",{"$f":"VLOOKUP(Report!DO113,Code!$B$40:$D$42,2,FALSE)","v":{"$error":"#N/A"}},{"$f":"VLOOKUP(Report!DO113,Code!$B$40:$D$42,3,FALSE)","v":{"$error":"#N/A"}},{"$error":"#N/A"},null,{"$error":"#N/A"},"number","number","number","",null,null,null,null,"",""]
[null,null,null,null,null,null,null,null,null,null,null,null,null,null,null,null,null,null,null,null,"Type_2",null,{"$error":"#N/A"},null,{"$error":"#N/A"},{"$error":"#N/A"},null,"he","He","his","His",null,null," ",{"$f":"HLOOKUP(Report!AH114,Person!$H$2:$L$3,2,FALSE)","v":{"$error":"#N/A"}},{"$error":"#N/A"},{"$f":"IF(AH114=0,\"\",AJ114+VLOOKUP(AH114,Code!$B$2:$C$6,2,FALSE))","v":{"$error":"#N/A"}},{"$f":"IF(AH114=0,\"\",IF(I114=\"F\",G114&\" \"&VLOOKUP(AK114,Person!D:I,2,FALSE),G114&\" \"&VLOOKUP(AK114,Person!D:I,4,FALSE)))","v":{"$error":"#N/A"}},null,null,null,null,null,null,null,2,{"$f":"VLOOKUP(AT114,Code!$B$51:$D$55,2,FALSE)","v":"Behaviour_1"},{"$f":"RANDBETWEEN(1,VLOOKUP(AT114,Code!$B$51:$D$55,3,FALSE))","v":2},null," d",null,null," ",{"$f":"HLOOKUP(Report!BA114,Homework!$I$2:$L$3,2,FALSE)","v":{"$error":"#N/A"}},{"$error":"#N/A"},{"$f":"IF(BA114=0,\"\",BC114+VLOOKUP(BA114,Code!$B$2:$C$6,2,FALSE))","v":{"$error":"#N/A"}},{"$f":"IF(AND(VLOOKUP(BD114,Homework!D:J,2,FALSE)=\"'s \",RIGHT(G114,1)=\"s\"),\"' \",IF(VLOOKUP(BD114,Homework!D:J,2,FALSE)=\"'s \",\"'s \",\" \"))","v":{"$error":"#N/A"}},{"$f":"IF(BA114=0,\"\",IF(I114=\"F\",\" \"&G114&BE114&VLOOKUP(BD114,Homework!D:J,3,FALSE),\" \"&G114&BE114&VLOOKUP(BD114,Homework!D:J,5,FALSE)))","v":{"$error":"#N/A"}},null,null,null,null,null,null,null,null," ",{"$f":"VLOOKUP(BO114,Code!$B$45:$D$48,2,FALSE)","v":{"$error":"#N/A"}},{"$f":"VLOOKUP(BO114,Code!$B$45:$D$48,3,FALSE)","v":{"$error":"#N/A"}},{"$error":"#N/A"},null,"pen","pencil","ruler",null,null,"",""," ",null,106,{"$f":"HLOOKUP(Report!CC114,Behaviour!$H$2:$K$3,2,FALSE)","v":{"$error":"#N/A"}},{"$error":"#N/A"},{"$f":"CE114+VLOOKUP(CC114,Code!$B$2:$C$6,2,FALSE)","v":{"$error":"#N/A"}},{"$f":"IF(CC114=0,\"\",IF(I114=\"F\",AC114&\" \"&VLOOKUP(CF114,Behaviour!D:I,2,FALSE)&\" \",AC114&\" \"&VLOOKUP(CF114,Behaviour!D:I,4,FALSE)&\" \"))","v":{"$error":"#N/A"}},null,null," ",null,{"$f":"IF(CJ114=0,\"\",VLOOKUP(CJ114,Code!$B$59:$D$61,2,FALSE))","v":{"$error":"#N/A"}},{"$f":"IF(CJ114=0,\"\",VLOOKUP(CJ114,Code!$B$59:$D$61,3,FALSE))","v":{"$error":"#N/A"}},{"$error":"#N/A"},{"$error":"#N/A"},{"$error":"#N/A"},{"$error":"#N/A"},"",null,null,"",null,null,"",{"$error":"#VALUE!"},null,null," ",{"$error":"#VALUE!"},{"$f":"VLOOKUP(Report!DC114,Code!$B$24:$C$32,2,FALSE)","v":{"$error":"#VALUE!"}},{"$f":"VLOOKUP(Report!DC114,Code!$B$24:$D$32,3,FALSE)","v":{"$error":"#VALUE!"}},{"$error":"#VALUE!"},{"$error":"#VALUE!"},{"$error":"#VALUE!"},null,null,null,null,null,null," ",{"$f":"VLOOKUP(Report!DO114,Code!$B$40:$D$42,2,FALSE)","v":{"$error":"#N/A"}},{"$f":"VLOOKUP(Report!DO114,Code!$B$40:$D$42,3,FALSE)","v":{"$error":"#N/A"}},{"$error":"#N/A"},null,{"$error":"#N/A"},"number","number","number","",null,null,null,null,"",""]
[null,null,null,null,null,null,null,null,null,null,null,null,null,null,null,null,null,null,null,null,"Type_2",null,{"$error":"#N/A"},null,{"$error":"#N/A"},{"$error":"#N/A"},null,"he","He","his","His",null,null," ",{"$f":"HLOOKUP(Report!AH115,Person!$H$2:$L$3,2,FALSE)","v":{"$error":"#N/A"}},{"$error":"#N/A"},{"$f":"IF(AH115=0,\"\",AJ115+VLOOKUP(AH115,Code!$B$2:$C$6,2,FALSE))","v":{"$error":"#N/A"}},{"$f":"IF(AH115=0,\"\",IF(I115=\"F\",G115&\" \"&VLOOKUP(AK115,Person!D:I,2,FALSE),G115&\" \"&VLOOKUP(AK115,Person!D:I,4,FALSE)))","v":{"$error":"#N/A"}},null,null,null,null,null,null,null,2,{"$f":"VLOOKUP(AT115,Code!$B$51:$D$55,2,FALSE)","v":"Behaviour_1"},{"$f":"RANDBETWEEN(1,VLOOKUP(AT115,Code!$B$51:$D$55,3,FALSE))","v":2},null," d",null,null," ",{"$f":"HLOOKUP(Report!BA115,Homework!$I$2:$L$3,2,FALSE)","v":{"$error":"#N/A"}},{"$error":"#N/A"},{"$f":"IF(BA115=0,\"\",BC115+VLOOKUP(BA115,Code!$B$2:$C$6,2,FALSE))","v":{"$error":"#N/A"}},{"$f":"IF(AND(VLOOKUP(BD115,Homework!D:J,2,FALSE)=\"'s \",RIGHT(G115,1)=\"s\"),\"' \",IF(VLOOKUP(BD115,Homework!D:J,2,FALSE)=\"'s \",\"'s \",\" \"))","v":{"$error":"#N/A"}},{"$f":"IF(BA115=0,\"\",IF(I115=\"F\",\" \"&G115&BE115&VLOOKUP(BD115,Homework!D:J,3,FALSE),\" \"&G115&BE115&VLOOKUP(BD115,Homework!D:J,5,FALSE)))","v":{"$error":"#N/A"}},null,null,null,null,null,null,null,null," ",{"$f":"VLOOKUP(BO115,Code!$B$45:$D$48,2,FALSE)","v":{"$error":"#N/A"}},{"$f":"VLOOKUP(BO115,Code!$B$45:$D$48,3,FALSE)","v":{"$error":"#N/A"}},{"$error":"#N/A"},null,"pen","pencil","ruler",null,null,"",""," ",null,107,{"$f":"HLOOKUP(Report!CC115,Behaviour!$H$2:$K$3,2,FALSE)","v":{"$error":"#N/A"}},{"$error":"#N/A"},{"$f":"CE115+VLOOKUP(CC115,Code!$B$2:$C$6,2,FALSE)","v":{"$error":"#N/A"}},{"$f":"IF(CC115=0,\"\",IF(I115=\"F\",AC115&\" \"&VLOOKUP(CF115,Behaviour!D:I,2,FALSE)&\" \",AC115&\" \"&VLOOKUP(CF115,Behaviour!D:I,4,FALSE)&\" \"))","v":{"$error":"#N/A"}},null,null," ",null,{"$f":"IF(CJ115=0,\"\",VLOOKUP(CJ115,Code!$B$59:$D$61,2,FALSE))","v":{"$error":"#N/A"}},{"$f":"IF(CJ115=0,\"\",VLOOKUP(CJ115,Code!$B$59:$D$61,3,FALSE))","v":{"$error":"#N/A"}},{"$error":"#N/A"},{"$error":"#N/A"},{"$error":"#N/A"},{"$error":"#N/A"},"",null,null,"",null,null,"",{"$error":"#VALUE!"},null,null," ",{"$error":"#VALUE!"},{"$f":"VLOOKUP(Report!DC115,Code!$B$24:$C$32,2,FALSE)","v":{"$error":"#VALUE!"}},{"$f":"VLOOKUP(Report!DC115,Code!$B$24:$D$32,3,FALSE)","v":{"$error":"#VALUE!"}},{"$error":"#VALUE!"},{"$error":"#VALUE!"},{"$error":"#VALUE!"},null,null,null,null,null,null," ",{"$f":"VLOOKUP(Report!DO115,Code!$B$40:$D$42,2,FALSE)","v":{"$error":"#N/A"}},{"$f":"VLOOKUP(Report!DO115,Code!$B$40:$D$42,3,FALSE)","v":{"$error":"#N/A"}},{"$error":"#N/A"},null,{"$error":"#N/A"},"number","number","number","",null,null,null,null,"",""]
[null,null,null,null,null,null,null,null,null,null,null,null,null,null,null,null,null,null,null,null,"Type_2",null,{"$error":"#N/A"},null,{"$error":"#N/A"},{"$error":"#N/A"},null,"he","He","his","His",null,null," ",{"$f":"HLOOKUP(Report!AH116,Person!$H$2:$L$3,2,FALSE)","v":{"$error":"#N/A"}},{"$error":"#N/A"},{"$f":"IF(AH116=0,\"\",AJ116+VLOOKUP(AH116,Code!$B$2:$C$6,2,FALSE))","v":{"$error":"#N/A"}},{"$f":"IF(AH116=0,\"\",IF(I116=\"F\",G116&\" \"&VLOOKUP(AK116,Person!D:I,2,FALSE),G116&\" \"&VLOOKUP(AK116,Person!D:I,4,FALSE)))","v":{"$error":"#N/A"}},null,null,null,null,null,null,null,2,{"$f":"VLOOKUP(AT116,Code!$B$51:$D$55,2,FALSE)","v":"Behaviour_1"},{"$f":"RANDBETWEEN(1,VLOOKUP(AT116,Code!$B$51:$D$55,3,FALSE))","v":2},null," d",null,null," ",{"$f":"HLOOKUP(Report!BA116,Homework!$I$2:$L$3,2,FALSE)","v":{"$error":"#N/A"}},{"$error":"#N/A"},{"$f":"IF(BA116=0,\"\",BC116+VLOOKUP(BA116,Code!$B$2:$C$6,2,FALSE))","v":{"$error":"#N/A"}},{"$f":"IF(AND(VLOOKUP(BD116,Homework!D:J,2,FALSE)=\"'s \",RIGHT(G116,1)=\"s\"),\"' \",IF(VLOOKUP(BD116,Homework!D:J,2,FALSE)=\"'s \",\"'s \",\" \"))","v":{"$error":"#N/A"}},{"$f":"IF(BA116=0,\"\",IF(I116=\"F\",\" \"&G116&BE116&VLOOKUP(BD116,Homework!D:J,3,FALSE),\" \"&G116&BE116&VLOOKUP(BD116,Homework!D:J,5,FALSE)))","v":{"$error":"#N/A"}},null,null,null,null,null,null,null,null," ",{"$f":"VLOOKUP(BO116,Code!$B$45:$D$48,2,FALSE)","v":{"$error":"#N/A"}},{"$f":"VLOOKUP(BO116,Code!$B$45:$D$48,3,FALSE)","v":{"$error":"#N/A"}},{"$error":"#N/A"},null,"pen","pencil","ruler",null,null,"",""," ",null,108,{"$f":"HLOOKUP(Report!CC116,Behaviour!$H$2:$K$3,2,FALSE)","v":{"$error":"#N/A"}},{"$error":"#N/A"},{"$f":"CE116+VLOOKUP(CC116,Code!$B$2:$C$6,2,FALSE)","v":{"$error":"#N/A"}},{"$f":"IF(CC116=0,\"\",IF(I116=\"F\",AC116&\" \"&VLOOKUP(CF116,Behaviour!D:I,2,FALSE)&\" \",AC116&\" \"&VLOOKUP(CF116,Behaviour!D:I,4,FALSE)&\" \"))","v":{"$error":"#N/A"}},null,null," ",null,{"$f":"IF(CJ116=0,\"\",VLOOKUP(CJ116,Code!$B$59:$D$61,2,FALSE))","v":{"$error":"#N/A"}},{"$f":"IF(CJ116=0,\"\",VLOOKUP(CJ116,Code!$B$59:$D$61,3,FALSE))","v":{"$error":"#N/A"}},{"$error":"#N/A"},{"$error":"#N/A"},{"$error":"#N/A"},{"$error":"#N/A"},"",null,null,"",null,null,"",{"$error":"#VALUE!"},null,null," ",{"$error":"#VALUE!"},{"$f":"VLOOKUP(Report!DC116,Code!$B$24:$C$32,2,FALSE)","v":{"$error":"#VALUE!"}},{"$f":"VLOOKUP(Report!DC116,Code!$B$24:$D$32,3,FALSE)","v":{"$error":"#VALUE!"}},{"$error":"#VALUE!"},{"$error":"#VALUE!"},{"$error":"#VALUE!"},null,null,null,null,null,null," ",{"$f":"VLOOKUP(Report!DO116,Code!$B$40:$D$42,2,FALSE)","v":{"$error":"#N/A"}},{"$f":"VLOOKUP(Report!DO116,Code!$B$40:$D$42,3,FALSE)","v":{"$error":"#N/A"}},{"$error":"#N/A"},null,{"$error":"#N/A"},"number","number","number","",null,null,null,null,"",""]
[null,null,null,null,null,null,null,null,null,null,null,null,null,null,null,null,null,null,null,null,"Type_2",null,{"$error":"#N/A"},null,{"$error":"#N/A"},{"$error":"#N/A"},null,"he","He","his","His",null,null," ",{"$f":"HLOOKUP(Report!AH117,Person!$H$2:$L$3,2,FALSE)","v":{"$error":"#N/A"}},{"$error":"#N/A"},{"$f":"IF(AH117=0,\"\",AJ117+VLOOKUP(AH117,Code!$B$2:$C$6,2,FALSE))","v":{"$error":"#N/A"}},{"$f":"IF(AH117=0,\"\",IF(I117=\"F\",G117&\" \"&VLOOKUP(AK117,Person!D:I,2,FALSE),G117&\" \"&VLOOKUP(AK117,Person!D:I,4,FALSE)))","v":{"$error":"#N/A"}},null,null,null,null,null,null,null,2,{"$f":"VLOOKUP(AT117,Code!$B$51:$D$55,2,FALSE)","v":"Behaviour_1"},{"$f":"RANDBETWEEN(1,VLOOKUP(AT117,Code!$B$51:$D$55,3,FALSE))","v":1},null," d",null,null," ",{"$f":"HLOOKUP(Report!BA117,Homework!$I$2:$L$3,2,FALSE)","v":{"$error":"#N/A"}},{"$error":"#N/A"},{"$f":"IF(BA117=0,\"\",BC117+VLOOKUP(BA117,Code!$B$2:$C$6,2,FALSE))","v":{"$error":"#N/A"}},{"$f":"IF(AND(VLOOKUP(BD117,Homework!D:J,2,FALSE)=\"'s \",RIGHT(G117,1)=\"s\"),\"' \",IF(VLOOKUP(BD117,Homework!D:J,2,FALSE)=\"'s \",\"'s \",\" \"))","v":{"$error":"#N/A"}},{"$f":"IF(BA117=0,\"\",IF(I117=\"F\",\" \"&G117&BE117&VLOOKUP(BD117,Homework!D:J,3,FALSE),\" \"&G117&BE117&VLOOKUP(BD117,Homework!D:J,5,FALSE)))","v":{"$error":"#N/A"}},null,null,null,null,null,null,null,null," ",{"$f":"VLOOKUP(BO117,Code!$B$45:$D$48,2,FALSE)","v":{"$error":"#N/A"}},{"$f":"VLOOKUP(BO117,Code!$B$45:$D$48,3,FALSE)","v":{"$error":"#N/A"}},{"$error":"#N/A"},null,"pen","pencil","ruler",null,null,"",""," ",null,109,{"$f":"HLOOKUP(Report!CC117,Behaviour!$H$2:$K$3,2,FALSE)","v":{"$error":"#N/A"}},{"$error":"#N/A"},{"$f":"CE117+VLOOKUP(CC117,Code!$B$2:$C$6,2,FALSE)","v":{"$error":"#N/A"}},{"$f":"IF(CC117=0,\"\",IF(I117=\"F\",AC117&\" \"&VLOOKUP(CF117,Behaviour!D:I,2,FALSE)&\" \",AC117&\" \"&VLOOKUP(CF117,Behaviour!D:I,4,FALSE)&\" \"))","v":{"$error":"#N/A"}},null,null," ",null,{"$f":"IF(CJ117=0,\"\",VLOOKUP(CJ117,Code!$B$59:$D$61,2,FALSE))","v":{"$error":"#N/A"}},{"$f":"IF(CJ117=0,\"\",VLOOKUP(CJ117,Code!$B$59:$D$61,3,FALSE))","v":{"$error":"#N/A"}},{"$error":"#N/A"},{"$error":"#N/A"},{"$error":"#N/A"},{"$error":"#N/A"},"",null,null,"",null,null,"",{"$error":"#VALUE!"},null,null," ",{"$error":"#VALUE!"},{"$f":"VLOOKUP(Report!DC117,Code!$B$24:$C$32,2,FALSE)","v":{"$error":"#VALUE!"}},{"$f":"VLOOKUP(Report!DC117,Code!$B$24:$D$32,3,FALSE)","v":{"$error":"#VALUE!"}},{"$error":"#VALUE!"},{"$error":"#VALUE!"},{"$error":"#VALUE!"},null,null,null,null,null,null," ",{"$f":"VLOOKUP(Report!DO117,Code!$B$40:$D$42,2,FALSE)","v":{"$error":"#N/A"}},{"$f":"VLOOKUP(Report!DO117,Code!$B$40:$D$42,3,FALSE)","v":{"$error":"#N/A"}},{"$error":"#N/A"},null,{"$error":"#N/A"},"number","number","number","",null,null,null,null,"",""]
[null,null,null,null,null,null,null,null,null,null,null,null,null,null,null,null,null,null,null,null,"Type_2",null,{"$error":"#N/A"},null,{"$error":"#N/A"},{"$error":"#N/A"},null,"he","He","his","His",null,null," ",{"$f":"HLOOKUP(Report!AH118,Person!$H$2:$L$3,2,FALSE)","v":{"$error":"#N/A"}},{"$error":"#N/A"},{"$f":"IF(AH118=0,\"\",AJ118+VLOOKUP(AH118,Code!$B$2:$C$6,2,FALSE))","v":{"$error":"#N/A"}},{"$f":"IF(AH118=0,\"\",IF(I118=\"F\",G118&\" \"&VLOOKUP(AK118,Person!D:I,2,FALSE),G118&\" \"&VLOOKUP(AK118,Person!D:I,4,FALSE)))","v":{"$error":"#N/A"}},null,null,null,null,null,null,null,2,{"$f":"VLOOKUP(AT118,Code!$B$51:$D$55,2,FALSE)","v":"Behaviour_1"},{"$f":"RANDBETWEEN(1,VLOOKUP(AT118,Code!$B$51:$D$55,3,FALSE))","v":2},null," d",null,null," ",{"$f":"HLOOKUP(Report!BA118,Homework!$I$2:$L$3,2,FALSE)","v":{"$error":"#N/A"}},{"$error":"#N/A"},{"$f":"IF(BA118=0,\"\",BC118+VLOOKUP(BA118,Code!$B$2:$C$6,2,FALSE))","v":{"$error":"#N/A"}},{"$f":"IF(AND(VLOOKUP(BD118,Homework!D:J,2,FALSE)=\"'s \",RIGHT(G118,1)=\"s\"),\"' \",IF(VLOOKUP(BD118,Homework!D:J,2,FALSE)=\"'s \",\"'s \",\" \"))","v":{"$error":"#N/A"}},{"$f":"IF(BA118=0,\"\",IF(I118=\"F\",\" \"&G118&BE118&VLOOKUP(BD118,Homework!D:J,3,FALSE),\" \"&G118&BE118&VLOOKUP(BD118,Homework!D:J,5,FALSE)))","v":{"$error":"#N/A"}},null,null,null,null,null,null,null,null," ",{"$f":"VLOOKUP(BO118,Code!$B$45:$D$48,2,FALSE)","v":{"$error":"#N/A"}},{"$f":"VLOOKUP(BO118,Code!$B$45:$D$48,3,FALSE)","v":{"$error":"#N/A"}},{"$error":"#N/A"},null,"pen","pencil","ruler",null,null,"",""," ",null,110,{"$f":"HLOOKUP(Report!CC118,Behaviour!$H$2:$K$3,2,FALSE)","v":{"$error":"#N/A"}},{"$error":"#N/A"},{"$f":"CE118+VLOOKUP(CC118,Code!$B$2:$C$6,2,FALSE)","v":{"$error":"#N/A"}},{"$f":"IF(CC118=0,\"\",IF(I118=\"F\",AC118&\" \"&VLOOKUP(CF118,Behaviour!D:I,2,FALSE)&\" \",AC118&\" \"&VLOOKUP(CF118,Behaviour!D:I,4,FALSE)&\" \"))","v":{"$error":"#N/A"}},null,null," ",null,{"$f":"IF(CJ118=0,\"\",VLOOKUP(CJ118,Code!$B$59:$D$61,2,FALSE))","v":{"$error":"#N/A"}},{"$f":"IF(CJ118=0,\"\",VLOOKUP(CJ118,Code!$B$59:$D$61,3,FALSE))","v":{"$error":"#N/A"}},{"$error":"#N/A"},{"$error":"#N/A"},{"$error":"#N/A"},{"$error":"#N/A"},"",null,null,"",null,null,"",{"$error":"#VALUE!"},null,null," ",{"$error":"#VALUE!"},{"$f":"VLOOKUP(Report!DC118,Code!$B$24:$C$32,2,FALSE)","v":{"$error":"#VALUE!"}},{"$f":"VLOOKUP(Report!DC118,Code!$B$24:$D$32,3,FALSE)","v":{"$error":"#VALUE!"}},{"$error":"#VALUE!"},{"$error":"#VALUE!"},{"$error":"#VALUE!"},null,null,null,null,null,null," ",{"$f":"VLOOKUP(Report!DO118,Code!$B$40:$D$42,2,FALSE)","v":{"$error":"#N/A"}},{"$f":"VLOOKUP(Report!DO118,Code!$B$40:$D$42,3,FALSE)","v":{"$error":"#N/A"}},{"$error":"#N/A"},null,{"$error":"#N/A"},"number","number","number","",null,null,null,null,"",""]
[null,null,null,null,null,null,null,null,null,null,null,null,null,null,null,null,null,null,null,null,"Type_2",null,{"$error":"#N/A"},null,{"$error":"#N/A"},{"$error":"#N/A"},null,"he","He","his","His",null,null," ",{"$f":"HLOOKUP(Report!AH119,Person!$H$2:$L$3,2,FALSE)","v":{"$error":"#N/A"}},{"$error":"#N/A"},{"$f":"IF(AH119=0,\"\",AJ119+VLOOKUP(AH119,Code!$B$2:$C$6,2,FALSE))","v":{"$error":"#N/A"}},{"$f":"IF(AH119=0,\"\",IF(I119=\"F\",G119&\" \"&VLOOKUP(AK119,Person!D:I,2,FALSE),G119&\" \"&VLOOKUP(AK119,Person!D:I,4,FALSE)))","v":{"$error":"#N/A"}},null,null,null,null,null,null,null,2,{"$f":"VLOOKUP(AT119,Code!$B$51:$D$55,2,FALSE)","v":"Behaviour_1"},{"$f":"RANDBETWEEN(1,VLOOKUP(AT119,Code!$B$51:$D$55,3,FALSE))","v":1},null," d",null,null," ",{"$f":"HLOOKUP(Report!BA119,Homework!$I$2:$L$3,2,FALSE)","v":{"$error":"#N/A"}},{"$error":"#N/A"},{"$f":"IF(BA119=0,\"\",BC119+VLOOKUP(BA119,Code!$B$2:$C$6,2,FALSE))","v":{"$error":"#N/A"}},{"$f":"IF(AND(VLOOKUP(BD119,Homework!D:J,2,FALSE)=\"'s \",RIGHT(G119,1)=\"s\"),\"' \",IF(VLOOKUP(BD119,Homework!D:J,2,FALSE)=\"'s \",\"'s \",\" \"))","v":{"$error":"#N/A"}},{"$f":"IF(BA119=0,\"\",IF(I119=\"F\",\" \"&G119&BE119&VLOOKUP(BD119,Homework!D:J,3,FALSE),\" \"&G119&BE119&VLOOKUP(BD119,Homework!D:J,5,FALSE)))","v":{"$error":"#N/A"}},null,null,null,null,null,null,null,null," ",{"$f":"VLOOKUP(BO119,Code!$B$45:$D$48,2,FALSE)","v":{"$error":"#N/A"}},{"$f":"VLOOKUP(BO119,Code!$B$45:$D$48,3,FALSE)","v":{"$error":"#N/A"}},{"$error":"#N/A"},null,"pen","pencil","ruler",null,null,"",""," ",null,111,{"$f":"HLOOKUP(Report!CC119,Behaviour!$H$2:$K$3,2,FALSE)","v":{"$error":"#N/A"}},{"$error":"#N/A"},{"$f":"CE119+VLOOKUP(CC119,Code!$B$2:$C$6,2,FALSE)","v":{"$error":"#N/A"}},{"$f":"IF(CC119=0,\"\",IF(I119=\"F\",AC119&\" \"&VLOOKUP(CF119,Behaviour!D:I,2,FALSE)&\" \",AC119&\" \"&VLOOKUP(CF119,Behaviour!D:I,4,FALSE)&\" \"))","v":{"$error":"#N/A"}},null,null," ",null,{"$f":"IF(CJ119=0,\"\",VLOOKUP(CJ119,Code!$B$59:$D$61,2,FALSE))","v":{"$error":"#N/A"}},{"$f":"IF(CJ119=0,\"\",VLOOKUP(CJ119,Code!$B$59:$D$61,3,FALSE))","v":{"$error":"#N/A"}},{"$error":"#N/A"},{"$error":"#N/A"},{"$error":"#N/A"},{"$error":"#N/A"},"",null,null,"",null,null,"",{"$error":"#VALUE!"},null,null," ",{"$error":"#VALUE!"},{"$f":"VLOOKUP(Report!DC119,Code!$B$24:$C$32,2,FALSE)","v":{"$error":"#VALUE!"}},{"$f":"VLOOKUP(Report!DC119,Code!$B$24:$D$32,3,FALSE)","v":{"$error":"#VALUE!"}},{"$error":"#VALUE!"},{"$error":"#VALUE!"},{"$error":"#VALUE!"},null,null,null,null,null,null," ",{"$f":"VLOOKUP(Report!DO119,Code!$B$40:$D$42,2,FALSE)","v":{"$error":"#N/A"}},{"$f":"VLOOKUP(Report!DO119,Code!$B$40:$D$42,3,FALSE)","v":{"$error":"#N/A"}},{"$error":"#N/A"},null,{"$error":"#N/A"},"number","number","number","",null,null,null,null,"",""]
[null,null,null,null,null,null,null,null,null,null,null,null,null,null,null,null,null,null,null,null,"Type_2",null,{"$error":"#N/A"},null,{"$error":"#N/A"},{"$error":"#N/A"},null,"he","He","his","His",null,null," ",{"$f":"HLOOKUP(Report!AH120,Person!$H$2:$L$3,2,FALSE)","v":{"$error":"#N/A"}},{"$error":"#N/A"},{"$f":"IF(AH120=0,\"\",AJ120+VLOOKUP(AH120,Code!$B$2:$C$6,2,FALSE))","v":{"$error":"#N/A"}},{"$f":"IF(AH120=0,\"\",IF(I120=\"F\",G120&\" \"&VLOOKUP(AK120,Person!D:I,2,FALSE),G120&\" \"&VLOOKUP(AK120,Person!D:I,4,FALSE)))","v":{"$error":"#N/A"}},null,null,null,null,null,null,null,2,{"$f":"VLOOKUP(AT120,Code!$B$51:$D$55,2,FALSE)","v":"Behaviour_1"},{"$f":"RANDBETWEEN(1,VLOOKUP(AT120,Code!$B$51:$D$55,3,FALSE))","v":1},null," d",null,null," ",{"$f":"HLOOKUP(Report!BA120,Homework!$I$2:$L$3,2,FALSE)","v":{"$error":"#N/A"}},{"$error":"#N/A"},{"$f":"IF(BA120=0,\"\",BC120+VLOOKUP(BA120,Code!$B$2:$C$6,2,FALSE))","v":{"$error":"#N/A"}},{"$f":"IF(AND(VLOOKUP(BD120,Homework!D:J,2,FALSE)=\"'s \",RIGHT(G120,1)=\"s\"),\"' \",IF(VLOOKUP(BD120,Homework!D:J,2,FALSE)=\"'s \",\"'s \",\" \"))","v":{"$error":"#N/A"}},{"$f":"IF(BA120=0,\"\",IF(I120=\"F\",\" \"&G120&BE120&VLOOKUP(BD120,Homework!D:J,3,FALSE),\" \"&G120&BE120&VLOOKUP(BD120,Homework!D:J,5,FALSE)))","v":{"$error":"#N/A"}},null,null,null,null,null,null,null,null," ",{"$f":"VLOOKUP(BO120,Code!$B$45:$D$48,2,FALSE)","v":{"$error":"#N/A"}},{"$f":"VLOOKUP(BO120,Code!$B$45:$D$48,3,FALSE)","v":{"$error":"#N/A"}},{"$error":"#N/A"},null,"pen","pencil","ruler",null,null,"",""," ",null,112,{"$f":"HLOOKUP(Report!CC120,Behaviour!$H$2:$K$3,2,FALSE)","v":{"$error":"#N/A"}},{"$error":"#N/A"},{"$f":"CE120+VLOOKUP(CC120,Code!$B$2:$C$6,2,FALSE)","v":{"$error":"#N/A"}},{"$f":"IF(CC120=0,\"\",IF(I120=\"F\",AC120&\" \"&VLOOKUP(CF120,Behaviour!D:I,2,FALSE)&\" \",AC120&\" \"&VLOOKUP(CF120,Behaviour!D:I,4,FALSE)&\" \"))","v":{"$error":"#N/A"}},null,null," ",null,{"$f":"IF(CJ120=0,\"\",VLOOKUP(CJ120,Code!$B$59:$D$61,2,FALSE))","v":{"$error":"#N/A"}},{"$f":"IF(CJ120=0,\"\",VLOOKUP(CJ120,Code!$B$59:$D$61,3,FALSE))","v":{"$error":"#N/A"}},{"$error":"#N/A"},{"$error":"#N/A"},{"$error":"#N/A"},{"$error":"#N/A"},"",null,null,"",null,null,"",{"$error":"#VALUE!"},null,null," ",{"$error":"#VALUE!"},{"$f":"VLOOKUP(Report!DC120,Code!$B$24:$C$32,2,FALSE)","v":{"$error":"#VALUE!"}},{"$f":"VLOOKUP(Report!DC120,Code!$B$24:$D$32,3,FALSE)","v":{"$error":"#VALUE!"}},{"$error":"#VALUE!"},{"$error":"#VALUE!"},{"$error":"#VALUE!"},null,null,null,null,null,null," ",{"$f":"VLOOKUP(Report!DO120,Code!$B$40:$D$42,2,FALSE)","v":{"$error":"#N/A"}},{"$f":"VLOOKUP(Report!DO120,Code!$B$40:$D$42,3,FALSE)","v":{"$error":"#N/A"}},{"$error":"#N/A"},null,{"$error":"#N/A"},"number","number","number","",null,null,null,null,"",""]
[null,null,null,null,null,null,null,null,null,null,null,null,null,null,null,null,null,null,null,null,"Type_2",null,{"$error":"#N/A"},null,{"$error":"#N/A"},{"$error":"#N/A"},null,"he","He","his","His",null,null," ",{"$f":"HLOOKUP(Report!AH121,Person!$H$2:$L$3,2,FALSE)","v":{"$error":"#N/A"}},{"$error":"#N/A"},{"$f":"IF(AH121=0,\"\",AJ121+VLOOKUP(AH121,Code!$B$2:$C$6,2,FALSE))","v":{"$error":"#N/A"}},{"$f":"IF(AH121=0,\"\",IF(I121=\"F\",G121&\" \"&VLOOKUP(AK121,Person!D:I,2,FALSE),G121&\" \"&VLOOKUP(AK121,Person!D:I,4,FALSE)))","v":{"$error":"#N/A"}},null,null,null,null,null,null,null,2,{"$f":"VLOOKUP(AT121,Code!$B$51:$D$55,2,FALSE)","v":"Behaviour_1"},{"$f":"RANDBETWEEN(1,VLOOKUP(AT121,Code!$B$51:$D$55,3,FALSE))","v":1},null," d",null,null," ",{"$f":"HLOOKUP(Report!BA121,Homework!$I$2:$L$3,2,FALSE)","v":{"$error":"#N/A"}},{"$error":"#N/A"},{"$f":"IF(BA121=0,\"\",BC121+VLOOKUP(BA121,Code!$B$2:$C$6,2,FALSE))","v":{"$error":"#N/A"}},{"$f":"IF(AND(VLOOKUP(BD121,Homework!D:J,2,FALSE)=\"'s \",RIGHT(G121,1)=\"s\"),\"' \",IF(VLOOKUP(BD121,Homework!D:J,2,FALSE)=\"'s \",\"'s \",\" \"))","v":{"$error":"#N/A"}},{"$f":"IF(BA121=0,\"\",IF(I121=\"F\",\" \"&G121&BE121&VLOOKUP(BD121,Homework!D:J,3,FALSE),\" \"&G121&BE121&VLOOKUP(BD121,Homework!D:J,5,FALSE)))","v":{"$error":"#N/A"}},null,null,null,null,null,null,null,null," ",{"$f":"VLOOKUP(BO121,Code!$B$45:$D$48,2,FALSE)","v":{"$error":"#N/A"}},{"$f":"VLOOKUP(BO121,Code!$B$45:$D$48,3,FALSE)","v":{"$error":"#N/A"}},{"$error":"#N/A"},null,"pen","pencil","ruler",null,null,"",""," ",null,113,{"$f":"HLOOKUP(Report!CC121,Behaviour!$H$2:$K$3,2,FALSE)","v":{"$error":"#N/A"}},{"$error":"#N/A"},{"$f":"CE121+VLOOKUP(CC121,Code!$B$2:$C$6,2,FALSE)","v":{"$error":"#N/A"}},{"$f":"IF(CC121=0,\"\",IF(I121=\"F\",AC121&\" \"&VLOOKUP(CF121,Behaviour!D:I,2,FALSE)&\" \",AC121&\" \"&VLOOKUP(CF121,Behaviour!D:I,4,FALSE)&\" \"))","v":{"$error":"#N/A"}},null,null," ",null,{"$f":"IF(CJ121=0,\"\",VLOOKUP(CJ121,Code!$B$59:$D$61,2,FALSE))","v":{"$error":"#N/A"}},{"$f":"IF(CJ121=0,\"\",VLOOKUP(CJ121,Code!$B$59:$D$61,3,FALSE))","v":{"$error":"#N/A"}},{"$error":"#N/A"},{"$error":"#N/A"},{"$error":"#N/A"},{"$error":"#N/A"},"",null,null,"",null,null,"",{"$error":"#VALUE!"},null,null," ",{"$error":"#VALUE!"},{"$f":"VLOOKUP(Report!DC121,Code!$B$24:$C$32,2,FALSE)","v":{"$error":"#VALUE!"}},{"$f":"VLOOKUP(Report!DC121,Code!$B$24:$D$32,3,FALSE)","v":{"$error":"#VALUE!"}},{"$error":"#VALUE!"},{"$error":"#VALUE!"},{"$error":"#VALUE!"},null,null,null,null,null,null," ",{"$f":"VLOOKUP(Report!DO121,Code!$B$40:$D$42,2,FALSE)","v":{"$error":"#N/A"}},{"$f":"VLOOKUP(Report!DO121,Code!$B$40:$D$42,3,FALSE)","v":{"$error":"#N/A"}},{"$error":"#N/A"},null,{"$error":"#N/A"},"number","number","number","",null,null,null,null,"",""]
[null,null,null,null,null,null,null,null,null,null,null,null,null,null,null,null,null,null,null,null,"Type_2",null,{"$error":"#N/A"},null,{"$error":"#N/A"},{"$error":"#N/A"},null,"he","He","his","His",null,null," ",{"$f":"HLOOKUP(Report!AH122,Person!$H$2:$L$3,2,FALSE)","v":{"$error":"#N/A"}},{"$error":"#N/A"},{"$f":"IF(AH122=0,\"\",AJ122+VLOOKUP(AH122,Code!$B$2:$C$6,2,FALSE))","v":{"$error":"#N/A"}},{"$f":"IF(AH122=0,\"\",IF(I122=\"F\",G122&\" \"&VLOOKUP(AK122,Person!D:I,2,FALSE),G122&\" \"&VLOOKUP(AK122,Person!D:I,4,FALSE)))","v":{"$error":"#N/A"}},null,null,null,null,null,null,null,2,{"$f":"VLOOKUP(AT122,Code!$B$51:$D$55,2,FALSE)","v":"Behaviour_1"},{"$f":"RANDBETWEEN(1,VLOOKUP(AT122,Code!$B$51:$D$55,3,FALSE))","v":1},null," d",null,null," ",{"$f":"HLOOKUP(Report!BA122,Homework!$I$2:$L$3,2,FALSE)","v":{"$error":"#N/A"}},{"$error":"#N/A"},{"$f":"IF(BA122=0,\"\",BC122+VLOOKUP(BA122,Code!$B$2:$C$6,2,FALSE))","v":{"$error":"#N/A"}},{"$f":"IF(AND(VLOOKUP(BD122,Homework!D:J,2,FALSE)=\"'s \",RIGHT(G122,1)=\"s\"),\"' \",IF(VLOOKUP(BD122,Homework!D:J,2,FALSE)=\"'s \",\"'s \",\" \"))","v":{"$error":"#N/A"}},{"$f":"IF(BA122=0,\"\",IF(I122=\"F\",\" \"&G122&BE122&VLOOKUP(BD122,Homework!D:J,3,FALSE),\" \"&G122&BE122&VLOOKUP(BD122,Homework!D:J,5,FALSE)))","v":{"$error":"#N/A"}},null,null,null,null,null,null,null,null," ",{"$f":"VLOOKUP(BO122,Code!$B$45:$D$48,2,FALSE)","v":{"$error":"#N/A"}},{"$f":"VLOOKUP(BO122,Code!$B$45:$D$48,3,FALSE)","v":{"$error":"#N/A"}},{"$error":"#N/A"},null,"pen","pencil","ruler",null,null,"",""," ",null,114,{"$f":"HLOOKUP(Report!CC122,Behaviour!$H$2:$K$3,2,FALSE)","v":{"$error":"#N/A"}},{"$error":"#N/A"},{"$f":"CE122+VLOOKUP(CC122,Code!$B$2:$C$6,2,FALSE)","v":{"$error":"#N/A"}},{"$f":"IF(CC122=0,\"\",IF(I122=\"F\",AC122&\" \"&VLOOKUP(CF122,Behaviour!D:I,2,FALSE)&\" \",AC122&\" \"&VLOOKUP(CF122,Behaviour!D:I,4,FALSE)&\" \"))","v":{"$error":"#N/A"}},null,null," ",null,{"$f":"IF(CJ122=0,\"\",VLOOKUP(CJ122,Code!$B$59:$D$61,2,FALSE))","v":{"$error":"#N/A"}},{"$f":"IF(CJ122=0,\"\",VLOOKUP(CJ122,Code!$B$59:$D$61,3,FALSE))","v":{"$error":"#N/A"}},{"$error":"#N/A"},{"$error":"#N/A"},{"$error":"#N/A"},{"$error":"#N/A"},"",null,null,"",null,null,"",{"$error":"#VALUE!"},null,null," ",{"$error":"#VALUE!"},{"$f":"VLOOKUP(Report!DC122,Code!$B$24:$C$32,2,FALSE)","v":{"$error":"#VALUE!"}},{"$f":"VLOOKUP(Report!DC122,Code!$B$24:$D$32,3,FALSE)","v":{"$error":"#VALUE!"}},{"$error":"#VALUE!"},{"$error":"#VALUE!"},{"$error":"#VALUE!"},null,null,null,null,null,null," ",{"$f":"VLOOKUP(Report!DO122,Code!$B$40:$D$42,2,FALSE)","v":{"$error":"#N/A"}},{"$f":"VLOOKUP(Report!DO122,Code!$B$40:$D$42,3,FALSE)","v":{"$error":"#N/A"}},{"$error":"#N/A"},null,{"$error":"#N/A"},"number","number","number","",null,null,null,null,"",""]
[null,null,null,null,null,null,null,null,null,null,null,null,null,null,null,null,null,null,null,null,"Type_2",null,{"$error":"#N/A"},null,{"$error":"#N/A"},{"$error":"#N/A"},null,"he","He","his","His",null,null," ",{"$f":"HLOOKUP(Report!AH123,Person!$H$2:$L$3,2,FALSE)","v":{"$error":"#N/A"}},{"$error":"#N/A"},{"$f":"IF(AH123=0,\"\",AJ123+VLOOKUP(AH123,Code!$B$2:$C$6,2,FALSE))","v":{"$error":"#N/A"}},{"$f":"IF(AH123=0,\"\",IF(I123=\"F\",G123&\" \"&VLOOKUP(AK123,Person!D:I,2,FALSE),G123&\" \"&VLOOKUP(AK123,Person!D:I,4,FALSE)))","v":{"$error":"#N/A"}},null,null,null,null,null,null,null,2,{"$f":"VLOOKUP(AT123,Code!$B$51:$D$55,2,FALSE)","v":"Behaviour_1"},{"$f":"RANDBETWEEN(1,VLOOKUP(AT123,Code!$B$51:$D$55,3,FALSE))","v":1},null," d",null,null," ",{"$f":"HLOOKUP(Report!BA123,Homework!$I$2:$L$3,2,FALSE)","v":{"$error":"#N/A"}},{"$error":"#N/A"},{"$f":"IF(BA123=0,\"\",BC123+VLOOKUP(BA123,Code!$B$2:$C$6,2,FALSE))","v":{"$error":"#N/A"}},{"$f":"IF(AND(VLOOKUP(BD123,Homework!D:J,2,FALSE)=\"'s \",RIGHT(G123,1)=\"s\"),\"' \",IF(VLOOKUP(BD123,Homework!D:J,2,FALSE)=\"'s \",\"'s \",\" \"))","v":{"$error":"#N/A"}},{"$f":"IF(BA123=0,\"\",IF(I123=\"F\",\" \"&G123&BE123&VLOOKUP(BD123,Homework!D:J,3,FALSE),\" \"&G123&BE123&VLOOKUP(BD123,Homework!D:J,5,FALSE)))","v":{"$error":"#N/A"}},null,null,null,null,null,null,null,null," ",{"$f":"VLOOKUP(BO123,Code!$B$45:$D$48,2,FALSE)","v":{"$error":"#N/A"}},{"$f":"VLOOKUP(BO123,Code!$B$45:$D$48,3,FALSE)","v":{"$error":"#N/A"}},{"$error":"#N/A"},null,"pen","pencil","ruler",null,null,"",""," ",null,115,{"$f":"HLOOKUP(Report!CC123,Behaviour!$H$2:$K$3,2,FALSE)","v":{"$error":"#N/A"}},{"$error":"#N/A"},{"$f":"CE123+VLOOKUP(CC123,Code!$B$2:$C$6,2,FALSE)","v":{"$error":"#N/A"}},{"$f":"IF(CC123=0,\"\",IF(I123=\"F\",AC123&\" \"&VLOOKUP(CF123,Behaviour!D:I,2,FALSE)&\" \",AC123&\" \"&VLOOKUP(CF123,Behaviour!D:I,4,FALSE)&\" \"))","v":{"$error":"#N/A"}},null,null," ",null,{"$f":"IF(CJ123=0,\"\",VLOOKUP(CJ123,Code!$B$59:$D$61,2,FALSE))","v":{"$error":"#N/A"}},{"$f":"IF(CJ123=0,\"\",VLOOKUP(CJ123,Code!$B$59:$D$61,3,FALSE))","v":{"$error":"#N/A"}},{"$error":"#N/A"},{"$error":"#N/A"},{"$error":"#N/A"},{"$error":"#N/A"},"",null,null,"",null,null,"",{"$error":"#VALUE!"},null,null," ",{"$error":"#VALUE!"},{"$f":"VLOOKUP(Report!DC123,Code!$B$24:$C$32,2,FALSE)","v":{"$error":"#VALUE!"}},{"$f":"VLOOKUP(Report!DC123,Code!$B$24:$D$32,3,FALSE)","v":{"$error":"#VALUE!"}},{"$error":"#VALUE!"},{"$error":"#VALUE!"},{"$error":"#VALUE!"},null,null,null,null,null,null," ",{"$f":"VLOOKUP(Report!DO123,Code!$B$40:$D$42,2,FALSE)","v":{"$error":"#N/A"}},{"$f":"VLOOKUP(Report!DO123,Code!$B$40:$D$42,3,FALSE)","v":{"$error":"#N/A"}},{"$error":"#N/A"},null,{"$error":"#N/A"},"number","number","number","",null,null,null,null,"",""]
[null,null,null,null,null,null,null,null,null,null,null,null,null,null,null,null,null,null,null,null,"Type_2",null,{"$error":"#N/A"},null,{"$error":"#N/A"},{"$error":"#N/A"},null,"he","He","his","His",null,null," ",{"$f":"HLOOKUP(Report!AH124,Person!$H$2:$L$3,2,FALSE)","v":{"$error":"#N/A"}},{"$error":"#N/A"},{"$f":"IF(AH124=0,\"\",AJ124+VLOOKUP(AH124,Code!$B$2:$C$6,2,FALSE))","v":{"$error":"#N/A"}},{"$f":"IF(AH124=0,\"\",IF(I124=\"F\",G124&\" \"&VLOOKUP(AK124,Person!D:I,2,FALSE),G124&\" \"&VLOOKUP(AK124,Person!D:I,4,FALSE)))","v":{"$error":"#N/A"}},null,null,null,null,null,null,null,2,{"$f":"VLOOKUP(AT124,Code!$B$51:$D$55,2,FALSE)","v":"Behaviour_1"},{"$f":"RANDBETWEEN(1,VLOOKUP(AT124,Code!$B$51:$D$55,3,FALSE))","v":1},null," d",null,null," ",{"$f":"HLOOKUP(Report!BA124,Homework!$I$2:$L$3,2,FALSE)","v":{"$error":"#N/A"}},{"$error":"#N/A"},{"$f":"IF(BA124=0,\"\",BC124+VLOOKUP(BA124,Code!$B$2:$C$6,2,FALSE))","v":{"$error":"#N/A"}},{"$f":"IF(AND(VLOOKUP(BD124,Homework!D:J,2,FALSE)=\"'s \",RIGHT(G124,1)=\"s\"),\"' \",IF(VLOOKUP(BD124,Homework!D:J,2,FALSE)=\"'s \",\"'s \",\" \"))","v":{"$error":"#N/A"}},{"$f":"IF(BA124=0,\"\",IF(I124=\"F\",\" \"&G124&BE124&VLOOKUP(BD124,Homework!D:J,3,FALSE),\" \"&G124&BE124&VLOOKUP(BD124,Homework!D:J,5,FALSE)))","v":{"$error":"#N/A"}},null,null,null,null,null,null,null,null," ",{"$f":"VLOOKUP(BO124,Code!$B$45:$D$48,2,FALSE)","v":{"$error":"#N/A"}},{"$f":"VLOOKUP(BO124,Code!$B$45:$D$48,3,FALSE)","v":{"$error":"#N/A"}},{"$error":"#N/A"},null,"pen","pencil","ruler",null,null,"",""," ",null,116,{"$f":"HLOOKUP(Report!CC124,Behaviour!$H$2:$K$3,2,FALSE)","v":{"$error":"#N/A"}},{"$error":"#N/A"},{"$f":"CE124+VLOOKUP(CC124,Code!$B$2:$C$6,2,FALSE)","v":{"$error":"#N/A"}},{"$f":"IF(CC124=0,\"\",IF(I124=\"F\",AC124&\" \"&VLOOKUP(CF124,Behaviour!D:I,2,FALSE)&\" \",AC124&\" \"&VLOOKUP(CF124,Behaviour!D:I,4,FALSE)&\" \"))","v":{"$error":"#N/A"}},null,null," ",null,{"$f":"IF(CJ124=0,\"\",VLOOKUP(CJ124,Code!$B$59:$D$61,2,FALSE))","v":{"$error":"#N/A"}},{"$f":"IF(CJ124=0,\"\",VLOOKUP(CJ124,Code!$B$59:$D$61,3,FALSE))","v":{"$error":"#N/A"}},{"$error":"#N/A"},{"$error":"#N/A"},{"$error":"#N/A"},{"$error":"#N/A"},"",null,null,"",null,null,"",{"$error":"#VALUE!"},null,null," ",{"$error":"#VALUE!"},{"$f":"VLOOKUP(Report!DC124,Code!$B$24:$C$32,2,FALSE)","v":{"$error":"#VALUE!"}},{"$f":"VLOOKUP(Report!DC124,Code!$B$24:$D$32,3,FALSE)","v":{"$error":"#VALUE!"}},{"$error":"#VALUE!"},{"$error":"#VALUE!"},{"$error":"#VALUE!"},null,null,null,null,null,null," ",{"$f":"VLOOKUP(Report!DO124,Code!$B$40:$D$42,2,FALSE)","v":{"$error":"#N/A"}},{"$f":"VLOOKUP(Report!DO124,Code!$B$40:$D$42,3,FALSE)","v":{"$error":"#N/A"}},{"$error":"#N/A"},null,{"$error":"#N/A"},"number","number","number","",null,null,null,null,"",""]
[null,null,null,null,null,null,null,null,null,null,null,null,null,null,null,null,null,null,null,null,"Type_2",null,{"$error":"#N/A"},null,{"$error":"#N/A"},{"$error":"#N/A"},null,"he","He","his","His",null,null," ",{"$f":"HLOOKUP(Report!AH125,Person!$H$2:$L$3,2,FALSE)","v":{"$error":"#N/A"}},{"$error":"#N/A"},{"$f":"IF(AH125=0,\"\",AJ125+VLOOKUP(AH125,Code!$B$2:$C$6,2,FALSE))","v":{"$error":"#N/A"}},{"$f":"IF(AH125=0,\"\",IF(I125=\"F\",G125&\" \"&VLOOKUP(AK125,Person!D:I,2,FALSE),G125&\" \"&VLOOKUP(AK125,Person!D:I,4,FALSE)))","v":{"$error":"#N/A"}},null,null,null,null,null,null,null,2,{"$f":"VLOOKUP(AT125,Code!$B$51:$D$55,2,FALSE)","v":"Behaviour_1"},{"$f":"RANDBETWEEN(1,VLOOKUP(AT125,Code!$B$51:$D$55,3,FALSE))","v":2},null," d",null,null," ",{"$f":"HLOOKUP(Report!BA125,Homework!$I$2:$L$3,2,FALSE)","v":{"$error":"#N/A"}},{"$error":"#N/A"},{"$f":"IF(BA125=0,\"\",BC125+VLOOKUP(BA125,Code!$B$2:$C$6,2,FALSE))","v":{"$error":"#N/A"}},{"$f":"IF(AND(VLOOKUP(BD125,Homework!D:J,2,FALSE)=\"'s \",RIGHT(G125,1)=\"s\"),\"' \",IF(VLOOKUP(BD125,Homework!D:J,2,FALSE)=\"'s \",\"'s \",\" \"))","v":{"$error":"#N/A"}},{"$f":"IF(BA125=0,\"\",IF(I125=\"F\",\" \"&G125&BE125&VLOOKUP(BD125,Homework!D:J,3,FALSE),\" \"&G125&BE125&VLOOKUP(BD125,Homework!D:J,5,FALSE)))","v":{"$error":"#N/A"}},null,null,null,null,null,null,null,null," ",{"$f":"VLOOKUP(BO125,Code!$B$45:$D$48,2,FALSE)","v":{"$error":"#N/A"}},{"$f":"VLOOKUP(BO125,Code!$B$45:$D$48,3,FALSE)","v":{"$error":"#N/A"}},{"$error":"#N/A"},null,"pen","pencil","ruler",null,null,"",""," ",null,117,{"$f":"HLOOKUP(Report!CC125,Behaviour!$H$2:$K$3,2,FALSE)","v":{"$error":"#N/A"}},{"$error":"#N/A"},{"$f":"CE125+VLOOKUP(CC125,Code!$B$2:$C$6,2,FALSE)","v":{"$error":"#N/A"}},{"$f":"IF(CC125=0,\"\",IF(I125=\"F\",AC125&\" \"&VLOOKUP(CF125,Behaviour!D:I,2,FALSE)&\" \",AC125&\" \"&VLOOKUP(CF125,Behaviour!D:I,4,FALSE)&\" \"))","v":{"$error":"#N/A"}},null,null," ",null,{"$f":"IF(CJ125=0,\"\",VLOOKUP(CJ125,Code!$B$59:$D$61,2,FALSE))","v":{"$error":"#N/A"}},{"$f":"IF(CJ125=0,\"\",VLOOKUP(CJ125,Code!$B$59:$D$61,3,FALSE))","v":{"$error":"#N/A"}},{"$error":"#N/A"},{"$error":"#N/A"},{"$error":"#N/A"},{"$error":"#N/A"},"",null,null,"",null,null,"",{"$error":"#VALUE!"},null,null," ",{"$error":"#VALUE!"},{"$f":"VLOOKUP(Report!DC125,Code!$B$24:$C$32,2,FALSE)","v":{"$error":"#VALUE!"}},{"$f":"VLOOKUP(Report!DC125,Code!$B$24:$D$32,3,FALSE)","v":{"$error":"#VALUE!"}},{"$error":"#VALUE!"},{"$error":"#VALUE!"},{"$error":"#VALUE!"},null,null,null,null,null,null," ",{"$f":"VLOOKUP(Report!DO125,Code!$B$40:$D$42,2,FALSE)","v":{"$error":"#N/A"}},{"$f":"VLOOKUP(Report!DO125,Code!$B$40:$D$42,3,FALSE)","v":{"$error":"#N/A"}},{"$error":"#N/A"},null,{"$error":"#N/A"},"number","number","number","",null,null,null,null,"",""]
[null,null,null,null,null,null,null,null,null,null,null,null,null,null,null,null,null,null,null,null,"Type_2",null,{"$error":"#N/A"},null,{"$error":"#N/A"},{"$error":"#N/A"},null,"he","He","his","His",null,null," ",{"$f":"HLOOKUP(Report!AH126,Person!$H$2:$L$3,2,FALSE)","v":{"$error":"#N/A"}},{"$error":"#N/A"},{"$f":"IF(AH126=0,\"\",AJ126+VLOOKUP(AH126,Code!$B$2:$C$6,2,FALSE))","v":{"$error":"#N/A"}},{"$f":"IF(AH126=0,\"\",IF(I126=\"F\",G126&\" \"&VLOOKUP(AK126,Person!D:I,2,FALSE),G126&\" \"&VLOOKUP(AK126,Person!D:I,4,FALSE)))","v":{"$error":"#N/A"}},null,null,null,null,null,null,null,2,{"$f":"VLOOKUP(AT126,Code!$B$51:$D$55,2,FALSE)","v":"Behaviour_1"},{"$f":"RANDBETWEEN(1,VLOOKUP(AT126,Code!$B$51:$D$55,3,FALSE))","v":2},null," d",null,null," ",{"$f":"HLOOKUP(Report!BA126,Homework!$I$2:$L$3,2,FALSE)","v":{"$error":"#N/A"}},{"$error":"#N/A"},{"$f":"IF(BA126=0,\"\",BC126+VLOOKUP(BA126,Code!$B$2:$C$6,2,FALSE))","v":{"$error":"#N/A"}},{"$f":"IF(AND(VLOOKUP(BD126,Homework!D:J,2,FALSE)=\"'s \",RIGHT(G126,1)=\"s\"),\"' \",IF(VLOOKUP(BD126,Homework!D:J,2,FALSE)=\"'s \",\"'s \",\" \"))","v":{"$error":"#N/A"}},{"$f":"IF(BA126=0,\"\",IF(I126=\"F\",\" \"&G126&BE126&VLOOKUP(BD126,Homework!D:J,3,FALSE),\" \"&G126&BE126&VLOOKUP(BD126,Homework!D:J,5,FALSE)))","v":{"$error":"#N/A"}},null,null,null,null,null,null,null,null," ",{"$f":"VLOOKUP(BO126,Code!$B$45:$D$48,2,FALSE)","v":{"$error":"#N/A"}},{"$f":"VLOOKUP(BO126,Code!$B$45:$D$48,3,FALSE)","v":{"$error":"#N/A"}},{"$error":"#N/A"},null,"pen","pencil","ruler",null,null,"",""," ",null,118,{"$f":"HLOOKUP(Report!CC126,Behaviour!$H$2:$K$3,2,FALSE)","v":{"$error":"#N/A"}},{"$error":"#N/A"},{"$f":"CE126+VLOOKUP(CC126,Code!$B$2:$C$6,2,FALSE)","v":{"$error":"#N/A"}},{"$f":"IF(CC126=0,\"\",IF(I126=\"F\",AC126&\" \"&VLOOKUP(CF126,Behaviour!D:I,2,FALSE)&\" \",AC126&\" \"&VLOOKUP(CF126,Behaviour!D:I,4,FALSE)&\" \"))","v":{"$error":"#N/A"}},null,null," ",null,{"$f":"IF(CJ126=0,\"\",VLOOKUP(CJ126,Code!$B$59:$D$61,2,FALSE))","v":{"$error":"#N/A"}},{"$f":"IF(CJ126=0,\"\",VLOOKUP(CJ126,Code!$B$59:$D$61,3,FALSE))","v":{"$error":"#N/A"}},{"$error":"#N/A"},{"$error":"#N/A"},{"$error":"#N/A"},{"$error":"#N/A"},"",null,null,"",null,null,"",{"$error":"#VALUE!"},null,null," ",{"$error":"#VALUE!"},{"$f":"VLOOKUP(Report!DC126,Code!$B$24:$C$32,2,FALSE)","v":{"$error":"#VALUE!"}},{"$f":"VLOOKUP(Report!DC126,Code!$B$24:$D$32,3,FALSE)","v":{"$error":"#VALUE!"}},{"$error":"#VALUE!"},{"$error":"#VALUE!"},{"$error":"#VALUE!"},null,null,null,null,null,null," ",{"$f":"VLOOKUP(Report!DO126,Code!$B$40:$D$42,2,FALSE)","v":{"$error":"#N/A"}},{"$f":"VLOOKUP(Report!DO126,Code!$B$40:$D$42,3,FALSE)","v":{"$error":"#N/A"}},{"$error":"#N/A"},null,{"$error":"#N/A"},"number","number","number","",null,null,null,null,"",""]
[null,null,null,null,null,null,null,null,null,null,null,null,null,null,null,null,null,null,null,null,"Type_2",null,{"$error":"#N/A"},null,{"$error":"#N/A"},{"$error":"#N/A"},null,"he","He","his","His",null,null," ",{"$f":"HLOOKUP(Report!AH127,Person!$H$2:$L$3,2,FALSE)","v":{"$error":"#N/A"}},{"$error":"#N/A"},{"$f":"IF(AH127=0,\"\",AJ127+VLOOKUP(AH127,Code!$B$2:$C$6,2,FALSE))","v":{"$error":"#N/A"}},{"$f":"IF(AH127=0,\"\",IF(I127=\"F\",G127&\" \"&VLOOKUP(AK127,Person!D:I,2,FALSE),G127&\" \"&VLOOKUP(AK127,Person!D:I,4,FALSE)))","v":{"$error":"#N/A"}},null,null,null,null,null,null,null,2,{"$f":"VLOOKUP(AT127,Code!$B$51:$D$55,2,FALSE)","v":"Behaviour_1"},{"$f":"RANDBETWEEN(1,VLOOKUP(AT127,Code!$B$51:$D$55,3,FALSE))","v":1},null," d",null,null," ",{"$f":"HLOOKUP(Report!BA127,Homework!$I$2:$L$3,2,FALSE)","v":{"$error":"#N/A"}},{"$error":"#N/A"},{"$f":"IF(BA127=0,\"\",BC127+VLOOKUP(BA127,Code!$B$2:$C$6,2,FALSE))","v":{"$error":"#N/A"}},{"$f":"IF(AND(VLOOKUP(BD127,Homework!D:J,2,FALSE)=\"'s \",RIGHT(G127,1)=\"s\"),\"' \",IF(VLOOKUP(BD127,Homework!D:J,2,FALSE)=\"'s \",\"'s \",\" \"))","v":{"$error":"#N/A"}},{"$f":"IF(BA127=0,\"\",IF(I127=\"F\",\" \"&G127&BE127&VLOOKUP(BD127,Homework!D:J,3,FALSE),\" \"&G127&BE127&VLOOKUP(BD127,Homework!D:J,5,FALSE)))","v":{"$error":"#N/A"}},null,null,null,null,null,null,null,null," ",{"$f":"VLOOKUP(BO127,Code!$B$45:$D$48,2,FALSE)","v":{"$error":"#N/A"}},{"$f":"VLOOKUP(BO127,Code!$B$45:$D$48,3,FALSE)","v":{"$error":"#N/A"}},{"$error":"#N/A"},null,"pen","pencil","ruler",null,null,"",""," ",null,119,{"$f":"HLOOKUP(Report!CC127,Behaviour!$H$2:$K$3,2,FALSE)","v":{"$error":"#N/A"}},{"$error":"#N/A"},{"$f":"CE127+VLOOKUP(CC127,Code!$B$2:$C$6,2,FALSE)","v":{"$error":"#N/A"}},{"$f":"IF(CC127=0,\"\",IF(I127=\"F\",AC127&\" \"&VLOOKUP(CF127,Behaviour!D:I,2,FALSE)&\" \",AC127&\" \"&VLOOKUP(CF127,Behaviour!D:I,4,FALSE)&\" \"))","v":{"$error":"#N/A"}},null,null," ",null,{"$f":"IF(CJ127=0,\"\",VLOOKUP(CJ127,Code!$B$59:$D$61,2,FALSE))","v":{"$error":"#N/A"}},{"$f":"IF(CJ127=0,\"\",VLOOKUP(CJ127,Code!$B$59:$D$61,3,FALSE))","v":{"$error":"#N/A"}},{"$error":"#N/A"},{"$error":"#N/A"},{"$error":"#N/A"},{"$error":"#N/A"},"",null,null,"",null,null,"",{"$error":"#VALUE!"},null,null," ",{"$error":"#VALUE!"},{"$f":"VLOOKUP(Report!DC127,Code!$B$24:$C$32,2,FALSE)","v":{"$error":"#VALUE!"}},{"$f":"VLOOKUP(Report!DC127,Code!$B$24:$D$32,3,FALSE)","v":{"$error":"#VALUE!"}},{"$error":"#VALUE!"},{"$error":"#VALUE!"},{"$error":"#VALUE!"},null,null,null,null,null,null," ",{"$f":"VLOOKUP(Report!DO127,Code!$B$40:$D$42,2,FALSE)","v":{"$error":"#N/A"}},{"$f":"VLOOKUP(Report!DO127,Code!$B$40:$D$42,3,FALSE)","v":{"$error":"#N/A"}},{"$error":"#N/A"},null,{"$error":"#N/A"},"number","number","number","",null,null,null,null,"",""]
[null,null,null,null,null,null,null,null,null,null,null,null,null,null,null,null,null,null,null,null,"Type_2",null,{"$error":"#N/A"},null,{"$error":"#N/A"},{"$error":"#N/A"},null,"he","He","his","His",null,null," ",{"$f":"HLOOKUP(Report!AH128,Person!$H$2:$L$3,2,FALSE)","v":{"$error":"#N/A"}},{"$error":"#N/A"},{"$f":"IF(AH128=0,\"\",AJ128+VLOOKUP(AH128,Code!$B$2:$C$6,2,FALSE))","v":{"$error":"#N/A"}},{"$f":"IF(AH128=0,\"\",IF(I128=\"F\",G128&\" \"&VLOOKUP(AK128,Person!D:I,2,FALSE),G128&\" \"&VLOOKUP(AK128,Person!D:I,4,FALSE)))","v":{"$error":"#N/A"}},null,null,null,null,null,null,null,2,{"$f":"VLOOKUP(AT128,Code!$B$51:$D$55,2,FALSE)","v":"Behaviour_1"},{"$f":"RANDBETWEEN(1,VLOOKUP(AT128,Code!$B$51:$D$55,3,FALSE))","v":2},null," d",null,null," ",{"$f":"HLOOKUP(Report!BA128,Homework!$I$2:$L$3,2,FALSE)","v":{"$error":"#N/A"}},{"$error":"#N/A"},{"$f":"IF(BA128=0,\"\",BC128+VLOOKUP(BA128,Code!$B$2:$C$6,2,FALSE))","v":{"$error":"#N/A"}},{"$f":"IF(AND(VLOOKUP(BD128,Homework!D:J,2,FALSE)=\"'s \",RIGHT(G128,1)=\"s\"),\"' \",IF(VLOOKUP(BD128,Homework!D:J,2,FALSE)=\"'s \",\"'s \",\" \"))","v":{"$error":"#N/A"}},{"$f":"IF(BA128=0,\"\",IF(I128=\"F\",\" \"&G128&BE128&VLOOKUP(BD128,Homework!D:J,3,FALSE),\" \"&G128&BE128&VLOOKUP(BD128,Homework!D:J,5,FALSE)))","v":{"$error":"#N/A"}},null,null,null,null,null,null,null,null," ",{"$f":"VLOOKUP(BO128,Code!$B$45:$D$48,2,FALSE)","v":{"$error":"#N/A"}},{"$f":"VLOOKUP(BO128,Code!$B$45:$D$48,3,FALSE)","v":{"$error":"#N/A"}},{"$error":"#N/A"},null,"pen","pencil","ruler",null,null,"",""," ",null,120,{"$f":"HLOOKUP(Report!CC128,Behaviour!$H$2:$K$3,2,FALSE)","v":{"$error":"#N/A"}},{"$error":"#N/A"},{"$f":"CE128+VLOOKUP(CC128,Code!$B$2:$C$6,2,FALSE)","v":{"$error":"#N/A"}},{"$f":"IF(CC128=0,\"\",IF(I128=\"F\",AC128&\" \"&VLOOKUP(CF128,Behaviour!D:I,2,FALSE)&\" \",AC128&\" \"&VLOOKUP(CF128,Behaviour!D:I,4,FALSE)&\" \"))","v":{"$error":"#N/A"}},null,null," ",null,{"$f":"IF(CJ128=0,\"\",VLOOKUP(CJ128,Code!$B$59:$D$61,2,FALSE))","v":{"$error":"#N/A"}},{"$f":"IF(CJ128=0,\"\",VLOOKUP(CJ128,Code!$B$59:$D$61,3,FALSE))","v":{"$error":"#N/A"}},{"$error":"#N/A"},{"$error":"#N/A"},{"$error":"#N/A"},{"$error":"#N/A"},"",null,null,"",null,null,"",{"$error":"#VALUE!"},null,null," ",{"$error":"#VALUE!"},{"$f":"VLOOKUP(Report!DC128,Code!$B$24:$C$32,2,FALSE)","v":{"$error":"#VALUE!"}},{"$f":"VLOOKUP(Report!DC128,Code!$B$24:$D$32,3,FALSE)","v":{"$error":"#VALUE!"}},{"$error":"#VALUE!"},{"$error":"#VALUE!"},{"$error":"#VALUE!"},null,null,null,null,null,null," ",{"$f":"VLOOKUP(Report!DO128,Code!$B$40:$D$42,2,FALSE)","v":{"$error":"#N/A"}},{"$f":"VLOOKUP(Report!DO128,Code!$B$40:$D$42,3,FALSE)","v":{"$error":"#N/A"}},{"$error":"#N/A"},null,{"$error":"#N/A"},"number","number","number","",null,null,null,null,"",""]
[null,null,null,null,null,null,null,null,null,null,null,null,null,null,null,null,null,null,null,null,"Type_2",null,{"$error":"#N/A"},null,{"$error":"#N/A"},{"$error":"#N/A"},null,"he","He","his","His",null,null," ",{"$f":"HLOOKUP(Report!AH129,Person!$H$2:$L$3,2,FALSE)","v":{"$error":"#N/A"}},{"$error":"#N/A"},{"$f":"IF(AH129=0,\"\",AJ129+VLOOKUP(AH129,Code!$B$2:$C$6,2,FALSE))","v":{"$error":"#N/A"}},{"$f":"IF(AH129=0,\"\",IF(I129=\"F\",G129&\" \"&VLOOKUP(AK129,Person!D:I,2,FALSE),G129&\" \"&VLOOKUP(AK129,Person!D:I,4,FALSE)))","v":{"$error":"#N/A"}},null,null,null,null,null,null,null,2,{"$f":"VLOOKUP(AT129,Code!$B$51:$D$55,2,FALSE)","v":"Behaviour_1"},{"$f":"RANDBETWEEN(1,VLOOKUP(AT129,Code!$B$51:$D$55,3,FALSE))","v":1},null," d",null,null," ",{"$f":"HLOOKUP(Report!BA129,Homework!$I$2:$L$3,2,FALSE)","v":{"$error":"#N/A"}},{"$error":"#N/A"},{"$f":"IF(BA129=0,\"\",BC129+VLOOKUP(BA129,Code!$B$2:$C$6,2,FALSE))","v":{"$error":"#N/A"}},{"$f":"IF(AND(VLOOKUP(BD129,Homework!D:J,2,FALSE)=\"'s \",RIGHT(G129,1)=\"s\"),\"' \",IF(VLOOKUP(BD129,Homework!D:J,2,FALSE)=\"'s \",\"'s \",\" \"))","v":{"$error":"#N/A"}},{"$f":"IF(BA129=0,\"\",IF(I129=\"F\",\" \"&G129&BE129&VLOOKUP(BD129,Homework!D:J,3,FALSE),\" \"&G129&BE129&VLOOKUP(BD129,Homework!D:J,5,FALSE)))","v":{"$error":"#N/A"}},null,null,null,null,null,null,null,null," ",{"$f":"VLOOKUP(BO129,Code!$B$45:$D$48,2,FALSE)","v":{"$error":"#N/A"}},{"$f":"VLOOKUP(BO129,Code!$B$45:$D$48,3,FALSE)","v":{"$error":"#N/A"}},{"$error":"#N/A"},null,"pen","pencil","ruler",null,null,"",""," ",null,121,{"$f":"HLOOKUP(Report!CC129,Behaviour!$H$2:$K$3,2,FALSE)","v":{"$error":"#N/A"}},{"$error":"#N/A"},{"$f":"CE129+VLOOKUP(CC129,Code!$B$2:$C$6,2,FALSE)","v":{"$error":"#N/A"}},{"$f":"IF(CC129=0,\"\",IF(I129=\"F\",AC129&\" \"&VLOOKUP(CF129,Behaviour!D:I,2,FALSE)&\" \",AC129&\" \"&VLOOKUP(CF129,Behaviour!D:I,4,FALSE)&\" \"))","v":{"$error":"#N/A"}},null,null," ",null,{"$f":"IF(CJ129=0,\"\",VLOOKUP(CJ129,Code!$B$59:$D$61,2,FALSE))","v":{"$error":"#N/A"}},{"$f":"IF(CJ129=0,\"\",VLOOKUP(CJ129,Code!$B$59:$D$61,3,FALSE))","v":{"$error":"#N/A"}},{"$error":"#N/A"},{"$error":"#N/A"},{"$error":"#N/A"},{"$error":"#N/A"},"",null,null,"",null,null,"",{"$error":"#VALUE!"},null,null," ",{"$error":"#VALUE!"},{"$f":"VLOOKUP(Report!DC129,Code!$B$24:$C$32,2,FALSE)","v":{"$error":"#VALUE!"}},{"$f":"VLOOKUP(Report!DC129,Code!$B$24:$D$32,3,FALSE)","v":{"$error":"#VALUE!"}},{"$error":"#VALUE!"},{"$error":"#VALUE!"},{"$error":"#VALUE!"},null,null,null,null,null,null," ",{"$f":"VLOOKUP(Report!DO129,Code!$B$40:$D$42,2,FALSE)","v":{"$error":"#N/A"}},{"$f":"VLOOKUP(Report!DO129,Code!$B$40:$D$42,3,FALSE)","v":{"$error":"#N/A"}},{"$error":"#N/A"},null,{"$error":"#N/A"},"number","number","number","",null,null,null,null,"",""]
[null,null,null,null,null,null,null,null,null,null,null,null,null,null,null,null,null,null,null,null,"Type_2",null,{"$error":"#N/A"},null,{"$error":"#N/A"},{"$error":"#N/A"},null,"he","He","his","His",null,null," ",{"$f":"HLOOKUP(Report!AH130,Person!$H$2:$L$3,2,FALSE)","v":{"$error":"#N/A"}},{"$error":"#N/A"},{"$f":"IF(AH130=0,\"\",AJ130+VLOOKUP(AH130,Code!$B$2:$C$6,2,FALSE))","v":{"$error":"#N/A"}},{"$f":"IF(AH130=0,\"\",IF(I130=\"F\",G130&\" \"&VLOOKUP(AK130,Person!D:I,2,FALSE),G130&\" \"&VLOOKUP(AK130,Person!D:I,4,FALSE)))","v":{"$error":"#N/A"}},null,null,null,null,null,null,null,2,{"$f":"VLOOKUP(AT130,Code!$B$51:$D$55,2,FALSE)","v":"Behaviour_1"},{"$f":"RANDBETWEEN(1,VLOOKUP(AT130,Code!$B$51:$D$55,3,FALSE))","v":1},null," d",null,null," ",{"$f":"HLOOKUP(Report!BA130,Homework!$I$2:$L$3,2,FALSE)","v":{"$error":"#N/A"}},{"$error":"#N/A"},{"$f":"IF(BA130=0,\"\",BC130+VLOOKUP(BA130,Code!$B$2:$C$6,2,FALSE))","v":{"$error":"#N/A"}},{"$f":"IF(AND(VLOOKUP(BD130,Homework!D:J,2,FALSE)=\"'s \",RIGHT(G130,1)=\"s\"),\"' \",IF(VLOOKUP(BD130,Homework!D:J,2,FALSE)=\"'s \",\"'s \",\" \"))","v":{"$error":"#N/A"}},{"$f":"IF(BA130=0,\"\",IF(I130=\"F\",\" \"&G130&BE130&VLOOKUP(BD130,Homework!D:J,3,FALSE),\" \"&G130&BE130&VLOOKUP(BD130,Homework!D:J,5,FALSE)))","v":{"$error":"#N/A"}},null,null,null,null,null,null,null,null," ",{"$f":"VLOOKUP(BO130,Code!$B$45:$D$48,2,FALSE)","v":{"$error":"#N/A"}},{"$f":"VLOOKUP(BO130,Code!$B$45:$D$48,3,FALSE)","v":{"$error":"#N/A"}},{"$error":"#N/A"},null,"pen","pencil","ruler",null,null,"",""," ",null,122,{"$f":"HLOOKUP(Report!CC130,Behaviour!$H$2:$K$3,2,FALSE)","v":{"$error":"#N/A"}},{"$error":"#N/A"},{"$f":"CE130+VLOOKUP(CC130,Code!$B$2:$C$6,2,FALSE)","v":{"$error":"#N/A"}},{"$f":"IF(CC130=0,\"\",IF(I130=\"F\",AC130&\" \"&VLOOKUP(CF130,Behaviour!D:I,2,FALSE)&\" \",AC130&\" \"&VLOOKUP(CF130,Behaviour!D:I,4,FALSE)&\" \"))","v":{"$error":"#N/A"}},null,null," ",null,{"$f":"IF(CJ130=0,\"\",VLOOKUP(CJ130,Code!$B$59:$D$61,2,FALSE))","v":{"$error":"#N/A"}},{"$f":"IF(CJ130=0,\"\",VLOOKUP(CJ130,Code!$B$59:$D$61,3,FALSE))","v":{"$error":"#N/A"}},{"$error":"#N/A"},{"$error":"#N/A"},{"$error":"#N/A"},{"$error":"#N/A"},"",null,null,"",null,null,"",{"$error":"#VALUE!"},null,null," ",{"$error":"#VALUE!"},{"$f":"VLOOKUP(Report!DC130,Code!$B$24:$C$32,2,FALSE)","v":{"$error":"#VALUE!"}},{"$f":"VLOOKUP(Report!DC130,Code!$B$24:$D$32,3,FALSE)","v":{"$error":"#VALUE!"}},{"$error":"#VALUE!"},{"$error":"#VALUE!"},{"$error":"#VALUE!"},null,null,null,null,null,null," ",{"$f":"VLOOKUP(Report!DO130,Code!$B$40:$D$42,2,FALSE)","v":{"$error":"#N/A"}},{"$f":"VLOOKUP(Report!DO130,Code!$B$40:$D$42,3,FALSE)","v":{"$error":"#N/A"}},{"$error":"#N/A"},null,{"$error":"#N/A"},"number","number","number","",null,null,null,null,"",""]
[null,null,null,null,null,null,null,null,null,null,null,null,null,null,null,null,null,null,null,null,"Type_2",null,{"$error":"#N/A"},null,{"$error":"#N/A"},{"$error":"#N/A"},null,"he","He","his","His",null,null," ",{"$f":"HLOOKUP(Report!AH131,Person!$H$2:$L$3,2,FALSE)","v":{"$error":"#N/A"}},{"$error":"#N/A"},{"$f":"IF(AH131=0,\"\",AJ131+VLOOKUP(AH131,Code!$B$2:$C$6,2,FALSE))","v":{"$error":"#N/A"}},{"$f":"IF(AH131=0,\"\",IF(I131=\"F\",G131&\" \"&VLOOKUP(AK131,Person!D:I,2,FALSE),G131&\" \"&VLOOKUP(AK131,Person!D:I,4,FALSE)))","v":{"$error":"#N/A"}},null,null,null,null,null,null,null,2,{"$f":"VLOOKUP(AT131,Code!$B$51:$D$55,2,FALSE)","v":"Behaviour_1"},{"$f":"RANDBETWEEN(1,VLOOKUP(AT131,Code!$B$51:$D$55,3,FALSE))","v":1},null," d",null,null," ",{"$f":"HLOOKUP(Report!BA131,Homework!$I$2:$L$3,2,FALSE)","v":{"$error":"#N/A"}},{"$error":"#N/A"},{"$f":"IF(BA131=0,\"\",BC131+VLOOKUP(BA131,Code!$B$2:$C$6,2,FALSE))","v":{"$error":"#N/A"}},{"$f":"IF(AND(VLOOKUP(BD131,Homework!D:J,2,FALSE)=\"'s \",RIGHT(G131,1)=\"s\"),\"' \",IF(VLOOKUP(BD131,Homework!D:J,2,FALSE)=\"'s \",\"'s \",\" \"))","v":{"$error":"#N/A"}},{"$f":"IF(BA131=0,\"\",IF(I131=\"F\",\" \"&G131&BE131&VLOOKUP(BD131,Homework!D:J,3,FALSE),\" \"&G131&BE131&VLOOKUP(BD131,Homework!D:J,5,FALSE)))","v":{"$error":"#N/A"}},null,null,null,null,null,null,null,null," ",{"$f":"VLOOKUP(BO131,Code!$B$45:$D$48,2,FALSE)","v":{"$error":"#N/A"}},{"$f":"VLOOKUP(BO131,Code!$B$45:$D$48,3,FALSE)","v":{"$error":"#N/A"}},{"$error":"#N/A"},null,"pen","pencil","ruler",null,null,"",""," ",null,123,{"$f":"HLOOKUP(Report!CC131,Behaviour!$H$2:$K$3,2,FALSE)","v":{"$error":"#N/A"}},{"$error":"#N/A"},{"$f":"CE131+VLOOKUP(CC131,Code!$B$2:$C$6,2,FALSE)","v":{"$error":"#N/A"}},{"$f":"IF(CC131=0,\"\",IF(I131=\"F\",AC131&\" \"&VLOOKUP(CF131,Behaviour!D:I,2,FALSE)&\" \",AC131&\" \"&VLOOKUP(CF131,Behaviour!D:I,4,FALSE)&\" \"))","v":{"$error":"#N/A"}},null,null," ",null,{"$f":"IF(CJ131=0,\"\",VLOOKUP(CJ131,Code!$B$59:$D$61,2,FALSE))","v":{"$error":"#N/A"}},{"$f":"IF(CJ131=0,\"\",VLOOKUP(CJ131,Code!$B$59:$D$61,3,FALSE))","v":{"$error":"#N/A"}},{"$error":"#N/A"},{"$error":"#N/A"},{"$error":"#N/A"},{"$error":"#N/A"},"",null,null,"",null,null,"",{"$error":"#VALUE!"},null,null," ",{"$error":"#VALUE!"},{"$f":"VLOOKUP(Report!DC131,Code!$B$24:$C$32,2,FALSE)","v":{"$error":"#VALUE!"}},{"$f":"VLOOKUP(Report!DC131,Code!$B$24:$D$32,3,FALSE)","v":{"$error":"#VALUE!"}},{"$error":"#VALUE!"},{"$error":"#VALUE!"},{"$error":"#VALUE!"},null,null,null,null,null,null," ",{"$f":"VLOOKUP(Report!DO131,Code!$B$40:$D$42,2,FALSE)","v":{"$error":"#N/A"}},{"$f":"VLOOKUP(Report!DO131,Code!$B$40:$D$42,3,FALSE)","v":{"$error":"#N/A"}},{"$error":"#N/A"},null,{"$error":"#N/A"},"number","number","number","",null,null,null,null,"",""]
[null,null,null,null,null,null,null,null,null,null,null,null,null,null,null,null,null,null,null,null,"Type_2",null,{"$error":"#N/A"},null,{"$error":"#N/A"},{"$error":"#N/A"},null,"he","He","his","His",null,null," ",{"$f":"HLOOKUP(Report!AH132,Person!$H$2:$L$3,2,FALSE)","v":{"$error":"#N/A"}},{"$error":"#N/A"},{"$f":"IF(AH132=0,\"\",AJ132+VLOOKUP(AH132,Code!$B$2:$C$6,2,FALSE))","v":{"$error":"#N/A"}},{"$f":"IF(AH132=0,\"\",IF(I132=\"F\",G132&\" \"&VLOOKUP(AK132,Person!D:I,2,FALSE),G132&\" \"&VLOOKUP(AK132,Person!D:I,4,FALSE)))","v":{"$error":"#N/A"}},null,null,null,null,null,null,null,2,{"$f":"VLOOKUP(AT132,Code!$B$51:$D$55,2,FALSE)","v":"Behaviour_1"},{"$f":"RANDBETWEEN(1,VLOOKUP(AT132,Code!$B$51:$D$55,3,FALSE))","v":1},null," d",null,null," ",{"$f":"HLOOKUP(Report!BA132,Homework!$I$2:$L$3,2,FALSE)","v":{"$error":"#N/A"}},{"$error":"#N/A"},{"$f":"IF(BA132=0,\"\",BC132+VLOOKUP(BA132,Code!$B$2:$C$6,2,FALSE))","v":{"$error":"#N/A"}},{"$f":"IF(AND(VLOOKUP(BD132,Homework!D:J,2,FALSE)=\"'s \",RIGHT(G132,1)=\"s\"),\"' \",IF(VLOOKUP(BD132,Homework!D:J,2,FALSE)=\"'s \",\"'s \",\" \"))","v":{"$error":"#N/A"}},{"$f":"IF(BA132=0,\"\",IF(I132=\"F\",\" \"&G132&BE132&VLOOKUP(BD132,Homework!D:J,3,FALSE),\" \"&G132&BE132&VLOOKUP(BD132,Homework!D:J,5,FALSE)))","v":{"$error":"#N/A"}},null,null,null,null,null,null,null,null," ",{"$f":"VLOOKUP(BO132,Code!$B$45:$D$48,2,FALSE)","v":{"$error":"#N/A"}},{"$f":"VLOOKUP(BO132,Code!$B$45:$D$48,3,FALSE)","v":{"$error":"#N/A"}},{"$error":"#N/A"},null,"pen","pencil","ruler",null,null,"",""," ",null,124,{"$f":"HLOOKUP(Report!CC132,Behaviour!$H$2:$K$3,2,FALSE)","v":{"$error":"#N/A"}},{"$error":"#N/A"},{"$f":"CE132+VLOOKUP(CC132,Code!$B$2:$C$6,2,FALSE)","v":{"$error":"#N/A"}},{"$f":"IF(CC132=0,\"\",IF(I132=\"F\",AC132&\" \"&VLOOKUP(CF132,Behaviour!D:I,2,FALSE)&\" \",AC132&\" \"&VLOOKUP(CF132,Behaviour!D:I,4,FALSE)&\" \"))","v":{"$error":"#N/A"}},null,null," ",null,{"$f":"IF(CJ132=0,\"\",VLOOKUP(CJ132,Code!$B$59:$D$61,2,FALSE))","v":{"$error":"#N/A"}},{"$f":"IF(CJ132=0,\"\",VLOOKUP(CJ132,Code!$B$59:$D$61,3,FALSE))","v":{"$error":"#N/A"}},{"$error":"#N/A"},{"$error":"#N/A"},{"$error":"#N/A"},{"$error":"#N/A"},"",null,null,"",null,null,"",{"$error":"#VALUE!"},null,null," ",{"$error":"#VALUE!"},{"$f":"VLOOKUP(Report!DC132,Code!$B$24:$C$32,2,FALSE)","v":{"$error":"#VALUE!"}},{"$f":"VLOOKUP(Report!DC132,Code!$B$24:$D$32,3,FALSE)","v":{"$error":"#VALUE!"}},{"$error":"#VALUE!"},{"$error":"#VALUE!"},{"$error":"#VALUE!"},null,null,null,null,null,null," ",{"$f":"VLOOKUP(Report!DO132,Code!$B$40:$D$42,2,FALSE)","v":{"$error":"#N/A"}},{"$f":"VLOOKUP(Report!DO132,Code!$B$40:$D$42,3,FALSE)","v":{"$error":"#N/A"}},{"$error":"#N/A"},null,{"$error":"#N/A"},"number","number","number","",null,null,null,null,"",""]
[null,null,null,null,null,null,null,null,null,null,null,null,null,null,null,null,null,null,null,null,"Type_2",null,{"$error":"#N/A"},null,{"$error":"#N/A"},{"$error":"#N/A"},null,"he","He","his","His",null,null," ",{"$f":"HLOOKUP(Report!AH133,Person!$H$2:$L$3,2,FALSE)","v":{"$error":"#N/A"}},{"$error":"#N/A"},{"$f":"IF(AH133=0,\"\",AJ133+VLOOKUP(AH133,Code!$B$2:$C$6,2,FALSE))","v":{"$error":"#N/A"}},{"$f":"IF(AH133=0,\"\",IF(I133=\"F\",G133&\" \"&VLOOKUP(AK133,Person!D:I,2,FALSE),G133&\" \"&VLOOKUP(AK133,Person!D:I,4,FALSE)))","v":{"$error":"#N/A"}},null,null,null,null,null,null,null,2,{"$f":"VLOOKUP(AT133,Code!$B$51:$D$55,2,FALSE)","v":"Behaviour_1"},{"$f":"RANDBETWEEN(1,VLOOKUP(AT133,Code!$B$51:$D$55,3,FALSE))","v":1},null," d",null,null," ",{"$f":"HLOOKUP(Report!BA133,Homework!$I$2:$L$3,2,FALSE)","v":{"$error":"#N/A"}},{"$error":"#N/A"},{"$f":"IF(BA133=0,\"\",BC133+VLOOKUP(BA133,Code!$B$2:$C$6,2,FALSE))","v":{"$error":"#N/A"}},{"$f":"IF(AND(VLOOKUP(BD133,Homework!D:J,2,FALSE)=\"'s \",RIGHT(G133,1)=\"s\"),\"' \",IF(VLOOKUP(BD133,Homework!D:J,2,FALSE)=\"'s \",\"'s \",\" \"))","v":{"$error":"#N/A"}},{"$f":"IF(BA133=0,\"\",IF(I133=\"F\",\" \"&G133&BE133&VLOOKUP(BD133,Homework!D:J,3,FALSE),\" \"&G133&BE133&VLOOKUP(BD133,Homework!D:J,5,FALSE)))","v":{"$error":"#N/A"}},null,null,null,null,null,null,null,null," ",{"$f":"VLOOKUP(BO133,Code!$B$45:$D$48,2,FALSE)","v":{"$error":"#N/A"}},{"$f":"VLOOKUP(BO133,Code!$B$45:$D$48,3,FALSE)","v":{"$error":"#N/A"}},{"$error":"#N/A"},null,"pen","pencil","ruler",null,null,"",""," ",null,125,{"$f":"HLOOKUP(Report!CC133,Behaviour!$H$2:$K$3,2,FALSE)","v":{"$error":"#N/A"}},{"$error":"#N/A"},{"$f":"CE133+VLOOKUP(CC133,Code!$B$2:$C$6,2,FALSE)","v":{"$error":"#N/A"}},{"$f":"IF(CC133=0,\"\",IF(I133=\"F\",AC133&\" \"&VLOOKUP(CF133,Behaviour!D:I,2,FALSE)&\" \",AC133&\" \"&VLOOKUP(CF133,Behaviour!D:I,4,FALSE)&\" \"))","v":{"$error":"#N/A"}},null,null," ",null,{"$f":"IF(CJ133=0,\"\",VLOOKUP(CJ133,Code!$B$59:$D$61,2,FALSE))","v":{"$error":"#N/A"}},{"$f":"IF(CJ133=0,\"\",VLOOKUP(CJ133,Code!$B$59:$D$61,3,FALSE))","v":{"$error":"#N/A"}},{"$error":"#N/A"},{"$error":"#N/A"},{"$error":"#N/A"},{"$error":"#N/A"},"",null,null,"",null,null,"",{"$error":"#VALUE!"},null,null," ",{"$error":"#VALUE!"},{"$f":"VLOOKUP(Report!DC133,Code!$B$24:$C$32,2,FALSE)","v":{"$error":"#VALUE!"}},{"$f":"VLOOKUP(Report!DC133,Code!$B$24:$D$32,3,FALSE)","v":{"$error":"#VALUE!"}},{"$error":"#VALUE!"},{"$error":"#VALUE!"},{"$error":"#VALUE!"},null,null,null,null,null,null," ",{"$f":"VLOOKUP(Report!DO133,Code!$B$40:$D$42,2,FALSE)","v":{"$error":"#N/A"}},{"$f":"VLOOKUP(Report!DO133,Code!$B$40:$D$42,3,FALSE)","v":{"$error":"#N/A"}},{"$error":"#N/A"},null,{"$error":"#N/A"},"number","number","number","",null,null,null,null,"",""]
[null,null,null,null,null,null,null,null,null,null,null,null,null,null,null,null,null,null,null,null,"Type_2",null,{"$error":"#N/A"},null,{"$error":"#N/A"},{"$error":"#N/A"},null,"he","He","his","His",null,null," ",{"$f":"HLOOKUP(Report!AH134,Person!$H$2:$L$3,2,FALSE)","v":{"$error":"#N/A"}},{"$error":"#N/A"},{"$f":"IF(AH134=0,\"\",AJ134+VLOOKUP(AH134,Code!$B$2:$C$6,2,FALSE))","v":{"$error":"#N/A"}},{"$f":"IF(AH134=0,\"\",IF(I134=\"F\",G134&\" \"&VLOOKUP(AK134,Person!D:I,2,FALSE),G134&\" \"&VLOOKUP(AK134,Person!D:I,4,FALSE)))","v":{"$error":"#N/A"}},null,null,null,null,null,null,null,2,{"$f":"VLOOKUP(AT134,Code!$B$51:$D$55,2,FALSE)","v":"Behaviour_1"},{"$f":"RANDBETWEEN(1,VLOOKUP(AT134,Code!$B$51:$D$55,3,FALSE))","v":1},null," d",null,null," ",{"$f":"HLOOKUP(Report!BA134,Homework!$I$2:$L$3,2,FALSE)","v":{"$error":"#N/A"}},{"$error":"#N/A"},{"$f":"IF(BA134=0,\"\",BC134+VLOOKUP(BA134,Code!$B$2:$C$6,2,FALSE))","v":{"$error":"#N/A"}},{"$f":"IF(AND(VLOOKUP(BD134,Homework!D:J,2,FALSE)=\"'s \",RIGHT(G134,1)=\"s\"),\"' \",IF(VLOOKUP(BD134,Homework!D:J,2,FALSE)=\"'s \",\"'s \",\" \"))","v":{"$error":"#N/A"}},{"$f":"IF(BA134=0,\"\",IF(I134=\"F\",\" \"&G134&BE134&VLOOKUP(BD134,Homework!D:J,3,FALSE),\" \"&G134&BE134&VLOOKUP(BD134,Homework!D:J,5,FALSE)))","v":{"$error":"#N/A"}},null,null,null,null,null,null,null,null," ",{"$f":"VLOOKUP(BO134,Code!$B$45:$D$48,2,FALSE)","v":{"$error":"#N/A"}},{"$f":"VLOOKUP(BO134,Code!$B$45:$D$48,3,FALSE)","v":{"$error":"#N/A"}},{"$error":"#N/A"},null,"pen","pencil","ruler",null,null,"",""," ",null,126,{"$f":"HLOOKUP(Report!CC134,Behaviour!$H$2:$K$3,2,FALSE)","v":{"$error":"#N/A"}},{"$error":"#N/A"},{"$f":"CE134+VLOOKUP(CC134,Code!$B$2:$C$6,2,FALSE)","v":{"$error":"#N/A"}},{"$f":"IF(CC134=0,\"\",IF(I134=\"F\",AC134&\" \"&VLOOKUP(CF134,Behaviour!D:I,2,FALSE)&\" \",AC134&\" \"&VLOOKUP(CF134,Behaviour!D:I,4,FALSE)&\" \"))","v":{"$error":"#N/A"}},null,null," ",null,{"$f":"IF(CJ134=0,\"\",VLOOKUP(CJ134,Code!$B$59:$D$61,2,FALSE))","v":{"$error":"#N/A"}},{"$f":"IF(CJ134=0,\"\",VLOOKUP(CJ134,Code!$B$59:$D$61,3,FALSE))","v":{"$error":"#N/A"}},{"$error":"#N/A"},{"$error":"#N/A"},{"$error":"#N/A"},{"$error":"#N/A"},"",null,null,"",null,null,"",{"$error":"#VALUE!"},null,null," ",{"$error":"#VALUE!"},{"$f":"VLOOKUP(Report!DC134,Code!$B$24:$C$32,2,FALSE)","v":{"$error":"#VALUE!"}},{"$f":"VLOOKUP(Report!DC134,Code!$B$24:$D$32,3,FALSE)","v":{"$error":"#VALUE!"}},{"$error":"#VALUE!"},{"$error":"#VALUE!"},{"$error":"#VALUE!"},null,null,null,null,null,null," ",{"$f":"VLOOKUP(Report!DO134,Code!$B$40:$D$42,2,FALSE)","v":{"$error":"#N/A"}},{"$f":"VLOOKUP(Report!DO134,Code!$B$40:$D$42,3,FALSE)","v":{"$error":"#N/A"}},{"$error":"#N/A"},null,{"$error":"#N/A"},"number","number","number","",null,null,null,null,"",""]
[null,null,null,null,null,null,null,null,null,null,null,null,null,null,null,null,null,null,null,null,"Type_2",null,{"$error":"#N/A"},null,{"$error":"#N/A"},{"$error":"#N/A"},null,"he","He","his","His",null,null," ",{"$f":"HLOOKUP(Report!AH135,Person!$H$2:$L$3,2,FALSE)","v":{"$error":"#N/A"}},{"$error":"#N/A"},{"$f":"IF(AH135=0,\"\",AJ135+VLOOKUP(AH135,Code!$B$2:$C$6,2,FALSE))","v":{"$error":"#N/A"}},{"$f":"IF(AH135=0,\"\",IF(I135=\"F\",G135&\" \"&VLOOKUP(AK135,Person!D:I,2,FALSE),G135&\" \"&VLOOKUP(AK135,Person!D:I,4,FALSE)))","v":{"$error":"#N/A"}},null,null,null,null,null,null,null,2,{"$f":"VLOOKUP(AT135,Code!$B$51:$D$55,2,FALSE)","v":"Behaviour_1"},{"$f":"RANDBETWEEN(1,VLOOKUP(AT135,Code!$B$51:$D$55,3,FALSE))","v":1},null," d",null,null," ",{"$f":"HLOOKUP(Report!BA135,Homework!$I$2:$L$3,2,FALSE)","v":{"$error":"#N/A"}},{"$error":"#N/A"},{"$f":"IF(BA135=0,\"\",BC135+VLOOKUP(BA135,Code!$B$2:$C$6,2,FALSE))","v":{"$error":"#N/A"}},{"$f":"IF(AND(VLOOKUP(BD135,Homework!D:J,2,FALSE)=\"'s \",RIGHT(G135,1)=\"s\"),\"' \",IF(VLOOKUP(BD135,Homework!D:J,2,FALSE)=\"'s \",\"'s \",\" \"))","v":{"$error":"#N/A"}},{"$f":"IF(BA135=0,\"\",IF(I135=\"F\",\" \"&G135&BE135&VLOOKUP(BD135,Homework!D:J,3,FALSE),\" \"&G135&BE135&VLOOKUP(BD135,Homework!D:J,5,FALSE)))","v":{"$error":"#N/A"}},null,null,null,null,null,null,null,null," ",{"$f":"VLOOKUP(BO135,Code!$B$45:$D$48,2,FALSE)","v":{"$error":"#N/A"}},{"$f":"VLOOKUP(BO135,Code!$B$45:$D$48,3,FALSE)","v":{"$error":"#N/A"}},{"$error":"#N/A"},null,"pen","pencil","ruler",null,null,"",""," ",null,127,{"$f":"HLOOKUP(Report!CC135,Behaviour!$H$2:$K$3,2,FALSE)","v":{"$error":"#N/A"}},{"$error":"#N/A"},{"$f":"CE135+VLOOKUP(CC135,Code!$B$2:$C$6,2,FALSE)","v":{"$error":"#N/A"}},{"$f":"IF(CC135=0,\"\",IF(I135=\"F\",AC135&\" \"&VLOOKUP(CF135,Behaviour!D:I,2,FALSE)&\" \",AC135&\" \"&VLOOKUP(CF135,Behaviour!D:I,4,FALSE)&\" \"))","v":{"$error":"#N/A"}},null,null," ",null,{"$f":"IF(CJ135=0,\"\",VLOOKUP(CJ135,Code!$B$59:$D$61,2,FALSE))","v":{"$error":"#N/A"}},{"$f":"IF(CJ135=0,\"\",VLOOKUP(CJ135,Code!$B$59:$D$61,3,FALSE))","v":{"$error":"#N/A"}},{"$error":"#N/A"},{"$error":"#N/A"},{"$error":"#N/A"},{"$error":"#N/A"},"",null,null,"",null,null,"",{"$error":"#VALUE!"},null,null," ",{"$error":"#VALUE!"},{"$f":"VLOOKUP(Report!DC135,Code!$B$24:$C$32,2,FALSE)","v":{"$error":"#VALUE!"}},{"$f":"VLOOKUP(Report!DC135,Code!$B$24:$D$32,3,FALSE)","v":{"$error":"#VALUE!"}},{"$error":"#VALUE!"},{"$error":"#VALUE!"},{"$error":"#VALUE!"},null,null,null,null,null,null," ",{"$f":"VLOOKUP(Report!DO135,Code!$B$40:$D$42,2,FALSE)","v":{"$error":"#N/A"}},{"$f":"VLOOKUP(Report!DO135,Code!$B$40:$D$42,3,FALSE)","v":{"$error":"#N/A"}},{"$error":"#N/A"},null,{"$error":"#N/A"},"number","number","number","",null,null,null,null,"",""]
[null,null,null,null,null,null,null,null,null,null,null,null,null,null,null,null,null,null,null,null,"Type_2",null,{"$error":"#N/A"},null,{"$error":"#N/A"},{"$error":"#N/A"},null,"he","He","his","His",null,null," ",{"$f":"HLOOKUP(Report!AH136,Person!$H$2:$L$3,2,FALSE)","v":{"$error":"#N/A"}},{"$error":"#N/A"},{"$f":"IF(AH136=0,\"\",AJ136+VLOOKUP(AH136,Code!$B$2:$C$6,2,FALSE))","v":{"$error":"#N/A"}},{"$f":"IF(AH136=0,\"\",IF(I136=\"F\",G136&\" \"&VLOOKUP(AK136,Person!D:I,2,FALSE),G136&\" \"&VLOOKUP(AK136,Person!D:I,4,FALSE)))","v":{"$error":"#N/A"}},null,null,null,null,null,null,null,2,{"$f":"VLOOKUP(AT136,Code!$B$51:$D$55,2,FALSE)","v":"Behaviour_1"},{"$f":"RANDBETWEEN(1,VLOOKUP(AT136,Code!$B$51:$D$55,3,FALSE))","v":1},null," d",null,null," ",{"$f":"HLOOKUP(Report!BA136,Homework!$I$2:$L$3,2,FALSE)","v":{"$error":"#N/A"}},{"$error":"#N/A"},{"$f":"IF(BA136=0,\"\",BC136+VLOOKUP(BA136,Code!$B$2:$C$6,2,FALSE))","v":{"$error":"#N/A"}},{"$f":"IF(AND(VLOOKUP(BD136,Homework!D:J,2,FALSE)=\"'s \",RIGHT(G136,1)=\"s\"),\"' \",IF(VLOOKUP(BD136,Homework!D:J,2,FALSE)=\"'s \",\"'s \",\" \"))","v":{"$error":"#N/A"}},{"$f":"IF(BA136=0,\"\",IF(I136=\"F\",\" \"&G136&BE136&VLOOKUP(BD136,Homework!D:J,3,FALSE),\" \"&G136&BE136&VLOOKUP(BD136,Homework!D:J,5,FALSE)))","v":{"$error":"#N/A"}},null,null,null,null,null,null,null,null," ",{"$f":"VLOOKUP(BO136,Code!$B$45:$D$48,2,FALSE)","v":{"$error":"#N/A"}},{"$f":"VLOOKUP(BO136,Code!$B$45:$D$48,3,FALSE)","v":{"$error":"#N/A"}},{"$error":"#N/A"},null,"pen","pencil","ruler",null,null,"",""," ",null,128,{"$f":"HLOOKUP(Report!CC136,Behaviour!$H$2:$K$3,2,FALSE)","v":{"$error":"#N/A"}},{"$error":"#N/A"},{"$f":"CE136+VLOOKUP(CC136,Code!$B$2:$C$6,2,FALSE)","v":{"$error":"#N/A"}},{"$f":"IF(CC136=0,\"\",IF(I136=\"F\",AC136&\" \"&VLOOKUP(CF136,Behaviour!D:I,2,FALSE)&\" \",AC136&\" \"&VLOOKUP(CF136,Behaviour!D:I,4,FALSE)&\" \"))","v":{"$error":"#N/A"}},null,null," ",null,{"$f":"IF(CJ136=0,\"\",VLOOKUP(CJ136,Code!$B$59:$D$61,2,FALSE))","v":{"$error":"#N/A"}},{"$f":"IF(CJ136=0,\"\",VLOOKUP(CJ136,Code!$B$59:$D$61,3,FALSE))","v":{"$error":"#N/A"}},{"$error":"#N/A"},{"$error":"#N/A"},{"$error":"#N/A"},{"$error":"#N/A"},"",null,null,"",null,null,"",{"$error":"#VALUE!"},null,null," ",{"$error":"#VALUE!"},{"$f":"VLOOKUP(Report!DC136,Code!$B$24:$C$32,2,FALSE)","v":{"$error":"#VALUE!"}},{"$f":"VLOOKUP(Report!DC136,Code!$B$24:$D$32,3,FALSE)","v":{"$error":"#VALUE!"}},{"$error":"#VALUE!"},{"$error":"#VALUE!"},{"$error":"#VALUE!"},null,null,null,null,null,null," ",{"$f":"VLOOKUP(Report!DO136,Code!$B$40:$D$42,2,FALSE)","v":{"$error":"#N/A"}},{"$f":"VLOOKUP(Report!DO136,Code!$B$40:$D$42,3,FALSE)","v":{"$error":"#N/A"}},{"$error":"#N/A"},null,{"$error":"#N/A"},"number","number","number","",null,null,null,null,"",""]
[null,null,null,null,null,null,null,null,null,null,null,null,null,null,null,null,null,null,null,null,"Type_2",null,{"$error":"#N/A"},null,{"$error":"#N/A"},{"$error":"#N/A"},null,{"$f":"IF(I137=\"F\",\"she\",\"he\")","v":"he"},{"$f":"IF(I137=\"F\",\"She\",\"He\")","v":"He"},{"$f":"IF(I137=\"F\",\"her\",\"his\")","v":"his"},{"$f":"IF(I137=\"F\",\"Her\",\"His\")","v":"His"},null,null," ",{"$f":"HLOOKUP(Report!AH137,Person!$H$2:$L$3,2,FALSE)","v":{"$error":"#N/A"}},{"$error":"#N/A"},{"$f":"IF(AH137=0,\"\",AJ137+VLOOKUP(AH137,Code!$B$2:$C$6,2,FALSE))","v":{"$error":"#N/A"}},{"$f":"IF(AH137=0,\"\",IF(I137=\"F\",G137&\" \"&VLOOKUP(AK137,Person!D:I,2,FALSE),G137&\" \"&VLOOKUP(AK137,Person!D:I,4,FALSE)))","v":{"$error":"#N/A"}},null,null,null,null,null,null,null,2,{"$f":"VLOOKUP(AT137,Code!$B$51:$D$55,2,FALSE)","v":"Behaviour_1"},{"$f":"RANDBETWEEN(1,VLOOKUP(AT137,Code!$B$51:$D$55,3,FALSE))","v":1},null,{"$f":"IF(AT137=0,\"\",IF(I137=\"F\",\" \"&VLOOKUP(AV137,INDIRECT(AU137),2,FALSE),\" \"&VLOOKUP(AV137,INDIRECT(AU137),4,FALSE)))","v":" d"},null,null," ",{"$f":"HLOOKUP(Report!BA137,Homework!$I$2:$L$3,2,FALSE)","v":{"$error":"#N/A"}},{"$error":"#N/A"},{"$f":"IF(BA137=0,\"\",BC137+VLOOKUP(BA137,Code!$B$2:$C$6,2,FALSE))","v":{"$error":"#N/A"}},{"$f":"IF(AND(VLOOKUP(BD137,Homework!D:J,2,FALSE)=\"'s \",RIGHT(G137,1)=\"s\"),\"' \",IF(VLOOKUP(BD137,Homework!D:J,2,FALSE)=\"'s \",\"'s \",\" \"))","v":{"$error":"#N/A"}},{"$f":"IF(BA137=0,\"\",IF(I137=\"F\",\" \"&G137&BE137&VLOOKUP(BD137,Homework!D:J,3,FALSE),\" \"&G137&BE137&VLOOKUP(BD137,Homework!D:J,5,FALSE)))","v":{"$error":"#N/A"}},null,null,null,null,null,null,null,null," ",{"$f":"VLOOKUP(BO137,Code!$B$45:$D$48,2,FALSE)","v":{"$error":"#N/A"}},{"$f":"VLOOKUP(BO137,Code!$B$45:$D$48,3,FALSE)","v":{"$error":"#N/A"}},{"$error":"#N/A"},null,"pen","pencil","ruler",null,null,"","",{"$f":"IF(BO137=0,\"\",IF(I137=\"F\",\" \"&BY137,\" \"&BZ137))","v":" "},null,129,{"$f":"HLOOKUP(Report!CC137,Behaviour!$H$2:$K$3,2,FALSE)","v":{"$error":"#N/A"}},{"$error":"#N/A"},{"$f":"CE137+VLOOKUP(CC137,Code!$B$2:$C$6,2,FALSE)","v":{"$error":"#N/A"}},{"$f":"IF(CC137=0,\"\",IF(I137=\"F\",AC137&\" \"&VLOOKUP(CF137,Behaviour!D:I,2,FALSE)&\" \",AC137&\" \"&VLOOKUP(CF137,Behaviour!D:I,4,FALSE)&\" \"))","v":{"$error":"#N/A"}},null,null," ",null,{"$f":"IF(CJ137=0,\"\",VLOOKUP(CJ137,Code!$B$59:$D$61,2,FALSE))","v":{"$error":"#N/A"}},{"$f":"IF(CJ137=0,\"\",VLOOKUP(CJ137,Code!$B$59:$D$61,3,FALSE))","v":{"$error":"#N/A"}},{"$error":"#N/A"},{"$f":"IF(I137=\"F\",VLOOKUP(CN137,INDIRECT(CL137),2,FALSE),VLOOKUP(CN137,INDIRECT(CL137),5,FALSE))","v":{"$error":"#N/A"}},{"$f":"IF(I137=\"F\",VLOOKUP(CN137,INDIRECT(CL137),3,FALSE),VLOOKUP(CN137,INDIRECT(CL137),6,FALSE))","v":{"$error":"#N/A"}},{"$error":"#N/A"},"",null,null,"",null,null,"",{"$error":"#VALUE!"},null,null," ",{"$error":"#VALUE!"},{"$f":"VLOOKUP(Report!DC137,Code!$B$24:$C$32,2,FALSE)","v":{"$error":"#VALUE!"}},{"$f":"VLOOKUP(Report!DC137,Code!$B$24:$D$32,3,FALSE)","v":{"$error":"#VALUE!"}},{"$error":"#VALUE!"},{"$f":"IF(AND(VLOOKUP(DF137,INDIRECT(DD137),2,FALSE)=\"'s \",RIGHT(G137,1)=\"s\"),\"' \",IF(VLOOKUP(DF137,INDIRECT(DD137),2,FALSE)=\"'s \",\"'s \",\"\"))","v":{"$error":"#VALUE!"}},{"$f":"\" \"&IF(DB137=0,\"\",IF(I137=\"F\",G137&DG137&VLOOKUP(DF137,INDIRECT(DD137),3,FALSE),G137&DG137&VLOOKUP(DF137,INDIRECT(DD137),5,FALSE)))","v":{"$error":"#VALUE!"}},null,null,null,null,null,null," ",{"$f":"VLOOKUP(Report!DO137,Code!$B$40:$D$42,2,FALSE)","v":{"$error":"#N/A"}},{"$f":"VLOOKUP(Report!DO137,Code!$B$40:$D$42,3,FALSE)","v":{"$error":"#N/A"}},{"$error":"#N/A"},null,{"$error":"#N/A"},"number","number","number","",null,null,null,null,{"$f":"IF(LEN(G137)<1,\"\",IF(OR(I137=\"F\",I137=\"M\"),(IF(ISERROR(AL137&AX137&BF137&CA137&CR137&DH137&DX137),\"\",AL137&AX137&BF137&CA137&CR137&DH137&DX137)),\"\"))","v":""},""]
[null,null,null,null,null,null,null,null,null,null,null,null,null,null,null,null,null,null,null,null,{"$f":"$V$3","v":"Type_2"},null,{"$f":"VLOOKUP(V138,INDIRECT(U138),2,FALSE)","v":{"$error":"#N/A"}},null,{"$f":"VLOOKUP(X138,INDIRECT(U138),2,FALSE)","v":{"$error":"#N/A"}},{"$f":"IF(W138=Y138,2,IF(W138<Y138,1,3))","v":{"$error":"#N/A"}},null,"he","He","his","His",null,null," ",{"$f":"HLOOKUP(Report!AH138,Person!$H$2:$L$3,2,FALSE)","v":{"$error":"#N/A"}},{"$f":"RANDBETWEEN(1,AI138)","v":{"$error":"#N/A"}},{"$f":"IF(AH138=0,\"\",AJ138+VLOOKUP(AH138,Code!$B$2:$C$6,2,FALSE))","v":{"$error":"#N/A"}},{"$f":"IF(AH138=0,\"\",IF(I138=\"F\",G138&\" \"&VLOOKUP(AK138,Person!D:I,2,FALSE),G138&\" \"&VLOOKUP(AK138,Person!D:I,4,FALSE)))","v":{"$error":"#N/A"}},null,null,null,null,null,null,null,2,{"$f":"VLOOKUP(AT138,Code!$B$51:$D$55,2,FALSE)","v":"Behaviour_1"},{"$f":"RANDBETWEEN(1,VLOOKUP(AT138,Code!$B$51:$D$55,3,FALSE))","v":1},null," d",null,null," ",{"$f":"HLOOKUP(Report!BA138,Homework!$I$2:$L$3,2,FALSE)","v":{"$error":"#N/A"}},{"$f":"RANDBETWEEN(1,BB138)","v":{"$error":"#N/A"}},{"$f":"IF(BA138=0,\"\",BC138+VLOOKUP(BA138,Code!$B$2:$C$6,2,FALSE))","v":{"$error":"#N/A"}},{"$f":"IF(AND(VLOOKUP(BD138,Homework!D:J,2,FALSE)=\"'s \",RIGHT(G138,1)=\"s\"),\"' \",IF(VLOOKUP(BD138,Homework!D:J,2,FALSE)=\"'s \",\"'s \",\" \"))","v":{"$error":"#N/A"}},{"$f":"IF(BA138=0,\"\",IF(I138=\"F\",\" \"&G138&BE138&VLOOKUP(BD138,Homework!D:J,3,FALSE),\" \"&G138&BE138&VLOOKUP(BD138,Homework!D:J,5,FALSE)))","v":{"$error":"#N/A"}},null,null,null,null,null,null,null,null," ",{"$f":"VLOOKUP(BO138,Code!$B$45:$D$48,2,FALSE)","v":{"$error":"#N/A"}},{"$f":"VLOOKUP(BO138,Code!$B$45:$D$48,3,FALSE)","v":{"$error":"#N/A"}},{"$f":"RANDBETWEEN(1,BQ138)","v":{"$error":"#N/A"}},null,"pen","pencil","ruler",null,null,{"$f":"IF(BO138=1,(VLOOKUP(BR138,INDIRECT(BP138),2,FALSE)&\" \"&BT138&\".\"),IF(BO138=2,(VLOOKUP(BR138,INDIRECT(BP138),2,FALSE)&\" \"&BT138&\" and \"&BU138&\".\"),IF(BO138=3,(VLOOKUP(BR138,INDIRECT(BP138),2,FALSE)&\" \"&BT138&\", \"&BU138&\" and \"&BV138&\".\"),IF(BO138=4,VLOOKUP(BR138,INDIRECT(BP138),2,FALSE)& \".\",\"\"))))","v":""},{"$f":"IF(BO138=1,(VLOOKUP(BR138,INDIRECT(BP138),4,FALSE)&\" \"&BT138&\".\"),IF(BO138=2,(VLOOKUP(BR138,INDIRECT(BP138),4,FALSE)&\" \"&BT138&\" and \"&BU138&\".\"),IF(BO138=3,(VLOOKUP(BR138,INDIRECT(BP138),4,FALSE)&\" \"&BT138&\", \"&BU138&\" and \"&BV138&\".\"),IF(BO138=4,VLOOKUP(BR138,INDIRECT(BP138),4,FALSE)&\".\",\"\"))))","v":""}," ",null,130,{"$f":"HLOOKUP(Report!CC138,Behaviour!$H$2:$K$3,2,FALSE)","v":{"$error":"#N/A"}},{"$f":"RANDBETWEEN(1,CD138)","v":{"$error":"#N/A"}},{"$f":"CE138+VLOOKUP(CC138,Code!$B$2:$C$6,2,FALSE)","v":{"$error":"#N/A"}},{"$f":"IF(CC138=0,\"\",IF(I138=\"F\",AC138&\" \"&VLOOKUP(CF138,Behaviour!D:I,2,FALSE)&\" \",AC138&\" \"&VLOOKUP(CF138,Behaviour!D:I,4,FALSE)&\" \"))","v":{"$error":"#N/A"}},null,null," ",null,{"$f":"IF(CJ138=0,\"\",VLOOKUP(CJ138,Code!$B$59:$D$61,2,FALSE))","v":{"$error":"#N/A"}},{"$f":"IF(CJ138=0,\"\",VLOOKUP(CJ138,Code!$B$59:$D$61,3,FALSE))","v":{"$error":"#N/A"}},{"$f":"RANDBETWEEN(1,CM138)","v":{"$error":"#N/A"}},{"$error":"#N/A"},{"$error":"#N/A"},{"$f":"IF(RIGHT(CK138,1)=\"%\",CO138&\" \"&CK138*100&\"%\"&CP138,CO138&\" a \"&CK138&CP138)","v":{"$error":"#N/A"}},{"$f":"IF(OR(ISERROR(CQ138),CK138=\"\",CJ138=\"\"),\"\",\" \"&CQ138)","v":""},null,null,{"$f":"IF(ISERROR(Z138),\"\",Z138)","v":""},null,null,{"$f":"CU138","v":""},{"$f":"CX138*10","v":{"$error":"#VALUE!"}},null,null," ",{"$f":"CY138+DB138","v":{"$error":"#VALUE!"}},{"$f":"VLOOKUP(Report!DC138,Code!$B$24:$C$32,2,FALSE)","v":{"$error":"#VALUE!"}},{"$f":"VLOOKUP(Report!DC138,Code!$B$24:$D$32,3,FALSE)","v":{"$error":"#VALUE!"}},{"$f":"RANDBETWEEN(1,DE138)","v":{"$error":"#VALUE!"}},{"$error":"#VALUE!"},{"$error":"#VALUE!"},null,null,null,null,null,null," ",{"$f":"VLOOKUP(Report!DO138,Code!$B$40:$D$42,2,FALSE)","v":{"$error":"#N/A"}},{"$f":"VLOOKUP(Report!DO138,Code!$B$40:$D$42,3,FALSE)","v":{"$error":"#N/A"}},{"$f":"RANDBETWEEN(1,DQ138)","v":{"$error":"#N/A"}},null,{"$f":"VLOOKUP(DR138,INDIRECT(DP138),2,FALSE)","v":{"$error":"#N/A"}},"number","number","number",{"$f":"IF(DO138=3,(\" \"&DT138&\" \"&DU138&\", \"&DV138&\" and \"&DW138&\".\"),IF(DO138=2,(\" \"&DT138&\" \"&DU138&\" and \"&DV138&\".\"),IF(DO138=1,(\" \"&DT138&\" \"&DU138&\".\"),\"\")))","v":""},null,null,null,null,"",""]
[null,null,null,null,null,null,null,null,null,null,null,null,null,null,null,null,null,null,null,null,"Type_2",null,{"$error":"#N/A"},null,{"$error":"#N/A"},{"$error":"#N/A"},null,"he","He","his","His",null,null," ",{"$f":"HLOOKUP(Report!AH139,Person!$H$2:$L$3,2,FALSE)","v":{"$error":"#N/A"}},{"$error":"#N/A"},{"$f":"IF(AH139=0,\"\",AJ139+VLOOKUP(AH139,Code!$B$2:$C$6,2,FALSE))","v":{"$error":"#N/A"}},{"$f":"IF(AH139=0,\"\",IF(I139=\"F\",G139&\" \"&VLOOKUP(AK139,Person!D:I,2,FALSE),G139&\" \"&VLOOKUP(AK139,Person!D:I,4,FALSE)))","v":{"$error":"#N/A"}},null,null,null,null,null,null,null,2,{"$f":"VLOOKUP(AT139,Code!$B$51:$D$55,2,FALSE)","v":"Behaviour_1"},{"$f":"RANDBETWEEN(1,VLOOKUP(AT139,Code!$B$51:$D$55,3,FALSE))","v":2},null," d",null,null," ",{"$f":"HLOOKUP(Report!BA139,Homework!$I$2:$L$3,2,FALSE)","v":{"$error":"#N/A"}},{"$error":"#N/A"},{"$f":"IF(BA139=0,\"\",BC139+VLOOKUP(BA139,Code!$B$2:$C$6,2,FALSE))","v":{"$error":"#N/A"}},{"$f":"IF(AND(VLOOKUP(BD139,Homework!D:J,2,FALSE)=\"'s \",RIGHT(G139,1)=\"s\"),\"' \",IF(VLOOKUP(BD139,Homework!D:J,2,FALSE)=\"'s \",\"'s \",\" \"))","v":{"$error":"#N/A"}},{"$f":"IF(BA139=0,\"\",IF(I139=\"F\",\" \"&G139&BE139&VLOOKUP(BD139,Homework!D:J,3,FALSE),\" \"&G139&BE139&VLOOKUP(BD139,Homework!D:J,5,FALSE)))","v":{"$error":"#N/A"}},null,null,null,null,null,null,null,null," ",{"$f":"VLOOKUP(BO139,Code!$B$45:$D$48,2,FALSE)","v":{"$error":"#N/A"}},{"$f":"VLOOKUP(BO139,Code!$B$45:$D$48,3,FALSE)","v":{"$error":"#N/A"}},{"$error":"#N/A"},null,"pen","pencil","ruler",null,null,"",""," ",null,131,{"$f":"HLOOKUP(Report!CC139,Behaviour!$H$2:$K$3,2,FALSE)","v":{"$error":"#N/A"}},{"$error":"#N/A"},{"$f":"CE139+VLOOKUP(CC139,Code!$B$2:$C$6,2,FALSE)","v":{"$error":"#N/A"}},{"$f":"IF(CC139=0,\"\",IF(I139=\"F\",AC139&\" \"&VLOOKUP(CF139,Behaviour!D:I,2,FALSE)&\" \",AC139&\" \"&VLOOKUP(CF139,Behaviour!D:I,4,FALSE)&\" \"))","v":{"$error":"#N/A"}},null,null," ",null,{"$f":"IF(CJ139=0,\"\",VLOOKUP(CJ139,Code!$B$59:$D$61,2,FALSE))","v":{"$error":"#N/A"}},{"$f":"IF(CJ139=0,\"\",VLOOKUP(CJ139,Code!$B$59:$D$61,3,FALSE))","v":{"$error":"#N/A"}},{"$error":"#N/A"},{"$error":"#N/A"},{"$error":"#N/A"},{"$error":"#N/A"},"",null,null,"",null,null,"",{"$error":"#VALUE!"},null,null," ",{"$error":"#VALUE!"},{"$f":"VLOOKUP(Report!DC139,Code!$B$24:$C$32,2,FALSE)","v":{"$error":"#VALUE!"}},{"$f":"VLOOKUP(Report!DC139,Code!$B$24:$D$32,3,FALSE)","v":{"$error":"#VALUE!"}},{"$error":"#VALUE!"},{"$error":"#VALUE!"},{"$error":"#VALUE!"},null,null,null,null,null,null," ",{"$f":"VLOOKUP(Report!DO139,Code!$B$40:$D$42,2,FALSE)","v":{"$error":"#N/A"}},{"$f":"VLOOKUP(Report!DO139,Code!$B$40:$D$42,3,FALSE)","v":{"$error":"#N/A"}},{"$error":"#N/A"},null,{"$error":"#N/A"},"number","number","number","",null,null,null,null,"",""]
[null,null,null,null,null,null,null,null,null,null,null,null,null,null,null,null,null,null,null,null,"Type_2",null,{"$error":"#N/A"},null,{"$error":"#N/A"},{"$error":"#N/A"},null,"he","He","his","His",null,null," ",{"$f":"HLOOKUP(Report!AH140,Person!$H$2:$L$3,2,FALSE)","v":{"$error":"#N/A"}},{"$error":"#N/A"},{"$f":"IF(AH140=0,\"\",AJ140+VLOOKUP(AH140,Code!$B$2:$C$6,2,FALSE))","v":{"$error":"#N/A"}},{"$f":"IF(AH140=0,\"\",IF(I140=\"F\",G140&\" \"&VLOOKUP(AK140,Person!D:I,2,FALSE),G140&\" \"&VLOOKUP(AK140,Person!D:I,4,FALSE)))","v":{"$error":"#N/A"}},null,null,null,null,null,null,null,2,{"$f":"VLOOKUP(AT140,Code!$B$51:$D$55,2,FALSE)","v":"Behaviour_1"},{"$f":"RANDBETWEEN(1,VLOOKUP(AT140,Code!$B$51:$D$55,3,FALSE))","v":1},null," d",null,null," ",{"$f":"HLOOKUP(Report!BA140,Homework!$I$2:$L$3,2,FALSE)","v":{"$error":"#N/A"}},{"$error":"#N/A"},{"$f":"IF(BA140=0,\"\",BC140+VLOOKUP(BA140,Code!$B$2:$C$6,2,FALSE))","v":{"$error":"#N/A"}},{"$f":"IF(AND(VLOOKUP(BD140,Homework!D:J,2,FALSE)=\"'s \",RIGHT(G140,1)=\"s\"),\"' \",IF(VLOOKUP(BD140,Homework!D:J,2,FALSE)=\"'s \",\"'s \",\" \"))","v":{"$error":"#N/A"}},{"$f":"IF(BA140=0,\"\",IF(I140=\"F\",\" \"&G140&BE140&VLOOKUP(BD140,Homework!D:J,3,FALSE),\" \"&G140&BE140&VLOOKUP(BD140,Homework!D:J,5,FALSE)))","v":{"$error":"#N/A"}},null,null,null,null,null,null,null,null," ",{"$f":"VLOOKUP(BO140,Code!$B$45:$D$48,2,FALSE)","v":{"$error":"#N/A"}},{"$f":"VLOOKUP(BO140,Code!$B$45:$D$48,3,FALSE)","v":{"$error":"#N/A"}},{"$error":"#N/A"},null,"pen","pencil","ruler",null,null,"",""," ",null,132,{"$f":"HLOOKUP(Report!CC140,Behaviour!$H$2:$K$3,2,FALSE)","v":{"$error":"#N/A"}},{"$error":"#N/A"},{"$f":"CE140+VLOOKUP(CC140,Code!$B$2:$C$6,2,FALSE)","v":{"$error":"#N/A"}},{"$f":"IF(CC140=0,\"\",IF(I140=\"F\",AC140&\" \"&VLOOKUP(CF140,Behaviour!D:I,2,FALSE)&\" \",AC140&\" \"&VLOOKUP(CF140,Behaviour!D:I,4,FALSE)&\" \"))","v":{"$error":"#N/A"}},null,null," ",null,{"$f":"IF(CJ140=0,\"\",VLOOKUP(CJ140,Code!$B$59:$D$61,2,FALSE))","v":{"$error":"#N/A"}},{"$f":"IF(CJ140=0,\"\",VLOOKUP(CJ140,Code!$B$59:$D$61,3,FALSE))","v":{"$error":"#N/A"}},{"$error":"#N/A"},{"$error":"#N/A"},{"$error":"#N/A"},{"$error":"#N/A"},"",null,null,"",null,null,"",{"$error":"#VALUE!"},null,null," ",{"$error":"#VALUE!"},{"$f":"VLOOKUP(Report!DC140,Code!$B$24:$C$32,2,FALSE)","v":{"$error":"#VALUE!"}},{"$f":"VLOOKUP(Report!DC140,Code!$B$24:$D$32,3,FALSE)","v":{"$error":"#VALUE!"}},{"$error":"#VALUE!"},{"$error":"#VALUE!"},{"$error":"#VALUE!"},null,null,null,null,null,null," ",{"$f":"VLOOKUP(Report!DO140,Code!$B$40:$D$42,2,FALSE)","v":{"$error":"#N/A"}},{"$f":"VLOOKUP(Report!DO140,Code!$B$40:$D$42,3,FALSE)","v":{"$error":"#N/A"}},{"$error":"#N/A"},null,{"$error":"#N/A"},"number","number","number","",null,null,null,null,"",{"$f":"IF(LEN(G140)<1,\"\",IF(OR(I140=\"F\",I140=\"M\"),(IF(ISERROR(AL140&AX140&BF140&CA140&DH140&DX140),\"\",AL140&AX140&BF140&CA140&DH140&DX140)),\"\"))","v":""}]
[null,null,null,null,null,null,null,null,null,null,null,null,null,null,null,null,null,null,null,null,"Type_2",null,{"$error":"#N/A"},null,{"$error":"#N/A"},{"$error":"#N/A"},null,"he","He","his","His",null,null," ",{"$f":"HLOOKUP(Report!AH141,Person!$H$2:$L$3,2,FALSE)","v":{"$error":"#N/A"}},{"$error":"#N/A"},{"$f":"IF(AH141=0,\"\",AJ141+VLOOKUP(AH141,Code!$B$2:$C$6,2,FALSE))","v":{"$error":"#N/A"}},{"$f":"IF(AH141=0,\"\",IF(I141=\"F\",G141&\" \"&VLOOKUP(AK141,Person!D:I,2,FALSE),G141&\" \"&VLOOKUP(AK141,Person!D:I,4,FALSE)))","v":{"$error":"#N/A"}},null,null,null,null,null,null,null,2,{"$f":"VLOOKUP(AT141,Code!$B$51:$D$55,2,FALSE)","v":"Behaviour_1"},{"$f":"RANDBETWEEN(1,VLOOKUP(AT141,Code!$B$51:$D$55,3,FALSE))","v":1},null," d",null,null," ",{"$f":"HLOOKUP(Report!BA141,Homework!$I$2:$L$3,2,FALSE)","v":{"$error":"#N/A"}},{"$error":"#N/A"},{"$f":"IF(BA141=0,\"\",BC141+VLOOKUP(BA141,Code!$B$2:$C$6,2,FALSE))","v":{"$error":"#N/A"}},{"$f":"IF(AND(VLOOKUP(BD141,Homework!D:J,2,FALSE)=\"'s \",RIGHT(G141,1)=\"s\"),\"' \",IF(VLOOKUP(BD141,Homework!D:J,2,FALSE)=\"'s \",\"'s \",\" \"))","v":{"$error":"#N/A"}},{"$f":"IF(BA141=0,\"\",IF(I141=\"F\",\" \"&G141&BE141&VLOOKUP(BD141,Homework!D:J,3,FALSE),\" \"&G141&BE141&VLOOKUP(BD141,Homework!D:J,5,FALSE)))","v":{"$error":"#N/A"}},null,null,null,null,null,null,null,null," ",{"$f":"VLOOKUP(BO141,Code!$B$45:$D$48,2,FALSE)","v":{"$error":"#N/A"}},{"$f":"VLOOKUP(BO141,Code!$B$45:$D$48,3,FALSE)","v":{"$error":"#N/A"}},{"$error":"#N/A"},null,"pen","pencil","ruler",null,null,"",""," ",null,133,{"$f":"HLOOKUP(Report!CC141,Behaviour!$H$2:$K$3,2,FALSE)","v":{"$error":"#N/A"}},{"$error":"#N/A"},{"$f":"CE141+VLOOKUP(CC141,Code!$B$2:$C$6,2,FALSE)","v":{"$error":"#N/A"}},{"$f":"IF(CC141=0,\"\",IF(I141=\"F\",AC141&\" \"&VLOOKUP(CF141,Behaviour!D:I,2,FALSE)&\" \",AC141&\" \"&VLOOKUP(CF141,Behaviour!D:I,4,FALSE)&\" \"))","v":{"$error":"#N/A"}},null,null," ",null,{"$f":"IF(CJ141=0,\"\",VLOOKUP(CJ141,Code!$B$59:$D$61,2,FALSE))","v":{"$error":"#N/A"}},{"$f":"IF(CJ141=0,\"\",VLOOKUP(CJ141,Code!$B$59:$D$61,3,FALSE))","v":{"$error":"#N/A"}},{"$error":"#N/A"},{"$error":"#N/A"},{"$error":"#N/A"},{"$error":"#N/A"},"",null,null,"",null,null,"",{"$error":"#VALUE!"},null,null," ",{"$error":"#VALUE!"},{"$f":"VLOOKUP(Report!DC141,Code!$B$24:$C$32,2,FALSE)","v":{"$error":"#VALUE!"}},{"$f":"VLOOKUP(Report!DC141,Code!$B$24:$D$32,3,FALSE)","v":{"$error":"#VALUE!"}},{"$error":"#VALUE!"},{"$error":"#VALUE!"},{"$error":"#VALUE!"},null,null,null,null,null,null," ",{"$f":"VLOOKUP(Report!DO141,Code!$B$40:$D$42,2,FALSE)","v":{"$error":"#N/A"}},{"$f":"VLOOKUP(Report!DO141,Code!$B$40:$D$42,3,FALSE)","v":{"$error":"#N/A"}},{"$error":"#N/A"},null,{"$error":"#N/A"},"number","number","number","",null,null,null,null,"",""]
[null,null,null,null,null,null,null,null,null,null,null,null,null,null,null,null,null,null,null,null,"Type_2",null,{"$error":"#N/A"},null,{"$error":"#N/A"},{"$error":"#N/A"},null,"he","He","his","His",null,null," ",{"$f":"HLOOKUP(Report!AH142,Person!$H$2:$L$3,2,FALSE)","v":{"$error":"#N/A"}},{"$error":"#N/A"},{"$f":"IF(AH142=0,\"\",AJ142+VLOOKUP(AH142,Code!$B$2:$C$6,2,FALSE))","v":{"$error":"#N/A"}},{"$f":"IF(AH142=0,\"\",IF(I142=\"F\",G142&\" \"&VLOOKUP(AK142,Person!D:I,2,FALSE),G142&\" \"&VLOOKUP(AK142,Person!D:I,4,FALSE)))","v":{"$error":"#N/A"}},null,null,null,null,null,null,null,2,{"$f":"VLOOKUP(AT142,Code!$B$51:$D$55,2,FALSE)","v":"Behaviour_1"},{"$f":"RANDBETWEEN(1,VLOOKUP(AT142,Code!$B$51:$D$55,3,FALSE))","v":1},null," d",null,null," ",{"$f":"HLOOKUP(Report!BA142,Homework!$I$2:$L$3,2,FALSE)","v":{"$error":"#N/A"}},{"$error":"#N/A"},{"$f":"IF(BA142=0,\"\",BC142+VLOOKUP(BA142,Code!$B$2:$C$6,2,FALSE))","v":{"$error":"#N/A"}},{"$f":"IF(AND(VLOOKUP(BD142,Homework!D:J,2,FALSE)=\"'s \",RIGHT(G142,1)=\"s\"),\"' \",IF(VLOOKUP(BD142,Homework!D:J,2,FALSE)=\"'s \",\"'s \",\" \"))","v":{"$error":"#N/A"}},{"$f":"IF(BA142=0,\"\",IF(I142=\"F\",\" \"&G142&BE142&VLOOKUP(BD142,Homework!D:J,3,FALSE),\" \"&G142&BE142&VLOOKUP(BD142,Homework!D:J,5,FALSE)))","v":{"$error":"#N/A"}},null,null,null,null,null,null,null,null," ",{"$f":"VLOOKUP(BO142,Code!$B$45:$D$48,2,FALSE)","v":{"$error":"#N/A"}},{"$f":"VLOOKUP(BO142,Code!$B$45:$D$48,3,FALSE)","v":{"$error":"#N/A"}},{"$error":"#N/A"},null,"pen","pencil","ruler",null,null,"",""," ",null,134,{"$f":"HLOOKUP(Report!CC142,Behaviour!$H$2:$K$3,2,FALSE)","v":{"$error":"#N/A"}},{"$error":"#N/A"},{"$f":"CE142+VLOOKUP(CC142,Code!$B$2:$C$6,2,FALSE)","v":{"$error":"#N/A"}},{"$f":"IF(CC142=0,\"\",IF(I142=\"F\",AC142&\" \"&VLOOKUP(CF142,Behaviour!D:I,2,FALSE)&\" \",AC142&\" \"&VLOOKUP(CF142,Behaviour!D:I,4,FALSE)&\" \"))","v":{"$error":"#N/A"}},null,null," ",null,{"$f":"IF(CJ142=0,\"\",VLOOKUP(CJ142,Code!$B$59:$D$61,2,FALSE))","v":{"$error":"#N/A"}},{"$f":"IF(CJ142=0,\"\",VLOOKUP(CJ142,Code!$B$59:$D$61,3,FALSE))","v":{"$error":"#N/A"}},{"$error":"#N/A"},{"$error":"#N/A"},{"$error":"#N/A"},{"$error":"#N/A"},"",null,null,"",null,null,"",{"$error":"#VALUE!"},null,null," ",{"$error":"#VALUE!"},{"$f":"VLOOKUP(Report!DC142,Code!$B$24:$C$32,2,FALSE)","v":{"$error":"#VALUE!"}},{"$f":"VLOOKUP(Report!DC142,Code!$B$24:$D$32,3,FALSE)","v":{"$error":"#VALUE!"}},{"$error":"#VALUE!"},{"$error":"#VALUE!"},{"$error":"#VALUE!"},null,null,null,null,null,null," ",{"$f":"VLOOKUP(Report!DO142,Code!$B$40:$D$42,2,FALSE)","v":{"$error":"#N/A"}},{"$f":"VLOOKUP(Report!DO142,Code!$B$40:$D$42,3,FALSE)","v":{"$error":"#N/A"}},{"$error":"#N/A"},null,{"$error":"#N/A"},"number","number","number","",null,null,null,null,"",""]
[null,null,null,null,null,null,null,null,null,null,null,null,null,null,null,null,null,null,null,null,"Type_2",null,{"$error":"#N/A"},null,{"$error":"#N/A"},{"$error":"#N/A"},null,"he","He","his","His",null,null," ",{"$f":"HLOOKUP(Report!AH143,Person!$H$2:$L$3,2,FALSE)","v":{"$error":"#N/A"}},{"$error":"#N/A"},{"$f":"IF(AH143=0,\"\",AJ143+VLOOKUP(AH143,Code!$B$2:$C$6,2,FALSE))","v":{"$error":"#N/A"}},{"$f":"IF(AH143=0,\"\",IF(I143=\"F\",G143&\" \"&VLOOKUP(AK143,Person!D:I,2,FALSE),G143&\" \"&VLOOKUP(AK143,Person!D:I,4,FALSE)))","v":{"$error":"#N/A"}},null,null,null,null,null,null,null,2,{"$f":"VLOOKUP(AT143,Code!$B$51:$D$55,2,FALSE)","v":"Behaviour_1"},{"$f":"RANDBETWEEN(1,VLOOKUP(AT143,Code!$B$51:$D$55,3,FALSE))","v":2},null," d",null,null," ",{"$f":"HLOOKUP(Report!BA143,Homework!$I$2:$L$3,2,FALSE)","v":{"$error":"#N/A"}},{"$error":"#N/A"},{"$f":"IF(BA143=0,\"\",BC143+VLOOKUP(BA143,Code!$B$2:$C$6,2,FALSE))","v":{"$error":"#N/A"}},{"$f":"IF(AND(VLOOKUP(BD143,Homework!D:J,2,FALSE)=\"'s \",RIGHT(G143,1)=\"s\"),\"' \",IF(VLOOKUP(BD143,Homework!D:J,2,FALSE)=\"'s \",\"'s \",\" \"))","v":{"$error":"#N/A"}},{"$f":"IF(BA143=0,\"\",IF(I143=\"F\",\" \"&G143&BE143&VLOOKUP(BD143,Homework!D:J,3,FALSE),\" \"&G143&BE143&VLOOKUP(BD143,Homework!D:J,5,FALSE)))","v":{"$error":"#N/A"}},null,null,null,null,null,null,null,null," ",{"$f":"VLOOKUP(BO143,Code!$B$45:$D$48,2,FALSE)","v":{"$error":"#N/A"}},{"$f":"VLOOKUP(BO143,Code!$B$45:$D$48,3,FALSE)","v":{"$error":"#N/A"}},{"$error":"#N/A"},null,"pen","pencil","ruler",null,null,"",""," ",null,135,{"$f":"HLOOKUP(Report!CC143,Behaviour!$H$2:$K$3,2,FALSE)","v":{"$error":"#N/A"}},{"$error":"#N/A"},{"$f":"CE143+VLOOKUP(CC143,Code!$B$2:$C$6,2,FALSE)","v":{"$error":"#N/A"}},{"$f":"IF(CC143=0,\"\",IF(I143=\"F\",AC143&\" \"&VLOOKUP(CF143,Behaviour!D:I,2,FALSE)&\" \",AC143&\" \"&VLOOKUP(CF143,Behaviour!D:I,4,FALSE)&\" \"))","v":{"$error":"#N/A"}},null,null," ",null,{"$f":"IF(CJ143=0,\"\",VLOOKUP(CJ143,Code!$B$59:$D$61,2,FALSE))","v":{"$error":"#N/A"}},{"$f":"IF(CJ143=0,\"\",VLOOKUP(CJ143,Code!$B$59:$D$61,3,FALSE))","v":{"$error":"#N/A"}},{"$error":"#N/A"},{"$error":"#N/A"},{"$error":"#N/A"},{"$error":"#N/A"},"",null,null,"",null,null,"",{"$error":"#VALUE!"},null,null," ",{"$error":"#VALUE!"},{"$f":"VLOOKUP(Report!DC143,Code!$B$24:$C$32,2,FALSE)","v":{"$error":"#VALUE!"}},{"$f":"VLOOKUP(Report!DC143,Code!$B$24:$D$32,3,FALSE)","v":{"$error":"#VALUE!"}},{"$error":"#VALUE!"},{"$error":"#VALUE!"},{"$error":"#VALUE!"},null,null,null,null,null,null," ",{"$f":"VLOOKUP(Report!DO143,Code!$B$40:$D$42,2,FALSE)","v":{"$error":"#N/A"}},{"$f":"VLOOKUP(Report!DO143,Code!$B$40:$D$42,3,FALSE)","v":{"$error":"#N/A"}},{"$error":"#N/A"},null,{"$error":"#N/A"},"number","number","number","",null,null,null,null,"",""]
[null,null,null,null,null,null,null,null,null,null,null,null,null,null,null,null,null,null,null,null,"Type_2",null,{"$error":"#N/A"},null,{"$error":"#N/A"},{"$error":"#N/A"},null,"he","He","his","His",null,null," ",{"$f":"HLOOKUP(Report!AH144,Person!$H$2:$L$3,2,FALSE)","v":{"$error":"#N/A"}},{"$error":"#N/A"},{"$f":"IF(AH144=0,\"\",AJ144+VLOOKUP(AH144,Code!$B$2:$C$6,2,FALSE))","v":{"$error":"#N/A"}},{"$f":"IF(AH144=0,\"\",IF(I144=\"F\",G144&\" \"&VLOOKUP(AK144,Person!D:I,2,FALSE),G144&\" \"&VLOOKUP(AK144,Person!D:I,4,FALSE)))","v":{"$error":"#N/A"}},null,null,null,null,null,null,null,2,{"$f":"VLOOKUP(AT144,Code!$B$51:$D$55,2,FALSE)","v":"Behaviour_1"},{"$f":"RANDBETWEEN(1,VLOOKUP(AT144,Code!$B$51:$D$55,3,FALSE))","v":1},null," d",null,null," ",{"$f":"HLOOKUP(Report!BA144,Homework!$I$2:$L$3,2,FALSE)","v":{"$error":"#N/A"}},{"$error":"#N/A"},{"$f":"IF(BA144=0,\"\",BC144+VLOOKUP(BA144,Code!$B$2:$C$6,2,FALSE))","v":{"$error":"#N/A"}},{"$f":"IF(AND(VLOOKUP(BD144,Homework!D:J,2,FALSE)=\"'s \",RIGHT(G144,1)=\"s\"),\"' \",IF(VLOOKUP(BD144,Homework!D:J,2,FALSE)=\"'s \",\"'s \",\" \"))","v":{"$error":"#N/A"}},{"$f":"IF(BA144=0,\"\",IF(I144=\"F\",\" \"&G144&BE144&VLOOKUP(BD144,Homework!D:J,3,FALSE),\" \"&G144&BE144&VLOOKUP(BD144,Homework!D:J,5,FALSE)))","v":{"$error":"#N/A"}},null,null,null,null,null,null,null,null," ",{"$f":"VLOOKUP(BO144,Code!$B$45:$D$48,2,FALSE)","v":{"$error":"#N/A"}},{"$f":"VLOOKUP(BO144,Code!$B$45:$D$48,3,FALSE)","v":{"$error":"#N/A"}},{"$error":"#N/A"},null,"pen","pencil","ruler",null,null,"",""," ",null,136,{"$f":"HLOOKUP(Report!CC144,Behaviour!$H$2:$K$3,2,FALSE)","v":{"$error":"#N/A"}},{"$error":"#N/A"},{"$f":"CE144+VLOOKUP(CC144,Code!$B$2:$C$6,2,FALSE)","v":{"$error":"#N/A"}},{"$f":"IF(CC144=0,\"\",IF(I144=\"F\",AC144&\" \"&VLOOKUP(CF144,Behaviour!D:I,2,FALSE)&\" \",AC144&\" \"&VLOOKUP(CF144,Behaviour!D:I,4,FALSE)&\" \"))","v":{"$error":"#N/A"}},null,null," ",null,{"$f":"IF(CJ144=0,\"\",VLOOKUP(CJ144,Code!$B$59:$D$61,2,FALSE))","v":{"$error":"#N/A"}},{"$f":"IF(CJ144=0,\"\",VLOOKUP(CJ144,Code!$B$59:$D$61,3,FALSE))","v":{"$error":"#N/A"}},{"$error":"#N/A"},{"$error":"#N/A"},{"$error":"#N/A"},{"$error":"#N/A"},"",null,null,"",null,null,"",{"$error":"#VALUE!"},null,null," ",{"$error":"#VALUE!"},{"$f":"VLOOKUP(Report!DC144,Code!$B$24:$C$32,2,FALSE)","v":{"$error":"#VALUE!"}},{"$f":"VLOOKUP(Report!DC144,Code!$B$24:$D$32,3,FALSE)","v":{"$error":"#VALUE!"}},{"$error":"#VALUE!"},{"$error":"#VALUE!"},{"$error":"#VALUE!"},null,null,null,null,null,null," ",{"$f":"VLOOKUP(Report!DO144,Code!$B$40:$D$42,2,FALSE)","v":{"$error":"#N/A"}},{"$f":"VLOOKUP(Report!DO144,Code!$B$40:$D$42,3,FALSE)","v":{"$error":"#N/A"}},{"$error":"#N/A"},null,{"$error":"#N/A"},"number","number","number","",null,null,null,null,"",""]
[null,null,null,null,null,null,null,null,null,null,null,null,null,null,null,null,null,null,null,null,"Type_2",null,{"$error":"#N/A"},null,{"$error":"#N/A"},{"$error":"#N/A"},null,"he","He","his","His",null,null," ",{"$f":"HLOOKUP(Report!AH145,Person!$H$2:$L$3,2,FALSE)","v":{"$error":"#N/A"}},{"$error":"#N/A"},{"$f":"IF(AH145=0,\"\",AJ145+VLOOKUP(AH145,Code!$B$2:$C$6,2,FALSE))","v":{"$error":"#N/A"}},{"$f":"IF(AH145=0,\"\",IF(I145=\"F\",G145&\" \"&VLOOKUP(AK145,Person!D:I,2,FALSE),G145&\" \"&VLOOKUP(AK145,Person!D:I,4,FALSE)))","v":{"$error":"#N/A"}},null,null,null,null,null,null,null,2,{"$f":"VLOOKUP(AT145,Code!$B$51:$D$55,2,FALSE)","v":"Behaviour_1"},{"$f":"RANDBETWEEN(1,VLOOKUP(AT145,Code!$B$51:$D$55,3,FALSE))","v":1},null," d",null,null," ",{"$f":"HLOOKUP(Report!BA145,Homework!$I$2:$L$3,2,FALSE)","v":{"$error":"#N/A"}},{"$error":"#N/A"},{"$f":"IF(BA145=0,\"\",BC145+VLOOKUP(BA145,Code!$B$2:$C$6,2,FALSE))","v":{"$error":"#N/A"}},{"$f":"IF(AND(VLOOKUP(BD145,Homework!D:J,2,FALSE)=\"'s \",RIGHT(G145,1)=\"s\"),\"' \",IF(VLOOKUP(BD145,Homework!D:J,2,FALSE)=\"'s \",\"'s \",\" \"))","v":{"$error":"#N/A"}},{"$f":"IF(BA145=0,\"\",IF(I145=\"F\",\" \"&G145&BE145&VLOOKUP(BD145,Homework!D:J,3,FALSE),\" \"&G145&BE145&VLOOKUP(BD145,Homework!D:J,5,FALSE)))","v":{"$error":"#N/A"}},null,null,null,null,null,null,null,null," ",{"$f":"VLOOKUP(BO145,Code!$B$45:$D$48,2,FALSE)","v":{"$error":"#N/A"}},{"$f":"VLOOKUP(BO145,Code!$B$45:$D$48,3,FALSE)","v":{"$error":"#N/A"}},{"$error":"#N/A"},null,"pen","pencil","ruler",null,null,"",""," ",null,137,{"$f":"HLOOKUP(Report!CC145,Behaviour!$H$2:$K$3,2,FALSE)","v":{"$error":"#N/A"}},{"$error":"#N/A"},{"$f":"CE145+VLOOKUP(CC145,Code!$B$2:$C$6,2,FALSE)","v":{"$error":"#N/A"}},{"$f":"IF(CC145=0,\"\",IF(I145=\"F\",AC145&\" \"&VLOOKUP(CF145,Behaviour!D:I,2,FALSE)&\" \",AC145&\" \"&VLOOKUP(CF145,Behaviour!D:I,4,FALSE)&\" \"))","v":{"$error":"#N/A"}},null,null," ",null,{"$f":"IF(CJ145=0,\"\",VLOOKUP(CJ145,Code!$B$59:$D$61,2,FALSE))","v":{"$error":"#N/A"}},{"$f":"IF(CJ145=0,\"\",VLOOKUP(CJ145,Code!$B$59:$D$61,3,FALSE))","v":{"$error":"#N/A"}},{"$error":"#N/A"},{"$error":"#N/A"},{"$error":"#N/A"},{"$error":"#N/A"},"",null,null,"",null,null,"",{"$error":"#VALUE!"},null,null," ",{"$error":"#VALUE!"},{"$f":"VLOOKUP(Report!DC145,Code!$B$24:$C$32,2,FALSE)","v":{"$error":"#VALUE!"}},{"$f":"VLOOKUP(Report!DC145,Code!$B$24:$D$32,3,FALSE)","v":{"$error":"#VALUE!"}},{"$error":"#VALUE!"},{"$error":"#VALUE!"},{"$error":"#VALUE!"},null,null,null,null,null,null," ",{"$f":"VLOOKUP(Report!DO145,Code!$B$40:$D$42,2,FALSE)","v":{"$error":"#N/A"}},{"$f":"VLOOKUP(Report!DO145,Code!$B$40:$D$42,3,FALSE)","v":{"$error":"#N/A"}},{"$error":"#N/A"},null,{"$error":"#N/A"},"number","number","number","",null,null,null,null,"",""]
[null,null,null,null,null,null,null,null,null,null,null,null,null,null,null,null,null,null,null,null,"Type_2",null,{"$error":"#N/A"},null,{"$error":"#N/A"},{"$error":"#N/A"},null,"he","He","his","His",null,null," ",{"$f":"HLOOKUP(Report!AH146,Person!$H$2:$L$3,2,FALSE)","v":{"$error":"#N/A"}},{"$error":"#N/A"},{"$f":"IF(AH146=0,\"\",AJ146+VLOOKUP(AH146,Code!$B$2:$C$6,2,FALSE))","v":{"$error":"#N/A"}},{"$f":"IF(AH146=0,\"\",IF(I146=\"F\",G146&\" \"&VLOOKUP(AK146,Person!D:I,2,FALSE),G146&\" \"&VLOOKUP(AK146,Person!D:I,4,FALSE)))","v":{"$error":"#N/A"}},null,null,null,null,null,null,null,2,{"$f":"VLOOKUP(AT146,Code!$B$51:$D$55,2,FALSE)","v":"Behaviour_1"},{"$f":"RANDBETWEEN(1,VLOOKUP(AT146,Code!$B$51:$D$55,3,FALSE))","v":1},null," d",null,null," ",{"$f":"HLOOKUP(Report!BA146,Homework!$I$2:$L$3,2,FALSE)","v":{"$error":"#N/A"}},{"$error":"#N/A"},{"$f":"IF(BA146=0,\"\",BC146+VLOOKUP(BA146,Code!$B$2:$C$6,2,FALSE))","v":{"$error":"#N/A"}},{"$f":"IF(AND(VLOOKUP(BD146,Homework!D:J,2,FALSE)=\"'s \",RIGHT(G146,1)=\"s\"),\"' \",IF(VLOOKUP(BD146,Homework!D:J,2,FALSE)=\"'s \",\"'s \",\" \"))","v":{"$error":"#N/A"}},{"$f":"IF(BA146=0,\"\",IF(I146=\"F\",\" \"&G146&BE146&VLOOKUP(BD146,Homework!D:J,3,FALSE),\" \"&G146&BE146&VLOOKUP(BD146,Homework!D:J,5,FALSE)))","v":{"$error":"#N/A"}},null,null,null,null,null,null,null,null," ",{"$f":"VLOOKUP(BO146,Code!$B$45:$D$48,2,FALSE)","v":{"$error":"#N/A"}},{"$f":"VLOOKUP(BO146,Code!$B$45:$D$48,3,FALSE)","v":{"$error":"#N/A"}},{"$error":"#N/A"},null,"pen","pencil","ruler",null,null,"",""," ",null,138,{"$f":"HLOOKUP(Report!CC146,Behaviour!$H$2:$K$3,2,FALSE)","v":{"$error":"#N/A"}},{"$error":"#N/A"},{"$f":"CE146+VLOOKUP(CC146,Code!$B$2:$C$6,2,FALSE)","v":{"$error":"#N/A"}},{"$f":"IF(CC146=0,\"\",IF(I146=\"F\",AC146&\" \"&VLOOKUP(CF146,Behaviour!D:I,2,FALSE)&\" \",AC146&\" \"&VLOOKUP(CF146,Behaviour!D:I,4,FALSE)&\" \"))","v":{"$error":"#N/A"}},null,null," ",null,{"$f":"IF(CJ146=0,\"\",VLOOKUP(CJ146,Code!$B$59:$D$61,2,FALSE))","v":{"$error":"#N/A"}},{"$f":"IF(CJ146=0,\"\",VLOOKUP(CJ146,Code!$B$59:$D$61,3,FALSE))","v":{"$error":"#N/A"}},{"$error":"#N/A"},{"$error":"#N/A"},{"$error":"#N/A"},{"$error":"#N/A"},"",null,null,"",null,null,"",{"$error":"#VALUE!"},null,null," ",{"$error":"#VALUE!"},{"$f":"VLOOKUP(Report!DC146,Code!$B$24:$C$32,2,FALSE)","v":{"$error":"#VALUE!"}},{"$f":"VLOOKUP(Report!DC146,Code!$B$24:$D$32,3,FALSE)","v":{"$error":"#VALUE!"}},{"$error":"#VALUE!"},{"$error":"#VALUE!"},{"$error":"#VALUE!"},null,null,null,null,null,null," ",{"$f":"VLOOKUP(Report!DO146,Code!$B$40:$D$42,2,FALSE)","v":{"$error":"#N/A"}},{"$f":"VLOOKUP(Report!DO146,Code!$B$40:$D$42,3,FALSE)","v":{"$error":"#N/A"}},{"$error":"#N/A"},null,{"$error":"#N/A"},"number","number","number","",null,null,null,null,"",""]
[null,null,null,null,null,null,null,null,null,null,null,null,null,null,null,null,null,null,null,null,"Type_2",null,{"$error":"#N/A"},null,{"$error":"#N/A"},{"$error":"#N/A"},null,"he","He","his","His",null,null," ",{"$f":"HLOOKUP(Report!AH147,Person!$H$2:$L$3,2,FALSE)","v":{"$error":"#N/A"}},{"$error":"#N/A"},{"$f":"IF(AH147=0,\"\",AJ147+VLOOKUP(AH147,Code!$B$2:$C$6,2,FALSE))","v":{"$error":"#N/A"}},{"$f":"IF(AH147=0,\"\",IF(I147=\"F\",G147&\" \"&VLOOKUP(AK147,Person!D:I,2,FALSE),G147&\" \"&VLOOKUP(AK147,Person!D:I,4,FALSE)))","v":{"$error":"#N/A"}},null,null,null,null,null,null,null,2,{"$f":"VLOOKUP(AT147,Code!$B$51:$D$55,2,FALSE)","v":"Behaviour_1"},{"$f":"RANDBETWEEN(1,VLOOKUP(AT147,Code!$B$51:$D$55,3,FALSE))","v":1},null," d",null,null," ",{"$f":"HLOOKUP(Report!BA147,Homework!$I$2:$L$3,2,FALSE)","v":{"$error":"#N/A"}},{"$error":"#N/A"},{"$f":"IF(BA147=0,\"\",BC147+VLOOKUP(BA147,Code!$B$2:$C$6,2,FALSE))","v":{"$error":"#N/A"}},{"$f":"IF(AND(VLOOKUP(BD147,Homework!D:J,2,FALSE)=\"'s \",RIGHT(G147,1)=\"s\"),\"' \",IF(VLOOKUP(BD147,Homework!D:J,2,FALSE)=\"'s \",\"'s \",\" \"))","v":{"$error":"#N/A"}},{"$f":"IF(BA147=0,\"\",IF(I147=\"F\",\" \"&G147&BE147&VLOOKUP(BD147,Homework!D:J,3,FALSE),\" \"&G147&BE147&VLOOKUP(BD147,Homework!D:J,5,FALSE)))","v":{"$error":"#N/A"}},null,null,null,null,null,null,null,null," ",{"$f":"VLOOKUP(BO147,Code!$B$45:$D$48,2,FALSE)","v":{"$error":"#N/A"}},{"$f":"VLOOKUP(BO147,Code!$B$45:$D$48,3,FALSE)","v":{"$error":"#N/A"}},{"$error":"#N/A"},null,"pen","pencil","ruler",null,null,"",""," ",null,139,{"$f":"HLOOKUP(Report!CC147,Behaviour!$H$2:$K$3,2,FALSE)","v":{"$error":"#N/A"}},{"$error":"#N/A"},{"$f":"CE147+VLOOKUP(CC147,Code!$B$2:$C$6,2,FALSE)","v":{"$error":"#N/A"}},{"$f":"IF(CC147=0,\"\",IF(I147=\"F\",AC147&\" \"&VLOOKUP(CF147,Behaviour!D:I,2,FALSE)&\" \",AC147&\" \"&VLOOKUP(CF147,Behaviour!D:I,4,FALSE)&\" \"))","v":{"$error":"#N/A"}},null,null," ",null,{"$f":"IF(CJ147=0,\"\",VLOOKUP(CJ147,Code!$B$59:$D$61,2,FALSE))","v":{"$error":"#N/A"}},{"$f":"IF(CJ147=0,\"\",VLOOKUP(CJ147,Code!$B$59:$D$61,3,FALSE))","v":{"$error":"#N/A"}},{"$error":"#N/A"},{"$error":"#N/A"},{"$error":"#N/A"},{"$error":"#N/A"},"",null,null,"",null,null,"",{"$error":"#VALUE!"},null,null," ",{"$error":"#VALUE!"},{"$f":"VLOOKUP(Report!DC147,Code!$B$24:$C$32,2,FALSE)","v":{"$error":"#VALUE!"}},{"$f":"VLOOKUP(Report!DC147,Code!$B$24:$D$32,3,FALSE)","v":{"$error":"#VALUE!"}},{"$error":"#VALUE!"},{"$error":"#VALUE!"},{"$error":"#VALUE!"},null,null,null,null,null,null," ",{"$f":"VLOOKUP(Report!DO147,Code!$B$40:$D$42,2,FALSE)","v":{"$error":"#N/A"}},{"$f":"VLOOKUP(Report!DO147,Code!$B$40:$D$42,3,FALSE)","v":{"$error":"#N/A"}},{"$error":"#N/A"},null,{"$error":"#N/A"},"number","number","number","",null,null,null,null,"",""]
[null,null,null,null,null,null,null,null,null,null,null,null,null,null,null,null,null,null,null,null,"Type_2",null,{"$error":"#N/A"},null,{"$error":"#N/A"},{"$error":"#N/A"},null,"he","He","his","His",null,null," ",{"$f":"HLOOKUP(Report!AH148,Person!$H$2:$L$3,2,FALSE)","v":{"$error":"#N/A"}},{"$error":"#N/A"},{"$f":"IF(AH148=0,\"\",AJ148+VLOOKUP(AH148,Code!$B$2:$C$6,2,FALSE))","v":{"$error":"#N/A"}},{"$f":"IF(AH148=0,\"\",IF(I148=\"F\",G148&\" \"&VLOOKUP(AK148,Person!D:I,2,FALSE),G148&\" \"&VLOOKUP(AK148,Person!D:I,4,FALSE)))","v":{"$error":"#N/A"}},null,null,null,null,null,null,null,2,{"$f":"VLOOKUP(AT148,Code!$B$51:$D$55,2,FALSE)","v":"Behaviour_1"},{"$f":"RANDBETWEEN(1,VLOOKUP(AT148,Code!$B$51:$D$55,3,FALSE))","v":1},null," d",null,null," ",{"$f":"HLOOKUP(Report!BA148,Homework!$I$2:$L$3,2,FALSE)","v":{"$error":"#N/A"}},{"$error":"#N/A"},{"$f":"IF(BA148=0,\"\",BC148+VLOOKUP(BA148,Code!$B$2:$C$6,2,FALSE))","v":{"$error":"#N/A"}},{"$f":"IF(AND(VLOOKUP(BD148,Homework!D:J,2,FALSE)=\"'s \",RIGHT(G148,1)=\"s\"),\"' \",IF(VLOOKUP(BD148,Homework!D:J,2,FALSE)=\"'s \",\"'s \",\" \"))","v":{"$error":"#N/A"}},{"$f":"IF(BA148=0,\"\",IF(I148=\"F\",\" \"&G148&BE148&VLOOKUP(BD148,Homework!D:J,3,FALSE),\" \"&G148&BE148&VLOOKUP(BD148,Homework!D:J,5,FALSE)))","v":{"$error":"#N/A"}},null,null,null,null,null,null,null,null," ",{"$f":"VLOOKUP(BO148,Code!$B$45:$D$48,2,FALSE)","v":{"$error":"#N/A"}},{"$f":"VLOOKUP(BO148,Code!$B$45:$D$48,3,FALSE)","v":{"$error":"#N/A"}},{"$error":"#N/A"},null,"pen","pencil","ruler",null,null,"",""," ",null,140,{"$f":"HLOOKUP(Report!CC148,Behaviour!$H$2:$K$3,2,FALSE)","v":{"$error":"#N/A"}},{"$error":"#N/A"},{"$f":"CE148+VLOOKUP(CC148,Code!$B$2:$C$6,2,FALSE)","v":{"$error":"#N/A"}},{"$f":"IF(CC148=0,\"\",IF(I148=\"F\",AC148&\" \"&VLOOKUP(CF148,Behaviour!D:I,2,FALSE)&\" \",AC148&\" \"&VLOOKUP(CF148,Behaviour!D:I,4,FALSE)&\" \"))","v":{"$error":"#N/A"}},null,null," ",null,{"$f":"IF(CJ148=0,\"\",VLOOKUP(CJ148,Code!$B$59:$D$61,2,FALSE))","v":{"$error":"#N/A"}},{"$f":"IF(CJ148=0,\"\",VLOOKUP(CJ148,Code!$B$59:$D$61,3,FALSE))","v":{"$error":"#N/A"}},{"$error":"#N/A"},{"$error":"#N/A"},{"$error":"#N/A"},{"$error":"#N/A"},"",null,null,"",null,null,"",{"$error":"#VALUE!"},null,null," ",{"$error":"#VALUE!"},{"$f":"VLOOKUP(Report!DC148,Code!$B$24:$C$32,2,FALSE)","v":{"$error":"#VALUE!"}},{"$f":"VLOOKUP(Report!DC148,Code!$B$24:$D$32,3,FALSE)","v":{"$error":"#VALUE!"}},{"$error":"#VALUE!"},{"$error":"#VALUE!"},{"$error":"#VALUE!"},null,null,null,null,null,null," ",{"$f":"VLOOKUP(Report!DO148,Code!$B$40:$D$42,2,FALSE)","v":{"$error":"#N/A"}},{"$f":"VLOOKUP(Report!DO148,Code!$B$40:$D$42,3,FALSE)","v":{"$error":"#N/A"}},{"$error":"#N/A"},null,{"$error":"#N/A"},"number","number","number","",null,null,null,null,"",""]
[null,null,null,null,null,null,null,null,null,null,null,null,null,null,null,null,null,null,null,null,"Type_2",null,{"$error":"#N/A"},null,{"$error":"#N/A"},{"$error":"#N/A"},null,"he","He","his","His",null,null," ",{"$f":"HLOOKUP(Report!AH149,Person!$H$2:$L$3,2,FALSE)","v":{"$error":"#N/A"}},{"$error":"#N/A"},{"$f":"IF(AH149=0,\"\",AJ149+VLOOKUP(AH149,Code!$B$2:$C$6,2,FALSE))","v":{"$error":"#N/A"}},{"$f":"IF(AH149=0,\"\",IF(I149=\"F\",G149&\" \"&VLOOKUP(AK149,Person!D:I,2,FALSE),G149&\" \"&VLOOKUP(AK149,Person!D:I,4,FALSE)))","v":{"$error":"#N/A"}},null,null,null,null,null,null,null,2,{"$f":"VLOOKUP(AT149,Code!$B$51:$D$55,2,FALSE)","v":"Behaviour_1"},{"$f":"RANDBETWEEN(1,VLOOKUP(AT149,Code!$B$51:$D$55,3,FALSE))","v":2},null," d",null,null," ",{"$f":"HLOOKUP(Report!BA149,Homework!$I$2:$L$3,2,FALSE)","v":{"$error":"#N/A"}},{"$error":"#N/A"},{"$f":"IF(BA149=0,\"\",BC149+VLOOKUP(BA149,Code!$B$2:$C$6,2,FALSE))","v":{"$error":"#N/A"}},{"$f":"IF(AND(VLOOKUP(BD149,Homework!D:J,2,FALSE)=\"'s \",RIGHT(G149,1)=\"s\"),\"' \",IF(VLOOKUP(BD149,Homework!D:J,2,FALSE)=\"'s \",\"'s \",\" \"))","v":{"$error":"#N/A"}},{"$f":"IF(BA149=0,\"\",IF(I149=\"F\",\" \"&G149&BE149&VLOOKUP(BD149,Homework!D:J,3,FALSE),\" \"&G149&BE149&VLOOKUP(BD149,Homework!D:J,5,FALSE)))","v":{"$error":"#N/A"}},null,null,null,null,null,null,null,null," ",{"$f":"VLOOKUP(BO149,Code!$B$45:$D$48,2,FALSE)","v":{"$error":"#N/A"}},{"$f":"VLOOKUP(BO149,Code!$B$45:$D$48,3,FALSE)","v":{"$error":"#N/A"}},{"$error":"#N/A"},null,"pen","pencil","ruler",null,null,"",""," ",null,141,{"$f":"HLOOKUP(Report!CC149,Behaviour!$H$2:$K$3,2,FALSE)","v":{"$error":"#N/A"}},{"$error":"#N/A"},{"$f":"CE149+VLOOKUP(CC149,Code!$B$2:$C$6,2,FALSE)","v":{"$error":"#N/A"}},{"$f":"IF(CC149=0,\"\",IF(I149=\"F\",AC149&\" \"&VLOOKUP(CF149,Behaviour!D:I,2,FALSE)&\" \",AC149&\" \"&VLOOKUP(CF149,Behaviour!D:I,4,FALSE)&\" \"))","v":{"$error":"#N/A"}},null,null," ",null,{"$f":"IF(CJ149=0,\"\",VLOOKUP(CJ149,Code!$B$59:$D$61,2,FALSE))","v":{"$error":"#N/A"}},{"$f":"IF(CJ149=0,\"\",VLOOKUP(CJ149,Code!$B$59:$D$61,3,FALSE))","v":{"$error":"#N/A"}},{"$error":"#N/A"},{"$error":"#N/A"},{"$error":"#N/A"},{"$error":"#N/A"},"",null,null,"",null,null,"",{"$error":"#VALUE!"},null,null," ",{"$error":"#VALUE!"},{"$f":"VLOOKUP(Report!DC149,Code!$B$24:$C$32,2,FALSE)","v":{"$error":"#VALUE!"}},{"$f":"VLOOKUP(Report!DC149,Code!$B$24:$D$32,3,FALSE)","v":{"$error":"#VALUE!"}},{"$error":"#VALUE!"},{"$error":"#VALUE!"},{"$error":"#VALUE!"},null,null,null,null,null,null," ",{"$f":"VLOOKUP(Report!DO149,Code!$B$40:$D$42,2,FALSE)","v":{"$error":"#N/A"}},{"$f":"VLOOKUP(Report!DO149,Code!$B$40:$D$42,3,FALSE)","v":{"$error":"#N/A"}},{"$error":"#N/A"},null,{"$error":"#N/A"},"number","number","number","",null,null,null,null,"",""]
[null,null,null,null,null,null,null,null,null,null,null,null,null,null,null,null,null,null,null,null,"Type_2",null,{"$error":"#N/A"},null,{"$error":"#N/A"},{"$error":"#N/A"},null,"he","He","his","His",null,null," ",{"$f":"HLOOKUP(Report!AH150,Person!$H$2:$L$3,2,FALSE)","v":{"$error":"#N/A"}},{"$error":"#N/A"},{"$f":"IF(AH150=0,\"\",AJ150+VLOOKUP(AH150,Code!$B$2:$C$6,2,FALSE))","v":{"$error":"#N/A"}},{"$f":"IF(AH150=0,\"\",IF(I150=\"F\",G150&\" \"&VLOOKUP(AK150,Person!D:I,2,FALSE),G150&\" \"&VLOOKUP(AK150,Person!D:I,4,FALSE)))","v":{"$error":"#N/A"}},null,null,null,null,null,null,null,2,{"$f":"VLOOKUP(AT150,Code!$B$51:$D$55,2,FALSE)","v":"Behaviour_1"},{"$f":"RANDBETWEEN(1,VLOOKUP(AT150,Code!$B$51:$D$55,3,FALSE))","v":2},null," d",null,null," ",{"$f":"HLOOKUP(Report!BA150,Homework!$I$2:$L$3,2,FALSE)","v":{"$error":"#N/A"}},{"$error":"#N/A"},{"$f":"IF(BA150=0,\"\",BC150+VLOOKUP(BA150,Code!$B$2:$C$6,2,FALSE))","v":{"$error":"#N/A"}},{"$f":"IF(AND(VLOOKUP(BD150,Homework!D:J,2,FALSE)=\"'s \",RIGHT(G150,1)=\"s\"),\"' \",IF(VLOOKUP(BD150,Homework!D:J,2,FALSE)=\"'s \",\"'s \",\" \"))","v":{"$error":"#N/A"}},{"$f":"IF(BA150=0,\"\",IF(I150=\"F\",\" \"&G150&BE150&VLOOKUP(BD150,Homework!D:J,3,FALSE),\" \"&G150&BE150&VLOOKUP(BD150,Homework!D:J,5,FALSE)))","v":{"$error":"#N/A"}},null,null,null,null,null,null,null,null," ",{"$f":"VLOOKUP(BO150,Code!$B$45:$D$48,2,FALSE)","v":{"$error":"#N/A"}},{"$f":"VLOOKUP(BO150,Code!$B$45:$D$48,3,FALSE)","v":{"$error":"#N/A"}},{"$error":"#N/A"},null,"pen","pencil","ruler",null,null,"",""," ",null,142,{"$f":"HLOOKUP(Report!CC150,Behaviour!$H$2:$K$3,2,FALSE)","v":{"$error":"#N/A"}},{"$error":"#N/A"},{"$f":"CE150+VLOOKUP(CC150,Code!$B$2:$C$6,2,FALSE)","v":{"$error":"#N/A"}},{"$f":"IF(CC150=0,\"\",IF(I150=\"F\",AC150&\" \"&VLOOKUP(CF150,Behaviour!D:I,2,FALSE)&\" \",AC150&\" \"&VLOOKUP(CF150,Behaviour!D:I,4,FALSE)&\" \"))","v":{"$error":"#N/A"}},null,null," ",null,{"$f":"IF(CJ150=0,\"\",VLOOKUP(CJ150,Code!$B$59:$D$61,2,FALSE))","v":{"$error":"#N/A"}},{"$f":"IF(CJ150=0,\"\",VLOOKUP(CJ150,Code!$B$59:$D$61,3,FALSE))","v":{"$error":"#N/A"}},{"$error":"#N/A"},{"$error":"#N/A"},{"$error":"#N/A"},{"$error":"#N/A"},"",null,null,"",null,null,"",{"$error":"#VALUE!"},null,null," ",{"$error":"#VALUE!"},{"$f":"VLOOKUP(Report!DC150,Code!$B$24:$C$32,2,FALSE)","v":{"$error":"#VALUE!"}},{"$f":"VLOOKUP(Report!DC150,Code!$B$24:$D$32,3,FALSE)","v":{"$error":"#VALUE!"}},{"$error":"#VALUE!"},{"$error":"#VALUE!"},{"$error":"#VALUE!"},null,null,null,null,null,null," ",{"$f":"VLOOKUP(Report!DO150,Code!$B$40:$D$42,2,FALSE)","v":{"$error":"#N/A"}},{"$f":"VLOOKUP(Report!DO150,Code!$B$40:$D$42,3,FALSE)","v":{"$error":"#N/A"}},{"$error":"#N/A"},null,{"$error":"#N/A"},"number","measures","standard form ","",null,null,null,null,"",""]
[null,null,null,null,null,null,null,null,null,null,null,null,null,null,null,null,null,null,null,null,"Type_2",null,{"$error":"#N/A"},null,{"$error":"#N/A"},{"$error":"#N/A"},null,"he","He","his","His",null,null," ",{"$f":"HLOOKUP(Report!AH151,Person!$H$2:$L$3,2,FALSE)","v":{"$error":"#N/A"}},{"$error":"#N/A"},{"$f":"IF(AH151=0,\"\",AJ151+VLOOKUP(AH151,Code!$B$2:$C$6,2,FALSE))","v":{"$error":"#N/A"}},{"$f":"IF(AH151=0,\"\",IF(I151=\"F\",G151&\" \"&VLOOKUP(AK151,Person!D:I,2,FALSE),G151&\" \"&VLOOKUP(AK151,Person!D:I,4,FALSE)))","v":{"$error":"#N/A"}},null,null,null,null,null,null,null,2,{"$f":"VLOOKUP(AT151,Code!$B$51:$D$55,2,FALSE)","v":"Behaviour_1"},{"$f":"RANDBETWEEN(1,VLOOKUP(AT151,Code!$B$51:$D$55,3,FALSE))","v":2},null," d",null,null," ",{"$f":"HLOOKUP(Report!BA151,Homework!$I$2:$L$3,2,FALSE)","v":{"$error":"#N/A"}},{"$error":"#N/A"},{"$f":"IF(BA151=0,\"\",BC151+VLOOKUP(BA151,Code!$B$2:$C$6,2,FALSE))","v":{"$error":"#N/A"}},{"$f":"IF(AND(VLOOKUP(BD151,Homework!D:J,2,FALSE)=\"'s \",RIGHT(G151,1)=\"s\"),\"' \",IF(VLOOKUP(BD151,Homework!D:J,2,FALSE)=\"'s \",\"'s \",\" \"))","v":{"$error":"#N/A"}},{"$f":"IF(BA151=0,\"\",IF(I151=\"F\",\" \"&G151&BE151&VLOOKUP(BD151,Homework!D:J,3,FALSE),\" \"&G151&BE151&VLOOKUP(BD151,Homework!D:J,5,FALSE)))","v":{"$error":"#N/A"}},null,null,null,null,null,null,null,null," ",{"$f":"VLOOKUP(BO151,Code!$B$45:$D$48,2,FALSE)","v":{"$error":"#N/A"}},{"$f":"VLOOKUP(BO151,Code!$B$45:$D$48,3,FALSE)","v":{"$error":"#N/A"}},{"$error":"#N/A"},null,"pen","pencil","ruler",null,null,"",""," ",null,143,{"$f":"HLOOKUP(Report!CC151,Behaviour!$H$2:$K$3,2,FALSE)","v":{"$error":"#N/A"}},{"$error":"#N/A"},{"$f":"CE151+VLOOKUP(CC151,Code!$B$2:$C$6,2,FALSE)","v":{"$error":"#N/A"}},{"$f":"IF(CC151=0,\"\",IF(I151=\"F\",AC151&\" \"&VLOOKUP(CF151,Behaviour!D:I,2,FALSE)&\" \",AC151&\" \"&VLOOKUP(CF151,Behaviour!D:I,4,FALSE)&\" \"))","v":{"$error":"#N/A"}},null,null," ",null,{"$f":"IF(CJ151=0,\"\",VLOOKUP(CJ151,Code!$B$59:$D$61,2,FALSE))","v":{"$error":"#N/A"}},{"$f":"IF(CJ151=0,\"\",VLOOKUP(CJ151,Code!$B$59:$D$61,3,FALSE))","v":{"$error":"#N/A"}},{"$error":"#N/A"},{"$error":"#N/A"},{"$error":"#N/A"},{"$error":"#N/A"},"",null,null,"",null,null,"",{"$error":"#VALUE!"},null,null," ",{"$error":"#VALUE!"},{"$f":"VLOOKUP(Report!DC151,Code!$B$24:$C$32,2,FALSE)","v":{"$error":"#VALUE!"}},{"$f":"VLOOKUP(Report!DC151,Code!$B$24:$D$32,3,FALSE)","v":{"$error":"#VALUE!"}},{"$error":"#VALUE!"},{"$error":"#VALUE!"},{"$error":"#VALUE!"},null,null,null,null,null,null," ",{"$f":"VLOOKUP(Report!DO151,Code!$B$40:$D$42,2,FALSE)","v":{"$error":"#N/A"}},{"$f":"VLOOKUP(Report!DO151,Code!$B$40:$D$42,3,FALSE)","v":{"$error":"#N/A"}},{"$error":"#N/A"},null,{"$error":"#N/A"},"number","measures","standard form ","",null,null,null,null,"",""]
[null,null,null,null,null,null,null,null,null,null,null,null,null,null,null,null,null,null,null,null,"Type_2",null,{"$error":"#N/A"},null,{"$error":"#N/A"},{"$error":"#N/A"},null,"he","He","his","His",null,null," ",{"$f":"HLOOKUP(Report!AH152,Person!$H$2:$L$3,2,FALSE)","v":{"$error":"#N/A"}},{"$error":"#N/A"},{"$f":"IF(AH152=0,\"\",AJ152+VLOOKUP(AH152,Code!$B$2:$C$6,2,FALSE))","v":{"$error":"#N/A"}},{"$f":"IF(AH152=0,\"\",IF(I152=\"F\",G152&\" \"&VLOOKUP(AK152,Person!D:I,2,FALSE),G152&\" \"&VLOOKUP(AK152,Person!D:I,4,FALSE)))","v":{"$error":"#N/A"}},null,null,null,null,null,null,null,2,{"$f":"VLOOKUP(AT152,Code!$B$51:$D$55,2,FALSE)","v":"Behaviour_1"},{"$f":"RANDBETWEEN(1,VLOOKUP(AT152,Code!$B$51:$D$55,3,FALSE))","v":2},null," d",null,null," ",{"$f":"HLOOKUP(Report!BA152,Homework!$I$2:$L$3,2,FALSE)","v":{"$error":"#N/A"}},{"$error":"#N/A"},{"$f":"IF(BA152=0,\"\",BC152+VLOOKUP(BA152,Code!$B$2:$C$6,2,FALSE))","v":{"$error":"#N/A"}},{"$f":"IF(AND(VLOOKUP(BD152,Homework!D:J,2,FALSE)=\"'s \",RIGHT(G152,1)=\"s\"),\"' \",IF(VLOOKUP(BD152,Homework!D:J,2,FALSE)=\"'s \",\"'s \",\" \"))","v":{"$error":"#N/A"}},{"$f":"IF(BA152=0,\"\",IF(I152=\"F\",\" \"&G152&BE152&VLOOKUP(BD152,Homework!D:J,3,FALSE),\" \"&G152&BE152&VLOOKUP(BD152,Homework!D:J,5,FALSE)))","v":{"$error":"#N/A"}},null,null,null,null,null,null,null,null," ",{"$f":"VLOOKUP(BO152,Code!$B$45:$D$48,2,FALSE)","v":{"$error":"#N/A"}},{"$f":"VLOOKUP(BO152,Code!$B$45:$D$48,3,FALSE)","v":{"$error":"#N/A"}},{"$error":"#N/A"},null,"pen","pencil","ruler",null,null,"",""," ",null,144,{"$f":"HLOOKUP(Report!CC152,Behaviour!$H$2:$K$3,2,FALSE)","v":{"$error":"#N/A"}},{"$error":"#N/A"},{"$f":"CE152+VLOOKUP(CC152,Code!$B$2:$C$6,2,FALSE)","v":{"$error":"#N/A"}},{"$f":"IF(CC152=0,\"\",IF(I152=\"F\",AC152&\" \"&VLOOKUP(CF152,Behaviour!D:I,2,FALSE)&\" \",AC152&\" \"&VLOOKUP(CF152,Behaviour!D:I,4,FALSE)&\" \"))","v":{"$error":"#N/A"}},null,null," ",null,{"$f":"IF(CJ152=0,\"\",VLOOKUP(CJ152,Code!$B$59:$D$61,2,FALSE))","v":{"$error":"#N/A"}},{"$f":"IF(CJ152=0,\"\",VLOOKUP(CJ152,Code!$B$59:$D$61,3,FALSE))","v":{"$error":"#N/A"}},{"$error":"#N/A"},{"$error":"#N/A"},{"$error":"#N/A"},{"$error":"#N/A"},"",null,null,"",null,null,"",{"$error":"#VALUE!"},null,null," ",{"$error":"#VALUE!"},{"$f":"VLOOKUP(Report!DC152,Code!$B$24:$C$32,2,FALSE)","v":{"$error":"#VALUE!"}},{"$f":"VLOOKUP(Report!DC152,Code!$B$24:$D$32,3,FALSE)","v":{"$error":"#VALUE!"}},{"$error":"#VALUE!"},{"$error":"#VALUE!"},{"$error":"#VALUE!"},null,null,null,null,null,null," ",{"$f":"VLOOKUP(Report!DO152,Code!$B$40:$D$42,2,FALSE)","v":{"$error":"#N/A"}},{"$f":"VLOOKUP(Report!DO152,Code!$B$40:$D$42,3,FALSE)","v":{"$error":"#N/A"}},{"$error":"#N/A"},null,{"$error":"#N/A"},"number","measures","standard form ","",null,null,null,null,"",""]
[null,null,null,null,null,null,null,null,null,null,null,null,null,null,null,null,null,null,null,null,"Type_2",null,{"$error":"#N/A"},null,{"$error":"#N/A"},{"$error":"#N/A"},null,"he","He","his","His",null,null," ",{"$f":"HLOOKUP(Report!AH153,Person!$H$2:$L$3,2,FALSE)","v":{"$error":"#N/A"}},{"$error":"#N/A"},{"$f":"IF(AH153=0,\"\",AJ153+VLOOKUP(AH153,Code!$B$2:$C$6,2,FALSE))","v":{"$error":"#N/A"}},{"$f":"IF(AH153=0,\"\",IF(I153=\"F\",G153&\" \"&VLOOKUP(AK153,Person!D:I,2,FALSE),G153&\" \"&VLOOKUP(AK153,Person!D:I,4,FALSE)))","v":{"$error":"#N/A"}},null,null,null,null,null,null,null,2,{"$f":"VLOOKUP(AT153,Code!$B$51:$D$55,2,FALSE)","v":"Behaviour_1"},{"$f":"RANDBETWEEN(1,VLOOKUP(AT153,Code!$B$51:$D$55,3,FALSE))","v":1},null," d",null,null," ",{"$f":"HLOOKUP(Report!BA153,Homework!$I$2:$L$3,2,FALSE)","v":{"$error":"#N/A"}},{"$error":"#N/A"},{"$f":"IF(BA153=0,\"\",BC153+VLOOKUP(BA153,Code!$B$2:$C$6,2,FALSE))","v":{"$error":"#N/A"}},{"$f":"IF(AND(VLOOKUP(BD153,Homework!D:J,2,FALSE)=\"'s \",RIGHT(G153,1)=\"s\"),\"' \",IF(VLOOKUP(BD153,Homework!D:J,2,FALSE)=\"'s \",\"'s \",\" \"))","v":{"$error":"#N/A"}},{"$f":"IF(BA153=0,\"\",IF(I153=\"F\",\" \"&G153&BE153&VLOOKUP(BD153,Homework!D:J,3,FALSE),\" \"&G153&BE153&VLOOKUP(BD153,Homework!D:J,5,FALSE)))","v":{"$error":"#N/A"}},null,null,null,null,null,null,null,null," ",{"$f":"VLOOKUP(BO153,Code!$B$45:$D$48,2,FALSE)","v":{"$error":"#N/A"}},{"$f":"VLOOKUP(BO153,Code!$B$45:$D$48,3,FALSE)","v":{"$error":"#N/A"}},{"$error":"#N/A"},null,"pen","pencil","ruler",null,null,"",""," ",null,145,{"$f":"HLOOKUP(Report!CC153,Behaviour!$H$2:$K$3,2,FALSE)","v":{"$error":"#N/A"}},{"$error":"#N/A"},{"$f":"CE153+VLOOKUP(CC153,Code!$B$2:$C$6,2,FALSE)","v":{"$error":"#N/A"}},{"$f":"IF(CC153=0,\"\",IF(I153=\"F\",AC153&\" \"&VLOOKUP(CF153,Behaviour!D:I,2,FALSE)&\" \",AC153&\" \"&VLOOKUP(CF153,Behaviour!D:I,4,FALSE)&\" \"))","v":{"$error":"#N/A"}},null,null," ",null,{"$f":"IF(CJ153=0,\"\",VLOOKUP(CJ153,Code!$B$59:$D$61,2,FALSE))","v":{"$error":"#N/A"}},{"$f":"IF(CJ153=0,\"\",VLOOKUP(CJ153,Code!$B$59:$D$61,3,FALSE))","v":{"$error":"#N/A"}},{"$error":"#N/A"},{"$error":"#N/A"},{"$error":"#N/A"},{"$error":"#N/A"},"",null,null,"",null,null,"",{"$error":"#VALUE!"},null,null," ",{"$error":"#VALUE!"},{"$f":"VLOOKUP(Report!DC153,Code!$B$24:$C$32,2,FALSE)","v":{"$error":"#VALUE!"}},{"$f":"VLOOKUP(Report!DC153,Code!$B$24:$D$32,3,FALSE)","v":{"$error":"#VALUE!"}},{"$error":"#VALUE!"},{"$error":"#VALUE!"},{"$error":"#VALUE!"},null,null,null,null,null,null," ",{"$f":"VLOOKUP(Report!DO153,Code!$B$40:$D$42,2,FALSE)","v":{"$error":"#N/A"}},{"$f":"VLOOKUP(Report!DO153,Code!$B$40:$D$42,3,FALSE)","v":{"$error":"#N/A"}},{"$error":"#N/A"},null,{"$error":"#N/A"},"number","measures","standard form ","",null,null,null,null,"",""]
[null,null,null,null,null,null,null,null,null,null,null,null,null,null,null,null,null,null,null,null,"Type_2",null,{"$error":"#N/A"},null,{"$error":"#N/A"},{"$error":"#N/A"},null,"he","He","his","His",null,null," ",{"$f":"HLOOKUP(Report!AH154,Person!$H$2:$L$3,2,FALSE)","v":{"$error":"#N/A"}},{"$error":"#N/A"},{"$f":"IF(AH154=0,\"\",AJ154+VLOOKUP(AH154,Code!$B$2:$C$6,2,FALSE))","v":{"$error":"#N/A"}},{"$f":"IF(AH154=0,\"\",IF(I154=\"F\",G154&\" \"&VLOOKUP(AK154,Person!D:I,2,FALSE),G154&\" \"&VLOOKUP(AK154,Person!D:I,4,FALSE)))","v":{"$error":"#N/A"}},null,null,null,null,null,null,null,2,{"$f":"VLOOKUP(AT154,Code!$B$51:$D$55,2,FALSE)","v":"Behaviour_1"},{"$f":"RANDBETWEEN(1,VLOOKUP(AT154,Code!$B$51:$D$55,3,FALSE))","v":1},null," d",null,null," ",{"$f":"HLOOKUP(Report!BA154,Homework!$I$2:$L$3,2,FALSE)","v":{"$error":"#N/A"}},{"$error":"#N/A"},{"$f":"IF(BA154=0,\"\",BC154+VLOOKUP(BA154,Code!$B$2:$C$6,2,FALSE))","v":{"$error":"#N/A"}},{"$f":"IF(AND(VLOOKUP(BD154,Homework!D:J,2,FALSE)=\"'s \",RIGHT(G154,1)=\"s\"),\"' \",IF(VLOOKUP(BD154,Homework!D:J,2,FALSE)=\"'s \",\"'s \",\" \"))","v":{"$error":"#N/A"}},{"$f":"IF(BA154=0,\"\",IF(I154=\"F\",\" \"&G154&BE154&VLOOKUP(BD154,Homework!D:J,3,FALSE),\" \"&G154&BE154&VLOOKUP(BD154,Homework!D:J,5,FALSE)))","v":{"$error":"#N/A"}},null,null,null,null,null,null,null,null," ",{"$f":"VLOOKUP(BO154,Code!$B$45:$D$48,2,FALSE)","v":{"$error":"#N/A"}},{"$f":"VLOOKUP(BO154,Code!$B$45:$D$48,3,FALSE)","v":{"$error":"#N/A"}},{"$error":"#N/A"},null,"pen","pencil","ruler",null,null,"",""," ",null,146,{"$f":"HLOOKUP(Report!CC154,Behaviour!$H$2:$K$3,2,FALSE)","v":{"$error":"#N/A"}},{"$error":"#N/A"},{"$f":"CE154+VLOOKUP(CC154,Code!$B$2:$C$6,2,FALSE)","v":{"$error":"#N/A"}},{"$f":"IF(CC154=0,\"\",IF(I154=\"F\",AC154&\" \"&VLOOKUP(CF154,Behaviour!D:I,2,FALSE)&\" \",AC154&\" \"&VLOOKUP(CF154,Behaviour!D:I,4,FALSE)&\" \"))","v":{"$error":"#N/A"}},null,null," ",null,{"$f":"IF(CJ154=0,\"\",VLOOKUP(CJ154,Code!$B$59:$D$61,2,FALSE))","v":{"$error":"#N/A"}},{"$f":"IF(CJ154=0,\"\",VLOOKUP(CJ154,Code!$B$59:$D$61,3,FALSE))","v":{"$error":"#N/A"}},{"$error":"#N/A"},{"$error":"#N/A"},{"$error":"#N/A"},{"$error":"#N/A"},"",null,null,"",null,null,"",{"$error":"#VALUE!"},null,null," ",{"$error":"#VALUE!"},{"$f":"VLOOKUP(Report!DC154,Code!$B$24:$C$32,2,FALSE)","v":{"$error":"#VALUE!"}},{"$f":"VLOOKUP(Report!DC154,Code!$B$24:$D$32,3,FALSE)","v":{"$error":"#VALUE!"}},{"$error":"#VALUE!"},{"$error":"#VALUE!"},{"$error":"#VALUE!"},null,null,null,null,null,null," ",{"$f":"VLOOKUP(Report!DO154,Code!$B$40:$D$42,2,FALSE)","v":{"$error":"#N/A"}},{"$f":"VLOOKUP(Report!DO154,Code!$B$40:$D$42,3,FALSE)","v":{"$error":"#N/A"}},{"$error":"#N/A"},null,{"$error":"#N/A"},"number","measures","standard form ","",null,null,null,null,"",""]
[null,null,null,null,null,null,null,null,null,null,null,null,null,null,null,null,null,null,null,null,"Type_2",null,{"$error":"#N/A"},null,{"$error":"#N/A"},{"$error":"#N/A"},null,"he","He","his","His",null,null," ",{"$f":"HLOOKUP(Report!AH155,Person!$H$2:$L$3,2,FALSE)","v":{"$error":"#N/A"}},{"$error":"#N/A"},{"$f":"IF(AH155=0,\"\",AJ155+VLOOKUP(AH155,Code!$B$2:$C$6,2,FALSE))","v":{"$error":"#N/A"}},{"$f":"IF(AH155=0,\"\",IF(I155=\"F\",G155&\" \"&VLOOKUP(AK155,Person!D:I,2,FALSE),G155&\" \"&VLOOKUP(AK155,Person!D:I,4,FALSE)))","v":{"$error":"#N/A"}},null,null,null,null,null,null,null,2,{"$f":"VLOOKUP(AT155,Code!$B$51:$D$55,2,FALSE)","v":"Behaviour_1"},{"$f":"RANDBETWEEN(1,VLOOKUP(AT155,Code!$B$51:$D$55,3,FALSE))","v":2},null," d",null,null," ",{"$f":"HLOOKUP(Report!BA155,Homework!$I$2:$L$3,2,FALSE)","v":{"$error":"#N/A"}},{"$error":"#N/A"},{"$f":"IF(BA155=0,\"\",BC155+VLOOKUP(BA155,Code!$B$2:$C$6,2,FALSE))","v":{"$error":"#N/A"}},{"$f":"IF(AND(VLOOKUP(BD155,Homework!D:J,2,FALSE)=\"'s \",RIGHT(G155,1)=\"s\"),\"' \",IF(VLOOKUP(BD155,Homework!D:J,2,FALSE)=\"'s \",\"'s \",\" \"))","v":{"$error":"#N/A"}},{"$f":"IF(BA155=0,\"\",IF(I155=\"F\",\" \"&G155&BE155&VLOOKUP(BD155,Homework!D:J,3,FALSE),\" \"&G155&BE155&VLOOKUP(BD155,Homework!D:J,5,FALSE)))","v":{"$error":"#N/A"}},null,null,null,null,null,null,null,null," ",{"$f":"VLOOKUP(BO155,Code!$B$45:$D$48,2,FALSE)","v":{"$error":"#N/A"}},{"$f":"VLOOKUP(BO155,Code!$B$45:$D$48,3,FALSE)","v":{"$error":"#N/A"}},{"$error":"#N/A"},null,"pen","pencil","ruler",null,null,"",""," ",null,147,{"$f":"HLOOKUP(Report!CC155,Behaviour!$H$2:$K$3,2,FALSE)","v":{"$error":"#N/A"}},{"$error":"#N/A"},{"$f":"CE155+VLOOKUP(CC155,Code!$B$2:$C$6,2,FALSE)","v":{"$error":"#N/A"}},{"$f":"IF(CC155=0,\"\",IF(I155=\"F\",AC155&\" \"&VLOOKUP(CF155,Behaviour!D:I,2,FALSE)&\" \",AC155&\" \"&VLOOKUP(CF155,Behaviour!D:I,4,FALSE)&\" \"))","v":{"$error":"#N/A"}},null,null," ",null,{"$f":"IF(CJ155=0,\"\",VLOOKUP(CJ155,Code!$B$59:$D$61,2,FALSE))","v":{"$error":"#N/A"}},{"$f":"IF(CJ155=0,\"\",VLOOKUP(CJ155,Code!$B$59:$D$61,3,FALSE))","v":{"$error":"#N/A"}},{"$error":"#N/A"},{"$error":"#N/A"},{"$error":"#N/A"},{"$error":"#N/A"},"",null,null,"",null,null,"",{"$error":"#VALUE!"},null,null," ",{"$error":"#VALUE!"},{"$f":"VLOOKUP(Report!DC155,Code!$B$24:$C$32,2,FALSE)","v":{"$error":"#VALUE!"}},{"$f":"VLOOKUP(Report!DC155,Code!$B$24:$D$32,3,FALSE)","v":{"$error":"#VALUE!"}},{"$error":"#VALUE!"},{"$error":"#VALUE!"},{"$error":"#VALUE!"},null,null,null,null,null,null," ",{"$f":"VLOOKUP(Report!DO155,Code!$B$40:$D$42,2,FALSE)","v":{"$error":"#N/A"}},{"$f":"VLOOKUP(Report!DO155,Code!$B$40:$D$42,3,FALSE)","v":{"$error":"#N/A"}},{"$error":"#N/A"},null,{"$error":"#N/A"},"number","measures","standard form ","",null,null,null,null,"",""]
[null,null,null,null,null,null,null,null,null,null,null,null,null,null,null,null,null,null,null,null,"Type_2",null,{"$error":"#N/A"},null,{"$error":"#N/A"},{"$error":"#N/A"},null,"he","He","his","His",null,null," ",{"$f":"HLOOKUP(Report!AH156,Person!$H$2:$L$3,2,FALSE)","v":{"$error":"#N/A"}},{"$error":"#N/A"},{"$f":"IF(AH156=0,\"\",AJ156+VLOOKUP(AH156,Code!$B$2:$C$6,2,FALSE))","v":{"$error":"#N/A"}},{"$f":"IF(AH156=0,\"\",IF(I156=\"F\",G156&\" \"&VLOOKUP(AK156,Person!D:I,2,FALSE),G156&\" \"&VLOOKUP(AK156,Person!D:I,4,FALSE)))","v":{"$error":"#N/A"}},null,null,null,null,null,null,null,2,{"$f":"VLOOKUP(AT156,Code!$B$51:$D$55,2,FALSE)","v":"Behaviour_1"},{"$f":"RANDBETWEEN(1,VLOOKUP(AT156,Code!$B$51:$D$55,3,FALSE))","v":2},null," d",null,null," ",{"$f":"HLOOKUP(Report!BA156,Homework!$I$2:$L$3,2,FALSE)","v":{"$error":"#N/A"}},{"$error":"#N/A"},{"$f":"IF(BA156=0,\"\",BC156+VLOOKUP(BA156,Code!$B$2:$C$6,2,FALSE))","v":{"$error":"#N/A"}},{"$f":"IF(AND(VLOOKUP(BD156,Homework!D:J,2,FALSE)=\"'s \",RIGHT(G156,1)=\"s\"),\"' \",IF(VLOOKUP(BD156,Homework!D:J,2,FALSE)=\"'s \",\"'s \",\" \"))","v":{"$error":"#N/A"}},{"$f":"IF(BA156=0,\"\",IF(I156=\"F\",\" \"&G156&BE156&VLOOKUP(BD156,Homework!D:J,3,FALSE),\" \"&G156&BE156&VLOOKUP(BD156,Homework!D:J,5,FALSE)))","v":{"$error":"#N/A"}},null,null,null,null,null,null,null,null," ",{"$f":"VLOOKUP(BO156,Code!$B$45:$D$48,2,FALSE)","v":{"$error":"#N/A"}},{"$f":"VLOOKUP(BO156,Code!$B$45:$D$48,3,FALSE)","v":{"$error":"#N/A"}},{"$error":"#N/A"},null,"pen","pencil","ruler",null,null,"",""," ",null,148,{"$f":"HLOOKUP(Report!CC156,Behaviour!$H$2:$K$3,2,FALSE)","v":{"$error":"#N/A"}},{"$error":"#N/A"},{"$f":"CE156+VLOOKUP(CC156,Code!$B$2:$C$6,2,FALSE)","v":{"$error":"#N/A"}},{"$f":"IF(CC156=0,\"\",IF(I156=\"F\",AC156&\" \"&VLOOKUP(CF156,Behaviour!D:I,2,FALSE)&\" \",AC156&\" \"&VLOOKUP(CF156,Behaviour!D:I,4,FALSE)&\" \"))","v":{"$error":"#N/A"}},null,null," ",null,{"$f":"IF(CJ156=0,\"\",VLOOKUP(CJ156,Code!$B$59:$D$61,2,FALSE))","v":{"$error":"#N/A"}},{"$f":"IF(CJ156=0,\"\",VLOOKUP(CJ156,Code!$B$59:$D$61,3,FALSE))","v":{"$error":"#N/A"}},{"$error":"#N/A"},{"$error":"#N/A"},{"$error":"#N/A"},{"$error":"#N/A"},"",null,null,"",null,null,"",{"$error":"#VALUE!"},null,null," ",{"$error":"#VALUE!"},{"$f":"VLOOKUP(Report!DC156,Code!$B$24:$C$32,2,FALSE)","v":{"$error":"#VALUE!"}},{"$f":"VLOOKUP(Report!DC156,Code!$B$24:$D$32,3,FALSE)","v":{"$error":"#VALUE!"}},{"$error":"#VALUE!"},{"$error":"#VALUE!"},{"$error":"#VALUE!"},null,null,null,null,null,null," ",{"$f":"VLOOKUP(Report!DO156,Code!$B$40:$D$42,2,FALSE)","v":{"$error":"#N/A"}},{"$f":"VLOOKUP(Report!DO156,Code!$B$40:$D$42,3,FALSE)","v":{"$error":"#N/A"}},{"$error":"#N/A"},null,{"$error":"#N/A"},"number","measures","standard form ","",null,null,null,null,"",""]
[null,null,null,null,null,null,null,null,null,null,null,null,null,null,null,null,null,null,null,null,"Type_2",null,{"$error":"#N/A"},null,{"$error":"#N/A"},{"$error":"#N/A"},null,"he","He","his","His",null,null," ",{"$f":"HLOOKUP(Report!AH157,Person!$H$2:$L$3,2,FALSE)","v":{"$error":"#N/A"}},{"$error":"#N/A"},{"$f":"IF(AH157=0,\"\",AJ157+VLOOKUP(AH157,Code!$B$2:$C$6,2,FALSE))","v":{"$error":"#N/A"}},{"$f":"IF(AH157=0,\"\",IF(I157=\"F\",G157&\" \"&VLOOKUP(AK157,Person!D:I,2,FALSE),G157&\" \"&VLOOKUP(AK157,Person!D:I,4,FALSE)))","v":{"$error":"#N/A"}},null,null,null,null,null,null,null,2,{"$f":"VLOOKUP(AT157,Code!$B$51:$D$55,2,FALSE)","v":"Behaviour_1"},{"$f":"RANDBETWEEN(1,VLOOKUP(AT157,Code!$B$51:$D$55,3,FALSE))","v":1},null," d",null,null," ",{"$f":"HLOOKUP(Report!BA157,Homework!$I$2:$L$3,2,FALSE)","v":{"$error":"#N/A"}},{"$error":"#N/A"},{"$f":"IF(BA157=0,\"\",BC157+VLOOKUP(BA157,Code!$B$2:$C$6,2,FALSE))","v":{"$error":"#N/A"}},{"$f":"IF(AND(VLOOKUP(BD157,Homework!D:J,2,FALSE)=\"'s \",RIGHT(G157,1)=\"s\"),\"' \",IF(VLOOKUP(BD157,Homework!D:J,2,FALSE)=\"'s \",\"'s \",\" \"))","v":{"$error":"#N/A"}},{"$f":"IF(BA157=0,\"\",IF(I157=\"F\",\" \"&G157&BE157&VLOOKUP(BD157,Homework!D:J,3,FALSE),\" \"&G157&BE157&VLOOKUP(BD157,Homework!D:J,5,FALSE)))","v":{"$error":"#N/A"}},null,null,null,null,null,null,null,null," ",{"$f":"VLOOKUP(BO157,Code!$B$45:$D$48,2,FALSE)","v":{"$error":"#N/A"}},{"$f":"VLOOKUP(BO157,Code!$B$45:$D$48,3,FALSE)","v":{"$error":"#N/A"}},{"$error":"#N/A"},null,"pen","pencil","ruler",null,null,"",""," ",null,149,{"$f":"HLOOKUP(Report!CC157,Behaviour!$H$2:$K$3,2,FALSE)","v":{"$error":"#N/A"}},{"$error":"#N/A"},{"$f":"CE157+VLOOKUP(CC157,Code!$B$2:$C$6,2,FALSE)","v":{"$error":"#N/A"}},{"$f":"IF(CC157=0,\"\",IF(I157=\"F\",AC157&\" \"&VLOOKUP(CF157,Behaviour!D:I,2,FALSE)&\" \",AC157&\" \"&VLOOKUP(CF157,Behaviour!D:I,4,FALSE)&\" \"))","v":{"$error":"#N/A"}},null,null," ",null,{"$f":"IF(CJ157=0,\"\",VLOOKUP(CJ157,Code!$B$59:$D$61,2,FALSE))","v":{"$error":"#N/A"}},{"$f":"IF(CJ157=0,\"\",VLOOKUP(CJ157,Code!$B$59:$D$61,3,FALSE))","v":{"$error":"#N/A"}},{"$error":"#N/A"},{"$error":"#N/A"},{"$error":"#N/A"},{"$error":"#N/A"},"",null,null,"",null,null,"",{"$error":"#VALUE!"},null,null," ",{"$error":"#VALUE!"},{"$f":"VLOOKUP(Report!DC157,Code!$B$24:$C$32,2,FALSE)","v":{"$error":"#VALUE!"}},{"$f":"VLOOKUP(Report!DC157,Code!$B$24:$D$32,3,FALSE)","v":{"$error":"#VALUE!"}},{"$error":"#VALUE!"},{"$error":"#VALUE!"},{"$error":"#VALUE!"},null,null,null,null,null,null," ",{"$f":"VLOOKUP(Report!DO157,Code!$B$40:$D$42,2,FALSE)","v":{"$error":"#N/A"}},{"$f":"VLOOKUP(Report!DO157,Code!$B$40:$D$42,3,FALSE)","v":{"$error":"#N/A"}},{"$error":"#N/A"},null,{"$error":"#N/A"},"number","measures","standard form ","",null,null,null,null,"",""]
[null,null,null,null,null,null,null,null,null,null,null,null,null,null,null,null,null,null,null,null,"Type_2",null,{"$error":"#N/A"},null,{"$error":"#N/A"},{"$error":"#N/A"},null,"he","He","his","His",null,null," ",{"$f":"HLOOKUP(Report!AH158,Person!$H$2:$L$3,2,FALSE)","v":{"$error":"#N/A"}},{"$error":"#N/A"},{"$f":"IF(AH158=0,\"\",AJ158+VLOOKUP(AH158,Code!$B$2:$C$6,2,FALSE))","v":{"$error":"#N/A"}},{"$f":"IF(AH158=0,\"\",IF(I158=\"F\",G158&\" \"&VLOOKUP(AK158,Person!D:I,2,FALSE),G158&\" \"&VLOOKUP(AK158,Person!D:I,4,FALSE)))","v":{"$error":"#N/A"}},null,null,null,null,null,null,null,2,{"$f":"VLOOKUP(AT158,Code!$B$51:$D$55,2,FALSE)","v":"Behaviour_1"},{"$f":"RANDBETWEEN(1,VLOOKUP(AT158,Code!$B$51:$D$55,3,FALSE))","v":1},null," d",null,null," ",{"$f":"HLOOKUP(Report!BA158,Homework!$I$2:$L$3,2,FALSE)","v":{"$error":"#N/A"}},{"$error":"#N/A"},{"$f":"IF(BA158=0,\"\",BC158+VLOOKUP(BA158,Code!$B$2:$C$6,2,FALSE))","v":{"$error":"#N/A"}},{"$f":"IF(AND(VLOOKUP(BD158,Homework!D:J,2,FALSE)=\"'s \",RIGHT(G158,1)=\"s\"),\"' \",IF(VLOOKUP(BD158,Homework!D:J,2,FALSE)=\"'s \",\"'s \",\" \"))","v":{"$error":"#N/A"}},{"$f":"IF(BA158=0,\"\",IF(I158=\"F\",\" \"&G158&BE158&VLOOKUP(BD158,Homework!D:J,3,FALSE),\" \"&G158&BE158&VLOOKUP(BD158,Homework!D:J,5,FALSE)))","v":{"$error":"#N/A"}},null,null,null,null,null,null,null,null," ",{"$f":"VLOOKUP(BO158,Code!$B$45:$D$48,2,FALSE)","v":{"$error":"#N/A"}},{"$f":"VLOOKUP(BO158,Code!$B$45:$D$48,3,FALSE)","v":{"$error":"#N/A"}},{"$error":"#N/A"},null,"pen","pencil","ruler",null,null,"",""," ",null,150,{"$f":"HLOOKUP(Report!CC158,Behaviour!$H$2:$K$3,2,FALSE)","v":{"$error":"#N/A"}},{"$error":"#N/A"},{"$f":"CE158+VLOOKUP(CC158,Code!$B$2:$C$6,2,FALSE)","v":{"$error":"#N/A"}},{"$f":"IF(CC158=0,\"\",IF(I158=\"F\",AC158&\" \"&VLOOKUP(CF158,Behaviour!D:I,2,FALSE)&\" \",AC158&\" \"&VLOOKUP(CF158,Behaviour!D:I,4,FALSE)&\" \"))","v":{"$error":"#N/A"}},null,null," ",null,{"$f":"IF(CJ158=0,\"\",VLOOKUP(CJ158,Code!$B$59:$D$61,2,FALSE))","v":{"$error":"#N/A"}},{"$f":"IF(CJ158=0,\"\",VLOOKUP(CJ158,Code!$B$59:$D$61,3,FALSE))","v":{"$error":"#N/A"}},{"$error":"#N/A"},{"$error":"#N/A"},{"$error":"#N/A"},{"$error":"#N/A"},"",null,null,"",null,null,"",{"$error":"#VALUE!"},null,null," ",{"$error":"#VALUE!"},{"$f":"VLOOKUP(Report!DC158,Code!$B$24:$C$32,2,FALSE)","v":{"$error":"#VALUE!"}},{"$f":"VLOOKUP(Report!DC158,Code!$B$24:$D$32,3,FALSE)","v":{"$error":"#VALUE!"}},{"$error":"#VALUE!"},{"$error":"#VALUE!"},{"$error":"#VALUE!"},null,null,null,null,null,null," ",{"$f":"VLOOKUP(Report!DO158,Code!$B$40:$D$42,2,FALSE)","v":{"$error":"#N/A"}},{"$f":"VLOOKUP(Report!DO158,Code!$B$40:$D$42,3,FALSE)","v":{"$error":"#N/A"}},{"$error":"#N/A"},null,{"$error":"#N/A"},"number","measures","standard form ","",null,null,null,null,"",""]
[null,null,null,null,null,null,null,null,null,null,null,null,null,null,null,null,null,null,null,null,"Type_2",null,{"$error":"#N/A"},null,{"$error":"#N/A"},{"$error":"#N/A"},null,"he","He","his","His",null,null," ",{"$f":"HLOOKUP(Report!AH159,Person!$H$2:$L$3,2,FALSE)","v":{"$error":"#N/A"}},{"$error":"#N/A"},{"$f":"IF(AH159=0,\"\",AJ159+VLOOKUP(AH159,Code!$B$2:$C$6,2,FALSE))","v":{"$error":"#N/A"}},{"$f":"IF(AH159=0,\"\",IF(I159=\"F\",G159&\" \"&VLOOKUP(AK159,Person!D:I,2,FALSE),G159&\" \"&VLOOKUP(AK159,Person!D:I,4,FALSE)))","v":{"$error":"#N/A"}},null,null,null,null,null,null,null,2,{"$f":"VLOOKUP(AT159,Code!$B$51:$D$55,2,FALSE)","v":"Behaviour_1"},{"$f":"RANDBETWEEN(1,VLOOKUP(AT159,Code!$B$51:$D$55,3,FALSE))","v":2},null," d",null,null," ",{"$f":"HLOOKUP(Report!BA159,Homework!$I$2:$L$3,2,FALSE)","v":{"$error":"#N/A"}},{"$error":"#N/A"},{"$f":"IF(BA159=0,\"\",BC159+VLOOKUP(BA159,Code!$B$2:$C$6,2,FALSE))","v":{"$error":"#N/A"}},{"$f":"IF(AND(VLOOKUP(BD159,Homework!D:J,2,FALSE)=\"'s \",RIGHT(G159,1)=\"s\"),\"' \",IF(VLOOKUP(BD159,Homework!D:J,2,FALSE)=\"'s \",\"'s \",\" \"))","v":{"$error":"#N/A"}},{"$f":"IF(BA159=0,\"\",IF(I159=\"F\",\" \"&G159&BE159&VLOOKUP(BD159,Homework!D:J,3,FALSE),\" \"&G159&BE159&VLOOKUP(BD159,Homework!D:J,5,FALSE)))","v":{"$error":"#N/A"}},null,null,null,null,null,null,null,null," ",{"$f":"VLOOKUP(BO159,Code!$B$45:$D$48,2,FALSE)","v":{"$error":"#N/A"}},{"$f":"VLOOKUP(BO159,Code!$B$45:$D$48,3,FALSE)","v":{"$error":"#N/A"}},{"$error":"#N/A"},null,"pen","pencil","ruler",null,null,"",""," ",null,151,{"$f":"HLOOKUP(Report!CC159,Behaviour!$H$2:$K$3,2,FALSE)","v":{"$error":"#N/A"}},{"$error":"#N/A"},{"$f":"CE159+VLOOKUP(CC159,Code!$B$2:$C$6,2,FALSE)","v":{"$error":"#N/A"}},{"$f":"IF(CC159=0,\"\",IF(I159=\"F\",AC159&\" \"&VLOOKUP(CF159,Behaviour!D:I,2,FALSE)&\" \",AC159&\" \"&VLOOKUP(CF159,Behaviour!D:I,4,FALSE)&\" \"))","v":{"$error":"#N/A"}},null,null," ",null,{"$f":"IF(CJ159=0,\"\",VLOOKUP(CJ159,Code!$B$59:$D$61,2,FALSE))","v":{"$error":"#N/A"}},{"$f":"IF(CJ159=0,\"\",VLOOKUP(CJ159,Code!$B$59:$D$61,3,FALSE))","v":{"$error":"#N/A"}},{"$error":"#N/A"},{"$error":"#N/A"},{"$error":"#N/A"},{"$error":"#N/A"},"",null,null,"",null,null,"",{"$error":"#VALUE!"},null,null," ",{"$error":"#VALUE!"},{"$f":"VLOOKUP(Report!DC159,Code!$B$24:$C$32,2,FALSE)","v":{"$error":"#VALUE!"}},{"$f":"VLOOKUP(Report!DC159,Code!$B$24:$D$32,3,FALSE)","v":{"$error":"#VALUE!"}},{"$error":"#VALUE!"},{"$error":"#VALUE!"},{"$error":"#VALUE!"},null,null,null,null,null,null," ",{"$f":"VLOOKUP(Report!DO159,Code!$B$40:$D$42,2,FALSE)","v":{"$error":"#N/A"}},{"$f":"VLOOKUP(Report!DO159,Code!$B$40:$D$42,3,FALSE)","v":{"$error":"#N/A"}},{"$error":"#N/A"},null,{"$error":"#N/A"},"number","measures","standard form ","",null,null,null,null,"",""]
[null,null,null,null,null,null,null,null,null,null,null,null,null,null,null,null,null,null,null,null,"Type_2",null,{"$error":"#N/A"},null,{"$error":"#N/A"},{"$error":"#N/A"},null,"he","He","his","His",null,null," ",{"$f":"HLOOKUP(Report!AH160,Person!$H$2:$L$3,2,FALSE)","v":{"$error":"#N/A"}},{"$error":"#N/A"},{"$f":"IF(AH160=0,\"\",AJ160+VLOOKUP(AH160,Code!$B$2:$C$6,2,FALSE))","v":{"$error":"#N/A"}},{"$f":"IF(AH160=0,\"\",IF(I160=\"F\",G160&\" \"&VLOOKUP(AK160,Person!D:I,2,FALSE),G160&\" \"&VLOOKUP(AK160,Person!D:I,4,FALSE)))","v":{"$error":"#N/A"}},null,null,null,null,null,null,null,2,{"$f":"VLOOKUP(AT160,Code!$B$51:$D$55,2,FALSE)","v":"Behaviour_1"},{"$f":"RANDBETWEEN(1,VLOOKUP(AT160,Code!$B$51:$D$55,3,FALSE))","v":1},null," d",null,null," ",{"$f":"HLOOKUP(Report!BA160,Homework!$I$2:$L$3,2,FALSE)","v":{"$error":"#N/A"}},{"$error":"#N/A"},{"$f":"IF(BA160=0,\"\",BC160+VLOOKUP(BA160,Code!$B$2:$C$6,2,FALSE))","v":{"$error":"#N/A"}},{"$f":"IF(AND(VLOOKUP(BD160,Homework!D:J,2,FALSE)=\"'s \",RIGHT(G160,1)=\"s\"),\"' \",IF(VLOOKUP(BD160,Homework!D:J,2,FALSE)=\"'s \",\"'s \",\" \"))","v":{"$error":"#N/A"}},{"$f":"IF(BA160=0,\"\",IF(I160=\"F\",\" \"&G160&BE160&VLOOKUP(BD160,Homework!D:J,3,FALSE),\" \"&G160&BE160&VLOOKUP(BD160,Homework!D:J,5,FALSE)))","v":{"$error":"#N/A"}},null,null,null,null,null,null,null,null," ",{"$f":"VLOOKUP(BO160,Code!$B$45:$D$48,2,FALSE)","v":{"$error":"#N/A"}},{"$f":"VLOOKUP(BO160,Code!$B$45:$D$48,3,FALSE)","v":{"$error":"#N/A"}},{"$error":"#N/A"},null,"pen","pencil","ruler",null,null,"",""," ",null,152,{"$f":"HLOOKUP(Report!CC160,Behaviour!$H$2:$K$3,2,FALSE)","v":{"$error":"#N/A"}},{"$error":"#N/A"},{"$f":"CE160+VLOOKUP(CC160,Code!$B$2:$C$6,2,FALSE)","v":{"$error":"#N/A"}},{"$f":"IF(CC160=0,\"\",IF(I160=\"F\",AC160&\" \"&VLOOKUP(CF160,Behaviour!D:I,2,FALSE)&\" \",AC160&\" \"&VLOOKUP(CF160,Behaviour!D:I,4,FALSE)&\" \"))","v":{"$error":"#N/A"}},null,null," ",null,{"$f":"IF(CJ160=0,\"\",VLOOKUP(CJ160,Code!$B$59:$D$61,2,FALSE))","v":{"$error":"#N/A"}},{"$f":"IF(CJ160=0,\"\",VLOOKUP(CJ160,Code!$B$59:$D$61,3,FALSE))","v":{"$error":"#N/A"}},{"$error":"#N/A"},{"$error":"#N/A"},{"$error":"#N/A"},{"$error":"#N/A"},"",null,null,"",null,null,"",{"$error":"#VALUE!"},null,null," ",{"$error":"#VALUE!"},{"$f":"VLOOKUP(Report!DC160,Code!$B$24:$C$32,2,FALSE)","v":{"$error":"#VALUE!"}},{"$f":"VLOOKUP(Report!DC160,Code!$B$24:$D$32,3,FALSE)","v":{"$error":"#VALUE!"}},{"$error":"#VALUE!"},{"$error":"#VALUE!"},{"$error":"#VALUE!"},null,null,null,null,null,null," ",{"$f":"VLOOKUP(Report!DO160,Code!$B$40:$D$42,2,FALSE)","v":{"$error":"#N/A"}},{"$f":"VLOOKUP(Report!DO160,Code!$B$40:$D$42,3,FALSE)","v":{"$error":"#N/A"}},{"$error":"#N/A"},null,{"$error":"#N/A"},"number","measures","standard form ","",null,null,null,null,"",""]
[null,null,null,null,null,null,null,null,null,null,null,null,null,null,null,null,null,null,null,null,"Type_2",null,{"$error":"#N/A"},null,{"$error":"#N/A"},{"$error":"#N/A"},null,"he","He","his","His",null,null," ",{"$f":"HLOOKUP(Report!AH161,Person!$H$2:$L$3,2,FALSE)","v":{"$error":"#N/A"}},{"$error":"#N/A"},{"$f":"IF(AH161=0,\"\",AJ161+VLOOKUP(AH161,Code!$B$2:$C$6,2,FALSE))","v":{"$error":"#N/A"}},{"$f":"IF(AH161=0,\"\",IF(I161=\"F\",G161&\" \"&VLOOKUP(AK161,Person!D:I,2,FALSE),G161&\" \"&VLOOKUP(AK161,Person!D:I,4,FALSE)))","v":{"$error":"#N/A"}},null,null,null,null,null,null,null,2,{"$f":"VLOOKUP(AT161,Code!$B$51:$D$55,2,FALSE)","v":"Behaviour_1"},{"$f":"RANDBETWEEN(1,VLOOKUP(AT161,Code!$B$51:$D$55,3,FALSE))","v":1},null," d",null,null," ",{"$f":"HLOOKUP(Report!BA161,Homework!$I$2:$L$3,2,FALSE)","v":{"$error":"#N/A"}},{"$error":"#N/A"},{"$f":"IF(BA161=0,\"\",BC161+VLOOKUP(BA161,Code!$B$2:$C$6,2,FALSE))","v":{"$error":"#N/A"}},{"$f":"IF(AND(VLOOKUP(BD161,Homework!D:J,2,FALSE)=\"'s \",RIGHT(G161,1)=\"s\"),\"' \",IF(VLOOKUP(BD161,Homework!D:J,2,FALSE)=\"'s \",\"'s \",\" \"))","v":{"$error":"#N/A"}},{"$f":"IF(BA161=0,\"\",IF(I161=\"F\",\" \"&G161&BE161&VLOOKUP(BD161,Homework!D:J,3,FALSE),\" \"&G161&BE161&VLOOKUP(BD161,Homework!D:J,5,FALSE)))","v":{"$error":"#N/A"}},null,null,null,null,null,null,null,null," ",{"$f":"VLOOKUP(BO161,Code!$B$45:$D$48,2,FALSE)","v":{"$error":"#N/A"}},{"$f":"VLOOKUP(BO161,Code!$B$45:$D$48,3,FALSE)","v":{"$error":"#N/A"}},{"$error":"#N/A"},null,"pen","pencil","ruler",null,null,"",""," ",null,153,{"$f":"HLOOKUP(Report!CC161,Behaviour!$H$2:$K$3,2,FALSE)","v":{"$error":"#N/A"}},{"$error":"#N/A"},{"$f":"CE161+VLOOKUP(CC161,Code!$B$2:$C$6,2,FALSE)","v":{"$error":"#N/A"}},{"$f":"IF(CC161=0,\"\",IF(I161=\"F\",AC161&\" \"&VLOOKUP(CF161,Behaviour!D:I,2,FALSE)&\" \",AC161&\" \"&VLOOKUP(CF161,Behaviour!D:I,4,FALSE)&\" \"))","v":{"$error":"#N/A"}},null,null," ",null,{"$f":"IF(CJ161=0,\"\",VLOOKUP(CJ161,Code!$B$59:$D$61,2,FALSE))","v":{"$error":"#N/A"}},{"$f":"IF(CJ161=0,\"\",VLOOKUP(CJ161,Code!$B$59:$D$61,3,FALSE))","v":{"$error":"#N/A"}},{"$error":"#N/A"},{"$error":"#N/A"},{"$error":"#N/A"},{"$error":"#N/A"},"",null,null,"",null,null,"",{"$error":"#VALUE!"},null,null," ",{"$error":"#VALUE!"},{"$f":"VLOOKUP(Report!DC161,Code!$B$24:$C$32,2,FALSE)","v":{"$error":"#VALUE!"}},{"$f":"VLOOKUP(Report!DC161,Code!$B$24:$D$32,3,FALSE)","v":{"$error":"#VALUE!"}},{"$error":"#VALUE!"},{"$error":"#VALUE!"},{"$error":"#VALUE!"},null,null,null,null,null,null," ",{"$f":"VLOOKUP(Report!DO161,Code!$B$40:$D$42,2,FALSE)","v":{"$error":"#N/A"}},{"$f":"VLOOKUP(Report!DO161,Code!$B$40:$D$42,3,FALSE)","v":{"$error":"#N/A"}},{"$error":"#N/A"},null,{"$error":"#N/A"},"number","measures","standard form ","",null,null,null,null,"",""]
[null,null,null,null,null,null,null,null,null,null,null,null,null,null,null,null,null,null,null,null,"Type_2",null,{"$error":"#N/A"},null,{"$error":"#N/A"},{"$error":"#N/A"},null,"he","He","his","His",null,null," ",{"$f":"HLOOKUP(Report!AH162,Person!$H$2:$L$3,2,FALSE)","v":{"$error":"#N/A"}},{"$error":"#N/A"},{"$f":"IF(AH162=0,\"\",AJ162+VLOOKUP(AH162,Code!$B$2:$C$6,2,FALSE))","v":{"$error":"#N/A"}},{"$f":"IF(AH162=0,\"\",IF(I162=\"F\",G162&\" \"&VLOOKUP(AK162,Person!D:I,2,FALSE),G162&\" \"&VLOOKUP(AK162,Person!D:I,4,FALSE)))","v":{"$error":"#N/A"}},null,null,null,null,null,null,null,2,{"$f":"VLOOKUP(AT162,Code!$B$51:$D$55,2,FALSE)","v":"Behaviour_1"},{"$f":"RANDBETWEEN(1,VLOOKUP(AT162,Code!$B$51:$D$55,3,FALSE))","v":2},null," d",null,null," ",{"$f":"HLOOKUP(Report!BA162,Homework!$I$2:$L$3,2,FALSE)","v":{"$error":"#N/A"}},{"$error":"#N/A"},{"$f":"IF(BA162=0,\"\",BC162+VLOOKUP(BA162,Code!$B$2:$C$6,2,FALSE))","v":{"$error":"#N/A"}},{"$f":"IF(AND(VLOOKUP(BD162,Homework!D:J,2,FALSE)=\"'s \",RIGHT(G162,1)=\"s\"),\"' \",IF(VLOOKUP(BD162,Homework!D:J,2,FALSE)=\"'s \",\"'s \",\" \"))","v":{"$error":"#N/A"}},{"$f":"IF(BA162=0,\"\",IF(I162=\"F\",\" \"&G162&BE162&VLOOKUP(BD162,Homework!D:J,3,FALSE),\" \"&G162&BE162&VLOOKUP(BD162,Homework!D:J,5,FALSE)))","v":{"$error":"#N/A"}},null,null,null,null,null,null,null,null," ",{"$f":"VLOOKUP(BO162,Code!$B$45:$D$48,2,FALSE)","v":{"$error":"#N/A"}},{"$f":"VLOOKUP(BO162,Code!$B$45:$D$48,3,FALSE)","v":{"$error":"#N/A"}},{"$error":"#N/A"},null,"pen","pencil","ruler",null,null,"",""," ",null,154,{"$f":"HLOOKUP(Report!CC162,Behaviour!$H$2:$K$3,2,FALSE)","v":{"$error":"#N/A"}},{"$error":"#N/A"},{"$f":"CE162+VLOOKUP(CC162,Code!$B$2:$C$6,2,FALSE)","v":{"$error":"#N/A"}},{"$f":"IF(CC162=0,\"\",IF(I162=\"F\",AC162&\" \"&VLOOKUP(CF162,Behaviour!D:I,2,FALSE)&\" \",AC162&\" \"&VLOOKUP(CF162,Behaviour!D:I,4,FALSE)&\" \"))","v":{"$error":"#N/A"}},null,null," ",null,{"$f":"IF(CJ162=0,\"\",VLOOKUP(CJ162,Code!$B$59:$D$61,2,FALSE))","v":{"$error":"#N/A"}},{"$f":"IF(CJ162=0,\"\",VLOOKUP(CJ162,Code!$B$59:$D$61,3,FALSE))","v":{"$error":"#N/A"}},{"$error":"#N/A"},{"$error":"#N/A"},{"$error":"#N/A"},{"$error":"#N/A"},"",null,null,"",null,null,"",{"$error":"#VALUE!"},null,null," ",{"$error":"#VALUE!"},{"$f":"VLOOKUP(Report!DC162,Code!$B$24:$C$32,2,FALSE)","v":{"$error":"#VALUE!"}},{"$f":"VLOOKUP(Report!DC162,Code!$B$24:$D$32,3,FALSE)","v":{"$error":"#VALUE!"}},{"$error":"#VALUE!"},{"$error":"#VALUE!"},{"$error":"#VALUE!"},null,null,null,null,null,null," ",{"$f":"VLOOKUP(Report!DO162,Code!$B$40:$D$42,2,FALSE)","v":{"$error":"#N/A"}},{"$f":"VLOOKUP(Report!DO162,Code!$B$40:$D$42,3,FALSE)","v":{"$error":"#N/A"}},{"$error":"#N/A"},null,{"$error":"#N/A"},"number","measures","standard form ","",null,null,null,null,"",""]
[null,null,null,null,null,null,null,null,null,null,null,null,null,null,null,null,null,null,null,null,"Type_2",null,{"$error":"#N/A"},null,{"$error":"#N/A"},{"$error":"#N/A"},null,"he","He","his","His",null,null," ",{"$f":"HLOOKUP(Report!AH163,Person!$H$2:$L$3,2,FALSE)","v":{"$error":"#N/A"}},{"$error":"#N/A"},{"$f":"IF(AH163=0,\"\",AJ163+VLOOKUP(AH163,Code!$B$2:$C$6,2,FALSE))","v":{"$error":"#N/A"}},{"$f":"IF(AH163=0,\"\",IF(I163=\"F\",G163&\" \"&VLOOKUP(AK163,Person!D:I,2,FALSE),G163&\" \"&VLOOKUP(AK163,Person!D:I,4,FALSE)))","v":{"$error":"#N/A"}},null,null,null,null,null,null,null,2,{"$f":"VLOOKUP(AT163,Code!$B$51:$D$55,2,FALSE)","v":"Behaviour_1"},{"$f":"RANDBETWEEN(1,VLOOKUP(AT163,Code!$B$51:$D$55,3,FALSE))","v":2},null," d",null,null," ",{"$f":"HLOOKUP(Report!BA163,Homework!$I$2:$L$3,2,FALSE)","v":{"$error":"#N/A"}},{"$error":"#N/A"},{"$f":"IF(BA163=0,\"\",BC163+VLOOKUP(BA163,Code!$B$2:$C$6,2,FALSE))","v":{"$error":"#N/A"}},{"$f":"IF(AND(VLOOKUP(BD163,Homework!D:J,2,FALSE)=\"'s \",RIGHT(G163,1)=\"s\"),\"' \",IF(VLOOKUP(BD163,Homework!D:J,2,FALSE)=\"'s \",\"'s \",\" \"))","v":{"$error":"#N/A"}},{"$f":"IF(BA163=0,\"\",IF(I163=\"F\",\" \"&G163&BE163&VLOOKUP(BD163,Homework!D:J,3,FALSE),\" \"&G163&BE163&VLOOKUP(BD163,Homework!D:J,5,FALSE)))","v":{"$error":"#N/A"}},null,null,null,null,null,null,null,null," ",{"$f":"VLOOKUP(BO163,Code!$B$45:$D$48,2,FALSE)","v":{"$error":"#N/A"}},{"$f":"VLOOKUP(BO163,Code!$B$45:$D$48,3,FALSE)","v":{"$error":"#N/A"}},{"$error":"#N/A"},null,"pen","pencil","ruler",null,null,"",""," ",null,155,{"$f":"HLOOKUP(Report!CC163,Behaviour!$H$2:$K$3,2,FALSE)","v":{"$error":"#N/A"}},{"$error":"#N/A"},{"$f":"CE163+VLOOKUP(CC163,Code!$B$2:$C$6,2,FALSE)","v":{"$error":"#N/A"}},{"$f":"IF(CC163=0,\"\",IF(I163=\"F\",AC163&\" \"&VLOOKUP(CF163,Behaviour!D:I,2,FALSE)&\" \",AC163&\" \"&VLOOKUP(CF163,Behaviour!D:I,4,FALSE)&\" \"))","v":{"$error":"#N/A"}},null,null," ",null,{"$f":"IF(CJ163=0,\"\",VLOOKUP(CJ163,Code!$B$59:$D$61,2,FALSE))","v":{"$error":"#N/A"}},{"$f":"IF(CJ163=0,\"\",VLOOKUP(CJ163,Code!$B$59:$D$61,3,FALSE))","v":{"$error":"#N/A"}},{"$error":"#N/A"},{"$error":"#N/A"},{"$error":"#N/A"},{"$error":"#N/A"},"",null,null,"",null,null,"",{"$error":"#VALUE!"},null,null," ",{"$error":"#VALUE!"},{"$f":"VLOOKUP(Report!DC163,Code!$B$24:$C$32,2,FALSE)","v":{"$error":"#VALUE!"}},{"$f":"VLOOKUP(Report!DC163,Code!$B$24:$D$32,3,FALSE)","v":{"$error":"#VALUE!"}},{"$error":"#VALUE!"},{"$error":"#VALUE!"},{"$error":"#VALUE!"},null,null,null,null,null,null," ",{"$f":"VLOOKUP(Report!DO163,Code!$B$40:$D$42,2,FALSE)","v":{"$error":"#N/A"}},{"$f":"VLOOKUP(Report!DO163,Code!$B$40:$D$42,3,FALSE)","v":{"$error":"#N/A"}},{"$error":"#N/A"},null,{"$error":"#N/A"},"number","measures","standard form ","",null,null,null,null,"",""]
[null,null,null,null,null,null,null,null,null,null,null,null,null,null,null,null,null,null,null,null,"Type_2",null,{"$error":"#N/A"},null,{"$error":"#N/A"},{"$error":"#N/A"},null,"he","He","his","His",null,null," ",{"$f":"HLOOKUP(Report!AH164,Person!$H$2:$L$3,2,FALSE)","v":{"$error":"#N/A"}},{"$error":"#N/A"},{"$f":"IF(AH164=0,\"\",AJ164+VLOOKUP(AH164,Code!$B$2:$C$6,2,FALSE))","v":{"$error":"#N/A"}},{"$f":"IF(AH164=0,\"\",IF(I164=\"F\",G164&\" \"&VLOOKUP(AK164,Person!D:I,2,FALSE),G164&\" \"&VLOOKUP(AK164,Person!D:I,4,FALSE)))","v":{"$error":"#N/A"}},null,null,null,null,null,null,null,2,{"$f":"VLOOKUP(AT164,Code!$B$51:$D$55,2,FALSE)","v":"Behaviour_1"},{"$f":"RANDBETWEEN(1,VLOOKUP(AT164,Code!$B$51:$D$55,3,FALSE))","v":1},null," d",null,null," ",{"$f":"HLOOKUP(Report!BA164,Homework!$I$2:$L$3,2,FALSE)","v":{"$error":"#N/A"}},{"$error":"#N/A"},{"$f":"IF(BA164=0,\"\",BC164+VLOOKUP(BA164,Code!$B$2:$C$6,2,FALSE))","v":{"$error":"#N/A"}},{"$f":"IF(AND(VLOOKUP(BD164,Homework!D:J,2,FALSE)=\"'s \",RIGHT(G164,1)=\"s\"),\"' \",IF(VLOOKUP(BD164,Homework!D:J,2,FALSE)=\"'s \",\"'s \",\" \"))","v":{"$error":"#N/A"}},{"$f":"IF(BA164=0,\"\",IF(I164=\"F\",\" \"&G164&BE164&VLOOKUP(BD164,Homework!D:J,3,FALSE),\" \"&G164&BE164&VLOOKUP(BD164,Homework!D:J,5,FALSE)))","v":{"$error":"#N/A"}},null,null,null,null,null,null,null,null," ",{"$f":"VLOOKUP(BO164,Code!$B$45:$D$48,2,FALSE)","v":{"$error":"#N/A"}},{"$f":"VLOOKUP(BO164,Code!$B$45:$D$48,3,FALSE)","v":{"$error":"#N/A"}},{"$error":"#N/A"},null,"pen","pencil","ruler",null,null,"",""," ",null,156,{"$f":"HLOOKUP(Report!CC164,Behaviour!$H$2:$K$3,2,FALSE)","v":{"$error":"#N/A"}},{"$error":"#N/A"},{"$f":"CE164+VLOOKUP(CC164,Code!$B$2:$C$6,2,FALSE)","v":{"$error":"#N/A"}},{"$f":"IF(CC164=0,\"\",IF(I164=\"F\",AC164&\" \"&VLOOKUP(CF164,Behaviour!D:I,2,FALSE)&\" \",AC164&\" \"&VLOOKUP(CF164,Behaviour!D:I,4,FALSE)&\" \"))","v":{"$error":"#N/A"}},null,null," ",null,{"$f":"IF(CJ164=0,\"\",VLOOKUP(CJ164,Code!$B$59:$D$61,2,FALSE))","v":{"$error":"#N/A"}},{"$f":"IF(CJ164=0,\"\",VLOOKUP(CJ164,Code!$B$59:$D$61,3,FALSE))","v":{"$error":"#N/A"}},{"$error":"#N/A"},{"$error":"#N/A"},{"$error":"#N/A"},{"$error":"#N/A"},"",null,null,"",null,null,"",{"$error":"#VALUE!"},null,null," ",{"$error":"#VALUE!"},{"$f":"VLOOKUP(Report!DC164,Code!$B$24:$C$32,2,FALSE)","v":{"$error":"#VALUE!"}},{"$f":"VLOOKUP(Report!DC164,Code!$B$24:$D$32,3,FALSE)","v":{"$error":"#VALUE!"}},{"$error":"#VALUE!"},{"$error":"#VALUE!"},{"$error":"#VALUE!"},null,null,null,null,null,null," ",{"$f":"VLOOKUP(Report!DO164,Code!$B$40:$D$42,2,FALSE)","v":{"$error":"#N/A"}},{"$f":"VLOOKUP(Report!DO164,Code!$B$40:$D$42,3,FALSE)","v":{"$error":"#N/A"}},{"$error":"#N/A"},null,{"$error":"#N/A"},"number","measures","standard form ","",null,null,null,null,"",""]
[null,null,null,null,null,null,null,null,null,null,null,null,null,null,null,null,null,null,null,null,"Type_2",null,{"$error":"#N/A"},null,{"$error":"#N/A"},{"$error":"#N/A"},null,"he","He","his","His",null,null," ",{"$f":"HLOOKUP(Report!AH165,Person!$H$2:$L$3,2,FALSE)","v":{"$error":"#N/A"}},{"$error":"#N/A"},{"$f":"IF(AH165=0,\"\",AJ165+VLOOKUP(AH165,Code!$B$2:$C$6,2,FALSE))","v":{"$error":"#N/A"}},{"$f":"IF(AH165=0,\"\",IF(I165=\"F\",G165&\" \"&VLOOKUP(AK165,Person!D:I,2,FALSE),G165&\" \"&VLOOKUP(AK165,Person!D:I,4,FALSE)))","v":{"$error":"#N/A"}},null,null,null,null,null,null,null,2,{"$f":"VLOOKUP(AT165,Code!$B$51:$D$55,2,FALSE)","v":"Behaviour_1"},{"$f":"RANDBETWEEN(1,VLOOKUP(AT165,Code!$B$51:$D$55,3,FALSE))","v":1},null," d",null,null," ",{"$f":"HLOOKUP(Report!BA165,Homework!$I$2:$L$3,2,FALSE)","v":{"$error":"#N/A"}},{"$error":"#N/A"},{"$f":"IF(BA165=0,\"\",BC165+VLOOKUP(BA165,Code!$B$2:$C$6,2,FALSE))","v":{"$error":"#N/A"}},{"$f":"IF(AND(VLOOKUP(BD165,Homework!D:J,2,FALSE)=\"'s \",RIGHT(G165,1)=\"s\"),\"' \",IF(VLOOKUP(BD165,Homework!D:J,2,FALSE)=\"'s \",\"'s \",\" \"))","v":{"$error":"#N/A"}},{"$f":"IF(BA165=0,\"\",IF(I165=\"F\",\" \"&G165&BE165&VLOOKUP(BD165,Homework!D:J,3,FALSE),\" \"&G165&BE165&VLOOKUP(BD165,Homework!D:J,5,FALSE)))","v":{"$error":"#N/A"}},null,null,null,null,null,null,null,null," ",{"$f":"VLOOKUP(BO165,Code!$B$45:$D$48,2,FALSE)","v":{"$error":"#N/A"}},{"$f":"VLOOKUP(BO165,Code!$B$45:$D$48,3,FALSE)","v":{"$error":"#N/A"}},{"$error":"#N/A"},null,"pen","pencil","ruler",null,null,"",""," ",null,157,{"$f":"HLOOKUP(Report!CC165,Behaviour!$H$2:$K$3,2,FALSE)","v":{"$error":"#N/A"}},{"$error":"#N/A"},{"$f":"CE165+VLOOKUP(CC165,Code!$B$2:$C$6,2,FALSE)","v":{"$error":"#N/A"}},{"$f":"IF(CC165=0,\"\",IF(I165=\"F\",AC165&\" \"&VLOOKUP(CF165,Behaviour!D:I,2,FALSE)&\" \",AC165&\" \"&VLOOKUP(CF165,Behaviour!D:I,4,FALSE)&\" \"))","v":{"$error":"#N/A"}},null,null," ",null,{"$f":"IF(CJ165=0,\"\",VLOOKUP(CJ165,Code!$B$59:$D$61,2,FALSE))","v":{"$error":"#N/A"}},{"$f":"IF(CJ165=0,\"\",VLOOKUP(CJ165,Code!$B$59:$D$61,3,FALSE))","v":{"$error":"#N/A"}},{"$error":"#N/A"},{"$error":"#N/A"},{"$error":"#N/A"},{"$error":"#N/A"},"",null,null,"",null,null,"",{"$error":"#VALUE!"},null,null," ",{"$error":"#VALUE!"},{"$f":"VLOOKUP(Report!DC165,Code!$B$24:$C$32,2,FALSE)","v":{"$error":"#VALUE!"}},{"$f":"VLOOKUP(Report!DC165,Code!$B$24:$D$32,3,FALSE)","v":{"$error":"#VALUE!"}},{"$error":"#VALUE!"},{"$error":"#VALUE!"},{"$error":"#VALUE!"},null,null,null,null,null,null," ",{"$f":"VLOOKUP(Report!DO165,Code!$B$40:$D$42,2,FALSE)","v":{"$error":"#N/A"}},{"$f":"VLOOKUP(Report!DO165,Code!$B$40:$D$42,3,FALSE)","v":{"$error":"#N/A"}},{"$error":"#N/A"},null,{"$error":"#N/A"},"number","measures","standard form ","",null,null,null,null,"",""]
[null,null,null,null,null,null,null,null,null,null,null,null,null,null,null,null,null,null,null,null,"Type_2",null,{"$error":"#N/A"},null,{"$error":"#N/A"},{"$error":"#N/A"},null,"he","He","his","His",null,null," ",{"$f":"HLOOKUP(Report!AH166,Person!$H$2:$L$3,2,FALSE)","v":{"$error":"#N/A"}},{"$error":"#N/A"},{"$f":"IF(AH166=0,\"\",AJ166+VLOOKUP(AH166,Code!$B$2:$C$6,2,FALSE))","v":{"$error":"#N/A"}},{"$f":"IF(AH166=0,\"\",IF(I166=\"F\",G166&\" \"&VLOOKUP(AK166,Person!D:I,2,FALSE),G166&\" \"&VLOOKUP(AK166,Person!D:I,4,FALSE)))","v":{"$error":"#N/A"}},null,null,null,null,null,null,null,2,{"$f":"VLOOKUP(AT166,Code!$B$51:$D$55,2,FALSE)","v":"Behaviour_1"},{"$f":"RANDBETWEEN(1,VLOOKUP(AT166,Code!$B$51:$D$55,3,FALSE))","v":1},null," d",null,null," ",{"$f":"HLOOKUP(Report!BA166,Homework!$I$2:$L$3,2,FALSE)","v":{"$error":"#N/A"}},{"$error":"#N/A"},{"$f":"IF(BA166=0,\"\",BC166+VLOOKUP(BA166,Code!$B$2:$C$6,2,FALSE))","v":{"$error":"#N/A"}},{"$f":"IF(AND(VLOOKUP(BD166,Homework!D:J,2,FALSE)=\"'s \",RIGHT(G166,1)=\"s\"),\"' \",IF(VLOOKUP(BD166,Homework!D:J,2,FALSE)=\"'s \",\"'s \",\" \"))","v":{"$error":"#N/A"}},{"$f":"IF(BA166=0,\"\",IF(I166=\"F\",\" \"&G166&BE166&VLOOKUP(BD166,Homework!D:J,3,FALSE),\" \"&G166&BE166&VLOOKUP(BD166,Homework!D:J,5,FALSE)))","v":{"$error":"#N/A"}},null,null,null,null,null,null,null,null," ",{"$f":"VLOOKUP(BO166,Code!$B$45:$D$48,2,FALSE)","v":{"$error":"#N/A"}},{"$f":"VLOOKUP(BO166,Code!$B$45:$D$48,3,FALSE)","v":{"$error":"#N/A"}},{"$error":"#N/A"},null,"pen","pencil","ruler",null,null,"",""," ",null,158,{"$f":"HLOOKUP(Report!CC166,Behaviour!$H$2:$K$3,2,FALSE)","v":{"$error":"#N/A"}},{"$error":"#N/A"},{"$f":"CE166+VLOOKUP(CC166,Code!$B$2:$C$6,2,FALSE)","v":{"$error":"#N/A"}},{"$f":"IF(CC166=0,\"\",IF(I166=\"F\",AC166&\" \"&VLOOKUP(CF166,Behaviour!D:I,2,FALSE)&\" \",AC166&\" \"&VLOOKUP(CF166,Behaviour!D:I,4,FALSE)&\" \"))","v":{"$error":"#N/A"}},null,null," ",null,{"$f":"IF(CJ166=0,\"\",VLOOKUP(CJ166,Code!$B$59:$D$61,2,FALSE))","v":{"$error":"#N/A"}},{"$f":"IF(CJ166=0,\"\",VLOOKUP(CJ166,Code!$B$59:$D$61,3,FALSE))","v":{"$error":"#N/A"}},{"$error":"#N/A"},{"$error":"#N/A"},{"$error":"#N/A"},{"$error":"#N/A"},"",null,null,"",null,null,"",{"$error":"#VALUE!"},null,null," ",{"$error":"#VALUE!"},{"$f":"VLOOKUP(Report!DC166,Code!$B$24:$C$32,2,FALSE)","v":{"$error":"#VALUE!"}},{"$f":"VLOOKUP(Report!DC166,Code!$B$24:$D$32,3,FALSE)","v":{"$error":"#VALUE!"}},{"$error":"#VALUE!"},{"$error":"#VALUE!"},{"$error":"#VALUE!"},null,null,null,null,null,null," ",{"$f":"VLOOKUP(Report!DO166,Code!$B$40:$D$42,2,FALSE)","v":{"$error":"#N/A"}},{"$f":"VLOOKUP(Report!DO166,Code!$B$40:$D$42,3,FALSE)","v":{"$error":"#N/A"}},{"$error":"#N/A"},null,{"$error":"#N/A"},"number","measures","standard form ","",null,null,null,null,"",""]
[null,null,null,null,null,null,null,null,null,null,null,null,null,null,null,null,null,null,null,null,"Type_2",null,{"$error":"#N/A"},null,{"$error":"#N/A"},{"$error":"#N/A"},null,"he","He","his","His",null,null," ",{"$f":"HLOOKUP(Report!AH167,Person!$H$2:$L$3,2,FALSE)","v":{"$error":"#N/A"}},{"$error":"#N/A"},{"$f":"IF(AH167=0,\"\",AJ167+VLOOKUP(AH167,Code!$B$2:$C$6,2,FALSE))","v":{"$error":"#N/A"}},{"$f":"IF(AH167=0,\"\",IF(I167=\"F\",G167&\" \"&VLOOKUP(AK167,Person!D:I,2,FALSE),G167&\" \"&VLOOKUP(AK167,Person!D:I,4,FALSE)))","v":{"$error":"#N/A"}},null,null,null,null,null,null,null,2,{"$f":"VLOOKUP(AT167,Code!$B$51:$D$55,2,FALSE)","v":"Behaviour_1"},{"$f":"RANDBETWEEN(1,VLOOKUP(AT167,Code!$B$51:$D$55,3,FALSE))","v":2},null," d",null,null," ",{"$f":"HLOOKUP(Report!BA167,Homework!$I$2:$L$3,2,FALSE)","v":{"$error":"#N/A"}},{"$error":"#N/A"},{"$f":"IF(BA167=0,\"\",BC167+VLOOKUP(BA167,Code!$B$2:$C$6,2,FALSE))","v":{"$error":"#N/A"}},{"$f":"IF(AND(VLOOKUP(BD167,Homework!D:J,2,FALSE)=\"'s \",RIGHT(G167,1)=\"s\"),\"' \",IF(VLOOKUP(BD167,Homework!D:J,2,FALSE)=\"'s \",\"'s \",\" \"))","v":{"$error":"#N/A"}},{"$f":"IF(BA167=0,\"\",IF(I167=\"F\",\" \"&G167&BE167&VLOOKUP(BD167,Homework!D:J,3,FALSE),\" \"&G167&BE167&VLOOKUP(BD167,Homework!D:J,5,FALSE)))","v":{"$error":"#N/A"}},null,null,null,null,null,null,null,null," ",{"$f":"VLOOKUP(BO167,Code!$B$45:$D$48,2,FALSE)","v":{"$error":"#N/A"}},{"$f":"VLOOKUP(BO167,Code!$B$45:$D$48,3,FALSE)","v":{"$error":"#N/A"}},{"$error":"#N/A"},null,"pen","pencil","ruler",null,null,"",""," ",null,159,{"$f":"HLOOKUP(Report!CC167,Behaviour!$H$2:$K$3,2,FALSE)","v":{"$error":"#N/A"}},{"$error":"#N/A"},{"$f":"CE167+VLOOKUP(CC167,Code!$B$2:$C$6,2,FALSE)","v":{"$error":"#N/A"}},{"$f":"IF(CC167=0,\"\",IF(I167=\"F\",AC167&\" \"&VLOOKUP(CF167,Behaviour!D:I,2,FALSE)&\" \",AC167&\" \"&VLOOKUP(CF167,Behaviour!D:I,4,FALSE)&\" \"))","v":{"$error":"#N/A"}},null,null," ",null,{"$f":"IF(CJ167=0,\"\",VLOOKUP(CJ167,Code!$B$59:$D$61,2,FALSE))","v":{"$error":"#N/A"}},{"$f":"IF(CJ167=0,\"\",VLOOKUP(CJ167,Code!$B$59:$D$61,3,FALSE))","v":{"$error":"#N/A"}},{"$error":"#N/A"},{"$error":"#N/A"},{"$error":"#N/A"},{"$error":"#N/A"},"",null,null,"",null,null,"",{"$error":"#VALUE!"},null,null," ",{"$error":"#VALUE!"},{"$f":"VLOOKUP(Report!DC167,Code!$B$24:$C$32,2,FALSE)","v":{"$error":"#VALUE!"}},{"$f":"VLOOKUP(Report!DC167,Code!$B$24:$D$32,3,FALSE)","v":{"$error":"#VALUE!"}},{"$error":"#VALUE!"},{"$error":"#VALUE!"},{"$error":"#VALUE!"},null,null,null,null,null,null," ",{"$f":"VLOOKUP(Report!DO167,Code!$B$40:$D$42,2,FALSE)","v":{"$error":"#N/A"}},{"$f":"VLOOKUP(Report!DO167,Code!$B$40:$D$42,3,FALSE)","v":{"$error":"#N/A"}},{"$error":"#N/A"},null,{"$error":"#N/A"},"number","measures","standard form ","",null,null,null,null,"",""]
[null,null,null,null,null,null,null,null,null,null,null,null,null,null,null,null,null,null,null,null,"Type_2",null,{"$error":"#N/A"},null,{"$error":"#N/A"},{"$error":"#N/A"},null,"he","He","his","His",null,null," ",{"$f":"HLOOKUP(Report!AH168,Person!$H$2:$L$3,2,FALSE)","v":{"$error":"#N/A"}},{"$error":"#N/A"},{"$f":"IF(AH168=0,\"\",AJ168+VLOOKUP(AH168,Code!$B$2:$C$6,2,FALSE))","v":{"$error":"#N/A"}},{"$f":"IF(AH168=0,\"\",IF(I168=\"F\",G168&\" \"&VLOOKUP(AK168,Person!D:I,2,FALSE),G168&\" \"&VLOOKUP(AK168,Person!D:I,4,FALSE)))","v":{"$error":"#N/A"}},null,null,null,null,null,null,null,2,{"$f":"VLOOKUP(AT168,Code!$B$51:$D$55,2,FALSE)","v":"Behaviour_1"},{"$f":"RANDBETWEEN(1,VLOOKUP(AT168,Code!$B$51:$D$55,3,FALSE))","v":1},null," d",null,null," ",{"$f":"HLOOKUP(Report!BA168,Homework!$I$2:$L$3,2,FALSE)","v":{"$error":"#N/A"}},{"$error":"#N/A"},{"$f":"IF(BA168=0,\"\",BC168+VLOOKUP(BA168,Code!$B$2:$C$6,2,FALSE))","v":{"$error":"#N/A"}},{"$f":"IF(AND(VLOOKUP(BD168,Homework!D:J,2,FALSE)=\"'s \",RIGHT(G168,1)=\"s\"),\"' \",IF(VLOOKUP(BD168,Homework!D:J,2,FALSE)=\"'s \",\"'s \",\" \"))","v":{"$error":"#N/A"}},{"$f":"IF(BA168=0,\"\",IF(I168=\"F\",\" \"&G168&BE168&VLOOKUP(BD168,Homework!D:J,3,FALSE),\" \"&G168&BE168&VLOOKUP(BD168,Homework!D:J,5,FALSE)))","v":{"$error":"#N/A"}},null,null,null,null,null,null,null,null," ",{"$f":"VLOOKUP(BO168,Code!$B$45:$D$48,2,FALSE)","v":{"$error":"#N/A"}},{"$f":"VLOOKUP(BO168,Code!$B$45:$D$48,3,FALSE)","v":{"$error":"#N/A"}},{"$error":"#N/A"},null,"pen","pencil","ruler",null,null,"",""," ",null,160,{"$f":"HLOOKUP(Report!CC168,Behaviour!$H$2:$K$3,2,FALSE)","v":{"$error":"#N/A"}},{"$error":"#N/A"},{"$f":"CE168+VLOOKUP(CC168,Code!$B$2:$C$6,2,FALSE)","v":{"$error":"#N/A"}},{"$f":"IF(CC168=0,\"\",IF(I168=\"F\",AC168&\" \"&VLOOKUP(CF168,Behaviour!D:I,2,FALSE)&\" \",AC168&\" \"&VLOOKUP(CF168,Behaviour!D:I,4,FALSE)&\" \"))","v":{"$error":"#N/A"}},null,null," ",null,{"$f":"IF(CJ168=0,\"\",VLOOKUP(CJ168,Code!$B$59:$D$61,2,FALSE))","v":{"$error":"#N/A"}},{"$f":"IF(CJ168=0,\"\",VLOOKUP(CJ168,Code!$B$59:$D$61,3,FALSE))","v":{"$error":"#N/A"}},{"$error":"#N/A"},{"$error":"#N/A"},{"$error":"#N/A"},{"$error":"#N/A"},"",null,null,"",null,null,"",{"$error":"#VALUE!"},null,null," ",{"$error":"#VALUE!"},{"$f":"VLOOKUP(Report!DC168,Code!$B$24:$C$32,2,FALSE)","v":{"$error":"#VALUE!"}},{"$f":"VLOOKUP(Report!DC168,Code!$B$24:$D$32,3,FALSE)","v":{"$error":"#VALUE!"}},{"$error":"#VALUE!"},{"$error":"#VALUE!"},{"$error":"#VALUE!"},null,null,null,null,null,null," ",{"$f":"VLOOKUP(Report!DO168,Code!$B$40:$D$42,2,FALSE)","v":{"$error":"#N/A"}},{"$f":"VLOOKUP(Report!DO168,Code!$B$40:$D$42,3,FALSE)","v":{"$error":"#N/A"}},{"$error":"#N/A"},null,{"$error":"#N/A"},"number","measures","standard form ","",null,null,null,null,"",""]
[null,null,null,null,null,null,null,null,null,null,null,null,null,null,null,null,null,null,null,null,"Type_2",null,{"$error":"#N/A"},null,{"$error":"#N/A"},{"$error":"#N/A"},null,{"$f":"IF(I169=\"F\",\"she\",\"he\")","v":"he"},{"$f":"IF(I169=\"F\",\"She\",\"He\")","v":"He"},{"$f":"IF(I169=\"F\",\"her\",\"his\")","v":"his"},{"$f":"IF(I169=\"F\",\"Her\",\"His\")","v":"His"},null,null," ",{"$f":"HLOOKUP(Report!AH169,Person!$H$2:$L$3,2,FALSE)","v":{"$error":"#N/A"}},{"$error":"#N/A"},{"$f":"IF(AH169=0,\"\",AJ169+VLOOKUP(AH169,Code!$B$2:$C$6,2,FALSE))","v":{"$error":"#N/A"}},{"$f":"IF(AH169=0,\"\",IF(I169=\"F\",G169&\" \"&VLOOKUP(AK169,Person!D:I,2,FALSE),G169&\" \"&VLOOKUP(AK169,Person!D:I,4,FALSE)))","v":{"$error":"#N/A"}},null,null,null,null,null,null,null,2,{"$f":"VLOOKUP(AT169,Code!$B$51:$D$55,2,FALSE)","v":"Behaviour_1"},{"$f":"RANDBETWEEN(1,VLOOKUP(AT169,Code!$B$51:$D$55,3,FALSE))","v":1},null,{"$f":"IF(AT169=0,\"\",IF(I169=\"F\",\" \"&VLOOKUP(AV169,INDIRECT(AU169),2,FALSE),\" \"&VLOOKUP(AV169,INDIRECT(AU169),4,FALSE)))","v":" d"},null,null," ",{"$f":"HLOOKUP(Report!BA169,Homework!$I$2:$L$3,2,FALSE)","v":{"$error":"#N/A"}},{"$error":"#N/A"},{"$f":"IF(BA169=0,\"\",BC169+VLOOKUP(BA169,Code!$B$2:$C$6,2,FALSE))","v":{"$error":"#N/A"}},{"$f":"IF(AND(VLOOKUP(BD169,Homework!D:J,2,FALSE)=\"'s \",RIGHT(G169,1)=\"s\"),\"' \",IF(VLOOKUP(BD169,Homework!D:J,2,FALSE)=\"'s \",\"'s \",\" \"))","v":{"$error":"#N/A"}},{"$f":"IF(BA169=0,\"\",IF(I169=\"F\",\" \"&G169&BE169&VLOOKUP(BD169,Homework!D:J,3,FALSE),\" \"&G169&BE169&VLOOKUP(BD169,Homework!D:J,5,FALSE)))","v":{"$error":"#N/A"}},null,null,null,null,null,null,null,null," ",{"$f":"VLOOKUP(BO169,Code!$B$45:$D$48,2,FALSE)","v":{"$error":"#N/A"}},{"$f":"VLOOKUP(BO169,Code!$B$45:$D$48,3,FALSE)","v":{"$error":"#N/A"}},{"$error":"#N/A"},null,"pen","pencil","ruler",null,null,"","",{"$f":"IF(BO169=0,\"\",IF(I169=\"F\",\" \"&BY169,\" \"&BZ169))","v":" "},null,161,{"$f":"HLOOKUP(Report!CC169,Behaviour!$H$2:$K$3,2,FALSE)","v":{"$error":"#N/A"}},{"$error":"#N/A"},{"$f":"CE169+VLOOKUP(CC169,Code!$B$2:$C$6,2,FALSE)","v":{"$error":"#N/A"}},{"$f":"IF(CC169=0,\"\",IF(I169=\"F\",AC169&\" \"&VLOOKUP(CF169,Behaviour!D:I,2,FALSE)&\" \",AC169&\" \"&VLOOKUP(CF169,Behaviour!D:I,4,FALSE)&\" \"))","v":{"$error":"#N/A"}},null,null," ",null,{"$f":"IF(CJ169=0,\"\",VLOOKUP(CJ169,Code!$B$59:$D$61,2,FALSE))","v":{"$error":"#N/A"}},{"$f":"IF(CJ169=0,\"\",VLOOKUP(CJ169,Code!$B$59:$D$61,3,FALSE))","v":{"$error":"#N/A"}},{"$error":"#N/A"},{"$f":"IF(I169=\"F\",VLOOKUP(CN169,INDIRECT(CL169),2,FALSE),VLOOKUP(CN169,INDIRECT(CL169),5,FALSE))","v":{"$error":"#N/A"}},{"$f":"IF(I169=\"F\",VLOOKUP(CN169,INDIRECT(CL169),3,FALSE),VLOOKUP(CN169,INDIRECT(CL169),6,FALSE))","v":{"$error":"#N/A"}},{"$error":"#N/A"},"",null,null,"",null,null,"",{"$error":"#VALUE!"},null,null," ",{"$error":"#VALUE!"},{"$f":"VLOOKUP(Report!DC169,Code!$B$24:$C$32,2,FALSE)","v":{"$error":"#VALUE!"}},{"$f":"VLOOKUP(Report!DC169,Code!$B$24:$D$32,3,FALSE)","v":{"$error":"#VALUE!"}},{"$error":"#VALUE!"},{"$f":"IF(AND(VLOOKUP(DF169,INDIRECT(DD169),2,FALSE)=\"'s \",RIGHT(G169,1)=\"s\"),\"' \",IF(VLOOKUP(DF169,INDIRECT(DD169),2,FALSE)=\"'s \",\"'s \",\"\"))","v":{"$error":"#VALUE!"}},{"$f":"\" \"&IF(DB169=0,\"\",IF(I169=\"F\",G169&DG169&VLOOKUP(DF169,INDIRECT(DD169),3,FALSE),G169&DG169&VLOOKUP(DF169,INDIRECT(DD169),5,FALSE)))","v":{"$error":"#VALUE!"}},null,null,null,null,null,null," ",{"$f":"VLOOKUP(Report!DO169,Code!$B$40:$D$42,2,FALSE)","v":{"$error":"#N/A"}},{"$f":"VLOOKUP(Report!DO169,Code!$B$40:$D$42,3,FALSE)","v":{"$error":"#N/A"}},{"$error":"#N/A"},null,{"$error":"#N/A"},"number","measures","standard form ","",null,null,null,null,{"$f":"IF(LEN(G169)<1,\"\",IF(OR(I169=\"F\",I169=\"M\"),(IF(ISERROR(AL169&AX169&BF169&CA169&CR169&DH169&DX169),\"\",AL169&AX169&BF169&CA169&CR169&DH169&DX169)),\"\"))","v":""},""]
[null,null,null,null,null,null,null,null,null,null,null,null,null,null,null,null,null,null,null,null,"Type_2",null,{"$error":"#N/A"},null,{"$error":"#N/A"},{"$error":"#N/A"},null,"he","He","his","His",null,null," ",{"$f":"HLOOKUP(Report!AH170,Person!$H$2:$L$3,2,FALSE)","v":{"$error":"#N/A"}},{"$error":"#N/A"},{"$f":"IF(AH170=0,\"\",AJ170+VLOOKUP(AH170,Code!$B$2:$C$6,2,FALSE))","v":{"$error":"#N/A"}},{"$f":"IF(AH170=0,\"\",IF(I170=\"F\",G170&\" \"&VLOOKUP(AK170,Person!D:I,2,FALSE),G170&\" \"&VLOOKUP(AK170,Person!D:I,4,FALSE)))","v":{"$error":"#N/A"}},null,null,null,null,null,null,null,2,{"$f":"VLOOKUP(AT170,Code!$B$51:$D$55,2,FALSE)","v":"Behaviour_1"},{"$f":"RANDBETWEEN(1,VLOOKUP(AT170,Code!$B$51:$D$55,3,FALSE))","v":2},null," d",null,null," ",{"$f":"HLOOKUP(Report!BA170,Homework!$I$2:$L$3,2,FALSE)","v":{"$error":"#N/A"}},{"$error":"#N/A"},{"$f":"IF(BA170=0,\"\",BC170+VLOOKUP(BA170,Code!$B$2:$C$6,2,FALSE))","v":{"$error":"#N/A"}},{"$f":"IF(AND(VLOOKUP(BD170,Homework!D:J,2,FALSE)=\"'s \",RIGHT(G170,1)=\"s\"),\"' \",IF(VLOOKUP(BD170,Homework!D:J,2,FALSE)=\"'s \",\"'s \",\" \"))","v":{"$error":"#N/A"}},{"$f":"IF(BA170=0,\"\",IF(I170=\"F\",\" \"&G170&BE170&VLOOKUP(BD170,Homework!D:J,3,FALSE),\" \"&G170&BE170&VLOOKUP(BD170,Homework!D:J,5,FALSE)))","v":{"$error":"#N/A"}},null,null,null,null,null,null,null,null," ",{"$f":"VLOOKUP(BO170,Code!$B$45:$D$48,2,FALSE)","v":{"$error":"#N/A"}},{"$f":"VLOOKUP(BO170,Code!$B$45:$D$48,3,FALSE)","v":{"$error":"#N/A"}},{"$error":"#N/A"},null,"pen","pencil","ruler",null,null,"",""," ",null,162,{"$f":"HLOOKUP(Report!CC170,Behaviour!$H$2:$K$3,2,FALSE)","v":{"$error":"#N/A"}},{"$error":"#N/A"},{"$f":"CE170+VLOOKUP(CC170,Code!$B$2:$C$6,2,FALSE)","v":{"$error":"#N/A"}},{"$f":"IF(CC170=0,\"\",IF(I170=\"F\",AC170&\" \"&VLOOKUP(CF170,Behaviour!D:I,2,FALSE)&\" \",AC170&\" \"&VLOOKUP(CF170,Behaviour!D:I,4,FALSE)&\" \"))","v":{"$error":"#N/A"}},null,null," ",null,{"$f":"IF(CJ170=0,\"\",VLOOKUP(CJ170,Code!$B$59:$D$61,2,FALSE))","v":{"$error":"#N/A"}},{"$f":"IF(CJ170=0,\"\",VLOOKUP(CJ170,Code!$B$59:$D$61,3,FALSE))","v":{"$error":"#N/A"}},{"$error":"#N/A"},{"$error":"#N/A"},{"$error":"#N/A"},{"$error":"#N/A"},"",null,null,"",null,null,"",{"$error":"#VALUE!"},null,null," ",{"$error":"#VALUE!"},{"$f":"VLOOKUP(Report!DC170,Code!$B$24:$C$32,2,FALSE)","v":{"$error":"#VALUE!"}},{"$f":"VLOOKUP(Report!DC170,Code!$B$24:$D$32,3,FALSE)","v":{"$error":"#VALUE!"}},{"$error":"#VALUE!"},{"$error":"#VALUE!"},{"$error":"#VALUE!"},null,null,null,null,null,null," ",{"$f":"VLOOKUP(Report!DO170,Code!$B$40:$D$42,2,FALSE)","v":{"$error":"#N/A"}},{"$f":"VLOOKUP(Report!DO170,Code!$B$40:$D$42,3,FALSE)","v":{"$error":"#N/A"}},{"$error":"#N/A"},null,{"$error":"#N/A"},"number","measures","standard form ","",null,null,null,null,"",""]
[null,null,null,null,null,null,null,null,null,null,null,null,null,null,null,null,null,null,null,null,"Type_2",null,{"$error":"#N/A"},null,{"$error":"#N/A"},{"$error":"#N/A"},null,"he","He","his","His",null,null," ",{"$f":"HLOOKUP(Report!AH171,Person!$H$2:$L$3,2,FALSE)","v":{"$error":"#N/A"}},{"$error":"#N/A"},{"$f":"IF(AH171=0,\"\",AJ171+VLOOKUP(AH171,Code!$B$2:$C$6,2,FALSE))","v":{"$error":"#N/A"}},{"$f":"IF(AH171=0,\"\",IF(I171=\"F\",G171&\" \"&VLOOKUP(AK171,Person!D:I,2,FALSE),G171&\" \"&VLOOKUP(AK171,Person!D:I,4,FALSE)))","v":{"$error":"#N/A"}},null,null,null,null,null,null,null,2,{"$f":"VLOOKUP(AT171,Code!$B$51:$D$55,2,FALSE)","v":"Behaviour_1"},{"$f":"RANDBETWEEN(1,VLOOKUP(AT171,Code!$B$51:$D$55,3,FALSE))","v":1},null," d",null,null," ",{"$f":"HLOOKUP(Report!BA171,Homework!$I$2:$L$3,2,FALSE)","v":{"$error":"#N/A"}},{"$error":"#N/A"},{"$f":"IF(BA171=0,\"\",BC171+VLOOKUP(BA171,Code!$B$2:$C$6,2,FALSE))","v":{"$error":"#N/A"}},{"$f":"IF(AND(VLOOKUP(BD171,Homework!D:J,2,FALSE)=\"'s \",RIGHT(G171,1)=\"s\"),\"' \",IF(VLOOKUP(BD171,Homework!D:J,2,FALSE)=\"'s \",\"'s \",\" \"))","v":{"$error":"#N/A"}},{"$f":"IF(BA171=0,\"\",IF(I171=\"F\",\" \"&G171&BE171&VLOOKUP(BD171,Homework!D:J,3,FALSE),\" \"&G171&BE171&VLOOKUP(BD171,Homework!D:J,5,FALSE)))","v":{"$error":"#N/A"}},null,null,null,null,null,null,null,null," ",{"$f":"VLOOKUP(BO171,Code!$B$45:$D$48,2,FALSE)","v":{"$error":"#N/A"}},{"$f":"VLOOKUP(BO171,Code!$B$45:$D$48,3,FALSE)","v":{"$error":"#N/A"}},{"$error":"#N/A"},null,"pen","pencil","ruler",null,null,"",""," ",null,163,{"$f":"HLOOKUP(Report!CC171,Behaviour!$H$2:$K$3,2,FALSE)","v":{"$error":"#N/A"}},{"$error":"#N/A"},{"$f":"CE171+VLOOKUP(CC171,Code!$B$2:$C$6,2,FALSE)","v":{"$error":"#N/A"}},{"$f":"IF(CC171=0,\"\",IF(I171=\"F\",AC171&\" \"&VLOOKUP(CF171,Behaviour!D:I,2,FALSE)&\" \",AC171&\" \"&VLOOKUP(CF171,Behaviour!D:I,4,FALSE)&\" \"))","v":{"$error":"#N/A"}},null,null," ",null,{"$f":"IF(CJ171=0,\"\",VLOOKUP(CJ171,Code!$B$59:$D$61,2,FALSE))","v":{"$error":"#N/A"}},{"$f":"IF(CJ171=0,\"\",VLOOKUP(CJ171,Code!$B$59:$D$61,3,FALSE))","v":{"$error":"#N/A"}},{"$error":"#N/A"},{"$error":"#N/A"},{"$error":"#N/A"},{"$error":"#N/A"},"",null,null,"",null,null,"",{"$error":"#VALUE!"},null,null," ",{"$error":"#VALUE!"},{"$f":"VLOOKUP(Report!DC171,Code!$B$24:$C$32,2,FALSE)","v":{"$error":"#VALUE!"}},{"$f":"VLOOKUP(Report!DC171,Code!$B$24:$D$32,3,FALSE)","v":{"$error":"#VALUE!"}},{"$error":"#VALUE!"},{"$error":"#VALUE!"},{"$error":"#VALUE!"},null,null,null,null,null,null," ",{"$f":"VLOOKUP(Report!DO171,Code!$B$40:$D$42,2,FALSE)","v":{"$error":"#N/A"}},{"$f":"VLOOKUP(Report!DO171,Code!$B$40:$D$42,3,FALSE)","v":{"$error":"#N/A"}},{"$error":"#N/A"},null,{"$error":"#N/A"},"number","measures","standard form ","",null,null,null,null,"",""]
[null,null,null,null,null,null,null,null,null,null,null,null,null,null,null,null,null,null,null,null,"Type_2",null,{"$error":"#N/A"},null,{"$error":"#N/A"},{"$error":"#N/A"},null,"he","He","his","His",null,null," ",{"$f":"HLOOKUP(Report!AH172,Person!$H$2:$L$3,2,FALSE)","v":{"$error":"#N/A"}},{"$error":"#N/A"},{"$f":"IF(AH172=0,\"\",AJ172+VLOOKUP(AH172,Code!$B$2:$C$6,2,FALSE))","v":{"$error":"#N/A"}},{"$f":"IF(AH172=0,\"\",IF(I172=\"F\",G172&\" \"&VLOOKUP(AK172,Person!D:I,2,FALSE),G172&\" \"&VLOOKUP(AK172,Person!D:I,4,FALSE)))","v":{"$error":"#N/A"}},null,null,null,null,null,null,null,2,{"$f":"VLOOKUP(AT172,Code!$B$51:$D$55,2,FALSE)","v":"Behaviour_1"},{"$f":"RANDBETWEEN(1,VLOOKUP(AT172,Code!$B$51:$D$55,3,FALSE))","v":1},null," d",null,null," ",{"$f":"HLOOKUP(Report!BA172,Homework!$I$2:$L$3,2,FALSE)","v":{"$error":"#N/A"}},{"$error":"#N/A"},{"$f":"IF(BA172=0,\"\",BC172+VLOOKUP(BA172,Code!$B$2:$C$6,2,FALSE))","v":{"$error":"#N/A"}},{"$f":"IF(AND(VLOOKUP(BD172,Homework!D:J,2,FALSE)=\"'s \",RIGHT(G172,1)=\"s\"),\"' \",IF(VLOOKUP(BD172,Homework!D:J,2,FALSE)=\"'s \",\"'s \",\" \"))","v":{"$error":"#N/A"}},{"$f":"IF(BA172=0,\"\",IF(I172=\"F\",\" \"&G172&BE172&VLOOKUP(BD172,Homework!D:J,3,FALSE),\" \"&G172&BE172&VLOOKUP(BD172,Homework!D:J,5,FALSE)))","v":{"$error":"#N/A"}},null,null,null,null,null,null,null,null," ",{"$f":"VLOOKUP(BO172,Code!$B$45:$D$48,2,FALSE)","v":{"$error":"#N/A"}},{"$f":"VLOOKUP(BO172,Code!$B$45:$D$48,3,FALSE)","v":{"$error":"#N/A"}},{"$error":"#N/A"},null,"pen","pencil","ruler",null,null,"",""," ",null,164,{"$f":"HLOOKUP(Report!CC172,Behaviour!$H$2:$K$3,2,FALSE)","v":{"$error":"#N/A"}},{"$error":"#N/A"},{"$f":"CE172+VLOOKUP(CC172,Code!$B$2:$C$6,2,FALSE)","v":{"$error":"#N/A"}},{"$f":"IF(CC172=0,\"\",IF(I172=\"F\",AC172&\" \"&VLOOKUP(CF172,Behaviour!D:I,2,FALSE)&\" \",AC172&\" \"&VLOOKUP(CF172,Behaviour!D:I,4,FALSE)&\" \"))","v":{"$error":"#N/A"}},null,null," ",null,{"$f":"IF(CJ172=0,\"\",VLOOKUP(CJ172,Code!$B$59:$D$61,2,FALSE))","v":{"$error":"#N/A"}},{"$f":"IF(CJ172=0,\"\",VLOOKUP(CJ172,Code!$B$59:$D$61,3,FALSE))","v":{"$error":"#N/A"}},{"$error":"#N/A"},{"$error":"#N/A"},{"$error":"#N/A"},{"$error":"#N/A"},"",null,null,"",null,null,"",{"$error":"#VALUE!"},null,null," ",{"$error":"#VALUE!"},{"$f":"VLOOKUP(Report!DC172,Code!$B$24:$C$32,2,FALSE)","v":{"$error":"#VALUE!"}},{"$f":"VLOOKUP(Report!DC172,Code!$B$24:$D$32,3,FALSE)","v":{"$error":"#VALUE!"}},{"$error":"#VALUE!"},{"$error":"#VALUE!"},{"$error":"#VALUE!"},null,null,null,null,null,null," ",{"$f":"VLOOKUP(Report!DO172,Code!$B$40:$D$42,2,FALSE)","v":{"$error":"#N/A"}},{"$f":"VLOOKUP(Report!DO172,Code!$B$40:$D$42,3,FALSE)","v":{"$error":"#N/A"}},{"$error":"#N/A"},null,{"$error":"#N/A"},"number","measures","standard form ","",null,null,null,null,"",{"$f":"IF(LEN(G172)<1,\"\",IF(OR(I172=\"F\",I172=\"M\"),(IF(ISERROR(AL172&AX172&BF172&CA172&DH172&DX172),\"\",AL172&AX172&BF172&CA172&DH172&DX172)),\"\"))","v":""}]
[null,null,null,null,null,null,null,null,null,null,null,null,null,null,null,null,null,null,null,null,"Type_2",null,{"$error":"#N/A"},null,{"$error":"#N/A"},{"$error":"#N/A"},null,"he","He","his","His",null,null," ",{"$f":"HLOOKUP(Report!AH173,Person!$H$2:$L$3,2,FALSE)","v":{"$error":"#N/A"}},{"$error":"#N/A"},{"$f":"IF(AH173=0,\"\",AJ173+VLOOKUP(AH173,Code!$B$2:$C$6,2,FALSE))","v":{"$error":"#N/A"}},{"$f":"IF(AH173=0,\"\",IF(I173=\"F\",G173&\" \"&VLOOKUP(AK173,Person!D:I,2,FALSE),G173&\" \"&VLOOKUP(AK173,Person!D:I,4,FALSE)))","v":{"$error":"#N/A"}},null,null,null,null,null,null,null,2,{"$f":"VLOOKUP(AT173,Code!$B$51:$D$55,2,FALSE)","v":"Behaviour_1"},{"$f":"RANDBETWEEN(1,VLOOKUP(AT173,Code!$B$51:$D$55,3,FALSE))","v":1},null," d",null,null," ",{"$f":"HLOOKUP(Report!BA173,Homework!$I$2:$L$3,2,FALSE)","v":{"$error":"#N/A"}},{"$error":"#N/A"},{"$f":"IF(BA173=0,\"\",BC173+VLOOKUP(BA173,Code!$B$2:$C$6,2,FALSE))","v":{"$error":"#N/A"}},{"$f":"IF(AND(VLOOKUP(BD173,Homework!D:J,2,FALSE)=\"'s \",RIGHT(G173,1)=\"s\"),\"' \",IF(VLOOKUP(BD173,Homework!D:J,2,FALSE)=\"'s \",\"'s \",\" \"))","v":{"$error":"#N/A"}},{"$f":"IF(BA173=0,\"\",IF(I173=\"F\",\" \"&G173&BE173&VLOOKUP(BD173,Homework!D:J,3,FALSE),\" \"&G173&BE173&VLOOKUP(BD173,Homework!D:J,5,FALSE)))","v":{"$error":"#N/A"}},null,null,null,null,null,null,null,null," ",{"$f":"VLOOKUP(BO173,Code!$B$45:$D$48,2,FALSE)","v":{"$error":"#N/A"}},{"$f":"VLOOKUP(BO173,Code!$B$45:$D$48,3,FALSE)","v":{"$error":"#N/A"}},{"$error":"#N/A"},null,"pen","pencil","ruler",null,null,"",""," ",null,165,{"$f":"HLOOKUP(Report!CC173,Behaviour!$H$2:$K$3,2,FALSE)","v":{"$error":"#N/A"}},{"$error":"#N/A"},{"$f":"CE173+VLOOKUP(CC173,Code!$B$2:$C$6,2,FALSE)","v":{"$error":"#N/A"}},{"$f":"IF(CC173=0,\"\",IF(I173=\"F\",AC173&\" \"&VLOOKUP(CF173,Behaviour!D:I,2,FALSE)&\" \",AC173&\" \"&VLOOKUP(CF173,Behaviour!D:I,4,FALSE)&\" \"))","v":{"$error":"#N/A"}},null,null," ",null,{"$f":"IF(CJ173=0,\"\",VLOOKUP(CJ173,Code!$B$59:$D$61,2,FALSE))","v":{"$error":"#N/A"}},{"$f":"IF(CJ173=0,\"\",VLOOKUP(CJ173,Code!$B$59:$D$61,3,FALSE))","v":{"$error":"#N/A"}},{"$error":"#N/A"},{"$error":"#N/A"},{"$error":"#N/A"},{"$error":"#N/A"},"",null,null,"",null,null,"",{"$error":"#VALUE!"},null,null," ",{"$error":"#VALUE!"},{"$f":"VLOOKUP(Report!DC173,Code!$B$24:$C$32,2,FALSE)","v":{"$error":"#VALUE!"}},{"$f":"VLOOKUP(Report!DC173,Code!$B$24:$D$32,3,FALSE)","v":{"$error":"#VALUE!"}},{"$error":"#VALUE!"},{"$error":"#VALUE!"},{"$error":"#VALUE!"},null,null,null,null,null,null," ",{"$f":"VLOOKUP(Report!DO173,Code!$B$40:$D$42,2,FALSE)","v":{"$error":"#N/A"}},{"$f":"VLOOKUP(Report!DO173,Code!$B$40:$D$42,3,FALSE)","v":{"$error":"#N/A"}},{"$error":"#N/A"},null,{"$error":"#N/A"},"number","measures","standard form ","",null,null,null,null,"",""]
[null,null,null,null,null,null,null,null,null,null,null,null,null,null,null,null,null,null,null,null,"Type_2",null,{"$error":"#N/A"},null,{"$error":"#N/A"},{"$error":"#N/A"},null,"he","He","his","His",null,null," ",{"$f":"HLOOKUP(Report!AH174,Person!$H$2:$L$3,2,FALSE)","v":{"$error":"#N/A"}},{"$error":"#N/A"},{"$f":"IF(AH174=0,\"\",AJ174+VLOOKUP(AH174,Code!$B$2:$C$6,2,FALSE))","v":{"$error":"#N/A"}},{"$f":"IF(AH174=0,\"\",IF(I174=\"F\",G174&\" \"&VLOOKUP(AK174,Person!D:I,2,FALSE),G174&\" \"&VLOOKUP(AK174,Person!D:I,4,FALSE)))","v":{"$error":"#N/A"}},null,null,null,null,null,null,null,2,{"$f":"VLOOKUP(AT174,Code!$B$51:$D$55,2,FALSE)","v":"Behaviour_1"},{"$f":"RANDBETWEEN(1,VLOOKUP(AT174,Code!$B$51:$D$55,3,FALSE))","v":1},null," d",null,null," ",{"$f":"HLOOKUP(Report!BA174,Homework!$I$2:$L$3,2,FALSE)","v":{"$error":"#N/A"}},{"$error":"#N/A"},{"$f":"IF(BA174=0,\"\",BC174+VLOOKUP(BA174,Code!$B$2:$C$6,2,FALSE))","v":{"$error":"#N/A"}},{"$f":"IF(AND(VLOOKUP(BD174,Homework!D:J,2,FALSE)=\"'s \",RIGHT(G174,1)=\"s\"),\"' \",IF(VLOOKUP(BD174,Homework!D:J,2,FALSE)=\"'s \",\"'s \",\" \"))","v":{"$error":"#N/A"}},{"$f":"IF(BA174=0,\"\",IF(I174=\"F\",\" \"&G174&BE174&VLOOKUP(BD174,Homework!D:J,3,FALSE),\" \"&G174&BE174&VLOOKUP(BD174,Homework!D:J,5,FALSE)))","v":{"$error":"#N/A"}},null,null,null,null,null,null,null,null," ",{"$f":"VLOOKUP(BO174,Code!$B$45:$D$48,2,FALSE)","v":{"$error":"#N/A"}},{"$f":"VLOOKUP(BO174,Code!$B$45:$D$48,3,FALSE)","v":{"$error":"#N/A"}},{"$error":"#N/A"},null,"pen","pencil","ruler",null,null,"",""," ",null,166,{"$f":"HLOOKUP(Report!CC174,Behaviour!$H$2:$K$3,2,FALSE)","v":{"$error":"#N/A"}},{"$error":"#N/A"},{"$f":"CE174+VLOOKUP(CC174,Code!$B$2:$C$6,2,FALSE)","v":{"$error":"#N/A"}},{"$f":"IF(CC174=0,\"\",IF(I174=\"F\",AC174&\" \"&VLOOKUP(CF174,Behaviour!D:I,2,FALSE)&\" \",AC174&\" \"&VLOOKUP(CF174,Behaviour!D:I,4,FALSE)&\" \"))","v":{"$error":"#N/A"}},null,null," ",null,{"$f":"IF(CJ174=0,\"\",VLOOKUP(CJ174,Code!$B$59:$D$61,2,FALSE))","v":{"$error":"#N/A"}},{"$f":"IF(CJ174=0,\"\",VLOOKUP(CJ174,Code!$B$59:$D$61,3,FALSE))","v":{"$error":"#N/A"}},{"$error":"#N/A"},{"$error":"#N/A"},{"$error":"#N/A"},{"$error":"#N/A"},"",null,null,"",null,null,"",{"$error":"#VALUE!"},null,null," ",{"$error":"#VALUE!"},{"$f":"VLOOKUP(Report!DC174,Code!$B$24:$C$32,2,FALSE)","v":{"$error":"#VALUE!"}},{"$f":"VLOOKUP(Report!DC174,Code!$B$24:$D$32,3,FALSE)","v":{"$error":"#VALUE!"}},{"$error":"#VALUE!"},{"$error":"#VALUE!"},{"$error":"#VALUE!"},null,null,null,null,null,null," ",{"$f":"VLOOKUP(Report!DO174,Code!$B$40:$D$42,2,FALSE)","v":{"$error":"#N/A"}},{"$f":"VLOOKUP(Report!DO174,Code!$B$40:$D$42,3,FALSE)","v":{"$error":"#N/A"}},{"$error":"#N/A"},null,{"$error":"#N/A"},"number","measures","standard form ","",null,null,null,null,"",""]
[null,null,null,null,null,null,null,null,null,null,null,null,null,null,null,null,null,null,null,null,"Type_2",null,{"$error":"#N/A"},null,{"$error":"#N/A"},{"$error":"#N/A"},null,"he","He","his","His",null,null," ",{"$f":"HLOOKUP(Report!AH175,Person!$H$2:$L$3,2,FALSE)","v":{"$error":"#N/A"}},{"$error":"#N/A"},{"$f":"IF(AH175=0,\"\",AJ175+VLOOKUP(AH175,Code!$B$2:$C$6,2,FALSE))","v":{"$error":"#N/A"}},{"$f":"IF(AH175=0,\"\",IF(I175=\"F\",G175&\" \"&VLOOKUP(AK175,Person!D:I,2,FALSE),G175&\" \"&VLOOKUP(AK175,Person!D:I,4,FALSE)))","v":{"$error":"#N/A"}},null,null,null,null,null,null,null,2,{"$f":"VLOOKUP(AT175,Code!$B$51:$D$55,2,FALSE)","v":"Behaviour_1"},{"$f":"RANDBETWEEN(1,VLOOKUP(AT175,Code!$B$51:$D$55,3,FALSE))","v":2},null," d",null,null," ",{"$f":"HLOOKUP(Report!BA175,Homework!$I$2:$L$3,2,FALSE)","v":{"$error":"#N/A"}},{"$error":"#N/A"},{"$f":"IF(BA175=0,\"\",BC175+VLOOKUP(BA175,Code!$B$2:$C$6,2,FALSE))","v":{"$error":"#N/A"}},{"$f":"IF(AND(VLOOKUP(BD175,Homework!D:J,2,FALSE)=\"'s \",RIGHT(G175,1)=\"s\"),\"' \",IF(VLOOKUP(BD175,Homework!D:J,2,FALSE)=\"'s \",\"'s \",\" \"))","v":{"$error":"#N/A"}},{"$f":"IF(BA175=0,\"\",IF(I175=\"F\",\" \"&G175&BE175&VLOOKUP(BD175,Homework!D:J,3,FALSE),\" \"&G175&BE175&VLOOKUP(BD175,Homework!D:J,5,FALSE)))","v":{"$error":"#N/A"}},null,null,null,null,null,null,null,null," ",{"$f":"VLOOKUP(BO175,Code!$B$45:$D$48,2,FALSE)","v":{"$error":"#N/A"}},{"$f":"VLOOKUP(BO175,Code!$B$45:$D$48,3,FALSE)","v":{"$error":"#N/A"}},{"$error":"#N/A"},null,"pen","pencil","ruler",null,null,"",""," ",null,167,{"$f":"HLOOKUP(Report!CC175,Behaviour!$H$2:$K$3,2,FALSE)","v":{"$error":"#N/A"}},{"$error":"#N/A"},{"$f":"CE175+VLOOKUP(CC175,Code!$B$2:$C$6,2,FALSE)","v":{"$error":"#N/A"}},{"$f":"IF(CC175=0,\"\",IF(I175=\"F\",AC175&\" \"&VLOOKUP(CF175,Behaviour!D:I,2,FALSE)&\" \",AC175&\" \"&VLOOKUP(CF175,Behaviour!D:I,4,FALSE)&\" \"))","v":{"$error":"#N/A"}},null,null," ",null,{"$f":"IF(CJ175=0,\"\",VLOOKUP(CJ175,Code!$B$59:$D$61,2,FALSE))","v":{"$error":"#N/A"}},{"$f":"IF(CJ175=0,\"\",VLOOKUP(CJ175,Code!$B$59:$D$61,3,FALSE))","v":{"$error":"#N/A"}},{"$error":"#N/A"},{"$error":"#N/A"},{"$error":"#N/A"},{"$error":"#N/A"},"",null,null,"",null,null,"",{"$error":"#VALUE!"},null,null," ",{"$error":"#VALUE!"},{"$f":"VLOOKUP(Report!DC175,Code!$B$24:$C$32,2,FALSE)","v":{"$error":"#VALUE!"}},{"$f":"VLOOKUP(Report!DC175,Code!$B$24:$D$32,3,FALSE)","v":{"$error":"#VALUE!"}},{"$error":"#VALUE!"},{"$error":"#VALUE!"},{"$error":"#VALUE!"},null,null,null,null,null,null," ",{"$f":"VLOOKUP(Report!DO175,Code!$B$40:$D$42,2,FALSE)","v":{"$error":"#N/A"}},{"$f":"VLOOKUP(Report!DO175,Code!$B$40:$D$42,3,FALSE)","v":{"$error":"#N/A"}},{"$error":"#N/A"},null,{"$error":"#N/A"},"number","measures","standard form ","",null,null,null,null,"",""]
[null,null,null,null,null,null,null,null,null,null,null,null,null,null,null,null,null,null,null,null,"Type_2",null,{"$error":"#N/A"},null,{"$error":"#N/A"},{"$error":"#N/A"},null,"he","He","his","His",null,null," ",{"$f":"HLOOKUP(Report!AH176,Person!$H$2:$L$3,2,FALSE)","v":{"$error":"#N/A"}},{"$error":"#N/A"},{"$f":"IF(AH176=0,\"\",AJ176+VLOOKUP(AH176,Code!$B$2:$C$6,2,FALSE))","v":{"$error":"#N/A"}},{"$f":"IF(AH176=0,\"\",IF(I176=\"F\",G176&\" \"&VLOOKUP(AK176,Person!D:I,2,FALSE),G176&\" \"&VLOOKUP(AK176,Person!D:I,4,FALSE)))","v":{"$error":"#N/A"}},null,null,null,null,null,null,null,2,{"$f":"VLOOKUP(AT176,Code!$B$51:$D$55,2,FALSE)","v":"Behaviour_1"},{"$f":"RANDBETWEEN(1,VLOOKUP(AT176,Code!$B$51:$D$55,3,FALSE))","v":2},null," d",null,null," ",{"$f":"HLOOKUP(Report!BA176,Homework!$I$2:$L$3,2,FALSE)","v":{"$error":"#N/A"}},{"$error":"#N/A"},{"$f":"IF(BA176=0,\"\",BC176+VLOOKUP(BA176,Code!$B$2:$C$6,2,FALSE))","v":{"$error":"#N/A"}},{"$f":"IF(AND(VLOOKUP(BD176,Homework!D:J,2,FALSE)=\"'s \",RIGHT(G176,1)=\"s\"),\"' \",IF(VLOOKUP(BD176,Homework!D:J,2,FALSE)=\"'s \",\"'s \",\" \"))","v":{"$error":"#N/A"}},{"$f":"IF(BA176=0,\"\",IF(I176=\"F\",\" \"&G176&BE176&VLOOKUP(BD176,Homework!D:J,3,FALSE),\" \"&G176&BE176&VLOOKUP(BD176,Homework!D:J,5,FALSE)))","v":{"$error":"#N/A"}},null,null,null,null,null,null,null,null," ",{"$f":"VLOOKUP(BO176,Code!$B$45:$D$48,2,FALSE)","v":{"$error":"#N/A"}},{"$f":"VLOOKUP(BO176,Code!$B$45:$D$48,3,FALSE)","v":{"$error":"#N/A"}},{"$error":"#N/A"},null,"pen","pencil","ruler",null,null,"",""," ",null,168,{"$f":"HLOOKUP(Report!CC176,Behaviour!$H$2:$K$3,2,FALSE)","v":{"$error":"#N/A"}},{"$error":"#N/A"},{"$f":"CE176+VLOOKUP(CC176,Code!$B$2:$C$6,2,FALSE)","v":{"$error":"#N/A"}},{"$f":"IF(CC176=0,\"\",IF(I176=\"F\",AC176&\" \"&VLOOKUP(CF176,Behaviour!D:I,2,FALSE)&\" \",AC176&\" \"&VLOOKUP(CF176,Behaviour!D:I,4,FALSE)&\" \"))","v":{"$error":"#N/A"}},null,null," ",null,{"$f":"IF(CJ176=0,\"\",VLOOKUP(CJ176,Code!$B$59:$D$61,2,FALSE))","v":{"$error":"#N/A"}},{"$f":"IF(CJ176=0,\"\",VLOOKUP(CJ176,Code!$B$59:$D$61,3,FALSE))","v":{"$error":"#N/A"}},{"$error":"#N/A"},{"$error":"#N/A"},{"$error":"#N/A"},{"$error":"#N/A"},"",null,null,"",null,null,"",{"$error":"#VALUE!"},null,null," ",{"$error":"#VALUE!"},{"$f":"VLOOKUP(Report!DC176,Code!$B$24:$C$32,2,FALSE)","v":{"$error":"#VALUE!"}},{"$f":"VLOOKUP(Report!DC176,Code!$B$24:$D$32,3,FALSE)","v":{"$error":"#VALUE!"}},{"$error":"#VALUE!"},{"$error":"#VALUE!"},{"$error":"#VALUE!"},null,null,null,null,null,null," ",{"$f":"VLOOKUP(Report!DO176,Code!$B$40:$D$42,2,FALSE)","v":{"$error":"#N/A"}},{"$f":"VLOOKUP(Report!DO176,Code!$B$40:$D$42,3,FALSE)","v":{"$error":"#N/A"}},{"$error":"#N/A"},null,{"$error":"#N/A"},"number","measures","standard form ","",null,null,null,null,"",""]
[null,null,null,null,null,null,null,null,null,null,null,null,null,null,null,null,null,null,null,null,"Type_2",null,{"$error":"#N/A"},null,{"$error":"#N/A"},{"$error":"#N/A"},null,"he","He","his","His",null,null," ",{"$f":"HLOOKUP(Report!AH177,Person!$H$2:$L$3,2,FALSE)","v":{"$error":"#N/A"}},{"$error":"#N/A"},{"$f":"IF(AH177=0,\"\",AJ177+VLOOKUP(AH177,Code!$B$2:$C$6,2,FALSE))","v":{"$error":"#N/A"}},{"$f":"IF(AH177=0,\"\",IF(I177=\"F\",G177&\" \"&VLOOKUP(AK177,Person!D:I,2,FALSE),G177&\" \"&VLOOKUP(AK177,Person!D:I,4,FALSE)))","v":{"$error":"#N/A"}},null,null,null,null,null,null,null,2,{"$f":"VLOOKUP(AT177,Code!$B$51:$D$55,2,FALSE)","v":"Behaviour_1"},{"$f":"RANDBETWEEN(1,VLOOKUP(AT177,Code!$B$51:$D$55,3,FALSE))","v":2},null," d",null,null," ",{"$f":"HLOOKUP(Report!BA177,Homework!$I$2:$L$3,2,FALSE)","v":{"$error":"#N/A"}},{"$error":"#N/A"},{"$f":"IF(BA177=0,\"\",BC177+VLOOKUP(BA177,Code!$B$2:$C$6,2,FALSE))","v":{"$error":"#N/A"}},{"$f":"IF(AND(VLOOKUP(BD177,Homework!D:J,2,FALSE)=\"'s \",RIGHT(G177,1)=\"s\"),\"' \",IF(VLOOKUP(BD177,Homework!D:J,2,FALSE)=\"'s \",\"'s \",\" \"))","v":{"$error":"#N/A"}},{"$f":"IF(BA177=0,\"\",IF(I177=\"F\",\" \"&G177&BE177&VLOOKUP(BD177,Homework!D:J,3,FALSE),\" \"&G177&BE177&VLOOKUP(BD177,Homework!D:J,5,FALSE)))","v":{"$error":"#N/A"}},null,null,null,null,null,null,null,null," ",{"$f":"VLOOKUP(BO177,Code!$B$45:$D$48,2,FALSE)","v":{"$error":"#N/A"}},{"$f":"VLOOKUP(BO177,Code!$B$45:$D$48,3,FALSE)","v":{"$error":"#N/A"}},{"$error":"#N/A"},null,"pen","pencil","ruler",null,null,"",""," ",null,169,{"$f":"HLOOKUP(Report!CC177,Behaviour!$H$2:$K$3,2,FALSE)","v":{"$error":"#N/A"}},{"$error":"#N/A"},{"$f":"CE177+VLOOKUP(CC177,Code!$B$2:$C$6,2,FALSE)","v":{"$error":"#N/A"}},{"$f":"IF(CC177=0,\"\",IF(I177=\"F\",AC177&\" \"&VLOOKUP(CF177,Behaviour!D:I,2,FALSE)&\" \",AC177&\" \"&VLOOKUP(CF177,Behaviour!D:I,4,FALSE)&\" \"))","v":{"$error":"#N/A"}},null,null," ",null,{"$f":"IF(CJ177=0,\"\",VLOOKUP(CJ177,Code!$B$59:$D$61,2,FALSE))","v":{"$error":"#N/A"}},{"$f":"IF(CJ177=0,\"\",VLOOKUP(CJ177,Code!$B$59:$D$61,3,FALSE))","v":{"$error":"#N/A"}},{"$error":"#N/A"},{"$error":"#N/A"},{"$error":"#N/A"},{"$error":"#N/A"},"",null,null,"",null,null,"",{"$error":"#VALUE!"},null,null," ",{"$error":"#VALUE!"},{"$f":"VLOOKUP(Report!DC177,Code!$B$24:$C$32,2,FALSE)","v":{"$error":"#VALUE!"}},{"$f":"VLOOKUP(Report!DC177,Code!$B$24:$D$32,3,FALSE)","v":{"$error":"#VALUE!"}},{"$error":"#VALUE!"},{"$error":"#VALUE!"},{"$error":"#VALUE!"},null,null,null,null,null,null," ",{"$f":"VLOOKUP(Report!DO177,Code!$B$40:$D$42,2,FALSE)","v":{"$error":"#N/A"}},{"$f":"VLOOKUP(Report!DO177,Code!$B$40:$D$42,3,FALSE)","v":{"$error":"#N/A"}},{"$error":"#N/A"},null,{"$error":"#N/A"},"number","measures","standard form ","",null,null,null,null,"",""]
[null,null,null,null,null,null,null,null,null,null,null,null,null,null,null,null,null,null,null,null,"Type_2",null,{"$error":"#N/A"},null,{"$error":"#N/A"},{"$error":"#N/A"},null,"he","He","his","His",null,null," ",{"$f":"HLOOKUP(Report!AH178,Person!$H$2:$L$3,2,FALSE)","v":{"$error":"#N/A"}},{"$error":"#N/A"},{"$f":"IF(AH178=0,\"\",AJ178+VLOOKUP(AH178,Code!$B$2:$C$6,2,FALSE))","v":{"$error":"#N/A"}},{"$f":"IF(AH178=0,\"\",IF(I178=\"F\",G178&\" \"&VLOOKUP(AK178,Person!D:I,2,FALSE),G178&\" \"&VLOOKUP(AK178,Person!D:I,4,FALSE)))","v":{"$error":"#N/A"}},null,null,null,null,null,null,null,2,{"$f":"VLOOKUP(AT178,Code!$B$51:$D$55,2,FALSE)","v":"Behaviour_1"},{"$f":"RANDBETWEEN(1,VLOOKUP(AT178,Code!$B$51:$D$55,3,FALSE))","v":1},null," d",null,null," ",{"$f":"HLOOKUP(Report!BA178,Homework!$I$2:$L$3,2,FALSE)","v":{"$error":"#N/A"}},{"$error":"#N/A"},{"$f":"IF(BA178=0,\"\",BC178+VLOOKUP(BA178,Code!$B$2:$C$6,2,FALSE))","v":{"$error":"#N/A"}},{"$f":"IF(AND(VLOOKUP(BD178,Homework!D:J,2,FALSE)=\"'s \",RIGHT(G178,1)=\"s\"),\"' \",IF(VLOOKUP(BD178,Homework!D:J,2,FALSE)=\"'s \",\"'s \",\" \"))","v":{"$error":"#N/A"}},{"$f":"IF(BA178=0,\"\",IF(I178=\"F\",\" \"&G178&BE178&VLOOKUP(BD178,Homework!D:J,3,FALSE),\" \"&G178&BE178&VLOOKUP(BD178,Homework!D:J,5,FALSE)))","v":{"$error":"#N/A"}},null,null,null,null,null,null,null,null," ",{"$f":"VLOOKUP(BO178,Code!$B$45:$D$48,2,FALSE)","v":{"$error":"#N/A"}},{"$f":"VLOOKUP(BO178,Code!$B$45:$D$48,3,FALSE)","v":{"$error":"#N/A"}},{"$error":"#N/A"},null,"pen","pencil","ruler",null,null,"",""," ",null,170,{"$f":"HLOOKUP(Report!CC178,Behaviour!$H$2:$K$3,2,FALSE)","v":{"$error":"#N/A"}},{"$error":"#N/A"},{"$f":"CE178+VLOOKUP(CC178,Code!$B$2:$C$6,2,FALSE)","v":{"$error":"#N/A"}},{"$f":"IF(CC178=0,\"\",IF(I178=\"F\",AC178&\" \"&VLOOKUP(CF178,Behaviour!D:I,2,FALSE)&\" \",AC178&\" \"&VLOOKUP(CF178,Behaviour!D:I,4,FALSE)&\" \"))","v":{"$error":"#N/A"}},null,null," ",null,{"$f":"IF(CJ178=0,\"\",VLOOKUP(CJ178,Code!$B$59:$D$61,2,FALSE))","v":{"$error":"#N/A"}},{"$f":"IF(CJ178=0,\"\",VLOOKUP(CJ178,Code!$B$59:$D$61,3,FALSE))","v":{"$error":"#N/A"}},{"$error":"#N/A"},{"$error":"#N/A"},{"$error":"#N/A"},{"$error":"#N/A"},"",null,null,"",null,null,"",{"$error":"#VALUE!"},null,null," ",{"$error":"#VALUE!"},{"$f":"VLOOKUP(Report!DC178,Code!$B$24:$C$32,2,FALSE)","v":{"$error":"#VALUE!"}},{"$f":"VLOOKUP(Report!DC178,Code!$B$24:$D$32,3,FALSE)","v":{"$error":"#VALUE!"}},{"$error":"#VALUE!"},{"$error":"#VALUE!"},{"$error":"#VALUE!"},null,null,null,null,null,null," ",{"$f":"VLOOKUP(Report!DO178,Code!$B$40:$D$42,2,FALSE)","v":{"$error":"#N/A"}},{"$f":"VLOOKUP(Report!DO178,Code!$B$40:$D$42,3,FALSE)","v":{"$error":"#N/A"}},{"$error":"#N/A"},null,{"$error":"#N/A"},"number","measures","standard form ","",null,null,null,null,"",""]
[null,null,null,null,null,null,null,null,null,null,null,null,null,null,null,null,null,null,null,null,"Type_2",null,{"$error":"#N/A"},null,{"$error":"#N/A"},{"$error":"#N/A"},null,"he","He","his","His",null,null," ",{"$f":"HLOOKUP(Report!AH179,Person!$H$2:$L$3,2,FALSE)","v":{"$error":"#N/A"}},{"$error":"#N/A"},{"$f":"IF(AH179=0,\"\",AJ179+VLOOKUP(AH179,Code!$B$2:$C$6,2,FALSE))","v":{"$error":"#N/A"}},{"$f":"IF(AH179=0,\"\",IF(I179=\"F\",G179&\" \"&VLOOKUP(AK179,Person!D:I,2,FALSE),G179&\" \"&VLOOKUP(AK179,Person!D:I,4,FALSE)))","v":{"$error":"#N/A"}},null,null,null,null,null,null,null,2,{"$f":"VLOOKUP(AT179,Code!$B$51:$D$55,2,FALSE)","v":"Behaviour_1"},{"$f":"RANDBETWEEN(1,VLOOKUP(AT179,Code!$B$51:$D$55,3,FALSE))","v":2},null," d",null,null," ",{"$f":"HLOOKUP(Report!BA179,Homework!$I$2:$L$3,2,FALSE)","v":{"$error":"#N/A"}},{"$error":"#N/A"},{"$f":"IF(BA179=0,\"\",BC179+VLOOKUP(BA179,Code!$B$2:$C$6,2,FALSE))","v":{"$error":"#N/A"}},{"$f":"IF(AND(VLOOKUP(BD179,Homework!D:J,2,FALSE)=\"'s \",RIGHT(G179,1)=\"s\"),\"' \",IF(VLOOKUP(BD179,Homework!D:J,2,FALSE)=\"'s \",\"'s \",\" \"))","v":{"$error":"#N/A"}},{"$f":"IF(BA179=0,\"\",IF(I179=\"F\",\" \"&G179&BE179&VLOOKUP(BD179,Homework!D:J,3,FALSE),\" \"&G179&BE179&VLOOKUP(BD179,Homework!D:J,5,FALSE)))","v":{"$error":"#N/A"}},null,null,null,null,null,null,null,null," ",{"$f":"VLOOKUP(BO179,Code!$B$45:$D$48,2,FALSE)","v":{"$error":"#N/A"}},{"$f":"VLOOKUP(BO179,Code!$B$45:$D$48,3,FALSE)","v":{"$error":"#N/A"}},{"$error":"#N/A"},null,"pen","pencil","ruler",null,null,"",""," ",null,171,{"$f":"HLOOKUP(Report!CC179,Behaviour!$H$2:$K$3,2,FALSE)","v":{"$error":"#N/A"}},{"$error":"#N/A"},{"$f":"CE179+VLOOKUP(CC179,Code!$B$2:$C$6,2,FALSE)","v":{"$error":"#N/A"}},{"$f":"IF(CC179=0,\"\",IF(I179=\"F\",AC179&\" \"&VLOOKUP(CF179,Behaviour!D:I,2,FALSE)&\" \",AC179&\" \"&VLOOKUP(CF179,Behaviour!D:I,4,FALSE)&\" \"))","v":{"$error":"#N/A"}},null,null," ",null,{"$f":"IF(CJ179=0,\"\",VLOOKUP(CJ179,Code!$B$59:$D$61,2,FALSE))","v":{"$error":"#N/A"}},{"$f":"IF(CJ179=0,\"\",VLOOKUP(CJ179,Code!$B$59:$D$61,3,FALSE))","v":{"$error":"#N/A"}},{"$error":"#N/A"},{"$error":"#N/A"},{"$error":"#N/A"},{"$error":"#N/A"},"",null,null,"",null,null,"",{"$error":"#VALUE!"},null,null," ",{"$error":"#VALUE!"},{"$f":"VLOOKUP(Report!DC179,Code!$B$24:$C$32,2,FALSE)","v":{"$error":"#VALUE!"}},{"$f":"VLOOKUP(Report!DC179,Code!$B$24:$D$32,3,FALSE)","v":{"$error":"#VALUE!"}},{"$error":"#VALUE!"},{"$error":"#VALUE!"},{"$error":"#VALUE!"},null,null,null,null,null,null," ",{"$f":"VLOOKUP(Report!DO179,Code!$B$40:$D$42,2,FALSE)","v":{"$error":"#N/A"}},{"$f":"VLOOKUP(Report!DO179,Code!$B$40:$D$42,3,FALSE)","v":{"$error":"#N/A"}},{"$error":"#N/A"},null,{"$error":"#N/A"},"number","measures","standard form ","",null,null,null,null,"",""]
[null,null,null,null,null,null,null,null,null,null,null,null,null,null,null,null,null,null,null,null,"Type_2",null,{"$error":"#N/A"},null,{"$error":"#N/A"},{"$error":"#N/A"},null,"he","He","his","His",null,null," ",{"$f":"HLOOKUP(Report!AH180,Person!$H$2:$L$3,2,FALSE)","v":{"$error":"#N/A"}},{"$error":"#N/A"},{"$f":"IF(AH180=0,\"\",AJ180+VLOOKUP(AH180,Code!$B$2:$C$6,2,FALSE))","v":{"$error":"#N/A"}},{"$f":"IF(AH180=0,\"\",IF(I180=\"F\",G180&\" \"&VLOOKUP(AK180,Person!D:I,2,FALSE),G180&\" \"&VLOOKUP(AK180,Person!D:I,4,FALSE)))","v":{"$error":"#N/A"}},null,null,null,null,null,null,null,2,{"$f":"VLOOKUP(AT180,Code!$B$51:$D$55,2,FALSE)","v":"Behaviour_1"},{"$f":"RANDBETWEEN(1,VLOOKUP(AT180,Code!$B$51:$D$55,3,FALSE))","v":1},null," d",null,null," ",{"$f":"HLOOKUP(Report!BA180,Homework!$I$2:$L$3,2,FALSE)","v":{"$error":"#N/A"}},{"$error":"#N/A"},{"$f":"IF(BA180=0,\"\",BC180+VLOOKUP(BA180,Code!$B$2:$C$6,2,FALSE))","v":{"$error":"#N/A"}},{"$f":"IF(AND(VLOOKUP(BD180,Homework!D:J,2,FALSE)=\"'s \",RIGHT(G180,1)=\"s\"),\"' \",IF(VLOOKUP(BD180,Homework!D:J,2,FALSE)=\"'s \",\"'s \",\" \"))","v":{"$error":"#N/A"}},{"$f":"IF(BA180=0,\"\",IF(I180=\"F\",\" \"&G180&BE180&VLOOKUP(BD180,Homework!D:J,3,FALSE),\" \"&G180&BE180&VLOOKUP(BD180,Homework!D:J,5,FALSE)))","v":{"$error":"#N/A"}},null,null,null,null,null,null,null,null," ",{"$f":"VLOOKUP(BO180,Code!$B$45:$D$48,2,FALSE)","v":{"$error":"#N/A"}},{"$f":"VLOOKUP(BO180,Code!$B$45:$D$48,3,FALSE)","v":{"$error":"#N/A"}},{"$error":"#N/A"},null,"pen","pencil","ruler",null,null,"",""," ",null,172,{"$f":"HLOOKUP(Report!CC180,Behaviour!$H$2:$K$3,2,FALSE)","v":{"$error":"#N/A"}},{"$error":"#N/A"},{"$f":"CE180+VLOOKUP(CC180,Code!$B$2:$C$6,2,FALSE)","v":{"$error":"#N/A"}},{"$f":"IF(CC180=0,\"\",IF(I180=\"F\",AC180&\" \"&VLOOKUP(CF180,Behaviour!D:I,2,FALSE)&\" \",AC180&\" \"&VLOOKUP(CF180,Behaviour!D:I,4,FALSE)&\" \"))","v":{"$error":"#N/A"}},null,null," ",null,{"$f":"IF(CJ180=0,\"\",VLOOKUP(CJ180,Code!$B$59:$D$61,2,FALSE))","v":{"$error":"#N/A"}},{"$f":"IF(CJ180=0,\"\",VLOOKUP(CJ180,Code!$B$59:$D$61,3,FALSE))","v":{"$error":"#N/A"}},{"$error":"#N/A"},{"$error":"#N/A"},{"$error":"#N/A"},{"$error":"#N/A"},"",null,null,"",null,null,"",{"$error":"#VALUE!"},null,null," ",{"$error":"#VALUE!"},{"$f":"VLOOKUP(Report!DC180,Code!$B$24:$C$32,2,FALSE)","v":{"$error":"#VALUE!"}},{"$f":"VLOOKUP(Report!DC180,Code!$B$24:$D$32,3,FALSE)","v":{"$error":"#VALUE!"}},{"$error":"#VALUE!"},{"$error":"#VALUE!"},{"$error":"#VALUE!"},null,null,null,null,null,null," ",{"$f":"VLOOKUP(Report!DO180,Code!$B$40:$D$42,2,FALSE)","v":{"$error":"#N/A"}},{"$f":"VLOOKUP(Report!DO180,Code!$B$40:$D$42,3,FALSE)","v":{"$error":"#N/A"}},{"$error":"#N/A"},null,{"$error":"#N/A"},"number","measures","standard form ","",null,null,null,null,"",""]
[null,null,null,null,null,null,null,null,null,null,null,null,null,null,null,null,null,null,null,null,"Type_2",null,{"$error":"#N/A"},null,{"$error":"#N/A"},{"$error":"#N/A"},null,"he","He","his","His",null,null," ",{"$f":"HLOOKUP(Report!AH181,Person!$H$2:$L$3,2,FALSE)","v":{"$error":"#N/A"}},{"$error":"#N/A"},{"$f":"IF(AH181=0,\"\",AJ181+VLOOKUP(AH181,Code!$B$2:$C$6,2,FALSE))","v":{"$error":"#N/A"}},{"$f":"IF(AH181=0,\"\",IF(I181=\"F\",G181&\" \"&VLOOKUP(AK181,Person!D:I,2,FALSE),G181&\" \"&VLOOKUP(AK181,Person!D:I,4,FALSE)))","v":{"$error":"#N/A"}},null,null,null,null,null,null,null,2,{"$f":"VLOOKUP(AT181,Code!$B$51:$D$55,2,FALSE)","v":"Behaviour_1"},{"$f":"RANDBETWEEN(1,VLOOKUP(AT181,Code!$B$51:$D$55,3,FALSE))","v":2},null," d",null,null," ",{"$f":"HLOOKUP(Report!BA181,Homework!$I$2:$L$3,2,FALSE)","v":{"$error":"#N/A"}},{"$error":"#N/A"},{"$f":"IF(BA181=0,\"\",BC181+VLOOKUP(BA181,Code!$B$2:$C$6,2,FALSE))","v":{"$error":"#N/A"}},{"$f":"IF(AND(VLOOKUP(BD181,Homework!D:J,2,FALSE)=\"'s \",RIGHT(G181,1)=\"s\"),\"' \",IF(VLOOKUP(BD181,Homework!D:J,2,FALSE)=\"'s \",\"'s \",\" \"))","v":{"$error":"#N/A"}},{"$f":"IF(BA181=0,\"\",IF(I181=\"F\",\" \"&G181&BE181&VLOOKUP(BD181,Homework!D:J,3,FALSE),\" \"&G181&BE181&VLOOKUP(BD181,Homework!D:J,5,FALSE)))","v":{"$error":"#N/A"}},null,null,null,null,null,null,null,null," ",{"$f":"VLOOKUP(BO181,Code!$B$45:$D$48,2,FALSE)","v":{"$error":"#N/A"}},{"$f":"VLOOKUP(BO181,Code!$B$45:$D$48,3,FALSE)","v":{"$error":"#N/A"}},{"$error":"#N/A"},null,"pen","pencil","ruler",null,null,"",""," ",null,173,{"$f":"HLOOKUP(Report!CC181,Behaviour!$H$2:$K$3,2,FALSE)","v":{"$error":"#N/A"}},{"$error":"#N/A"},{"$f":"CE181+VLOOKUP(CC181,Code!$B$2:$C$6,2,FALSE)","v":{"$error":"#N/A"}},{"$f":"IF(CC181=0,\"\",IF(I181=\"F\",AC181&\" \"&VLOOKUP(CF181,Behaviour!D:I,2,FALSE)&\" \",AC181&\" \"&VLOOKUP(CF181,Behaviour!D:I,4,FALSE)&\" \"))","v":{"$error":"#N/A"}},null,null," ",null,{"$f":"IF(CJ181=0,\"\",VLOOKUP(CJ181,Code!$B$59:$D$61,2,FALSE))","v":{"$error":"#N/A"}},{"$f":"IF(CJ181=0,\"\",VLOOKUP(CJ181,Code!$B$59:$D$61,3,FALSE))","v":{"$error":"#N/A"}},{"$error":"#N/A"},{"$error":"#N/A"},{"$error":"#N/A"},{"$error":"#N/A"},"",null,null,"",null,null,"",{"$error":"#VALUE!"},null,null," ",{"$error":"#VALUE!"},{"$f":"VLOOKUP(Report!DC181,Code!$B$24:$C$32,2,FALSE)","v":{"$error":"#VALUE!"}},{"$f":"VLOOKUP(Report!DC181,Code!$B$24:$D$32,3,FALSE)","v":{"$error":"#VALUE!"}},{"$error":"#VALUE!"},{"$error":"#VALUE!"},{"$error":"#VALUE!"},null,null,null,null,null,null," ",{"$f":"VLOOKUP(Report!DO181,Code!$B$40:$D$42,2,FALSE)","v":{"$error":"#N/A"}},{"$f":"VLOOKUP(Report!DO181,Code!$B$40:$D$42,3,FALSE)","v":{"$error":"#N/A"}},{"$error":"#N/A"},null,{"$error":"#N/A"},"number","measures","standard form ","",null,null,null,null,"",""]
[null,null,null,null,null,null,null,null,null,null,null,null,null,null,null,null,null,null,null,null,"Type_2",null,{"$error":"#N/A"},null,{"$error":"#N/A"},{"$error":"#N/A"},null,"he","He","his","His",null,null," ",{"$f":"HLOOKUP(Report!AH182,Person!$H$2:$L$3,2,FALSE)","v":{"$error":"#N/A"}},{"$error":"#N/A"},{"$f":"IF(AH182=0,\"\",AJ182+VLOOKUP(AH182,Code!$B$2:$C$6,2,FALSE))","v":{"$error":"#N/A"}},{"$f":"IF(AH182=0,\"\",IF(I182=\"F\",G182&\" \"&VLOOKUP(AK182,Person!D:I,2,FALSE),G182&\" \"&VLOOKUP(AK182,Person!D:I,4,FALSE)))","v":{"$error":"#N/A"}},null,null,null,null,null,null,null,2,{"$f":"VLOOKUP(AT182,Code!$B$51:$D$55,2,FALSE)","v":"Behaviour_1"},{"$f":"RANDBETWEEN(1,VLOOKUP(AT182,Code!$B$51:$D$55,3,FALSE))","v":1},null," d",null,null," ",{"$f":"HLOOKUP(Report!BA182,Homework!$I$2:$L$3,2,FALSE)","v":{"$error":"#N/A"}},{"$error":"#N/A"},{"$f":"IF(BA182=0,\"\",BC182+VLOOKUP(BA182,Code!$B$2:$C$6,2,FALSE))","v":{"$error":"#N/A"}},{"$f":"IF(AND(VLOOKUP(BD182,Homework!D:J,2,FALSE)=\"'s \",RIGHT(G182,1)=\"s\"),\"' \",IF(VLOOKUP(BD182,Homework!D:J,2,FALSE)=\"'s \",\"'s \",\" \"))","v":{"$error":"#N/A"}},{"$f":"IF(BA182=0,\"\",IF(I182=\"F\",\" \"&G182&BE182&VLOOKUP(BD182,Homework!D:J,3,FALSE),\" \"&G182&BE182&VLOOKUP(BD182,Homework!D:J,5,FALSE)))","v":{"$error":"#N/A"}},null,null,null,null,null,null,null,null," ",{"$f":"VLOOKUP(BO182,Code!$B$45:$D$48,2,FALSE)","v":{"$error":"#N/A"}},{"$f":"VLOOKUP(BO182,Code!$B$45:$D$48,3,FALSE)","v":{"$error":"#N/A"}},{"$error":"#N/A"},null,"pen","pencil","ruler",null,null,"",""," ",null,174,{"$f":"HLOOKUP(Report!CC182,Behaviour!$H$2:$K$3,2,FALSE)","v":{"$error":"#N/A"}},{"$error":"#N/A"},{"$f":"CE182+VLOOKUP(CC182,Code!$B$2:$C$6,2,FALSE)","v":{"$error":"#N/A"}},{"$f":"IF(CC182=0,\"\",IF(I182=\"F\",AC182&\" \"&VLOOKUP(CF182,Behaviour!D:I,2,FALSE)&\" \",AC182&\" \"&VLOOKUP(CF182,Behaviour!D:I,4,FALSE)&\" \"))","v":{"$error":"#N/A"}},null,null," ",null,{"$f":"IF(CJ182=0,\"\",VLOOKUP(CJ182,Code!$B$59:$D$61,2,FALSE))","v":{"$error":"#N/A"}},{"$f":"IF(CJ182=0,\"\",VLOOKUP(CJ182,Code!$B$59:$D$61,3,FALSE))","v":{"$error":"#N/A"}},{"$error":"#N/A"},{"$error":"#N/A"},{"$error":"#N/A"},{"$error":"#N/A"},"",null,null,"",null,null,"",{"$error":"#VALUE!"},null,null," ",{"$error":"#VALUE!"},{"$f":"VLOOKUP(Report!DC182,Code!$B$24:$C$32,2,FALSE)","v":{"$error":"#VALUE!"}},{"$f":"VLOOKUP(Report!DC182,Code!$B$24:$D$32,3,FALSE)","v":{"$error":"#VALUE!"}},{"$error":"#VALUE!"},{"$error":"#VALUE!"},{"$error":"#VALUE!"},null,null,null,null,null,null," ",{"$f":"VLOOKUP(Report!DO182,Code!$B$40:$D$42,2,FALSE)","v":{"$error":"#N/A"}},{"$f":"VLOOKUP(Report!DO182,Code!$B$40:$D$42,3,FALSE)","v":{"$error":"#N/A"}},{"$error":"#N/A"},null,{"$error":"#N/A"},"number","measures","standard form ","",null,null,null,null,"",""]
[null,null,null,null,null,null,null,null,null,null,null,null,null,null,null,null,null,null,null,null,"Type_2",null,{"$error":"#N/A"},null,{"$error":"#N/A"},{"$error":"#N/A"},null,"he","He","his","His",null,null," ",{"$f":"HLOOKUP(Report!AH183,Person!$H$2:$L$3,2,FALSE)","v":{"$error":"#N/A"}},{"$error":"#N/A"},{"$f":"IF(AH183=0,\"\",AJ183+VLOOKUP(AH183,Code!$B$2:$C$6,2,FALSE))","v":{"$error":"#N/A"}},{"$f":"IF(AH183=0,\"\",IF(I183=\"F\",G183&\" \"&VLOOKUP(AK183,Person!D:I,2,FALSE),G183&\" \"&VLOOKUP(AK183,Person!D:I,4,FALSE)))","v":{"$error":"#N/A"}},null,null,null,null,null,null,null,2,{"$f":"VLOOKUP(AT183,Code!$B$51:$D$55,2,FALSE)","v":"Behaviour_1"},{"$f":"RANDBETWEEN(1,VLOOKUP(AT183,Code!$B$51:$D$55,3,FALSE))","v":1},null," d",null,null," ",{"$f":"HLOOKUP(Report!BA183,Homework!$I$2:$L$3,2,FALSE)","v":{"$error":"#N/A"}},{"$error":"#N/A"},{"$f":"IF(BA183=0,\"\",BC183+VLOOKUP(BA183,Code!$B$2:$C$6,2,FALSE))","v":{"$error":"#N/A"}},{"$f":"IF(AND(VLOOKUP(BD183,Homework!D:J,2,FALSE)=\"'s \",RIGHT(G183,1)=\"s\"),\"' \",IF(VLOOKUP(BD183,Homework!D:J,2,FALSE)=\"'s \",\"'s \",\" \"))","v":{"$error":"#N/A"}},{"$f":"IF(BA183=0,\"\",IF(I183=\"F\",\" \"&G183&BE183&VLOOKUP(BD183,Homework!D:J,3,FALSE),\" \"&G183&BE183&VLOOKUP(BD183,Homework!D:J,5,FALSE)))","v":{"$error":"#N/A"}},null,null,null,null,null,null,null,null," ",{"$f":"VLOOKUP(BO183,Code!$B$45:$D$48,2,FALSE)","v":{"$error":"#N/A"}},{"$f":"VLOOKUP(BO183,Code!$B$45:$D$48,3,FALSE)","v":{"$error":"#N/A"}},{"$error":"#N/A"},null,"pen","pencil","ruler",null,null,"",""," ",null,175,{"$f":"HLOOKUP(Report!CC183,Behaviour!$H$2:$K$3,2,FALSE)","v":{"$error":"#N/A"}},{"$error":"#N/A"},{"$f":"CE183+VLOOKUP(CC183,Code!$B$2:$C$6,2,FALSE)","v":{"$error":"#N/A"}},{"$f":"IF(CC183=0,\"\",IF(I183=\"F\",AC183&\" \"&VLOOKUP(CF183,Behaviour!D:I,2,FALSE)&\" \",AC183&\" \"&VLOOKUP(CF183,Behaviour!D:I,4,FALSE)&\" \"))","v":{"$error":"#N/A"}},null,null," ",null,{"$f":"IF(CJ183=0,\"\",VLOOKUP(CJ183,Code!$B$59:$D$61,2,FALSE))","v":{"$error":"#N/A"}},{"$f":"IF(CJ183=0,\"\",VLOOKUP(CJ183,Code!$B$59:$D$61,3,FALSE))","v":{"$error":"#N/A"}},{"$error":"#N/A"},{"$error":"#N/A"},{"$error":"#N/A"},{"$error":"#N/A"},"",null,null,"",null,null,"",{"$error":"#VALUE!"},null,null," ",{"$error":"#VALUE!"},{"$f":"VLOOKUP(Report!DC183,Code!$B$24:$C$32,2,FALSE)","v":{"$error":"#VALUE!"}},{"$f":"VLOOKUP(Report!DC183,Code!$B$24:$D$32,3,FALSE)","v":{"$error":"#VALUE!"}},{"$error":"#VALUE!"},{"$error":"#VALUE!"},{"$error":"#VALUE!"},null,null,null,null,null,null," ",{"$f":"VLOOKUP(Report!DO183,Code!$B$40:$D$42,2,FALSE)","v":{"$error":"#N/A"}},{"$f":"VLOOKUP(Report!DO183,Code!$B$40:$D$42,3,FALSE)","v":{"$error":"#N/A"}},{"$error":"#N/A"},null,{"$error":"#N/A"},"number","measures","standard form ","",null,null,null,null,"",""]
[null,null,null,null,null,null,null,null,null,null,null,null,null,null,null,null,null,null,null,null,"Type_2",null,{"$error":"#N/A"},null,{"$error":"#N/A"},{"$error":"#N/A"},null,"he","He","his","His",null,null," ",{"$f":"HLOOKUP(Report!AH184,Person!$H$2:$L$3,2,FALSE)","v":{"$error":"#N/A"}},{"$error":"#N/A"},{"$f":"IF(AH184=0,\"\",AJ184+VLOOKUP(AH184,Code!$B$2:$C$6,2,FALSE))","v":{"$error":"#N/A"}},{"$f":"IF(AH184=0,\"\",IF(I184=\"F\",G184&\" \"&VLOOKUP(AK184,Person!D:I,2,FALSE),G184&\" \"&VLOOKUP(AK184,Person!D:I,4,FALSE)))","v":{"$error":"#N/A"}},null,null,null,null,null,null,null,2,{"$f":"VLOOKUP(AT184,Code!$B$51:$D$55,2,FALSE)","v":"Behaviour_1"},{"$f":"RANDBETWEEN(1,VLOOKUP(AT184,Code!$B$51:$D$55,3,FALSE))","v":2},null," d",null,null," ",{"$f":"HLOOKUP(Report!BA184,Homework!$I$2:$L$3,2,FALSE)","v":{"$error":"#N/A"}},{"$error":"#N/A"},{"$f":"IF(BA184=0,\"\",BC184+VLOOKUP(BA184,Code!$B$2:$C$6,2,FALSE))","v":{"$error":"#N/A"}},{"$f":"IF(AND(VLOOKUP(BD184,Homework!D:J,2,FALSE)=\"'s \",RIGHT(G184,1)=\"s\"),\"' \",IF(VLOOKUP(BD184,Homework!D:J,2,FALSE)=\"'s \",\"'s \",\" \"))","v":{"$error":"#N/A"}},{"$f":"IF(BA184=0,\"\",IF(I184=\"F\",\" \"&G184&BE184&VLOOKUP(BD184,Homework!D:J,3,FALSE),\" \"&G184&BE184&VLOOKUP(BD184,Homework!D:J,5,FALSE)))","v":{"$error":"#N/A"}},null,null,null,null,null,null,null,null," ",{"$f":"VLOOKUP(BO184,Code!$B$45:$D$48,2,FALSE)","v":{"$error":"#N/A"}},{"$f":"VLOOKUP(BO184,Code!$B$45:$D$48,3,FALSE)","v":{"$error":"#N/A"}},{"$error":"#N/A"},null,"pen","pencil","ruler",null,null,"",""," ",null,176,{"$f":"HLOOKUP(Report!CC184,Behaviour!$H$2:$K$3,2,FALSE)","v":{"$error":"#N/A"}},{"$error":"#N/A"},{"$f":"CE184+VLOOKUP(CC184,Code!$B$2:$C$6,2,FALSE)","v":{"$error":"#N/A"}},{"$f":"IF(CC184=0,\"\",IF(I184=\"F\",AC184&\" \"&VLOOKUP(CF184,Behaviour!D:I,2,FALSE)&\" \",AC184&\" \"&VLOOKUP(CF184,Behaviour!D:I,4,FALSE)&\" \"))","v":{"$error":"#N/A"}},null,null," ",null,{"$f":"IF(CJ184=0,\"\",VLOOKUP(CJ184,Code!$B$59:$D$61,2,FALSE))","v":{"$error":"#N/A"}},{"$f":"IF(CJ184=0,\"\",VLOOKUP(CJ184,Code!$B$59:$D$61,3,FALSE))","v":{"$error":"#N/A"}},{"$error":"#N/A"},{"$error":"#N/A"},{"$error":"#N/A"},{"$error":"#N/A"},"",null,null,"",null,null,"",{"$error":"#VALUE!"},null,null," ",{"$error":"#VALUE!"},{"$f":"VLOOKUP(Report!DC184,Code!$B$24:$C$32,2,FALSE)","v":{"$error":"#VALUE!"}},{"$f":"VLOOKUP(Report!DC184,Code!$B$24:$D$32,3,FALSE)","v":{"$error":"#VALUE!"}},{"$error":"#VALUE!"},{"$error":"#VALUE!"},{"$error":"#VALUE!"},null,null,null,null,null,null," ",{"$f":"VLOOKUP(Report!DO184,Code!$B$40:$D$42,2,FALSE)","v":{"$error":"#N/A"}},{"$f":"VLOOKUP(Report!DO184,Code!$B$40:$D$42,3,FALSE)","v":{"$error":"#N/A"}},{"$error":"#N/A"},null,{"$error":"#N/A"},"number","measures","standard form ","",null,null,null,null,"",""]
[null,null,null,null,null,null,null,null,null,null,null,null,null,null,null,null,null,null,null,null,"Type_2",null,{"$error":"#N/A"},null,{"$error":"#N/A"},{"$error":"#N/A"},null,"he","He","his","His",null,null," ",{"$f":"HLOOKUP(Report!AH185,Person!$H$2:$L$3,2,FALSE)","v":{"$error":"#N/A"}},{"$error":"#N/A"},{"$f":"IF(AH185=0,\"\",AJ185+VLOOKUP(AH185,Code!$B$2:$C$6,2,FALSE))","v":{"$error":"#N/A"}},{"$f":"IF(AH185=0,\"\",IF(I185=\"F\",G185&\" \"&VLOOKUP(AK185,Person!D:I,2,FALSE),G185&\" \"&VLOOKUP(AK185,Person!D:I,4,FALSE)))","v":{"$error":"#N/A"}},null,null,null,null,null,null,null,2,{"$f":"VLOOKUP(AT185,Code!$B$51:$D$55,2,FALSE)","v":"Behaviour_1"},{"$f":"RANDBETWEEN(1,VLOOKUP(AT185,Code!$B$51:$D$55,3,FALSE))","v":1},null," d",null,null," ",{"$f":"HLOOKUP(Report!BA185,Homework!$I$2:$L$3,2,FALSE)","v":{"$error":"#N/A"}},{"$error":"#N/A"},{"$f":"IF(BA185=0,\"\",BC185+VLOOKUP(BA185,Code!$B$2:$C$6,2,FALSE))","v":{"$error":"#N/A"}},{"$f":"IF(AND(VLOOKUP(BD185,Homework!D:J,2,FALSE)=\"'s \",RIGHT(G185,1)=\"s\"),\"' \",IF(VLOOKUP(BD185,Homework!D:J,2,FALSE)=\"'s \",\"'s \",\" \"))","v":{"$error":"#N/A"}},{"$f":"IF(BA185=0,\"\",IF(I185=\"F\",\" \"&G185&BE185&VLOOKUP(BD185,Homework!D:J,3,FALSE),\" \"&G185&BE185&VLOOKUP(BD185,Homework!D:J,5,FALSE)))","v":{"$error":"#N/A"}},null,null,null,null,null,null,null,null," ",{"$f":"VLOOKUP(BO185,Code!$B$45:$D$48,2,FALSE)","v":{"$error":"#N/A"}},{"$f":"VLOOKUP(BO185,Code!$B$45:$D$48,3,FALSE)","v":{"$error":"#N/A"}},{"$error":"#N/A"},null,"pen","pencil","ruler",null,null,"",""," ",null,177,{"$f":"HLOOKUP(Report!CC185,Behaviour!$H$2:$K$3,2,FALSE)","v":{"$error":"#N/A"}},{"$error":"#N/A"},{"$f":"CE185+VLOOKUP(CC185,Code!$B$2:$C$6,2,FALSE)","v":{"$error":"#N/A"}},{"$f":"IF(CC185=0,\"\",IF(I185=\"F\",AC185&\" \"&VLOOKUP(CF185,Behaviour!D:I,2,FALSE)&\" \",AC185&\" \"&VLOOKUP(CF185,Behaviour!D:I,4,FALSE)&\" \"))","v":{"$error":"#N/A"}},null,null," ",null,{"$f":"IF(CJ185=0,\"\",VLOOKUP(CJ185,Code!$B$59:$D$61,2,FALSE))","v":{"$error":"#N/A"}},{"$f":"IF(CJ185=0,\"\",VLOOKUP(CJ185,Code!$B$59:$D$61,3,FALSE))","v":{"$error":"#N/A"}},{"$error":"#N/A"},{"$error":"#N/A"},{"$error":"#N/A"},{"$error":"#N/A"},"",null,null,"",null,null,"",{"$error":"#VALUE!"},null,null," ",{"$error":"#VALUE!"},{"$f":"VLOOKUP(Report!DC185,Code!$B$24:$C$32,2,FALSE)","v":{"$error":"#VALUE!"}},{"$f":"VLOOKUP(Report!DC185,Code!$B$24:$D$32,3,FALSE)","v":{"$error":"#VALUE!"}},{"$error":"#VALUE!"},{"$error":"#VALUE!"},{"$error":"#VALUE!"},null,null,null,null,null,null," ",{"$f":"VLOOKUP(Report!DO185,Code!$B$40:$D$42,2,FALSE)","v":{"$error":"#N/A"}},{"$f":"VLOOKUP(Report!DO185,Code!$B$40:$D$42,3,FALSE)","v":{"$error":"#N/A"}},{"$error":"#N/A"},null,{"$error":"#N/A"},"number","measures","standard form ","",null,null,null,null,"",""]
[null,null,null,null,null,null,null,null,null,null,null,null,null,null,null,null,null,null,null,null,"Type_2",null,{"$error":"#N/A"},null,{"$error":"#N/A"},{"$error":"#N/A"},null,"he","He","his","His",null,null," ",{"$f":"HLOOKUP(Report!AH186,Person!$H$2:$L$3,2,FALSE)","v":{"$error":"#N/A"}},{"$error":"#N/A"},{"$f":"IF(AH186=0,\"\",AJ186+VLOOKUP(AH186,Code!$B$2:$C$6,2,FALSE))","v":{"$error":"#N/A"}},{"$f":"IF(AH186=0,\"\",IF(I186=\"F\",G186&\" \"&VLOOKUP(AK186,Person!D:I,2,FALSE),G186&\" \"&VLOOKUP(AK186,Person!D:I,4,FALSE)))","v":{"$error":"#N/A"}},null,null,null,null,null,null,null,2,{"$f":"VLOOKUP(AT186,Code!$B$51:$D$55,2,FALSE)","v":"Behaviour_1"},{"$f":"RANDBETWEEN(1,VLOOKUP(AT186,Code!$B$51:$D$55,3,FALSE))","v":2},null," d",null,null," ",{"$f":"HLOOKUP(Report!BA186,Homework!$I$2:$L$3,2,FALSE)","v":{"$error":"#N/A"}},{"$error":"#N/A"},{"$f":"IF(BA186=0,\"\",BC186+VLOOKUP(BA186,Code!$B$2:$C$6,2,FALSE))","v":{"$error":"#N/A"}},{"$f":"IF(AND(VLOOKUP(BD186,Homework!D:J,2,FALSE)=\"'s \",RIGHT(G186,1)=\"s\"),\"' \",IF(VLOOKUP(BD186,Homework!D:J,2,FALSE)=\"'s \",\"'s \",\" \"))","v":{"$error":"#N/A"}},{"$f":"IF(BA186=0,\"\",IF(I186=\"F\",\" \"&G186&BE186&VLOOKUP(BD186,Homework!D:J,3,FALSE),\" \"&G186&BE186&VLOOKUP(BD186,Homework!D:J,5,FALSE)))","v":{"$error":"#N/A"}},null,null,null,null,null,null,null,null," ",{"$f":"VLOOKUP(BO186,Code!$B$45:$D$48,2,FALSE)","v":{"$error":"#N/A"}},{"$f":"VLOOKUP(BO186,Code!$B$45:$D$48,3,FALSE)","v":{"$error":"#N/A"}},{"$error":"#N/A"},null,"pen","pencil","ruler",null,null,"",""," ",null,178,{"$f":"HLOOKUP(Report!CC186,Behaviour!$H$2:$K$3,2,FALSE)","v":{"$error":"#N/A"}},{"$error":"#N/A"},{"$f":"CE186+VLOOKUP(CC186,Code!$B$2:$C$6,2,FALSE)","v":{"$error":"#N/A"}},{"$f":"IF(CC186=0,\"\",IF(I186=\"F\",AC186&\" \"&VLOOKUP(CF186,Behaviour!D:I,2,FALSE)&\" \",AC186&\" \"&VLOOKUP(CF186,Behaviour!D:I,4,FALSE)&\" \"))","v":{"$error":"#N/A"}},null,null," ",null,{"$f":"IF(CJ186=0,\"\",VLOOKUP(CJ186,Code!$B$59:$D$61,2,FALSE))","v":{"$error":"#N/A"}},{"$f":"IF(CJ186=0,\"\",VLOOKUP(CJ186,Code!$B$59:$D$61,3,FALSE))","v":{"$error":"#N/A"}},{"$error":"#N/A"},{"$error":"#N/A"},{"$error":"#N/A"},{"$error":"#N/A"},"",null,null,"",null,null,"",{"$error":"#VALUE!"},null,null," ",{"$error":"#VALUE!"},{"$f":"VLOOKUP(Report!DC186,Code!$B$24:$C$32,2,FALSE)","v":{"$error":"#VALUE!"}},{"$f":"VLOOKUP(Report!DC186,Code!$B$24:$D$32,3,FALSE)","v":{"$error":"#VALUE!"}},{"$error":"#VALUE!"},{"$error":"#VALUE!"},{"$error":"#VALUE!"},null,null,null,null,null,null," ",{"$f":"VLOOKUP(Report!DO186,Code!$B$40:$D$42,2,FALSE)","v":{"$error":"#N/A"}},{"$f":"VLOOKUP(Report!DO186,Code!$B$40:$D$42,3,FALSE)","v":{"$error":"#N/A"}},{"$error":"#N/A"},null,{"$error":"#N/A"},"number","measures","standard form ","",null,null,null,null,"",""]
[null,null,null,null,null,null,null,null,null,null,null,null,null,null,null,null,null,null,null,null,"Type_2",null,{"$error":"#N/A"},null,{"$error":"#N/A"},{"$error":"#N/A"},null,"he","He","his","His",null,null," ",{"$f":"HLOOKUP(Report!AH187,Person!$H$2:$L$3,2,FALSE)","v":{"$error":"#N/A"}},{"$error":"#N/A"},{"$f":"IF(AH187=0,\"\",AJ187+VLOOKUP(AH187,Code!$B$2:$C$6,2,FALSE))","v":{"$error":"#N/A"}},{"$f":"IF(AH187=0,\"\",IF(I187=\"F\",G187&\" \"&VLOOKUP(AK187,Person!D:I,2,FALSE),G187&\" \"&VLOOKUP(AK187,Person!D:I,4,FALSE)))","v":{"$error":"#N/A"}},null,null,null,null,null,null,null,2,{"$f":"VLOOKUP(AT187,Code!$B$51:$D$55,2,FALSE)","v":"Behaviour_1"},{"$f":"RANDBETWEEN(1,VLOOKUP(AT187,Code!$B$51:$D$55,3,FALSE))","v":1},null," d",null,null," ",{"$f":"HLOOKUP(Report!BA187,Homework!$I$2:$L$3,2,FALSE)","v":{"$error":"#N/A"}},{"$error":"#N/A"},{"$f":"IF(BA187=0,\"\",BC187+VLOOKUP(BA187,Code!$B$2:$C$6,2,FALSE))","v":{"$error":"#N/A"}},{"$f":"IF(AND(VLOOKUP(BD187,Homework!D:J,2,FALSE)=\"'s \",RIGHT(G187,1)=\"s\"),\"' \",IF(VLOOKUP(BD187,Homework!D:J,2,FALSE)=\"'s \",\"'s \",\" \"))","v":{"$error":"#N/A"}},{"$f":"IF(BA187=0,\"\",IF(I187=\"F\",\" \"&G187&BE187&VLOOKUP(BD187,Homework!D:J,3,FALSE),\" \"&G187&BE187&VLOOKUP(BD187,Homework!D:J,5,FALSE)))","v":{"$error":"#N/A"}},null,null,null,null,null,null,null,null," ",{"$f":"VLOOKUP(BO187,Code!$B$45:$D$48,2,FALSE)","v":{"$error":"#N/A"}},{"$f":"VLOOKUP(BO187,Code!$B$45:$D$48,3,FALSE)","v":{"$error":"#N/A"}},{"$error":"#N/A"},null,"pen","pencil","ruler",null,null,"",""," ",null,179,{"$f":"HLOOKUP(Report!CC187,Behaviour!$H$2:$K$3,2,FALSE)","v":{"$error":"#N/A"}},{"$error":"#N/A"},{"$f":"CE187+VLOOKUP(CC187,Code!$B$2:$C$6,2,FALSE)","v":{"$error":"#N/A"}},{"$f":"IF(CC187=0,\"\",IF(I187=\"F\",AC187&\" \"&VLOOKUP(CF187,Behaviour!D:I,2,FALSE)&\" \",AC187&\" \"&VLOOKUP(CF187,Behaviour!D:I,4,FALSE)&\" \"))","v":{"$error":"#N/A"}},null,null," ",null,{"$f":"IF(CJ187=0,\"\",VLOOKUP(CJ187,Code!$B$59:$D$61,2,FALSE))","v":{"$error":"#N/A"}},{"$f":"IF(CJ187=0,\"\",VLOOKUP(CJ187,Code!$B$59:$D$61,3,FALSE))","v":{"$error":"#N/A"}},{"$error":"#N/A"},{"$error":"#N/A"},{"$error":"#N/A"},{"$error":"#N/A"},"",null,null,"",null,null,"",{"$error":"#VALUE!"},null,null," ",{"$error":"#VALUE!"},{"$f":"VLOOKUP(Report!DC187,Code!$B$24:$C$32,2,FALSE)","v":{"$error":"#VALUE!"}},{"$f":"VLOOKUP(Report!DC187,Code!$B$24:$D$32,3,FALSE)","v":{"$error":"#VALUE!"}},{"$error":"#VALUE!"},{"$error":"#VALUE!"},{"$error":"#VALUE!"},null,null,null,null,null,null," ",{"$f":"VLOOKUP(Report!DO187,Code!$B$40:$D$42,2,FALSE)","v":{"$error":"#N/A"}},{"$f":"VLOOKUP(Report!DO187,Code!$B$40:$D$42,3,FALSE)","v":{"$error":"#N/A"}},{"$error":"#N/A"},null,{"$error":"#N/A"},"number","measures","standard form ","",null,null,null,null,"",""]
[null,null,null,null,null,null,null,null,null,null,null,null,null,null,null,null,null,null,null,null,"Type_2",null,{"$error":"#N/A"},null,{"$error":"#N/A"},{"$error":"#N/A"},null,"he","He","his","His",null,null," ",{"$f":"HLOOKUP(Report!AH188,Person!$H$2:$L$3,2,FALSE)","v":{"$error":"#N/A"}},{"$error":"#N/A"},{"$f":"IF(AH188=0,\"\",AJ188+VLOOKUP(AH188,Code!$B$2:$C$6,2,FALSE))","v":{"$error":"#N/A"}},{"$f":"IF(AH188=0,\"\",IF(I188=\"F\",G188&\" \"&VLOOKUP(AK188,Person!D:I,2,FALSE),G188&\" \"&VLOOKUP(AK188,Person!D:I,4,FALSE)))","v":{"$error":"#N/A"}},null,null,null,null,null,null,null,2,{"$f":"VLOOKUP(AT188,Code!$B$51:$D$55,2,FALSE)","v":"Behaviour_1"},{"$f":"RANDBETWEEN(1,VLOOKUP(AT188,Code!$B$51:$D$55,3,FALSE))","v":1},null," d",null,null," ",{"$f":"HLOOKUP(Report!BA188,Homework!$I$2:$L$3,2,FALSE)","v":{"$error":"#N/A"}},{"$error":"#N/A"},{"$f":"IF(BA188=0,\"\",BC188+VLOOKUP(BA188,Code!$B$2:$C$6,2,FALSE))","v":{"$error":"#N/A"}},{"$f":"IF(AND(VLOOKUP(BD188,Homework!D:J,2,FALSE)=\"'s \",RIGHT(G188,1)=\"s\"),\"' \",IF(VLOOKUP(BD188,Homework!D:J,2,FALSE)=\"'s \",\"'s \",\" \"))","v":{"$error":"#N/A"}},{"$f":"IF(BA188=0,\"\",IF(I188=\"F\",\" \"&G188&BE188&VLOOKUP(BD188,Homework!D:J,3,FALSE),\" \"&G188&BE188&VLOOKUP(BD188,Homework!D:J,5,FALSE)))","v":{"$error":"#N/A"}},null,null,null,null,null,null,null,null," ",{"$f":"VLOOKUP(BO188,Code!$B$45:$D$48,2,FALSE)","v":{"$error":"#N/A"}},{"$f":"VLOOKUP(BO188,Code!$B$45:$D$48,3,FALSE)","v":{"$error":"#N/A"}},{"$error":"#N/A"},null,"pen","pencil","ruler",null,null,"",""," ",null,180,{"$f":"HLOOKUP(Report!CC188,Behaviour!$H$2:$K$3,2,FALSE)","v":{"$error":"#N/A"}},{"$error":"#N/A"},{"$f":"CE188+VLOOKUP(CC188,Code!$B$2:$C$6,2,FALSE)","v":{"$error":"#N/A"}},{"$f":"IF(CC188=0,\"\",IF(I188=\"F\",AC188&\" \"&VLOOKUP(CF188,Behaviour!D:I,2,FALSE)&\" \",AC188&\" \"&VLOOKUP(CF188,Behaviour!D:I,4,FALSE)&\" \"))","v":{"$error":"#N/A"}},null,null," ",null,{"$f":"IF(CJ188=0,\"\",VLOOKUP(CJ188,Code!$B$59:$D$61,2,FALSE))","v":{"$error":"#N/A"}},{"$f":"IF(CJ188=0,\"\",VLOOKUP(CJ188,Code!$B$59:$D$61,3,FALSE))","v":{"$error":"#N/A"}},{"$error":"#N/A"},{"$error":"#N/A"},{"$error":"#N/A"},{"$error":"#N/A"},"",null,null,"",null,null,"",{"$error":"#VALUE!"},null,null," ",{"$error":"#VALUE!"},{"$f":"VLOOKUP(Report!DC188,Code!$B$24:$C$32,2,FALSE)","v":{"$error":"#VALUE!"}},{"$f":"VLOOKUP(Report!DC188,Code!$B$24:$D$32,3,FALSE)","v":{"$error":"#VALUE!"}},{"$error":"#VALUE!"},{"$error":"#VALUE!"},{"$error":"#VALUE!"},null,null,null,null,null,null," ",{"$f":"VLOOKUP(Report!DO188,Code!$B$40:$D$42,2,FALSE)","v":{"$error":"#N/A"}},{"$f":"VLOOKUP(Report!DO188,Code!$B$40:$D$42,3,FALSE)","v":{"$error":"#N/A"}},{"$error":"#N/A"},null,{"$error":"#N/A"},"number","measures","standard form ","",null,null,null,null,"",""]
[null,null,null,null,null,null,null,null,null,null,null,null,null,null,null,null,null,null,null,null,"Type_2",null,{"$error":"#N/A"},null,{"$error":"#N/A"},{"$error":"#N/A"},null,"he","He","his","His",null,null," ",{"$f":"HLOOKUP(Report!AH189,Person!$H$2:$L$3,2,FALSE)","v":{"$error":"#N/A"}},{"$error":"#N/A"},{"$f":"IF(AH189=0,\"\",AJ189+VLOOKUP(AH189,Code!$B$2:$C$6,2,FALSE))","v":{"$error":"#N/A"}},{"$f":"IF(AH189=0,\"\",IF(I189=\"F\",G189&\" \"&VLOOKUP(AK189,Person!D:I,2,FALSE),G189&\" \"&VLOOKUP(AK189,Person!D:I,4,FALSE)))","v":{"$error":"#N/A"}},null,null,null,null,null,null,null,2,{"$f":"VLOOKUP(AT189,Code!$B$51:$D$55,2,FALSE)","v":"Behaviour_1"},{"$f":"RANDBETWEEN(1,VLOOKUP(AT189,Code!$B$51:$D$55,3,FALSE))","v":1},null," d",null,null," ",{"$f":"HLOOKUP(Report!BA189,Homework!$I$2:$L$3,2,FALSE)","v":{"$error":"#N/A"}},{"$error":"#N/A"},{"$f":"IF(BA189=0,\"\",BC189+VLOOKUP(BA189,Code!$B$2:$C$6,2,FALSE))","v":{"$error":"#N/A"}},{"$f":"IF(AND(VLOOKUP(BD189,Homework!D:J,2,FALSE)=\"'s \",RIGHT(G189,1)=\"s\"),\"' \",IF(VLOOKUP(BD189,Homework!D:J,2,FALSE)=\"'s \",\"'s \",\" \"))","v":{"$error":"#N/A"}},{"$f":"IF(BA189=0,\"\",IF(I189=\"F\",\" \"&G189&BE189&VLOOKUP(BD189,Homework!D:J,3,FALSE),\" \"&G189&BE189&VLOOKUP(BD189,Homework!D:J,5,FALSE)))","v":{"$error":"#N/A"}},null,null,null,null,null,null,null,null," ",{"$f":"VLOOKUP(BO189,Code!$B$45:$D$48,2,FALSE)","v":{"$error":"#N/A"}},{"$f":"VLOOKUP(BO189,Code!$B$45:$D$48,3,FALSE)","v":{"$error":"#N/A"}},{"$error":"#N/A"},null,"pen","pencil","ruler",null,null,"",""," ",null,181,{"$f":"HLOOKUP(Report!CC189,Behaviour!$H$2:$K$3,2,FALSE)","v":{"$error":"#N/A"}},{"$error":"#N/A"},{"$f":"CE189+VLOOKUP(CC189,Code!$B$2:$C$6,2,FALSE)","v":{"$error":"#N/A"}},{"$f":"IF(CC189=0,\"\",IF(I189=\"F\",AC189&\" \"&VLOOKUP(CF189,Behaviour!D:I,2,FALSE)&\" \",AC189&\" \"&VLOOKUP(CF189,Behaviour!D:I,4,FALSE)&\" \"))","v":{"$error":"#N/A"}},null,null," ",null,{"$f":"IF(CJ189=0,\"\",VLOOKUP(CJ189,Code!$B$59:$D$61,2,FALSE))","v":{"$error":"#N/A"}},{"$f":"IF(CJ189=0,\"\",VLOOKUP(CJ189,Code!$B$59:$D$61,3,FALSE))","v":{"$error":"#N/A"}},{"$error":"#N/A"},{"$error":"#N/A"},{"$error":"#N/A"},{"$error":"#N/A"},"",null,null,"",null,null,"",{"$error":"#VALUE!"},null,null," ",{"$error":"#VALUE!"},{"$f":"VLOOKUP(Report!DC189,Code!$B$24:$C$32,2,FALSE)","v":{"$error":"#VALUE!"}},{"$f":"VLOOKUP(Report!DC189,Code!$B$24:$D$32,3,FALSE)","v":{"$error":"#VALUE!"}},{"$error":"#VALUE!"},{"$error":"#VALUE!"},{"$error":"#VALUE!"},null,null,null,null,null,null," ",{"$f":"VLOOKUP(Report!DO189,Code!$B$40:$D$42,2,FALSE)","v":{"$error":"#N/A"}},{"$f":"VLOOKUP(Report!DO189,Code!$B$40:$D$42,3,FALSE)","v":{"$error":"#N/A"}},{"$error":"#N/A"},null,{"$error":"#N/A"},"number","measures","standard form ","",null,null,null,null,"",""]
[null,null,null,null,null,null,null,null,null,null,null,null,null,null,null,null,null,null,null,null,"Type_2",null,{"$error":"#N/A"},null,{"$error":"#N/A"},{"$error":"#N/A"},null,"he","He","his","His",null,null," ",{"$f":"HLOOKUP(Report!AH190,Person!$H$2:$L$3,2,FALSE)","v":{"$error":"#N/A"}},{"$error":"#N/A"},{"$f":"IF(AH190=0,\"\",AJ190+VLOOKUP(AH190,Code!$B$2:$C$6,2,FALSE))","v":{"$error":"#N/A"}},{"$f":"IF(AH190=0,\"\",IF(I190=\"F\",G190&\" \"&VLOOKUP(AK190,Person!D:I,2,FALSE),G190&\" \"&VLOOKUP(AK190,Person!D:I,4,FALSE)))","v":{"$error":"#N/A"}},null,null,null,null,null,null,null,2,{"$f":"VLOOKUP(AT190,Code!$B$51:$D$55,2,FALSE)","v":"Behaviour_1"},{"$f":"RANDBETWEEN(1,VLOOKUP(AT190,Code!$B$51:$D$55,3,FALSE))","v":1},null," d",null,null," ",{"$f":"HLOOKUP(Report!BA190,Homework!$I$2:$L$3,2,FALSE)","v":{"$error":"#N/A"}},{"$error":"#N/A"},{"$f":"IF(BA190=0,\"\",BC190+VLOOKUP(BA190,Code!$B$2:$C$6,2,FALSE))","v":{"$error":"#N/A"}},{"$f":"IF(AND(VLOOKUP(BD190,Homework!D:J,2,FALSE)=\"'s \",RIGHT(G190,1)=\"s\"),\"' \",IF(VLOOKUP(BD190,Homework!D:J,2,FALSE)=\"'s \",\"'s \",\" \"))","v":{"$error":"#N/A"}},{"$f":"IF(BA190=0,\"\",IF(I190=\"F\",\" \"&G190&BE190&VLOOKUP(BD190,Homework!D:J,3,FALSE),\" \"&G190&BE190&VLOOKUP(BD190,Homework!D:J,5,FALSE)))","v":{"$error":"#N/A"}},null,null,null,null,null,null,null,null," ",{"$f":"VLOOKUP(BO190,Code!$B$45:$D$48,2,FALSE)","v":{"$error":"#N/A"}},{"$f":"VLOOKUP(BO190,Code!$B$45:$D$48,3,FALSE)","v":{"$error":"#N/A"}},{"$error":"#N/A"},null,"pen","pencil","ruler",null,null,"",""," ",null,182,{"$f":"HLOOKUP(Report!CC190,Behaviour!$H$2:$K$3,2,FALSE)","v":{"$error":"#N/A"}},{"$error":"#N/A"},{"$f":"CE190+VLOOKUP(CC190,Code!$B$2:$C$6,2,FALSE)","v":{"$error":"#N/A"}},{"$f":"IF(CC190=0,\"\",IF(I190=\"F\",AC190&\" \"&VLOOKUP(CF190,Behaviour!D:I,2,FALSE)&\" \",AC190&\" \"&VLOOKUP(CF190,Behaviour!D:I,4,FALSE)&\" \"))","v":{"$error":"#N/A"}},null,null," ",null,{"$f":"IF(CJ190=0,\"\",VLOOKUP(CJ190,Code!$B$59:$D$61,2,FALSE))","v":{"$error":"#N/A"}},{"$f":"IF(CJ190=0,\"\",VLOOKUP(CJ190,Code!$B$59:$D$61,3,FALSE))","v":{"$error":"#N/A"}},{"$error":"#N/A"},{"$error":"#N/A"},{"$error":"#N/A"},{"$error":"#N/A"},"",null,null,"",null,null,"",{"$error":"#VALUE!"},null,null," ",{"$error":"#VALUE!"},{"$f":"VLOOKUP(Report!DC190,Code!$B$24:$C$32,2,FALSE)","v":{"$error":"#VALUE!"}},{"$f":"VLOOKUP(Report!DC190,Code!$B$24:$D$32,3,FALSE)","v":{"$error":"#VALUE!"}},{"$error":"#VALUE!"},{"$error":"#VALUE!"},{"$error":"#VALUE!"},null,null,null,null,null,null," ",{"$f":"VLOOKUP(Report!DO190,Code!$B$40:$D$42,2,FALSE)","v":{"$error":"#N/A"}},{"$f":"VLOOKUP(Report!DO190,Code!$B$40:$D$42,3,FALSE)","v":{"$error":"#N/A"}},{"$error":"#N/A"},null,{"$error":"#N/A"},"number","measures","standard form ","",null,null,null,null,"",""]
[null,null,null,null,null,null,null,null,null,null,null,null,null,null,null,null,null,null,null,null,"Type_2",null,{"$error":"#N/A"},null,{"$error":"#N/A"},{"$error":"#N/A"},null,"he","He","his","His",null,null," ",{"$f":"HLOOKUP(Report!AH191,Person!$H$2:$L$3,2,FALSE)","v":{"$error":"#N/A"}},{"$error":"#N/A"},{"$f":"IF(AH191=0,\"\",AJ191+VLOOKUP(AH191,Code!$B$2:$C$6,2,FALSE))","v":{"$error":"#N/A"}},{"$f":"IF(AH191=0,\"\",IF(I191=\"F\",G191&\" \"&VLOOKUP(AK191,Person!D:I,2,FALSE),G191&\" \"&VLOOKUP(AK191,Person!D:I,4,FALSE)))","v":{"$error":"#N/A"}},null,null,null,null,null,null,null,2,{"$f":"VLOOKUP(AT191,Code!$B$51:$D$55,2,FALSE)","v":"Behaviour_1"},{"$f":"RANDBETWEEN(1,VLOOKUP(AT191,Code!$B$51:$D$55,3,FALSE))","v":2},null," d",null,null," ",{"$f":"HLOOKUP(Report!BA191,Homework!$I$2:$L$3,2,FALSE)","v":{"$error":"#N/A"}},{"$error":"#N/A"},{"$f":"IF(BA191=0,\"\",BC191+VLOOKUP(BA191,Code!$B$2:$C$6,2,FALSE))","v":{"$error":"#N/A"}},{"$f":"IF(AND(VLOOKUP(BD191,Homework!D:J,2,FALSE)=\"'s \",RIGHT(G191,1)=\"s\"),\"' \",IF(VLOOKUP(BD191,Homework!D:J,2,FALSE)=\"'s \",\"'s \",\" \"))","v":{"$error":"#N/A"}},{"$f":"IF(BA191=0,\"\",IF(I191=\"F\",\" \"&G191&BE191&VLOOKUP(BD191,Homework!D:J,3,FALSE),\" \"&G191&BE191&VLOOKUP(BD191,Homework!D:J,5,FALSE)))","v":{"$error":"#N/A"}},null,null,null,null,null,null,null,null," ",{"$f":"VLOOKUP(BO191,Code!$B$45:$D$48,2,FALSE)","v":{"$error":"#N/A"}},{"$f":"VLOOKUP(BO191,Code!$B$45:$D$48,3,FALSE)","v":{"$error":"#N/A"}},{"$error":"#N/A"},null,"pen","pencil","ruler",null,null,"",""," ",null,183,{"$f":"HLOOKUP(Report!CC191,Behaviour!$H$2:$K$3,2,FALSE)","v":{"$error":"#N/A"}},{"$error":"#N/A"},{"$f":"CE191+VLOOKUP(CC191,Code!$B$2:$C$6,2,FALSE)","v":{"$error":"#N/A"}},{"$f":"IF(CC191=0,\"\",IF(I191=\"F\",AC191&\" \"&VLOOKUP(CF191,Behaviour!D:I,2,FALSE)&\" \",AC191&\" \"&VLOOKUP(CF191,Behaviour!D:I,4,FALSE)&\" \"))","v":{"$error":"#N/A"}},null,null," ",null,{"$f":"IF(CJ191=0,\"\",VLOOKUP(CJ191,Code!$B$59:$D$61,2,FALSE))","v":{"$error":"#N/A"}},{"$f":"IF(CJ191=0,\"\",VLOOKUP(CJ191,Code!$B$59:$D$61,3,FALSE))","v":{"$error":"#N/A"}},{"$error":"#N/A"},{"$error":"#N/A"},{"$error":"#N/A"},{"$error":"#N/A"},"",null,null,"",null,null,"",{"$error":"#VALUE!"},null,null," ",{"$error":"#VALUE!"},{"$f":"VLOOKUP(Report!DC191,Code!$B$24:$C$32,2,FALSE)","v":{"$error":"#VALUE!"}},{"$f":"VLOOKUP(Report!DC191,Code!$B$24:$D$32,3,FALSE)","v":{"$error":"#VALUE!"}},{"$error":"#VALUE!"},{"$error":"#VALUE!"},{"$error":"#VALUE!"},null,null,null,null,null,null," ",{"$f":"VLOOKUP(Report!DO191,Code!$B$40:$D$42,2,FALSE)","v":{"$error":"#N/A"}},{"$f":"VLOOKUP(Report!DO191,Code!$B$40:$D$42,3,FALSE)","v":{"$error":"#N/A"}},{"$error":"#N/A"},null,{"$error":"#N/A"},"number","measures","standard form ","",null,null,null,null,"",""]
[null,null,null,null,null,null,null,null,null,null,null,null,null,null,null,null,null,null,null,null,"Type_2",null,{"$error":"#N/A"},null,{"$error":"#N/A"},{"$error":"#N/A"},null,"he","He","his","His",null,null," ",{"$f":"HLOOKUP(Report!AH192,Person!$H$2:$L$3,2,FALSE)","v":{"$error":"#N/A"}},{"$error":"#N/A"},{"$f":"IF(AH192=0,\"\",AJ192+VLOOKUP(AH192,Code!$B$2:$C$6,2,FALSE))","v":{"$error":"#N/A"}},{"$f":"IF(AH192=0,\"\",IF(I192=\"F\",G192&\" \"&VLOOKUP(AK192,Person!D:I,2,FALSE),G192&\" \"&VLOOKUP(AK192,Person!D:I,4,FALSE)))","v":{"$error":"#N/A"}},null,null,null,null,null,null,null,2,{"$f":"VLOOKUP(AT192,Code!$B$51:$D$55,2,FALSE)","v":"Behaviour_1"},{"$f":"RANDBETWEEN(1,VLOOKUP(AT192,Code!$B$51:$D$55,3,FALSE))","v":1},null," d",null,null," ",{"$f":"HLOOKUP(Report!BA192,Homework!$I$2:$L$3,2,FALSE)","v":{"$error":"#N/A"}},{"$error":"#N/A"},{"$f":"IF(BA192=0,\"\",BC192+VLOOKUP(BA192,Code!$B$2:$C$6,2,FALSE))","v":{"$error":"#N/A"}},{"$f":"IF(AND(VLOOKUP(BD192,Homework!D:J,2,FALSE)=\"'s \",RIGHT(G192,1)=\"s\"),\"' \",IF(VLOOKUP(BD192,Homework!D:J,2,FALSE)=\"'s \",\"'s \",\" \"))","v":{"$error":"#N/A"}},{"$f":"IF(BA192=0,\"\",IF(I192=\"F\",\" \"&G192&BE192&VLOOKUP(BD192,Homework!D:J,3,FALSE),\" \"&G192&BE192&VLOOKUP(BD192,Homework!D:J,5,FALSE)))","v":{"$error":"#N/A"}},null,null,null,null,null,null,null,null," ",{"$f":"VLOOKUP(BO192,Code!$B$45:$D$48,2,FALSE)","v":{"$error":"#N/A"}},{"$f":"VLOOKUP(BO192,Code!$B$45:$D$48,3,FALSE)","v":{"$error":"#N/A"}},{"$error":"#N/A"},null,"pen","pencil","ruler",null,null,"",""," ",null,184,{"$f":"HLOOKUP(Report!CC192,Behaviour!$H$2:$K$3,2,FALSE)","v":{"$error":"#N/A"}},{"$error":"#N/A"},{"$f":"CE192+VLOOKUP(CC192,Code!$B$2:$C$6,2,FALSE)","v":{"$error":"#N/A"}},{"$f":"IF(CC192=0,\"\",IF(I192=\"F\",AC192&\" \"&VLOOKUP(CF192,Behaviour!D:I,2,FALSE)&\" \",AC192&\" \"&VLOOKUP(CF192,Behaviour!D:I,4,FALSE)&\" \"))","v":{"$error":"#N/A"}},null,null," ",null,{"$f":"IF(CJ192=0,\"\",VLOOKUP(CJ192,Code!$B$59:$D$61,2,FALSE))","v":{"$error":"#N/A"}},{"$f":"IF(CJ192=0,\"\",VLOOKUP(CJ192,Code!$B$59:$D$61,3,FALSE))","v":{"$error":"#N/A"}},{"$error":"#N/A"},{"$error":"#N/A"},{"$error":"#N/A"},{"$error":"#N/A"},"",null,null,"",null,null,"",{"$error":"#VALUE!"},null,null," ",{"$error":"#VALUE!"},{"$f":"VLOOKUP(Report!DC192,Code!$B$24:$C$32,2,FALSE)","v":{"$error":"#VALUE!"}},{"$f":"VLOOKUP(Report!DC192,Code!$B$24:$D$32,3,FALSE)","v":{"$error":"#VALUE!"}},{"$error":"#VALUE!"},{"$error":"#VALUE!"},{"$error":"#VALUE!"},null,null,null,null,null,null," ",{"$f":"VLOOKUP(Report!DO192,Code!$B$40:$D$42,2,FALSE)","v":{"$error":"#N/A"}},{"$f":"VLOOKUP(Report!DO192,Code!$B$40:$D$42,3,FALSE)","v":{"$error":"#N/A"}},{"$error":"#N/A"},null,{"$error":"#N/A"},"number","measures","standard form ","",null,null,null,null,"",""]
[null,null,null,null,null,null,null,null,null,null,null,null,null,null,null,null,null,null,null,null,"Type_2",null,{"$error":"#N/A"},null,{"$error":"#N/A"},{"$error":"#N/A"},null,"he","He","his","His",null,null," ",{"$f":"HLOOKUP(Report!AH193,Person!$H$2:$L$3,2,FALSE)","v":{"$error":"#N/A"}},{"$error":"#N/A"},{"$f":"IF(AH193=0,\"\",AJ193+VLOOKUP(AH193,Code!$B$2:$C$6,2,FALSE))","v":{"$error":"#N/A"}},{"$f":"IF(AH193=0,\"\",IF(I193=\"F\",G193&\" \"&VLOOKUP(AK193,Person!D:I,2,FALSE),G193&\" \"&VLOOKUP(AK193,Person!D:I,4,FALSE)))","v":{"$error":"#N/A"}},null,null,null,null,null,null,null,2,{"$f":"VLOOKUP(AT193,Code!$B$51:$D$55,2,FALSE)","v":"Behaviour_1"},{"$f":"RANDBETWEEN(1,VLOOKUP(AT193,Code!$B$51:$D$55,3,FALSE))","v":1},null," d",null,null," ",{"$f":"HLOOKUP(Report!BA193,Homework!$I$2:$L$3,2,FALSE)","v":{"$error":"#N/A"}},{"$error":"#N/A"},{"$f":"IF(BA193=0,\"\",BC193+VLOOKUP(BA193,Code!$B$2:$C$6,2,FALSE))","v":{"$error":"#N/A"}},{"$f":"IF(AND(VLOOKUP(BD193,Homework!D:J,2,FALSE)=\"'s \",RIGHT(G193,1)=\"s\"),\"' \",IF(VLOOKUP(BD193,Homework!D:J,2,FALSE)=\"'s \",\"'s \",\" \"))","v":{"$error":"#N/A"}},{"$f":"IF(BA193=0,\"\",IF(I193=\"F\",\" \"&G193&BE193&VLOOKUP(BD193,Homework!D:J,3,FALSE),\" \"&G193&BE193&VLOOKUP(BD193,Homework!D:J,5,FALSE)))","v":{"$error":"#N/A"}},null,null,null,null,null,null,null,null," ",{"$f":"VLOOKUP(BO193,Code!$B$45:$D$48,2,FALSE)","v":{"$error":"#N/A"}},{"$f":"VLOOKUP(BO193,Code!$B$45:$D$48,3,FALSE)","v":{"$error":"#N/A"}},{"$error":"#N/A"},null,"pen","pencil","ruler",null,null,"",""," ",null,185,{"$f":"HLOOKUP(Report!CC193,Behaviour!$H$2:$K$3,2,FALSE)","v":{"$error":"#N/A"}},{"$error":"#N/A"},{"$f":"CE193+VLOOKUP(CC193,Code!$B$2:$C$6,2,FALSE)","v":{"$error":"#N/A"}},{"$f":"IF(CC193=0,\"\",IF(I193=\"F\",AC193&\" \"&VLOOKUP(CF193,Behaviour!D:I,2,FALSE)&\" \",AC193&\" \"&VLOOKUP(CF193,Behaviour!D:I,4,FALSE)&\" \"))","v":{"$error":"#N/A"}},null,null," ",null,{"$f":"IF(CJ193=0,\"\",VLOOKUP(CJ193,Code!$B$59:$D$61,2,FALSE))","v":{"$error":"#N/A"}},{"$f":"IF(CJ193=0,\"\",VLOOKUP(CJ193,Code!$B$59:$D$61,3,FALSE))","v":{"$error":"#N/A"}},{"$error":"#N/A"},{"$error":"#N/A"},{"$error":"#N/A"},{"$error":"#N/A"},"",null,null,"",null,null,"",{"$error":"#VALUE!"},null,null," ",{"$error":"#VALUE!"},{"$f":"VLOOKUP(Report!DC193,Code!$B$24:$C$32,2,FALSE)","v":{"$error":"#VALUE!"}},{"$f":"VLOOKUP(Report!DC193,Code!$B$24:$D$32,3,FALSE)","v":{"$error":"#VALUE!"}},{"$error":"#VALUE!"},{"$error":"#VALUE!"},{"$error":"#VALUE!"},null,null,null,null,null,null," ",{"$f":"VLOOKUP(Report!DO193,Code!$B$40:$D$42,2,FALSE)","v":{"$error":"#N/A"}},{"$f":"VLOOKUP(Report!DO193,Code!$B$40:$D$42,3,FALSE)","v":{"$error":"#N/A"}},{"$error":"#N/A"},null,{"$error":"#N/A"},"number","measures","standard form ","",null,null,null,null,"",""]
[null,null,null,null,null,null,null,null,null,null,null,null,null,null,null,null,null,null,null,null,"Type_2",null,{"$error":"#N/A"},null,{"$error":"#N/A"},{"$error":"#N/A"},null,"he","He","his","His",null,null," ",{"$f":"HLOOKUP(Report!AH194,Person!$H$2:$L$3,2,FALSE)","v":{"$error":"#N/A"}},{"$error":"#N/A"},{"$f":"IF(AH194=0,\"\",AJ194+VLOOKUP(AH194,Code!$B$2:$C$6,2,FALSE))","v":{"$error":"#N/A"}},{"$f":"IF(AH194=0,\"\",IF(I194=\"F\",G194&\" \"&VLOOKUP(AK194,Person!D:I,2,FALSE),G194&\" \"&VLOOKUP(AK194,Person!D:I,4,FALSE)))","v":{"$error":"#N/A"}},null,null,null,null,null,null,null,2,{"$f":"VLOOKUP(AT194,Code!$B$51:$D$55,2,FALSE)","v":"Behaviour_1"},{"$f":"RANDBETWEEN(1,VLOOKUP(AT194,Code!$B$51:$D$55,3,FALSE))","v":2},null," d",null,null," ",{"$f":"HLOOKUP(Report!BA194,Homework!$I$2:$L$3,2,FALSE)","v":{"$error":"#N/A"}},{"$error":"#N/A"},{"$f":"IF(BA194=0,\"\",BC194+VLOOKUP(BA194,Code!$B$2:$C$6,2,FALSE))","v":{"$error":"#N/A"}},{"$f":"IF(AND(VLOOKUP(BD194,Homework!D:J,2,FALSE)=\"'s \",RIGHT(G194,1)=\"s\"),\"' \",IF(VLOOKUP(BD194,Homework!D:J,2,FALSE)=\"'s \",\"'s \",\" \"))","v":{"$error":"#N/A"}},{"$f":"IF(BA194=0,\"\",IF(I194=\"F\",\" \"&G194&BE194&VLOOKUP(BD194,Homework!D:J,3,FALSE),\" \"&G194&BE194&VLOOKUP(BD194,Homework!D:J,5,FALSE)))","v":{"$error":"#N/A"}},null,null,null,null,null,null,null,null," ",{"$f":"VLOOKUP(BO194,Code!$B$45:$D$48,2,FALSE)","v":{"$error":"#N/A"}},{"$f":"VLOOKUP(BO194,Code!$B$45:$D$48,3,FALSE)","v":{"$error":"#N/A"}},{"$error":"#N/A"},null,"pen","pencil","ruler",null,null,"",""," ",null,186,{"$f":"HLOOKUP(Report!CC194,Behaviour!$H$2:$K$3,2,FALSE)","v":{"$error":"#N/A"}},{"$error":"#N/A"},{"$f":"CE194+VLOOKUP(CC194,Code!$B$2:$C$6,2,FALSE)","v":{"$error":"#N/A"}},{"$f":"IF(CC194=0,\"\",IF(I194=\"F\",AC194&\" \"&VLOOKUP(CF194,Behaviour!D:I,2,FALSE)&\" \",AC194&\" \"&VLOOKUP(CF194,Behaviour!D:I,4,FALSE)&\" \"))","v":{"$error":"#N/A"}},null,null," ",null,{"$f":"IF(CJ194=0,\"\",VLOOKUP(CJ194,Code!$B$59:$D$61,2,FALSE))","v":{"$error":"#N/A"}},{"$f":"IF(CJ194=0,\"\",VLOOKUP(CJ194,Code!$B$59:$D$61,3,FALSE))","v":{"$error":"#N/A"}},{"$error":"#N/A"},{"$error":"#N/A"},{"$error":"#N/A"},{"$error":"#N/A"},"",null,null,"",null,null,"",{"$error":"#VALUE!"},null,null," ",{"$error":"#VALUE!"},{"$f":"VLOOKUP(Report!DC194,Code!$B$24:$C$32,2,FALSE)","v":{"$error":"#VALUE!"}},{"$f":"VLOOKUP(Report!DC194,Code!$B$24:$D$32,3,FALSE)","v":{"$error":"#VALUE!"}},{"$error":"#VALUE!"},{"$error":"#VALUE!"},{"$error":"#VALUE!"},null,null,null,null,null,null," ",{"$f":"VLOOKUP(Report!DO194,Code!$B$40:$D$42,2,FALSE)","v":{"$error":"#N/A"}},{"$f":"VLOOKUP(Report!DO194,Code!$B$40:$D$42,3,FALSE)","v":{"$error":"#N/A"}},{"$error":"#N/A"},null,{"$error":"#N/A"},"number","measures","standard form ","",null,null,null,null,"",""]
[null,null,null,null,null,null,null,null,null,null,null,null,null,null,null,null,null,null,null,null,"Type_2",null,{"$error":"#N/A"},null,{"$error":"#N/A"},{"$error":"#N/A"},null,"he","He","his","His",null,null," ",{"$f":"HLOOKUP(Report!AH195,Person!$H$2:$L$3,2,FALSE)","v":{"$error":"#N/A"}},{"$error":"#N/A"},{"$f":"IF(AH195=0,\"\",AJ195+VLOOKUP(AH195,Code!$B$2:$C$6,2,FALSE))","v":{"$error":"#N/A"}},{"$f":"IF(AH195=0,\"\",IF(I195=\"F\",G195&\" \"&VLOOKUP(AK195,Person!D:I,2,FALSE),G195&\" \"&VLOOKUP(AK195,Person!D:I,4,FALSE)))","v":{"$error":"#N/A"}},null,null,null,null,null,null,null,2,{"$f":"VLOOKUP(AT195,Code!$B$51:$D$55,2,FALSE)","v":"Behaviour_1"},{"$f":"RANDBETWEEN(1,VLOOKUP(AT195,Code!$B$51:$D$55,3,FALSE))","v":1},null," d",null,null," ",{"$f":"HLOOKUP(Report!BA195,Homework!$I$2:$L$3,2,FALSE)","v":{"$error":"#N/A"}},{"$error":"#N/A"},{"$f":"IF(BA195=0,\"\",BC195+VLOOKUP(BA195,Code!$B$2:$C$6,2,FALSE))","v":{"$error":"#N/A"}},{"$f":"IF(AND(VLOOKUP(BD195,Homework!D:J,2,FALSE)=\"'s \",RIGHT(G195,1)=\"s\"),\"' \",IF(VLOOKUP(BD195,Homework!D:J,2,FALSE)=\"'s \",\"'s \",\" \"))","v":{"$error":"#N/A"}},{"$f":"IF(BA195=0,\"\",IF(I195=\"F\",\" \"&G195&BE195&VLOOKUP(BD195,Homework!D:J,3,FALSE),\" \"&G195&BE195&VLOOKUP(BD195,Homework!D:J,5,FALSE)))","v":{"$error":"#N/A"}},null,null,null,null,null,null,null,null," ",{"$f":"VLOOKUP(BO195,Code!$B$45:$D$48,2,FALSE)","v":{"$error":"#N/A"}},{"$f":"VLOOKUP(BO195,Code!$B$45:$D$48,3,FALSE)","v":{"$error":"#N/A"}},{"$error":"#N/A"},null,"pen","pencil","ruler",null,null,"",""," ",null,187,{"$f":"HLOOKUP(Report!CC195,Behaviour!$H$2:$K$3,2,FALSE)","v":{"$error":"#N/A"}},{"$error":"#N/A"},{"$f":"CE195+VLOOKUP(CC195,Code!$B$2:$C$6,2,FALSE)","v":{"$error":"#N/A"}},{"$f":"IF(CC195=0,\"\",IF(I195=\"F\",AC195&\" \"&VLOOKUP(CF195,Behaviour!D:I,2,FALSE)&\" \",AC195&\" \"&VLOOKUP(CF195,Behaviour!D:I,4,FALSE)&\" \"))","v":{"$error":"#N/A"}},null,null," ",null,{"$f":"IF(CJ195=0,\"\",VLOOKUP(CJ195,Code!$B$59:$D$61,2,FALSE))","v":{"$error":"#N/A"}},{"$f":"IF(CJ195=0,\"\",VLOOKUP(CJ195,Code!$B$59:$D$61,3,FALSE))","v":{"$error":"#N/A"}},{"$error":"#N/A"},{"$error":"#N/A"},{"$error":"#N/A"},{"$error":"#N/A"},"",null,null,"",null,null,"",{"$error":"#VALUE!"},null,null," ",{"$error":"#VALUE!"},{"$f":"VLOOKUP(Report!DC195,Code!$B$24:$C$32,2,FALSE)","v":{"$error":"#VALUE!"}},{"$f":"VLOOKUP(Report!DC195,Code!$B$24:$D$32,3,FALSE)","v":{"$error":"#VALUE!"}},{"$error":"#VALUE!"},{"$error":"#VALUE!"},{"$error":"#VALUE!"},null,null,null,null,null,null," ",{"$f":"VLOOKUP(Report!DO195,Code!$B$40:$D$42,2,FALSE)","v":{"$error":"#N/A"}},{"$f":"VLOOKUP(Report!DO195,Code!$B$40:$D$42,3,FALSE)","v":{"$error":"#N/A"}},{"$error":"#N/A"},null,{"$error":"#N/A"},"number","measures","standard form ","",null,null,null,null,"",""]
[null,null,null,null,null,null,null,null,null,null,null,null,null,null,null,null,null,null,null,null,"Type_2",null,{"$error":"#N/A"},null,{"$error":"#N/A"},{"$error":"#N/A"},null,"he","He","his","His",null,null," ",{"$f":"HLOOKUP(Report!AH196,Person!$H$2:$L$3,2,FALSE)","v":{"$error":"#N/A"}},{"$error":"#N/A"},{"$f":"IF(AH196=0,\"\",AJ196+VLOOKUP(AH196,Code!$B$2:$C$6,2,FALSE))","v":{"$error":"#N/A"}},{"$f":"IF(AH196=0,\"\",IF(I196=\"F\",G196&\" \"&VLOOKUP(AK196,Person!D:I,2,FALSE),G196&\" \"&VLOOKUP(AK196,Person!D:I,4,FALSE)))","v":{"$error":"#N/A"}},null,null,null,null,null,null,null,2,{"$f":"VLOOKUP(AT196,Code!$B$51:$D$55,2,FALSE)","v":"Behaviour_1"},{"$f":"RANDBETWEEN(1,VLOOKUP(AT196,Code!$B$51:$D$55,3,FALSE))","v":1},null," d",null,null," ",{"$f":"HLOOKUP(Report!BA196,Homework!$I$2:$L$3,2,FALSE)","v":{"$error":"#N/A"}},{"$error":"#N/A"},{"$f":"IF(BA196=0,\"\",BC196+VLOOKUP(BA196,Code!$B$2:$C$6,2,FALSE))","v":{"$error":"#N/A"}},{"$f":"IF(AND(VLOOKUP(BD196,Homework!D:J,2,FALSE)=\"'s \",RIGHT(G196,1)=\"s\"),\"' \",IF(VLOOKUP(BD196,Homework!D:J,2,FALSE)=\"'s \",\"'s \",\" \"))","v":{"$error":"#N/A"}},{"$f":"IF(BA196=0,\"\",IF(I196=\"F\",\" \"&G196&BE196&VLOOKUP(BD196,Homework!D:J,3,FALSE),\" \"&G196&BE196&VLOOKUP(BD196,Homework!D:J,5,FALSE)))","v":{"$error":"#N/A"}},null,null,null,null,null,null,null,null," ",{"$f":"VLOOKUP(BO196,Code!$B$45:$D$48,2,FALSE)","v":{"$error":"#N/A"}},{"$f":"VLOOKUP(BO196,Code!$B$45:$D$48,3,FALSE)","v":{"$error":"#N/A"}},{"$error":"#N/A"},null,"pen","pencil","ruler",null,null,"",""," ",null,188,{"$f":"HLOOKUP(Report!CC196,Behaviour!$H$2:$K$3,2,FALSE)","v":{"$error":"#N/A"}},{"$error":"#N/A"},{"$f":"CE196+VLOOKUP(CC196,Code!$B$2:$C$6,2,FALSE)","v":{"$error":"#N/A"}},{"$f":"IF(CC196=0,\"\",IF(I196=\"F\",AC196&\" \"&VLOOKUP(CF196,Behaviour!D:I,2,FALSE)&\" \",AC196&\" \"&VLOOKUP(CF196,Behaviour!D:I,4,FALSE)&\" \"))","v":{"$error":"#N/A"}},null,null," ",null,{"$f":"IF(CJ196=0,\"\",VLOOKUP(CJ196,Code!$B$59:$D$61,2,FALSE))","v":{"$error":"#N/A"}},{"$f":"IF(CJ196=0,\"\",VLOOKUP(CJ196,Code!$B$59:$D$61,3,FALSE))","v":{"$error":"#N/A"}},{"$error":"#N/A"},{"$error":"#N/A"},{"$error":"#N/A"},{"$error":"#N/A"},"",null,null,"",null,null,"",{"$error":"#VALUE!"},null,null," ",{"$error":"#VALUE!"},{"$f":"VLOOKUP(Report!DC196,Code!$B$24:$C$32,2,FALSE)","v":{"$error":"#VALUE!"}},{"$f":"VLOOKUP(Report!DC196,Code!$B$24:$D$32,3,FALSE)","v":{"$error":"#VALUE!"}},{"$error":"#VALUE!"},{"$error":"#VALUE!"},{"$error":"#VALUE!"},null,null,null,null,null,null," ",{"$f":"VLOOKUP(Report!DO196,Code!$B$40:$D$42,2,FALSE)","v":{"$error":"#N/A"}},{"$f":"VLOOKUP(Report!DO196,Code!$B$40:$D$42,3,FALSE)","v":{"$error":"#N/A"}},{"$error":"#N/A"},null,{"$error":"#N/A"},"number","measures","standard form ","",null,null,null,null,"",""]
[null,null,null,null,null,null,null,null,null,null,null,null,null,null,null,null,null,null,null,null,"Type_2",null,{"$error":"#N/A"},null,{"$error":"#N/A"},{"$error":"#N/A"},null,"he","He","his","His",null,null," ",{"$f":"HLOOKUP(Report!AH197,Person!$H$2:$L$3,2,FALSE)","v":{"$error":"#N/A"}},{"$error":"#N/A"},{"$f":"IF(AH197=0,\"\",AJ197+VLOOKUP(AH197,Code!$B$2:$C$6,2,FALSE))","v":{"$error":"#N/A"}},{"$f":"IF(AH197=0,\"\",IF(I197=\"F\",G197&\" \"&VLOOKUP(AK197,Person!D:I,2,FALSE),G197&\" \"&VLOOKUP(AK197,Person!D:I,4,FALSE)))","v":{"$error":"#N/A"}},null,null,null,null,null,null,null,2,{"$f":"VLOOKUP(AT197,Code!$B$51:$D$55,2,FALSE)","v":"Behaviour_1"},{"$f":"RANDBETWEEN(1,VLOOKUP(AT197,Code!$B$51:$D$55,3,FALSE))","v":1},null," d",null,null," ",{"$f":"HLOOKUP(Report!BA197,Homework!$I$2:$L$3,2,FALSE)","v":{"$error":"#N/A"}},{"$error":"#N/A"},{"$f":"IF(BA197=0,\"\",BC197+VLOOKUP(BA197,Code!$B$2:$C$6,2,FALSE))","v":{"$error":"#N/A"}},{"$f":"IF(AND(VLOOKUP(BD197,Homework!D:J,2,FALSE)=\"'s \",RIGHT(G197,1)=\"s\"),\"' \",IF(VLOOKUP(BD197,Homework!D:J,2,FALSE)=\"'s \",\"'s \",\" \"))","v":{"$error":"#N/A"}},{"$f":"IF(BA197=0,\"\",IF(I197=\"F\",\" \"&G197&BE197&VLOOKUP(BD197,Homework!D:J,3,FALSE),\" \"&G197&BE197&VLOOKUP(BD197,Homework!D:J,5,FALSE)))","v":{"$error":"#N/A"}},null,null,null,null,null,null,null,null," ",{"$f":"VLOOKUP(BO197,Code!$B$45:$D$48,2,FALSE)","v":{"$error":"#N/A"}},{"$f":"VLOOKUP(BO197,Code!$B$45:$D$48,3,FALSE)","v":{"$error":"#N/A"}},{"$error":"#N/A"},null,"pen","pencil","ruler",null,null,"",""," ",null,189,{"$f":"HLOOKUP(Report!CC197,Behaviour!$H$2:$K$3,2,FALSE)","v":{"$error":"#N/A"}},{"$error":"#N/A"},{"$f":"CE197+VLOOKUP(CC197,Code!$B$2:$C$6,2,FALSE)","v":{"$error":"#N/A"}},{"$f":"IF(CC197=0,\"\",IF(I197=\"F\",AC197&\" \"&VLOOKUP(CF197,Behaviour!D:I,2,FALSE)&\" \",AC197&\" \"&VLOOKUP(CF197,Behaviour!D:I,4,FALSE)&\" \"))","v":{"$error":"#N/A"}},null,null," ",null,{"$f":"IF(CJ197=0,\"\",VLOOKUP(CJ197,Code!$B$59:$D$61,2,FALSE))","v":{"$error":"#N/A"}},{"$f":"IF(CJ197=0,\"\",VLOOKUP(CJ197,Code!$B$59:$D$61,3,FALSE))","v":{"$error":"#N/A"}},{"$error":"#N/A"},{"$error":"#N/A"},{"$error":"#N/A"},{"$error":"#N/A"},"",null,null,"",null,null,"",{"$error":"#VALUE!"},null,null," ",{"$error":"#VALUE!"},{"$f":"VLOOKUP(Report!DC197,Code!$B$24:$C$32,2,FALSE)","v":{"$error":"#VALUE!"}},{"$f":"VLOOKUP(Report!DC197,Code!$B$24:$D$32,3,FALSE)","v":{"$error":"#VALUE!"}},{"$error":"#VALUE!"},{"$error":"#VALUE!"},{"$error":"#VALUE!"},null,null,null,null,null,null," ",{"$f":"VLOOKUP(Report!DO197,Code!$B$40:$D$42,2,FALSE)","v":{"$error":"#N/A"}},{"$f":"VLOOKUP(Report!DO197,Code!$B$40:$D$42,3,FALSE)","v":{"$error":"#N/A"}},{"$error":"#N/A"},null,{"$error":"#N/A"},"number","measures","standard form ","",null,null,null,null,"",""]
[null,null,null,null,null,null,null,null,null,null,null,null,null,null,null,null,null,null,null,null,"Type_2",null,{"$error":"#N/A"},null,{"$error":"#N/A"},{"$error":"#N/A"},null,"he","He","his","His",null,null," ",{"$f":"HLOOKUP(Report!AH198,Person!$H$2:$L$3,2,FALSE)","v":{"$error":"#N/A"}},{"$error":"#N/A"},{"$f":"IF(AH198=0,\"\",AJ198+VLOOKUP(AH198,Code!$B$2:$C$6,2,FALSE))","v":{"$error":"#N/A"}},{"$f":"IF(AH198=0,\"\",IF(I198=\"F\",G198&\" \"&VLOOKUP(AK198,Person!D:I,2,FALSE),G198&\" \"&VLOOKUP(AK198,Person!D:I,4,FALSE)))","v":{"$error":"#N/A"}},null,null,null,null,null,null,null,2,{"$f":"VLOOKUP(AT198,Code!$B$51:$D$55,2,FALSE)","v":"Behaviour_1"},{"$f":"RANDBETWEEN(1,VLOOKUP(AT198,Code!$B$51:$D$55,3,FALSE))","v":1},null," d",null,null," ",{"$f":"HLOOKUP(Report!BA198,Homework!$I$2:$L$3,2,FALSE)","v":{"$error":"#N/A"}},{"$error":"#N/A"},{"$f":"IF(BA198=0,\"\",BC198+VLOOKUP(BA198,Code!$B$2:$C$6,2,FALSE))","v":{"$error":"#N/A"}},{"$f":"IF(AND(VLOOKUP(BD198,Homework!D:J,2,FALSE)=\"'s \",RIGHT(G198,1)=\"s\"),\"' \",IF(VLOOKUP(BD198,Homework!D:J,2,FALSE)=\"'s \",\"'s \",\" \"))","v":{"$error":"#N/A"}},{"$f":"IF(BA198=0,\"\",IF(I198=\"F\",\" \"&G198&BE198&VLOOKUP(BD198,Homework!D:J,3,FALSE),\" \"&G198&BE198&VLOOKUP(BD198,Homework!D:J,5,FALSE)))","v":{"$error":"#N/A"}},null,null,null,null,null,null,null,null," ",{"$f":"VLOOKUP(BO198,Code!$B$45:$D$48,2,FALSE)","v":{"$error":"#N/A"}},{"$f":"VLOOKUP(BO198,Code!$B$45:$D$48,3,FALSE)","v":{"$error":"#N/A"}},{"$error":"#N/A"},null,"pen","pencil","ruler",null,null,"",""," ",null,190,{"$f":"HLOOKUP(Report!CC198,Behaviour!$H$2:$K$3,2,FALSE)","v":{"$error":"#N/A"}},{"$error":"#N/A"},{"$f":"CE198+VLOOKUP(CC198,Code!$B$2:$C$6,2,FALSE)","v":{"$error":"#N/A"}},{"$f":"IF(CC198=0,\"\",IF(I198=\"F\",AC198&\" \"&VLOOKUP(CF198,Behaviour!D:I,2,FALSE)&\" \",AC198&\" \"&VLOOKUP(CF198,Behaviour!D:I,4,FALSE)&\" \"))","v":{"$error":"#N/A"}},null,null," ",null,{"$f":"IF(CJ198=0,\"\",VLOOKUP(CJ198,Code!$B$59:$D$61,2,FALSE))","v":{"$error":"#N/A"}},{"$f":"IF(CJ198=0,\"\",VLOOKUP(CJ198,Code!$B$59:$D$61,3,FALSE))","v":{"$error":"#N/A"}},{"$error":"#N/A"},{"$error":"#N/A"},{"$error":"#N/A"},{"$error":"#N/A"},"",null,null,"",null,null,"",{"$error":"#VALUE!"},null,null," ",{"$error":"#VALUE!"},{"$f":"VLOOKUP(Report!DC198,Code!$B$24:$C$32,2,FALSE)","v":{"$error":"#VALUE!"}},{"$f":"VLOOKUP(Report!DC198,Code!$B$24:$D$32,3,FALSE)","v":{"$error":"#VALUE!"}},{"$error":"#VALUE!"},{"$error":"#VALUE!"},{"$error":"#VALUE!"},null,null,null,null,null,null," ",{"$f":"VLOOKUP(Report!DO198,Code!$B$40:$D$42,2,FALSE)","v":{"$error":"#N/A"}},{"$f":"VLOOKUP(Report!DO198,Code!$B$40:$D$42,3,FALSE)","v":{"$error":"#N/A"}},{"$error":"#N/A"},null,{"$error":"#N/A"},"number","measures","standard form ","",null,null,null,null,"",""]
[null,null,null,null,null,null,null,null,null,null,null,null,null,null,null,null,null,null,null,null,"Type_2",null,{"$error":"#N/A"},null,{"$error":"#N/A"},{"$error":"#N/A"},null,"he","He","his","His",null,null," ",{"$f":"HLOOKUP(Report!AH199,Person!$H$2:$L$3,2,FALSE)","v":{"$error":"#N/A"}},{"$error":"#N/A"},{"$f":"IF(AH199=0,\"\",AJ199+VLOOKUP(AH199,Code!$B$2:$C$6,2,FALSE))","v":{"$error":"#N/A"}},{"$f":"IF(AH199=0,\"\",IF(I199=\"F\",G199&\" \"&VLOOKUP(AK199,Person!D:I,2,FALSE),G199&\" \"&VLOOKUP(AK199,Person!D:I,4,FALSE)))","v":{"$error":"#N/A"}},null,null,null,null,null,null,null,2,{"$f":"VLOOKUP(AT199,Code!$B$51:$D$55,2,FALSE)","v":"Behaviour_1"},{"$f":"RANDBETWEEN(1,VLOOKUP(AT199,Code!$B$51:$D$55,3,FALSE))","v":2},null," d",null,null," ",{"$f":"HLOOKUP(Report!BA199,Homework!$I$2:$L$3,2,FALSE)","v":{"$error":"#N/A"}},{"$error":"#N/A"},{"$f":"IF(BA199=0,\"\",BC199+VLOOKUP(BA199,Code!$B$2:$C$6,2,FALSE))","v":{"$error":"#N/A"}},{"$f":"IF(AND(VLOOKUP(BD199,Homework!D:J,2,FALSE)=\"'s \",RIGHT(G199,1)=\"s\"),\"' \",IF(VLOOKUP(BD199,Homework!D:J,2,FALSE)=\"'s \",\"'s \",\" \"))","v":{"$error":"#N/A"}},{"$f":"IF(BA199=0,\"\",IF(I199=\"F\",\" \"&G199&BE199&VLOOKUP(BD199,Homework!D:J,3,FALSE),\" \"&G199&BE199&VLOOKUP(BD199,Homework!D:J,5,FALSE)))","v":{"$error":"#N/A"}},null,null,null,null,null,null,null,null," ",{"$f":"VLOOKUP(BO199,Code!$B$45:$D$48,2,FALSE)","v":{"$error":"#N/A"}},{"$f":"VLOOKUP(BO199,Code!$B$45:$D$48,3,FALSE)","v":{"$error":"#N/A"}},{"$error":"#N/A"},null,"pen","pencil","ruler",null,null,"",""," ",null,191,{"$f":"HLOOKUP(Report!CC199,Behaviour!$H$2:$K$3,2,FALSE)","v":{"$error":"#N/A"}},{"$error":"#N/A"},{"$f":"CE199+VLOOKUP(CC199,Code!$B$2:$C$6,2,FALSE)","v":{"$error":"#N/A"}},{"$f":"IF(CC199=0,\"\",IF(I199=\"F\",AC199&\" \"&VLOOKUP(CF199,Behaviour!D:I,2,FALSE)&\" \",AC199&\" \"&VLOOKUP(CF199,Behaviour!D:I,4,FALSE)&\" \"))","v":{"$error":"#N/A"}},null,null," ",null,{"$f":"IF(CJ199=0,\"\",VLOOKUP(CJ199,Code!$B$59:$D$61,2,FALSE))","v":{"$error":"#N/A"}},{"$f":"IF(CJ199=0,\"\",VLOOKUP(CJ199,Code!$B$59:$D$61,3,FALSE))","v":{"$error":"#N/A"}},{"$error":"#N/A"},{"$error":"#N/A"},{"$error":"#N/A"},{"$error":"#N/A"},"",null,null,"",null,null,"",{"$error":"#VALUE!"},null,null," ",{"$error":"#VALUE!"},{"$f":"VLOOKUP(Report!DC199,Code!$B$24:$C$32,2,FALSE)","v":{"$error":"#VALUE!"}},{"$f":"VLOOKUP(Report!DC199,Code!$B$24:$D$32,3,FALSE)","v":{"$error":"#VALUE!"}},{"$error":"#VALUE!"},{"$error":"#VALUE!"},{"$error":"#VALUE!"},null,null,null,null,null,null," ",{"$f":"VLOOKUP(Report!DO199,Code!$B$40:$D$42,2,FALSE)","v":{"$error":"#N/A"}},{"$f":"VLOOKUP(Report!DO199,Code!$B$40:$D$42,3,FALSE)","v":{"$error":"#N/A"}},{"$error":"#N/A"},null,{"$error":"#N/A"},"number","measures","standard form ","",null,null,null,null,"",""]
[null,null,null,null,null,null,null,null,null,null,null,null,null,null,null,null,null,null,null,null,"Type_2",null,{"$error":"#N/A"},null,{"$error":"#N/A"},{"$error":"#N/A"},null,"he","He","his","His",null,null," ",{"$f":"HLOOKUP(Report!AH200,Person!$H$2:$L$3,2,FALSE)","v":{"$error":"#N/A"}},{"$error":"#N/A"},{"$f":"IF(AH200=0,\"\",AJ200+VLOOKUP(AH200,Code!$B$2:$C$6,2,FALSE))","v":{"$error":"#N/A"}},{"$f":"IF(AH200=0,\"\",IF(I200=\"F\",G200&\" \"&VLOOKUP(AK200,Person!D:I,2,FALSE),G200&\" \"&VLOOKUP(AK200,Person!D:I,4,FALSE)))","v":{"$error":"#N/A"}},null,null,null,null,null,null,null,2,{"$f":"VLOOKUP(AT200,Code!$B$51:$D$55,2,FALSE)","v":"Behaviour_1"},{"$f":"RANDBETWEEN(1,VLOOKUP(AT200,Code!$B$51:$D$55,3,FALSE))","v":1},null," d",null,null," ",{"$f":"HLOOKUP(Report!BA200,Homework!$I$2:$L$3,2,FALSE)","v":{"$error":"#N/A"}},{"$error":"#N/A"},{"$f":"IF(BA200=0,\"\",BC200+VLOOKUP(BA200,Code!$B$2:$C$6,2,FALSE))","v":{"$error":"#N/A"}},{"$f":"IF(AND(VLOOKUP(BD200,Homework!D:J,2,FALSE)=\"'s \",RIGHT(G200,1)=\"s\"),\"' \",IF(VLOOKUP(BD200,Homework!D:J,2,FALSE)=\"'s \",\"'s \",\" \"))","v":{"$error":"#N/A"}},{"$f":"IF(BA200=0,\"\",IF(I200=\"F\",\" \"&G200&BE200&VLOOKUP(BD200,Homework!D:J,3,FALSE),\" \"&G200&BE200&VLOOKUP(BD200,Homework!D:J,5,FALSE)))","v":{"$error":"#N/A"}},null,null,null,null,null,null,null,null," ",{"$f":"VLOOKUP(BO200,Code!$B$45:$D$48,2,FALSE)","v":{"$error":"#N/A"}},{"$f":"VLOOKUP(BO200,Code!$B$45:$D$48,3,FALSE)","v":{"$error":"#N/A"}},{"$error":"#N/A"},null,"pen","pencil","ruler",null,null,"",""," ",null,192,{"$f":"HLOOKUP(Report!CC200,Behaviour!$H$2:$K$3,2,FALSE)","v":{"$error":"#N/A"}},{"$error":"#N/A"},{"$f":"CE200+VLOOKUP(CC200,Code!$B$2:$C$6,2,FALSE)","v":{"$error":"#N/A"}},{"$f":"IF(CC200=0,\"\",IF(I200=\"F\",AC200&\" \"&VLOOKUP(CF200,Behaviour!D:I,2,FALSE)&\" \",AC200&\" \"&VLOOKUP(CF200,Behaviour!D:I,4,FALSE)&\" \"))","v":{"$error":"#N/A"}},null,null," ",null,{"$f":"IF(CJ200=0,\"\",VLOOKUP(CJ200,Code!$B$59:$D$61,2,FALSE))","v":{"$error":"#N/A"}},{"$f":"IF(CJ200=0,\"\",VLOOKUP(CJ200,Code!$B$59:$D$61,3,FALSE))","v":{"$error":"#N/A"}},{"$error":"#N/A"},{"$error":"#N/A"},{"$error":"#N/A"},{"$error":"#N/A"},"",null,null,"",null,null,"",{"$error":"#VALUE!"},null,null," ",{"$error":"#VALUE!"},{"$f":"VLOOKUP(Report!DC200,Code!$B$24:$C$32,2,FALSE)","v":{"$error":"#VALUE!"}},{"$f":"VLOOKUP(Report!DC200,Code!$B$24:$D$32,3,FALSE)","v":{"$error":"#VALUE!"}},{"$error":"#VALUE!"},{"$error":"#VALUE!"},{"$error":"#VALUE!"},null,null,null,null,null,null," ",{"$f":"VLOOKUP(Report!DO200,Code!$B$40:$D$42,2,FALSE)","v":{"$error":"#N/A"}},{"$f":"VLOOKUP(Report!DO200,Code!$B$40:$D$42,3,FALSE)","v":{"$error":"#N/A"}},{"$error":"#N/A"},null,{"$error":"#N/A"},"number","measures","standard form ","",null,null,null,null,"",""]
[null,null,null,null,null,null,null,null,null,null,null,null,null,null,null,null,null,null,null,null,"Type_2",null,{"$error":"#N/A"},null,{"$error":"#N/A"},{"$error":"#N/A"},null,{"$f":"IF(I201=\"F\",\"she\",\"he\")","v":"he"},{"$f":"IF(I201=\"F\",\"She\",\"He\")","v":"He"},{"$f":"IF(I201=\"F\",\"her\",\"his\")","v":"his"},{"$f":"IF(I201=\"F\",\"Her\",\"His\")","v":"His"},null,null," ",{"$f":"HLOOKUP(Report!AH201,Person!$H$2:$L$3,2,FALSE)","v":{"$error":"#N/A"}},{"$error":"#N/A"},{"$f":"IF(AH201=0,\"\",AJ201+VLOOKUP(AH201,Code!$B$2:$C$6,2,FALSE))","v":{"$error":"#N/A"}},{"$f":"IF(AH201=0,\"\",IF(I201=\"F\",G201&\" \"&VLOOKUP(AK201,Person!D:I,2,FALSE),G201&\" \"&VLOOKUP(AK201,Person!D:I,4,FALSE)))","v":{"$error":"#N/A"}},null,null,null,null,null,null,null,2,{"$f":"VLOOKUP(AT201,Code!$B$51:$D$55,2,FALSE)","v":"Behaviour_1"},{"$f":"RANDBETWEEN(1,VLOOKUP(AT201,Code!$B$51:$D$55,3,FALSE))","v":1},null,{"$f":"IF(AT201=0,\"\",IF(I201=\"F\",\" \"&VLOOKUP(AV201,INDIRECT(AU201),2,FALSE),\" \"&VLOOKUP(AV201,INDIRECT(AU201),4,FALSE)))","v":" d"},null,null," ",{"$f":"HLOOKUP(Report!BA201,Homework!$I$2:$L$3,2,FALSE)","v":{"$error":"#N/A"}},{"$error":"#N/A"},{"$f":"IF(BA201=0,\"\",BC201+VLOOKUP(BA201,Code!$B$2:$C$6,2,FALSE))","v":{"$error":"#N/A"}},{"$f":"IF(AND(VLOOKUP(BD201,Homework!D:J,2,FALSE)=\"'s \",RIGHT(G201,1)=\"s\"),\"' \",IF(VLOOKUP(BD201,Homework!D:J,2,FALSE)=\"'s \",\"'s \",\" \"))","v":{"$error":"#N/A"}},{"$f":"IF(BA201=0,\"\",IF(I201=\"F\",\" \"&G201&BE201&VLOOKUP(BD201,Homework!D:J,3,FALSE),\" \"&G201&BE201&VLOOKUP(BD201,Homework!D:J,5,FALSE)))","v":{"$error":"#N/A"}},null,null,null,null,null,null,null,null," ",{"$f":"VLOOKUP(BO201,Code!$B$45:$D$48,2,FALSE)","v":{"$error":"#N/A"}},{"$f":"VLOOKUP(BO201,Code!$B$45:$D$48,3,FALSE)","v":{"$error":"#N/A"}},{"$error":"#N/A"},null,"pen","pencil","ruler",null,null,"","",{"$f":"IF(BO201=0,\"\",IF(I201=\"F\",\" \"&BY201,\" \"&BZ201))","v":" "},null,193,{"$f":"HLOOKUP(Report!CC201,Behaviour!$H$2:$K$3,2,FALSE)","v":{"$error":"#N/A"}},{"$error":"#N/A"},{"$f":"CE201+VLOOKUP(CC201,Code!$B$2:$C$6,2,FALSE)","v":{"$error":"#N/A"}},{"$f":"IF(CC201=0,\"\",IF(I201=\"F\",AC201&\" \"&VLOOKUP(CF201,Behaviour!D:I,2,FALSE)&\" \",AC201&\" \"&VLOOKUP(CF201,Behaviour!D:I,4,FALSE)&\" \"))","v":{"$error":"#N/A"}},null,null," ",null,{"$f":"IF(CJ201=0,\"\",VLOOKUP(CJ201,Code!$B$59:$D$61,2,FALSE))","v":{"$error":"#N/A"}},{"$f":"IF(CJ201=0,\"\",VLOOKUP(CJ201,Code!$B$59:$D$61,3,FALSE))","v":{"$error":"#N/A"}},{"$error":"#N/A"},{"$f":"IF(I201=\"F\",VLOOKUP(CN201,INDIRECT(CL201),2,FALSE),VLOOKUP(CN201,INDIRECT(CL201),5,FALSE))","v":{"$error":"#N/A"}},{"$f":"IF(I201=\"F\",VLOOKUP(CN201,INDIRECT(CL201),3,FALSE),VLOOKUP(CN201,INDIRECT(CL201),6,FALSE))","v":{"$error":"#N/A"}},{"$error":"#N/A"},"",null,null,"",null,null,"",{"$error":"#VALUE!"},null,null," ",{"$error":"#VALUE!"},{"$f":"VLOOKUP(Report!DC201,Code!$B$24:$C$32,2,FALSE)","v":{"$error":"#VALUE!"}},{"$f":"VLOOKUP(Report!DC201,Code!$B$24:$D$32,3,FALSE)","v":{"$error":"#VALUE!"}},{"$error":"#VALUE!"},{"$f":"IF(AND(VLOOKUP(DF201,INDIRECT(DD201),2,FALSE)=\"'s \",RIGHT(G201,1)=\"s\"),\"' \",IF(VLOOKUP(DF201,INDIRECT(DD201),2,FALSE)=\"'s \",\"'s \",\"\"))","v":{"$error":"#VALUE!"}},{"$f":"\" \"&IF(DB201=0,\"\",IF(I201=\"F\",G201&DG201&VLOOKUP(DF201,INDIRECT(DD201),3,FALSE),G201&DG201&VLOOKUP(DF201,INDIRECT(DD201),5,FALSE)))","v":{"$error":"#VALUE!"}},null,null,null,null,null,null," ",{"$f":"VLOOKUP(Report!DO201,Code!$B$40:$D$42,2,FALSE)","v":{"$error":"#N/A"}},{"$f":"VLOOKUP(Report!DO201,Code!$B$40:$D$42,3,FALSE)","v":{"$error":"#N/A"}},{"$error":"#N/A"},null,{"$error":"#N/A"},"number","measures","standard form ","",null,null,null,null,{"$f":"IF(LEN(G201)<1,\"\",IF(OR(I201=\"F\",I201=\"M\"),(IF(ISERROR(AL201&AX201&BF201&CA201&CR201&DH201&DX201),\"\",AL201&AX201&BF201&CA201&CR201&DH201&DX201)),\"\"))","v":""},""]
[null,null,null,null,null,null,null,null,null,null,null,null,null,null,null,null,null,null,null,null,{"$f":"$V$3","v":"Type_2"},null,{"$f":"VLOOKUP(V202,INDIRECT(U202),2,FALSE)","v":{"$error":"#N/A"}},null,{"$f":"VLOOKUP(X202,INDIRECT(U202),2,FALSE)","v":{"$error":"#N/A"}},{"$f":"IF(W202=Y202,2,IF(W202<Y202,1,3))","v":{"$error":"#N/A"}},null,"he","He","his","His",null,null," ",{"$f":"HLOOKUP(Report!AH202,Person!$H$2:$L$3,2,FALSE)","v":{"$error":"#N/A"}},{"$f":"RANDBETWEEN(1,AI202)","v":{"$error":"#N/A"}},{"$f":"IF(AH202=0,\"\",AJ202+VLOOKUP(AH202,Code!$B$2:$C$6,2,FALSE))","v":{"$error":"#N/A"}},{"$f":"IF(AH202=0,\"\",IF(I202=\"F\",G202&\" \"&VLOOKUP(AK202,Person!D:I,2,FALSE),G202&\" \"&VLOOKUP(AK202,Person!D:I,4,FALSE)))","v":{"$error":"#N/A"}},null,null,null,null,null,null,null,2,{"$f":"VLOOKUP(AT202,Code!$B$51:$D$55,2,FALSE)","v":"Behaviour_1"},{"$f":"RANDBETWEEN(1,VLOOKUP(AT202,Code!$B$51:$D$55,3,FALSE))","v":2},null," d",null,null," ",{"$f":"HLOOKUP(Report!BA202,Homework!$I$2:$L$3,2,FALSE)","v":{"$error":"#N/A"}},{"$f":"RANDBETWEEN(1,BB202)","v":{"$error":"#N/A"}},{"$f":"IF(BA202=0,\"\",BC202+VLOOKUP(BA202,Code!$B$2:$C$6,2,FALSE))","v":{"$error":"#N/A"}},{"$f":"IF(AND(VLOOKUP(BD202,Homework!D:J,2,FALSE)=\"'s \",RIGHT(G202,1)=\"s\"),\"' \",IF(VLOOKUP(BD202,Homework!D:J,2,FALSE)=\"'s \",\"'s \",\" \"))","v":{"$error":"#N/A"}},{"$f":"IF(BA202=0,\"\",IF(I202=\"F\",\" \"&G202&BE202&VLOOKUP(BD202,Homework!D:J,3,FALSE),\" \"&G202&BE202&VLOOKUP(BD202,Homework!D:J,5,FALSE)))","v":{"$error":"#N/A"}},null,null,null,null,null,null,null,null," ",{"$f":"VLOOKUP(BO202,Code!$B$45:$D$48,2,FALSE)","v":{"$error":"#N/A"}},{"$f":"VLOOKUP(BO202,Code!$B$45:$D$48,3,FALSE)","v":{"$error":"#N/A"}},{"$f":"RANDBETWEEN(1,BQ202)","v":{"$error":"#N/A"}},null,"pen","pencil","ruler",null,null,{"$f":"IF(BO202=1,(VLOOKUP(BR202,INDIRECT(BP202),2,FALSE)&\" \"&BT202&\".\"),IF(BO202=2,(VLOOKUP(BR202,INDIRECT(BP202),2,FALSE)&\" \"&BT202&\" and \"&BU202&\".\"),IF(BO202=3,(VLOOKUP(BR202,INDIRECT(BP202),2,FALSE)&\" \"&BT202&\", \"&BU202&\" and \"&BV202&\".\"),IF(BO202=4,VLOOKUP(BR202,INDIRECT(BP202),2,FALSE)& \".\",\"\"))))","v":""},{"$f":"IF(BO202=1,(VLOOKUP(BR202,INDIRECT(BP202),4,FALSE)&\" \"&BT202&\".\"),IF(BO202=2,(VLOOKUP(BR202,INDIRECT(BP202),4,FALSE)&\" \"&BT202&\" and \"&BU202&\".\"),IF(BO202=3,(VLOOKUP(BR202,INDIRECT(BP202),4,FALSE)&\" \"&BT202&\", \"&BU202&\" and \"&BV202&\".\"),IF(BO202=4,VLOOKUP(BR202,INDIRECT(BP202),4,FALSE)&\".\",\"\"))))","v":""}," ",null,194,{"$f":"HLOOKUP(Report!CC202,Behaviour!$H$2:$K$3,2,FALSE)","v":{"$error":"#N/A"}},{"$f":"RANDBETWEEN(1,CD202)","v":{"$error":"#N/A"}},{"$f":"CE202+VLOOKUP(CC202,Code!$B$2:$C$6,2,FALSE)","v":{"$error":"#N/A"}},{"$f":"IF(CC202=0,\"\",IF(I202=\"F\",AC202&\" \"&VLOOKUP(CF202,Behaviour!D:I,2,FALSE)&\" \",AC202&\" \"&VLOOKUP(CF202,Behaviour!D:I,4,FALSE)&\" \"))","v":{"$error":"#N/A"}},null,null," ",null,{"$f":"IF(CJ202=0,\"\",VLOOKUP(CJ202,Code!$B$59:$D$61,2,FALSE))","v":{"$error":"#N/A"}},{"$f":"IF(CJ202=0,\"\",VLOOKUP(CJ202,Code!$B$59:$D$61,3,FALSE))","v":{"$error":"#N/A"}},{"$f":"RANDBETWEEN(1,CM202)","v":{"$error":"#N/A"}},{"$error":"#N/A"},{"$error":"#N/A"},{"$f":"IF(RIGHT(CK202,1)=\"%\",CO202&\" \"&CK202*100&\"%\"&CP202,CO202&\" a \"&CK202&CP202)","v":{"$error":"#N/A"}},{"$f":"IF(OR(ISERROR(CQ202),CK202=\"\",CJ202=\"\"),\"\",\" \"&CQ202)","v":""},null,null,{"$f":"IF(ISERROR(Z202),\"\",Z202)","v":""},null,null,{"$f":"CU202","v":""},{"$f":"CX202*10","v":{"$error":"#VALUE!"}},null,null," ",{"$f":"CY202+DB202","v":{"$error":"#VALUE!"}},{"$f":"VLOOKUP(Report!DC202,Code!$B$24:$C$32,2,FALSE)","v":{"$error":"#VALUE!"}},{"$f":"VLOOKUP(Report!DC202,Code!$B$24:$D$32,3,FALSE)","v":{"$error":"#VALUE!"}},{"$f":"RANDBETWEEN(1,DE202)","v":{"$error":"#VALUE!"}},{"$error":"#VALUE!"},{"$error":"#VALUE!"},null,null,null,null,null,null," ",{"$f":"VLOOKUP(Report!DO202,Code!$B$40:$D$42,2,FALSE)","v":{"$error":"#N/A"}},{"$f":"VLOOKUP(Report!DO202,Code!$B$40:$D$42,3,FALSE)","v":{"$error":"#N/A"}},{"$f":"RANDBETWEEN(1,DQ202)","v":{"$error":"#N/A"}},null,{"$f":"VLOOKUP(DR202,INDIRECT(DP202),2,FALSE)","v":{"$error":"#N/A"}},"number","measures","standard form ",{"$f":"IF(DO202=3,(\" \"&DT202&\" \"&DU202&\", \"&DV202&\" and \"&DW202&\".\"),IF(DO202=2,(\" \"&DT202&\" \"&DU202&\" and \"&DV202&\".\"),IF(DO202=1,(\" \"&DT202&\" \"&DU202&\".\"),\"\")))","v":""},null,null,null,null,"",""]
[null,null,null,null,null,null,null,null,null,null,null,null,null,null,null,null,null,null,null,null,"Type_2",null,{"$error":"#N/A"},null,{"$error":"#N/A"},{"$error":"#N/A"},null,"he","He","his","His",null,null," ",{"$f":"HLOOKUP(Report!AH203,Person!$H$2:$L$3,2,FALSE)","v":{"$error":"#N/A"}},{"$error":"#N/A"},{"$f":"IF(AH203=0,\"\",AJ203+VLOOKUP(AH203,Code!$B$2:$C$6,2,FALSE))","v":{"$error":"#N/A"}},{"$f":"IF(AH203=0,\"\",IF(I203=\"F\",G203&\" \"&VLOOKUP(AK203,Person!D:I,2,FALSE),G203&\" \"&VLOOKUP(AK203,Person!D:I,4,FALSE)))","v":{"$error":"#N/A"}},null,null,null,null,null,null,null,2,{"$f":"VLOOKUP(AT203,Code!$B$51:$D$55,2,FALSE)","v":"Behaviour_1"},{"$f":"RANDBETWEEN(1,VLOOKUP(AT203,Code!$B$51:$D$55,3,FALSE))","v":1},null," d",null,null," ",{"$f":"HLOOKUP(Report!BA203,Homework!$I$2:$L$3,2,FALSE)","v":{"$error":"#N/A"}},{"$error":"#N/A"},{"$f":"IF(BA203=0,\"\",BC203+VLOOKUP(BA203,Code!$B$2:$C$6,2,FALSE))","v":{"$error":"#N/A"}},{"$f":"IF(AND(VLOOKUP(BD203,Homework!D:J,2,FALSE)=\"'s \",RIGHT(G203,1)=\"s\"),\"' \",IF(VLOOKUP(BD203,Homework!D:J,2,FALSE)=\"'s \",\"'s \",\" \"))","v":{"$error":"#N/A"}},{"$f":"IF(BA203=0,\"\",IF(I203=\"F\",\" \"&G203&BE203&VLOOKUP(BD203,Homework!D:J,3,FALSE),\" \"&G203&BE203&VLOOKUP(BD203,Homework!D:J,5,FALSE)))","v":{"$error":"#N/A"}},null,null,null,null,null,null,null,null," ",{"$f":"VLOOKUP(BO203,Code!$B$45:$D$48,2,FALSE)","v":{"$error":"#N/A"}},{"$f":"VLOOKUP(BO203,Code!$B$45:$D$48,3,FALSE)","v":{"$error":"#N/A"}},{"$error":"#N/A"},null,"pen","pencil","ruler",null,null,"",""," ",null,195,{"$f":"HLOOKUP(Report!CC203,Behaviour!$H$2:$K$3,2,FALSE)","v":{"$error":"#N/A"}},{"$error":"#N/A"},{"$f":"CE203+VLOOKUP(CC203,Code!$B$2:$C$6,2,FALSE)","v":{"$error":"#N/A"}},{"$f":"IF(CC203=0,\"\",IF(I203=\"F\",AC203&\" \"&VLOOKUP(CF203,Behaviour!D:I,2,FALSE)&\" \",AC203&\" \"&VLOOKUP(CF203,Behaviour!D:I,4,FALSE)&\" \"))","v":{"$error":"#N/A"}},null,null," ",null,{"$f":"IF(CJ203=0,\"\",VLOOKUP(CJ203,Code!$B$59:$D$61,2,FALSE))","v":{"$error":"#N/A"}},{"$f":"IF(CJ203=0,\"\",VLOOKUP(CJ203,Code!$B$59:$D$61,3,FALSE))","v":{"$error":"#N/A"}},{"$error":"#N/A"},{"$error":"#N/A"},{"$error":"#N/A"},{"$error":"#N/A"},"",null,null,"",null,null,"",{"$error":"#VALUE!"},null,null," ",{"$error":"#VALUE!"},{"$f":"VLOOKUP(Report!DC203,Code!$B$24:$C$32,2,FALSE)","v":{"$error":"#VALUE!"}},{"$f":"VLOOKUP(Report!DC203,Code!$B$24:$D$32,3,FALSE)","v":{"$error":"#VALUE!"}},{"$error":"#VALUE!"},{"$error":"#VALUE!"},{"$error":"#VALUE!"},null,null,null,null,null,null," ",{"$f":"VLOOKUP(Report!DO203,Code!$B$40:$D$42,2,FALSE)","v":{"$error":"#N/A"}},{"$f":"VLOOKUP(Report!DO203,Code!$B$40:$D$42,3,FALSE)","v":{"$error":"#N/A"}},{"$error":"#N/A"},null,{"$error":"#N/A"},"number","measures","standard form ","",null,null,null,null,"",""]
[null,null,null,null,null,null,null,null,null,null,null,null,null,null,null,null,null,null,null,null,"Type_2",null,{"$error":"#N/A"},null,{"$error":"#N/A"},{"$error":"#N/A"},null,"he","He","his","His",null,null," ",{"$f":"HLOOKUP(Report!AH204,Person!$H$2:$L$3,2,FALSE)","v":{"$error":"#N/A"}},{"$error":"#N/A"},{"$f":"IF(AH204=0,\"\",AJ204+VLOOKUP(AH204,Code!$B$2:$C$6,2,FALSE))","v":{"$error":"#N/A"}},{"$f":"IF(AH204=0,\"\",IF(I204=\"F\",G204&\" \"&VLOOKUP(AK204,Person!D:I,2,FALSE),G204&\" \"&VLOOKUP(AK204,Person!D:I,4,FALSE)))","v":{"$error":"#N/A"}},null,null,null,null,null,null,null,2,{"$f":"VLOOKUP(AT204,Code!$B$51:$D$55,2,FALSE)","v":"Behaviour_1"},{"$f":"RANDBETWEEN(1,VLOOKUP(AT204,Code!$B$51:$D$55,3,FALSE))","v":1},null," d",null,null," ",{"$f":"HLOOKUP(Report!BA204,Homework!$I$2:$L$3,2,FALSE)","v":{"$error":"#N/A"}},{"$error":"#N/A"},{"$f":"IF(BA204=0,\"\",BC204+VLOOKUP(BA204,Code!$B$2:$C$6,2,FALSE))","v":{"$error":"#N/A"}},{"$f":"IF(AND(VLOOKUP(BD204,Homework!D:J,2,FALSE)=\"'s \",RIGHT(G204,1)=\"s\"),\"' \",IF(VLOOKUP(BD204,Homework!D:J,2,FALSE)=\"'s \",\"'s \",\" \"))","v":{"$error":"#N/A"}},{"$f":"IF(BA204=0,\"\",IF(I204=\"F\",\" \"&G204&BE204&VLOOKUP(BD204,Homework!D:J,3,FALSE),\" \"&G204&BE204&VLOOKUP(BD204,Homework!D:J,5,FALSE)))","v":{"$error":"#N/A"}},null,null,null,null,null,null,null,null," ",{"$f":"VLOOKUP(BO204,Code!$B$45:$D$48,2,FALSE)","v":{"$error":"#N/A"}},{"$f":"VLOOKUP(BO204,Code!$B$45:$D$48,3,FALSE)","v":{"$error":"#N/A"}},{"$error":"#N/A"},null,"pen","pencil","ruler",null,null,"",""," ",null,196,{"$f":"HLOOKUP(Report!CC204,Behaviour!$H$2:$K$3,2,FALSE)","v":{"$error":"#N/A"}},{"$error":"#N/A"},{"$f":"CE204+VLOOKUP(CC204,Code!$B$2:$C$6,2,FALSE)","v":{"$error":"#N/A"}},{"$f":"IF(CC204=0,\"\",IF(I204=\"F\",AC204&\" \"&VLOOKUP(CF204,Behaviour!D:I,2,FALSE)&\" \",AC204&\" \"&VLOOKUP(CF204,Behaviour!D:I,4,FALSE)&\" \"))","v":{"$error":"#N/A"}},null,null," ",null,{"$f":"IF(CJ204=0,\"\",VLOOKUP(CJ204,Code!$B$59:$D$61,2,FALSE))","v":{"$error":"#N/A"}},{"$f":"IF(CJ204=0,\"\",VLOOKUP(CJ204,Code!$B$59:$D$61,3,FALSE))","v":{"$error":"#N/A"}},{"$error":"#N/A"},{"$error":"#N/A"},{"$error":"#N/A"},{"$error":"#N/A"},"",null,null,"",null,null,"",{"$error":"#VALUE!"},null,null," ",{"$error":"#VALUE!"},{"$f":"VLOOKUP(Report!DC204,Code!$B$24:$C$32,2,FALSE)","v":{"$error":"#VALUE!"}},{"$f":"VLOOKUP(Report!DC204,Code!$B$24:$D$32,3,FALSE)","v":{"$error":"#VALUE!"}},{"$error":"#VALUE!"},{"$error":"#VALUE!"},{"$error":"#VALUE!"},null,null,null,null,null,null," ",{"$f":"VLOOKUP(Report!DO204,Code!$B$40:$D$42,2,FALSE)","v":{"$error":"#N/A"}},{"$f":"VLOOKUP(Report!DO204,Code!$B$40:$D$42,3,FALSE)","v":{"$error":"#N/A"}},{"$error":"#N/A"},null,{"$error":"#N/A"},"number","measures","standard form ","",null,null,null,null,"",""]
[null,null,null,null,null,null,null,null,null,null,null,null,null,null,null,null,null,null,null,null,"Type_2",null,{"$error":"#N/A"},null,{"$error":"#N/A"},{"$error":"#N/A"},null,"he","He","his","His",null,null," ",{"$f":"HLOOKUP(Report!AH205,Person!$H$2:$L$3,2,FALSE)","v":{"$error":"#N/A"}},{"$error":"#N/A"},{"$f":"IF(AH205=0,\"\",AJ205+VLOOKUP(AH205,Code!$B$2:$C$6,2,FALSE))","v":{"$error":"#N/A"}},{"$f":"IF(AH205=0,\"\",IF(I205=\"F\",G205&\" \"&VLOOKUP(AK205,Person!D:I,2,FALSE),G205&\" \"&VLOOKUP(AK205,Person!D:I,4,FALSE)))","v":{"$error":"#N/A"}},null,null,null,null,null,null,null,2,{"$f":"VLOOKUP(AT205,Code!$B$51:$D$55,2,FALSE)","v":"Behaviour_1"},{"$f":"RANDBETWEEN(1,VLOOKUP(AT205,Code!$B$51:$D$55,3,FALSE))","v":2},null," d",null,null," ",{"$f":"HLOOKUP(Report!BA205,Homework!$I$2:$L$3,2,FALSE)","v":{"$error":"#N/A"}},{"$error":"#N/A"},{"$f":"IF(BA205=0,\"\",BC205+VLOOKUP(BA205,Code!$B$2:$C$6,2,FALSE))","v":{"$error":"#N/A"}},{"$f":"IF(AND(VLOOKUP(BD205,Homework!D:J,2,FALSE)=\"'s \",RIGHT(G205,1)=\"s\"),\"' \",IF(VLOOKUP(BD205,Homework!D:J,2,FALSE)=\"'s \",\"'s \",\" \"))","v":{"$error":"#N/A"}},{"$f":"IF(BA205=0,\"\",IF(I205=\"F\",\" \"&G205&BE205&VLOOKUP(BD205,Homework!D:J,3,FALSE),\" \"&G205&BE205&VLOOKUP(BD205,Homework!D:J,5,FALSE)))","v":{"$error":"#N/A"}},null,null,null,null,null,null,null,null," ",{"$f":"VLOOKUP(BO205,Code!$B$45:$D$48,2,FALSE)","v":{"$error":"#N/A"}},{"$f":"VLOOKUP(BO205,Code!$B$45:$D$48,3,FALSE)","v":{"$error":"#N/A"}},{"$error":"#N/A"},null,"pen","pencil","ruler",null,null,"",""," ",null,197,{"$f":"HLOOKUP(Report!CC205,Behaviour!$H$2:$K$3,2,FALSE)","v":{"$error":"#N/A"}},{"$error":"#N/A"},{"$f":"CE205+VLOOKUP(CC205,Code!$B$2:$C$6,2,FALSE)","v":{"$error":"#N/A"}},{"$f":"IF(CC205=0,\"\",IF(I205=\"F\",AC205&\" \"&VLOOKUP(CF205,Behaviour!D:I,2,FALSE)&\" \",AC205&\" \"&VLOOKUP(CF205,Behaviour!D:I,4,FALSE)&\" \"))","v":{"$error":"#N/A"}},null,null," ",null,{"$f":"IF(CJ205=0,\"\",VLOOKUP(CJ205,Code!$B$59:$D$61,2,FALSE))","v":{"$error":"#N/A"}},{"$f":"IF(CJ205=0,\"\",VLOOKUP(CJ205,Code!$B$59:$D$61,3,FALSE))","v":{"$error":"#N/A"}},{"$error":"#N/A"},{"$error":"#N/A"},{"$error":"#N/A"},{"$error":"#N/A"},{"$f":"IF(OR(ISERROR(CQ205),CK205=\"\",CJ205=\"\"),\"\",\" \"&CQ205)","v":""},null,null,"",null,null,"",{"$error":"#VALUE!"},null,null," ",{"$error":"#VALUE!"},{"$f":"VLOOKUP(Report!DC205,Code!$B$24:$C$32,2,FALSE)","v":{"$error":"#VALUE!"}},{"$f":"VLOOKUP(Report!DC205,Code!$B$24:$D$32,3,FALSE)","v":{"$error":"#VALUE!"}},{"$error":"#VALUE!"},{"$error":"#VALUE!"},{"$error":"#VALUE!"},null,null,null,null,null,null," ",{"$f":"VLOOKUP(Report!DO205,Code!$B$40:$D$42,2,FALSE)","v":{"$error":"#N/A"}},{"$f":"VLOOKUP(Report!DO205,Code!$B$40:$D$42,3,FALSE)","v":{"$error":"#N/A"}},{"$error":"#N/A"},null,{"$error":"#N/A"},"number","measures","standard form ","",null,null,null,null,"",""]
[null,null,null,null,null,null,"FRED",null,"F",null,null,null,null,null,null,null,null,null,null,null,"Type_2",null,{"$error":"#N/A"},null,{"$error":"#N/A"},{"$error":"#N/A"},null,"she","She","her","Her",null,null,1,{"$f":"HLOOKUP(Report!AH206,Person!$H$2:$L$3,2,FALSE)","v":74},49,{"$f":"IF(AH206=0,\"\",AJ206+VLOOKUP(AH206,Code!$B$2:$C$6,2,FALSE))","v":59},{"$f":"IF(AH206=0,\"\",IF(I206=\"F\",G206&\" \"&VLOOKUP(AK206,Person!D:I,2,FALSE),G206&\" \"&VLOOKUP(AK206,Person!D:I,4,FALSE)))","v":"FRED a"},null,null,null,null,null,null,null,2,{"$f":"VLOOKUP(AT206,Code!$B$51:$D$55,2,FALSE)","v":"Behaviour_1"},{"$f":"RANDBETWEEN(1,VLOOKUP(AT206,Code!$B$51:$D$55,3,FALSE))","v":2},null," d",null,null,1,{"$f":"HLOOKUP(Report!BA206,Homework!$I$2:$L$3,2,FALSE)","v":2},1,{"$f":"IF(BA206=0,\"\",BC206+VLOOKUP(BA206,Code!$B$2:$C$6,2,FALSE))","v":11},{"$f":"IF(AND(VLOOKUP(BD206,Homework!D:J,2,FALSE)=\"'s \",RIGHT(G206,1)=\"s\"),\"' \",IF(VLOOKUP(BD206,Homework!D:J,2,FALSE)=\"'s \",\"'s \",\" \"))","v":"'s "},{"$f":"IF(BA206=0,\"\",IF(I206=\"F\",\" \"&G206&BE206&VLOOKUP(BD206,Homework!D:J,3,FALSE),\" \"&G206&BE206&VLOOKUP(BD206,Homework!D:J,5,FALSE)))","v":" FRED's b"},null,null,null,null,null,null,null,null,1,{"$f":"VLOOKUP(BO206,Code!$B$45:$D$48,2,FALSE)","v":"Equipment_one_missing"},{"$f":"VLOOKUP(BO206,Code!$B$45:$D$48,3,FALSE)","v":2},2,null,"pen","pencil","ruler",null,null,"c pen.","c pen."," c pen.",null,198,{"$f":"HLOOKUP(Report!CC206,Behaviour!$H$2:$K$3,2,FALSE)","v":{"$error":"#N/A"}},{"$error":"#N/A"},{"$f":"CE206+VLOOKUP(CC206,Code!$B$2:$C$6,2,FALSE)","v":{"$error":"#N/A"}},{"$f":"IF(CC206=0,\"\",IF(I206=\"F\",AC206&\" \"&VLOOKUP(CF206,Behaviour!D:I,2,FALSE)&\" \",AC206&\" \"&VLOOKUP(CF206,Behaviour!D:I,4,FALSE)&\" \"))","v":{"$error":"#N/A"}},null,null," ",null,{"$f":"IF(CJ206=0,\"\",VLOOKUP(CJ206,Code!$B$59:$D$61,2,FALSE))","v":{"$error":"#N/A"}},{"$f":"IF(CJ206=0,\"\",VLOOKUP(CJ206,Code!$B$59:$D$61,3,FALSE))","v":{"$error":"#N/A"}},{"$error":"#N/A"},{"$error":"#N/A"},{"$error":"#N/A"},{"$error":"#N/A"},{"$f":"IF(OR(ISERROR(CQ206),CK206=\"\",CJ206=\"\"),\"\",\" \"&CQ206)","v":""},null,null,"",null,null,2,20,null,null,3,23,{"$f":"VLOOKUP(Report!DC206,Code!$B$24:$C$32,2,FALSE)","v":"OnTargetNeverGivesEnoughEffort"},{"$f":"VLOOKUP(Report!DC206,Code!$B$24:$D$32,3,FALSE)","v":2},2,""," FREDf",null,null,null,null,null,null,1,{"$f":"VLOOKUP(Report!DO206,Code!$B$40:$D$42,2,FALSE)","v":"Development_1"},{"$f":"VLOOKUP(Report!DO206,Code!$B$40:$D$42,3,FALSE)","v":2},1,null,"g","number","measures","standard form "," g number.",null,null,null,null,"FRED a d FRED's b c pen. FREDf g number.","FRED a d FRED's b c pen. FREDf g number."]
[null,null,null,null,null,null,null,null,"© 2017, Maths Kingdom, All Rights Reserved"]

{"sheet":"Code","index":9,"n_rows":350,"n_cols":18,"rows_kept":350,"cut":false,"hidden":false,"merged":[[57,1,57,2],[49,1,49,2],[43,1,43,2],[0,1,0,2],[8,1,8,2],[17,1,17,2],[22,1,22,3],[38,1,38,2]]}
[null,"Code",null,null,null,null,null,null,null,null,null,null,"Maths",1,null,null,"Maths",2]
[null,1,10,null,null,null,null,null,null,null,null,null,"English",2,null,null,"History",6]
[null,2,100,null,null,null,null,null,null,null,null,null,"Science",3]
[null,3,1000,null,null,null,null,null,null,null,null,null,"History",4]
[null,4,10000,null,null,null,null,null,null,null,null,null,"Geography",5]
[null,5,100000,null,null,null,null,null,null,null,null,null,"Ict",6]
[null,"  ",null,null,null,null,null,null,null,null,null,null,"D & T",7]
[null,null,null,null,null,null,null,null,null,null,null,null,"music",8]
[null,"Person",null,null,null,null,null,null,null,null,null,null,"French"]
[null,0,0,1,0,0,0,null,null,null,null,null,"Spanish"]
[null,1,1,2,1,1,1]
[null,2,2,3,2,2," "]
[null,3,3," ",3," "]
[null,4,4,null," "]
[null,5," "]
[null," ","  "]
[]
[null,"Gender"]
[null,"M"]
[null,"F"]
[]
[]
[null,"Progress and Effort "]
[null,11,"AboveTragetAlwaysGivesEffort",{"$f":"'Progress and effort'!N3","v":2}]
[null,12,"AboveTragetOcasionalyGivesEffort",{"$f":"'Progress and effort'!O3","v":2}]
[null,13,"AboveTragetNeverGivesEnoughEffort",{"$f":"'Progress and effort'!P3","v":2}]
[null,21,"OnTargetAlwaysGivesEffort",{"$f":"'Progress and effort'!N4","v":2}]
[null,22,"OnTargetOcasionalyGivesEffort",{"$f":"'Progress and effort'!O4","v":2}]
[null,23,"OnTargetNeverGivesEnoughEffort",{"$f":"'Progress and effort'!P4","v":2}]
[null,31,"BelowTargetAlwaysGivesEffort",{"$f":"'Progress and effort'!N5","v":2}]
[null,32,"BelowTargetOcasionalyGivesEffort",{"$f":"'Progress and effort'!O5","v":2}]
[null,33,"BelowTargetNeverGivesEnoughEffort",{"$f":"'Progress and effort'!P5","v":2}]
[]
[null,"Grade system"]
[null,"Type_1","Type_12"]
[null,"Type_2","Type_22"]
[null,"Type_3","Type_32"]
[null,"Type_4","Type_43"]
[null,"Development"]
[null,1,"Development_1",{"$f":"Development!H3","v":2}]
[null,2,"Development_2",{"$f":"Development!I3","v":2}]
[null,3,"Development_3",{"$f":"Development!J3","v":2}]
[]
[null,"Equipment"]
[null,1,"Equipment_one_missing",{"$f":"Equipment!I3","v":2}]
[null,2,"Equipment_two_missing",{"$f":"Equipment!J3","v":2}]
[null,3,"Equipment_three_missing",{"$f":"Equipment!K3","v":2}]
[null,4,"Equipment_always",{"$f":"Equipment!H3","v":2}]
[]
[null,"Behaviour"]
[null,1,"Behaviour_5",{"$f":"Behaviour!H2","v":1}]
[null,2,"Behaviour_1",{"$f":"Behaviour!H3","v":2}]
[null,3,"Behaviour_2",{"$f":"Behaviour!I3","v":2}]
[null,4,"Behaviour_3",{"$f":"Behaviour!J3","v":2}]
[null,5,"Behaviour_4",{"$f":"Behaviour!K3","v":2}]
[]
[]
[null,"Assesment"]
[null,1,"Asses_1",{"$f":"Assessment!J3","v":2}]
[null,2,"Asses_2",{"$f":"Assessment!K3","v":2}]
[null,3,"Asses_3",{"$f":"Assessment!L3","v":0}]
[]
[]
[]
[]
[]
[]
[]
[]
[]
[null,"worded questions"]
[null,"exam style questions",{"$f":"IF(RIGHT(B72,1)=\"\",1,\"\")","v":""}]
[null,"problem solving",{"$f":"IF(RIGHT(B73,1)=\"\",1,\"\")","v":""}]
[null,"problem solving questions"]
[null,"multi step questions",""]
[null,"exam technique",""]
[]
[null,"algebra",""]
[null,"number",""]
[null,"ratio",""]
[null,"proportion",""]
[null,"shape",""]
[null,"data",""]
[null,"statistics",""]
[null,"probability",""]
[null,"geometry",""]
[null,"measures",""]
[null,null,1]
[null,"factorising",""]
[null,"expanding a bracket",""]
[null,"expanding brackets",""]
[null,"substitution",""]
[null,"indices",""]
[null,"quadratics equations ",""]
[null,"linear equations",""]
[null,"completing the square",""]
[null,"finding the missing value",""]
[null,"simplifying expressions",""]
[null,"collecting like terms",""]
[null,"the quadratic formula",""]
[null,"finding the value of  x ",""]
[null,"simultaneous equations",""]
[null,"inequalities",""]
[null,"sequences",""]
[null,"quadratic sequences",""]
[null,"trial and improvement",""]
[null," ",""]
[null,"addition",""]
[null,"subtraction",""]
[null,"multiplication",""]
[null,"dividing",""]
[null,"bidmas",""]
[null,null,1]
[null,"lowest common multiple",""]
[null,"highest common factor",""]
[null,null,1]
[null,"ratio",""]
[null,null,1]
[null,"square / square root numbers",""]
[null,"cube / cube root numbers",""]
[null,null,1]
[null,"rounding to 1 decimal place",""]
[null,"rounding to 2 decimal places",""]
[null,"rounding to 3 decimal places",""]
[null,"rounding to 1 significant figure",""]
[null,"rounding to 2 significant figures",""]
[null,"rounding to 3 significant figures",""]
[null,"rounding to the nearest 10",""]
[null,"rounding to the nearest 100",""]
[null,"rounding to the nearest 1000",""]
[null,"rounding to nearest whole number",""]
[null,null,1]
[null,"whole numbers",""]
[null,"positive numbers ",""]
[null,"negative numbers ",{"$f":"IF(RIGHT(B135,1)=\"\",1,\"\")","v":""}]
[null,"percentages",""]
[null,"fractions",""]
[null,"decimals",""]
[null,"triangular numbers",""]
[null,"prime numbers",""]
[null,"odd numbers",""]
[null,"even numbers",""]
[null,"Fibonacci sequence",""]
[null,null,1]
[null,"converting between a percentage - faction - decimal",""]
[null,"converting a percentage to a faction",""]
[null,"converting a percentage to a decimal",""]
[null,"converting a fraction to a decimal",""]
[null,"recurring decimal",""]
[null,"converting an improper fraction to a mixed number ",""]
[null,"fraction of an amount",""]
[null,"shading a fraction of a shape",""]
[null,"equivalent fractions",""]
[null,null,1]
[null,"percentage decrease",""]
[null,"percentage increase",""]
[null,null,1]
[null,"multiplying whole numbers",""]
[null,"dividing whole numbers",""]
[null,"adding whole numbers ",""]
[null,"subtracting whole numbers",""]
[null,"ordering whole numbers",""]
[null,null,1]
[null,"multiplying negative numbers",""]
[null,"dividing negative numbers",""]
[null,"adding negative numbers ",""]
[null,"subtracting negative numbers",""]
[null,"ordering negative numbers",""]
[null,null,1]
[null,"multiplying decimals",""]
[null,"dividing decimals",""]
[null,"adding decimals ",""]
[null,"subtracting decimals",""]
[null,"ordering decimals",""]
[null,null,1]
[null,"multiplying fractions",""]
[null,"dividing fractions",""]
[null,"adding fractions ",""]
[null,"subtracting fractions",""]
[null,"ordering decimals",""]
[null,null,1]
[null,"surds",""]
[null,"standard form ",""]
[null,"read / write numbers ",""]
[null,null,1]
[null,"estimating",""]
[null,"input machines",""]
[null,null,1]
[null,"pascals triangle",""]
[null,"roman numerals",""]
[null,"",1]
[null,"logic questions",""]
[null,"the literacy associated with Maths",""]
[null,"",1]
[null,"circles",""]
[null,"triangles",""]
[null,"quadrilaterals",""]
[null,"polygons",""]
[null,null,{"$f":"IF(RIGHT(B199,1)=\"\",1,\"\")","v":1}]
[null,"angles",""]
[null,"angles on a straight line",""]
[null,"angles in a triangle",""]
[null,"angles in a quadrilateral",""]
[null,null,1]
[null,"area",""]
[null,"perimeter",""]
[null,"volume",""]
[null,"surface area",""]
[null,null,1]
[null,"the sine rule",""]
[null,"the cosine rule",""]
[null,"trigonometry",""]
[null,"Pythagoras theorem",""]
[null,null,1]
[null,"surface area",""]
[null,"surface area of all 3d shapes",""]
[null,"volume of all 3d shapes",""]
[null,null,1]
[null,"bearings",""]
[null,"circle theorems",""]
[null,"shape names and properties",""]
[null,"surface area",""]
[null,null,1]
[null,"construction of a triangle",""]
[null,"constructing an angle",""]
[null," ",""]
[null,"3d shapes",""]
[null,"2d shapes",""]
[null,"",1]
[null,"how to find the gradient of a line",""]
[null,"mid point of a line",""]
[null,"parallel lines",""]
[null,"drawing graphs",""]
[null,"perpendicular lines",""]
[null,"plotting co-ordinates",""]
[null,"reading co-ordinates",""]
[null," ",""]
[null,"conversion graphs",""]
[null,"converting between - speed - distance - time",""]
[null,"the speed - distance - time formula",""]
[null,"time",""]
[null,"converting between years - days - months",""]
[null,"money problems",""]
[null," ",""]
[null,"probability trees",""]
[null,"probability",""]
[null,"questionnaires",""]
[null,"two way tables",""]
[null,"bar charts",""]
[null,"pie charts",""]
[null,"cumulative frequency",""]
[null,"stem and leaf",""]
[null,"tally charts",""]
[null,"pictograms",""]
[null,"scatter graphs",""]
[null,"histograms",""]
[null,"constructing a box and whisker plot",""]
[null,null,1]
[null,"mean",""]
[null,"mode",""]
[null,"median",""]
[null,"range",""]
[null,"averages",{"$f":"IF(RIGHT(B263,1)=\"\",1,\"\")","v":""}]
[null,"constructing a frequency polygon",""]
[null,"",1]
[null,"",1]
[null,"",1]
[null,"",1]
[null,"",1]
[null,"",1]
[]
[]
[]
[]
[]
[]
[]
[]
[null,"pen","pen"]
[null,"pencil","pencil"]
[null,"ruler","ruler"]
[null,"compass"]
[null,"protractor"]
[null,"calculator"]
[null,"maths set"]
[]
[]
[null,"causation","Causation   "]
[]
[null,"being able to identify a wider range of causes","identify a wider range of causes"]
[null,"being able to describe a wider range of causes","describe a wider range of causes"]
[null,"explaining the most importance cause","explain the most importance cause"]
[null,"explaining how causes can link together","explain how causes can link together"]
[null,"categorising causes into social, political, economic or religious etc.","categorise causes into social, political, economic or religious etc."]
[]
[null,"consequence","Consequence"]
[]
[null,"being able to identify a wider range of consequences","identify a wider range of consequences"]
[null,"being able to describe a wider range of consequences","describe a wider range of consequences"]
[null,"explaining the most importance consequences","explain the most importance consequences"]
[null,"explaining how consequences can link together","explain how consequences can link together"]
[null,"categorising consequences into social, political, economic or religious etc.","categorise consequences into social, political, economic or religious etc."]
[null,"change and continuity","Change and continuity"]
[null,"being able to identify changes and elements of continuity","identify changes and elements of continuity"]
[null,"describing the impacts of change","describe the impacts of change"]
[null,"to be able to give reasons for continuity","give reasons for continuity"]
[null,"being able to explain the most significant change","explain the most significant change"]
[null,"linking continuity to causation ","link chance and continuity to causation "]
[null,"linking chance to causation "]
[]
[null,"enquiry","Enquiry"]
[]
[null,"posing your own line of enquiry","pose your own line of enquiry"]
[null,"finding your own relevant sources to follow an enquiry","find your own relevant sources follow an enquiry"]
[null,"using a variety of interpretations to formulate an enquiry","use a variety of sources and interpretations to formulate an enquiry"]
[null,"using a variety of sources formulate an enquiry"]
[null,"being able to show a balanced argument ","show a balance argument "]
[]
[null,"significance","significance "]
[]
[null,"being able to identify what is significant","identify what is significant"]
[null,"giving reasons for an event being significant using the 5 Rs","give reasons for an event being significant using the 5 Rs"]
[null,"comparing events to make a judgement as to which is most significant ","compare events to make a judgement as to which is most significant "]
[null,"using significance language through essays","use significance language through essays"]
[]
[null,"source analysis","source analysis"]
[]
[null,"using quotes to back up your points","use quotes to back up your points"]
[null,"explaining the message of the source","explain the message of the source"]
[null,"suggesting reasons why a source may be reliable","suggest reasons why the source may be reliable"]
[null,"explaining why a source is/isn't reliable","explain why the source is/isn't reliable"]
[null,"suggesting reasons why a source may be useful to a historian","suggest reasons why this source may be useful to a historian"]
[]
[null,"explaining why the source may be useful to a historian","explain why the source may be useful to a historian"]
[null,"explaining which source is the most reliable in your investigation","explain which source is the most reliable in your investigation"]
[null,"explaining which source is most useful to a historian","explain which source is most useful to a historian"]
[]
[null,"interpretations","Interpretations"]
[]
[null,"giving reasons for an interpretation ","give reasons for an interpretation "]
[null,"describing how interpretations differ","describe how interpretations differ"]
[null,"explaining why interpretations may come about","explain why interpretations may come about"]
[null,"explaining why interpretations differ","explain why interpretations differ"]
[]
[null,"SPAG","SPAG"]
[]
[null,"writing your work in paragraphs","write in paragraphs"]
[null,"use capital letters in your work","use capital letters in your work"]
[null,"using a wide range of vocabulary in your work ","use a wide range of vocabulary in your work "]
[null,"using a wide range of punctuation in your work","use a wide range of punctuation in your work"]

{"sheet":"Grade table","index":10,"n_rows":41,"n_cols":23,"rows_kept":41,"cut":false,"hidden":false,"merged":[[0,3,0,5],[0,9,0,11],[0,15,0,17],[0,20,0,22]]}
[null,null,null,"Type_1",null,null,null,null,null,"Type_2",null,null,null,null,null,"Type_3",null,null,null,null,"Type_4"]
[null,"-",1,"-1",1,{"$f":"D2","v":"-1"},null,1,"-","1-",1,"1-",null,1,"c",{"$f":"N2&O2","v":"1c"},1,"1c",null,null,1,1,1]
[null,null,1,"1",2,{"$f":"D3","v":"1"},null,1,null,"1",2,"1",null,1,"b",{"$f":"N3&O3","v":"1b"},2,"1b",null,null,2,2,2]
[null,"+",1,"+1",3,"+1",null,1,"+","1+",3,"1+",null,1,"a","1a",3,"1a",null,null,3,3,3]
[null,"-",2,"-2",4,"-2",null,2,"-","2-",4,"2-",null,2,"c","2c",4,"2c",null,null,4,4,4]
[null,null,2,"2",5,"2",null,2,null,"2",5,"2",null,2,"b","2b",5,"2b",null,null,0,5,0]
[null,"+",2,"+2",6,"+2",null,2,"+","2+",6,"2+",null,2,"a","2a",6,"2a",null,null,0,6,0]
[null,"-",3,"-3",7,"-3",null,3,"-","3-",7,"3-",null,3,"c","3c",7,"3c",null,null,0,7,0]
[null,null,3,"3",8,"3",null,3,null,"3",8,"3",null,3,"b","3b",8,"3b",null,null,0,8,0]
[null,"+",3,"+3",9,"+3",null,3,"+","3+",9,"3+",null,3,"a","3a",9,"3a",null,null,0,9,0]
[null,"-",4,"-4",10,"-4",null,4,"-","4-",10,"4-",null,4,"c","4c",10,"4c",null,null,0,10,0]
[null,null,4,"4",11,"4",null,4,null,"4",11,"4",null,4,"b","4b",11,"4b",null,null,0,11,0]
[null,"+",4,"+4",12,"+4",null,4,"+","4+",12,"4+",null,4,"a","4a",12,"4a",null,null,0,12,0]
[null,"-",5,"-5",13,"-5",null,5,"-","5-",13,"5-",null,5,"c","5c",13,"5c",null,null,0,13,0]
[null,null,5,"5",14,"5",null,5,null,"5",14,"5",null,5,"b","5b",14,"5b",null,null,0,14,0]
[null,"+",5,"+5",15,"+5",null,5,"+","5+",15,"5+",null,5,"a","5a",15,"5a",null,null,0,15,0]
[null,"-",6,"-6",16,"-6",null,6,"-","6-",16,"6-",null,6,"c","6c",16,"6c",null,null,0,16,0]
[null,null,6,"6",17,"6",null,6,null,"6",17,"6",null,6,"b","6b",17,"6b",null,null,0,17,0]
[null,"+",6,"+6",18,"+6",null,6,"+","6+",18,"6+",null,6,"a","6a",18,"6a",null,null,{"$f":"'Front Sheet'!CP30","v":0},18,{"$f":"U19","v":0}]
[null,"-",7,"-7",19,"-7",null,7,"-","7-",19,"7-",null,7,"c","7c",19,"7c",null,null,{"$f":"'Front Sheet'!CP31","v":0},19,0]
[null,null,7,"7",20,"7",null,7,null,"7",20,"7",null,7,"b","7b",20,"7b",null,null,{"$f":"'Front Sheet'!CP32","v":0},20,0]
[null,"+",7,"+7",21,"+7",null,7,"+","7+",21,"7+",null,7,"a","7a",21,"7a",null,null,{"$f":"'Front Sheet'!CP33","v":0},21,0]
[null,"-",8,"-8",22,"-8",null,8,"-","8-",22,"8-",null,8,"c","8c",22,"8c",null,null,{"$f":"'Front Sheet'!CP34","v":0},22,0]
[null,null,8,"8",23,"8",null,8,null,"8",23,"8",null,8,"b","8b",23,"8b",null,null,{"$f":"'Front Sheet'!CP35","v":0},23,0]
[null,"+",8,"+8",24,"+8",null,8,"+","8+",24,"8+",null,8,"a","8a",24,"8a",null,null,{"$f":"'Front Sheet'!CP36","v":0},24,0]
[null,"-",9,"-9",25,"-9",null,9,"-","9-",25,"9-",null,9,"c","9c",25,"9c",null,null,{"$f":"'Front Sheet'!CP37","v":0},25,0]
[null,null,9,"9",26,"9",null,9,null,"9",26,"9",null,9,"b","9b",26,"9b",null,null,{"$f":"'Front Sheet'!CP38","v":0},26,0]
[null,"+",9,"+9",27,"+9",null,9,"+","9+",27,"9+",null,9,"a","9a",27,"9a",null,null,{"$f":"'Front Sheet'!CP39","v":0},27,0]
[null,null,null,null,null,null,null,null,null,null,null,null,null,null,null,null,null,null,null,null,{"$f":"'Front Sheet'!CP40","v":0},28,0]
[null,null,null,{"$f":"D2&\", \"&D3&\", \"&D4&\", \"&D5&\" …\"","v":"-1, 1, +1, -2 …"},null,null,null,null,null,{"$f":"J2&\", \"&J3&\", \"&J4&\", \"&J5&\" …\"","v":"1-, 1, 1+, 2- …"},null,{"$f":"L2&\", \"&L3&\", \"&L4&\", \"&L5&\" …\"","v":"1-, 1, 1+, 2- …"},null,null,null,{"$f":"P2&\", \"&P3&\", \"&P4&\", \"&P5&\" …\"","v":"1c, 1b, 1a, 2c …"},null,{"$f":"R2&\", \"&R3&\", \"&R4&\", \"&R5&\" …\"","v":"1c, 1b, 1a, 2c …"},null,null,{"$f":"'Front Sheet'!CP41","v":0},29,0]
[null,null,null,"-1, 1, +1, -2 …",null,null,null,null,null,null,null,null,null,null,null,"1c, 1b, 1a, 2c …",null,"1c, 1b, 1a, 2c …",null,null,{"$f":"'Front Sheet'!CP42","v":0},30,0]
[null,null,null,null,null,null,null,null,null,null,null,null,null,null,null,null,null,null,null,null,{"$f":"'Front Sheet'!CP43","v":0},31,0]
[null,null,null,null,null,null,null,null,null,null,null,null,null,null,null,null,null,null,null,null,{"$f":"'Front Sheet'!CP44","v":0},32,0]
[null,null,null,null,null,null,null,null,null,null,null,null,null,null,null,null,null,null,null,null,{"$f":"'Front Sheet'!CP45","v":0},33,0]
[null,null,null,null,null,null,null,null,null,null,null,null,null,null,null,null,null,null,null,null,{"$f":"'Front Sheet'!CP46","v":0},34,0]
[null,null,null,null,null,null,null,null,null,null,null,null,null,null,null,null,null,null,null,null,{"$f":"'Front Sheet'!CP47","v":0},35,0]
[null,null,null,null,null,null,null,null,null,null,null,null,null,null,null,null,null,null,null,null,{"$f":"'Front Sheet'!CP48","v":0},36,0]
[null,null,null,null,null,null,null,null,null,null,null,null,null,null,null,null,null,null,null,null,{"$f":"'Front Sheet'!CP49","v":0},37,0]
[null,null,null,null,null,null,null,null,null,null,null,null,null,null,null,null,null,null,null,null,{"$f":"'Front Sheet'!CP50","v":0},38,0]
[null,null,null,null,null,null,null,null,null,null,null,null,null,null,null,null,null,null,null,null,{"$f":"'Front Sheet'!CP51","v":0},39,0]
[null,null,null,null,null,null,null,null,null,null,null,null,null,null,null,null,null,null,null,null,{"$f":"'Front Sheet'!CP52","v":0},40,0]

{"sheet":"EM","index":11,"n_rows":0,"n_cols":0,"rows_kept":0,"cut":false,"hidden":false,"merged":[]}